{"text_format":"1","workbook":"xlsx","n_sheets":6,"sheets":["INSTRUCTIVO DE USO","CARRETERAS Y TÚNELES","OBLIGACIONES APLICABLES","Asuntos radicación","Temp","Hoja2"],"not_rendered":{"charts":0,"images":2,"macros":1,"external_links":0,"defined_names":3,"comments":1,"pivot_tables":0},"unopened":[],"bounds":{"document_bytes":16777216,"sheet_cells":100000,"rows_first":2000,"rows_last":500,"rows_between":2000,"halvings":0,"cell_chars":16384,"cell_head_chars":4096},"cells_cut":0,"cells_raw":0,"read":"whole","date_system":"1900"}

{"sheet":"INSTRUCTIVO DE USO","index":0,"n_rows":11,"n_cols":3,"rows_kept":11,"cut":false,"hidden":false,"merged":[[0,0,0,1],[0,2,0,12],[2,0,2,12],[4,0,5,12],[7,0,8,12],[10,0,10,12]]}
[null,null,"INSTRUCTIVO DE USO DEL INSTRUMENTO DE OBLIGACIONES MÍNIMAS "]
[]
["1. INTRODUCCIÓN\n\nLas Obligaciones Mínimas son un instrumento interno de la Autoridad Nacional de Licencias Ambientales – ANLA formulado con el fin de unificar criterios por parte de los profesionales que realizan la evaluación y seguimiento de proyectos, obras o actividades sujetos al trámite de licenciamiento ambiental, mediante la estandarización de obligaciones mínimas asociadas al acto administrativo a través del cual se otorga o modifica la licencia ambiental, se actualizan los planes de manejo ambiental y se imponen medidas adicionales, de tal manera que se asegure que en cada tipo de proyecto se impongan las mismas obligaciones estandarizadas bajo requerimientos legales y directrices institucionales, así como con condiciones unificadas y claramente definidas de modo, tiempo y lugar.\n\nEs importante resaltar que, este instrumento al ser interno facilita la labor de esta autoridad en la imposición de obligaciones mínimas en los procesos de evaluación y seguimiento (este último en los casos estrictamente aplicables), y en la verificación del cumplimiento de las mismas en el seguimiento. Sin embargo, al ser puesto a disposición de los usuarios o solicitantes de licencias ambientales servirá como herramienta de planeación de los proyectos, obras o actividades sujetos a licenciamiento, de tal manera que previo a la radicación de los estudios ambientales frente a esta autoridad, las obligaciones puedan ser incorporadas por los usuarios en la formulación de los Planes de Manejo Ambiental - PMA\n\nPor lo anterior, a continuación se realizan algunas precisiones a los solicitantes de licencias ambientales cuando estos deseen consultar y hacer uso de este instrumento durante el proceso de formulación de sus PMA."]
[]
["2. DEFINICIONES\n\nCondición de lugar: (dónde) lugares o puntos en los que debe desarrollarse la actividad según experticia del evaluador o según protocolos, guías, normativa en general, etc.\nCondición de modo: (cómo) descripción de las características o circunstancias en las que se deben realizar las actividades autorizadas, según protocolos, guías, normativa en general y aspectos administrativos que se definan.\nCondición de tiempo: (cuándo) periodicidad para la ejecución de monitoreos, tiempos de realización de actividades, tiempos de presentación de la información, etc.\nObligaciones mínimas: Describen las condiciones mínimas de modo, tiempo y lugar a través de las cuales la Autoridad Ambiental, autoriza la ejecución de un proyecto, obra o actividad sujeto legalmente al trámite de Licenciamiento Ambiental, identificando los permisos, autorizaciones y/o concesiones cuando sea el caso, de conformidad con cada subsector (tipo de proyecto). En razón a lo anterior, se clasifican las obligaciones mínimas, de conformidad con las características de las condiciones reglamentadas, de la siguiente manera: obligaciones de uso, aprovechamiento y/o afectación de recursos naturales, obligaciones asociadas a componentes y actividades, obligaciones asociadas a planes, obligaciones socioeconómicas, obligaciones generales y requisitos del acto administrativo. \nObligaciones de uso, aprovechamiento y/o afectación de recursos naturales: están relacionadas con las autorizaciones y/o permisos otorgados para el uso, aprovechamiento y/o afectación de los recursos naturales, tales como: emisiones atmosféricas, ruido, aprovechamiento forestal, concesión aguas subterráneas, exploración de aguas subterráneas, concesión aguas superficiales, ocupación de cauce, vertimiento en agua superficial, vertimiento en suelo, entre otras.\nObligaciones asociadas a componentes y actividades: contiene obligaciones relacionadas con algunos componentes y actividades propias del proyecto, obra o actividad, tales como: adecuación / construcción de vías existentes de apoyo al proyecto, almacenamiento de materiales de construcción, almacenamiento de combustibles y productos químicos, compra de agua, recirculación de agua residual, entrega de aguas residuales para reúso, entrega de aguas residuales a terceros, materiales de construcción, gestión de residuos, zonas de disposición de material sobrante de excavaciones, entre otras.\nObligaciones asociadas a Planes: contiene obligaciones relacionadas con la ejecución y cumplimiento de algunos planes definidos en la licencia ambiental de un proyecto, tales como: plan de compensación del medio biótico, plan de gestión del riesgo, plan de desmantelamiento y abandono y plan de inversión de no menos del 1%.\nObligaciones socioeconómicas: contienen obligaciones relacionadas con temas, tales como: gestión social y valoración económica.\nObligaciones generales: agrupa diferentes aspectos relacionados con cumplimiento de parámetros normativos, presentación de Informes de Cumplimiento Ambiental – ICA, notificaciones de cambios menores, solicitudes de modificación de licencia ambiental y demás condiciones generales a ser tenidas en cuenta por parte del titular de la licencia. La inclusión por parte de los profesionales jurídicos de este tipo de obligaciones, deberá realizarse en todas las licencias ambientales, sin importar el tipo de proyecto. En caso de que el solicitante de la licencia ambiental haga uso de este instrumento durante el proceso de formulación de su PMA, no deberá tener en cuenta este tipo de obligaciones dada la naturaleza de las mismas.\nRequisitos del acto administrativo: corresponde a aquellas obligaciones de la ANLA frente a cada licencia ambiental. La inclusión por parte de los profesionales jurídicos de este tipo de obligaciones deberá realizarse en todas las licencias ambientales, sin importar el tipo de proyecto. No tienen relación alguna con las fases de desarrollo del proyecto y no son objeto de seguimiento. Algunas de las obligaciones, contienen textos en rojo que deberán ser diligenciados directamente en el acto administrativo por el profesional jurídico, como: nombre y NIT del titular del proyecto. En caso de que el solicitante de la licencia ambiental haga uso de este instrumento durante el proceso de formulación de su PMA, no deberá tenerl en cuenta este tipo de obligaciones dada la naturaleza de las mismas."]
[]
[]
["3. DESARROLLO\n\nEste instrumento representa una estandarización mínima a la luz de las necesidades de cada sector y tipos de proyectos, obras o actividades en todas las regiones, por lo cual, tanto los profesionales de la Autoridad como los usuarios o solicitantes de licencias ambientales, con fundamento en el conocimiento de las condiciones ambientales propias del área (hídricas, climáticas, geomorfológicas, de suelos, etc.) y de las actividades a desarrollar por parte del proyecto, deberán hacer uso de las obligaciones específicas a que haya lugar y en los casos estrictamente necesarios y técnicamente justificados se podrán adaptar aquellas obligaciones mínimas que así lo requieran. \n\nCada archivo contiene tres pestañas u hojas de cálculo. La primera pestaña, hace referencia al tipo de proyecto para el cual se estandarizaron obligaciones asociadas a permisos, autorizaciones y aspectos generales. Esta pestaña cuenta con un encabezado indicando el tipo de proyecto para el cual se estandarizaron obligaciones y con 3 secciones y 10 subsecciones.\n\nLa SECCIÓN 1. PERMISOS, AUTORIZACIONES Y ASPECTOS GENERALES agrupa 5 subsecciones que son descritas a continuación:\n\nSubsección 1. ID (Columna A): corresponde a la numeración de las obligaciones, la cual se encuentra en orden consecutivo.\nSubsección 2. Temática (Columna B): corresponde a la temática abordada en cada uno de los grupos de obligaciones mínimas (obligaciones de uso, aprovechamiento y/o afectación de recursos naturales, obligaciones asociadas a componentes y actividades, obligaciones asociadas a planes, obligaciones socioeconómicas, obligaciones generales y requisitos del acto administrativo).\nSubsección 3. Aspecto a tratar (Columna C): comprende los elementos a los que hace referencia cada obligación, p.e: monitoreo y seguimiento a la calidad del cuerpo de agua donde se realiza la ocupación de cauce, manejo de zonas de disposición de material sobrante de excavación, reporte de actividades de aprovechamiento forestal de arboles aislados, etc.\nSubsección 4. Aspecto a tratar (Columna D): permite seleccionar la aplicabilidad ( √ ) o no ( X ) de una obligación mediante un doble clic en la celda, según el contexto del proyecto que se esté evaluando, es decir, si se le otorga un determinado permiso, se le autoriza alguna obra o actividad o le aplica de acuerdo con los permisos y actividades desarrolladas por le proyecto.\nSubsección 5. Obligación (Columna E): conjunto de obligaciones mínimas establecidas para cada temática y aspecto a tratar.\n\nPor otra parte, la SECCIÓN 2. FASES DEL PROYECTO PARA EL CUMPLIMIENTO Y SEGUIMIENTO A OBLIGACIONES indica la fase en la cual deberán ejecutarse las acciones asociadas a una determinada obligación para el cumplimiento por parte del titular de la licencia y el seguimiento por parte de la Autoridad: 1) Fase de pre construcción, 2) Fase de construcción, 3) Fase de operación y mantenimiento, y 4) Fase de desmantelamiento y abandono. \n\nFinalmente, la SECCIÓN 3. TEMPORALIDAD establece si la obligación debe ser de cumplimiento permanente o temporal por parte de los titulares de las licencias.\n\nUna vez se revisen todas las obligaciones mínimas y se indique si aplican o no, los usuarios de este instrumento deberán dirigirse a la segunda pestaña denominada OBLIGACIONES APLICABLES para generar el listado final de obligaciones mínimas que pueden establecerse a cada proyecto. Para generar este listado, se deberá dar clic en el botón de “Actualizar Anexo”.\n\nLa aplicabilidad de las obligaciones en las diferentes fases del proyecto, así como su temporalidad deberá asociarse al final de cada obligación en el respectivo documento (Concepto Técnico y acto administratico para el caso de la Autoridad o PMA para el caso de los usuarios o solicitantes de licencias ambientales).\n\nLa tercera pestaña denominada Asuntos radicación es de uso exclusivo de la Autoridad, dado que es donde se encuentran los asuntos de radicación relacionados con la Obligación General \"Estrategia de recepción de información de los resultados de los monitoreos del uso y aprovechamiento de los recursos naturales\", tabla que se debe copiar y pegar en la mencionada obligación."]
[]
[]
["4. ANEXOS\n\nEl instrumento cuenta con formatos y plantillas asociados a algunas obligaciones mínimas que son de uso transversal a cualquier proyecto, los cuales son:\n\n1. Formatos de hoja de vida de pozo de observación y hoja de vida de pozo de captación: Estos formatos deben ser diligenciados por parte del usuario y ser allegados en los respectivos Informes de Cumplimiento Ambiental – ICA. El diligenciamiento de dichos formatos responde a algunas obligaciones asociadas a los permisos de vertimiento en suelo, exploración de aguas subterráneas y concesión de aguas subterráneas.\n2. Plantillas de avisos informativos: Estas plantillas están asociadas al permiso de concesión de aguas superficiales y subterráneas y permiso de vertimientos a cuerpos de agua superficial y en suelos, los cuales deben ser diligenciados e instalados por parte del usuario en el lugar donde se haya autorizado la realización de dichos permisos.\n3. Plantilla de seguimiento a la gestión de residuos peligrosos y Plantilla de seguimiento a la gestión de residuos no peligrosos: En esta plantilla se consolidará la información asociada a la generación y gestión (tratamiento, aprovechamiento y/o disposición final) de residuos peligros y no peligrosos realizada por parte del generador o de terceros autorizados, la cual deberá ser allegada en los respectivos Informes de Cumplimiento Ambiental – ICA.\n\nDichos anexos, se encuentran disponibles en la página web de la ANLA."]

{"sheet":"CARRETERAS Y TÚNELES","index":1,"n_rows":179,"n_cols":10,"rows_kept":179,"cut":false,"hidden":false,"merged":[[5,5,5,8],[5,0,5,4],[0,0,4,1],[0,2,4,4],[0,5,1,5],[2,5,3,5],[0,6,1,9],[2,6,3,9],[4,6,4,9]]}
[null,null,"OBLIGACIONES MÍNIMAS PARA PROYECTOS DE CONSTRUCCIÓN DE CARRETERAS Y/O TÚNELES",null,null,"Fecha:","10/08/2022"]
[]
[null,null,null,null,null,"Versión:",3]
[]
[null,null,null,null,null,"Código:","EL-FO-16"]
["SECCIÓN 1. PERMISOS, AUTORIZACIONES Y ASPECTOS GENERALES",null,null,null,null,"SECCIÓN 2. FASE DEL PROYECTO PARA EL CUMPLIMIENTO Y SEGUIMIENTO A OBLIGACIONES",null,null,null,"SECCIÓN 3. TEMPORALIDAD"]
["ID","Temática","Aspecto a tratar","Aplica (SI / NO)","Obligación","Pre construcción","Construcción","Operación y mantenimiento","Desmantelamiento y abandono","Temporal  / \nPermanente"]
[1,"AIRE","Mediciones de las emisiones atmosféricas\n\nNota 1: La frecuencia de medición de las emisiones podrá ser diferenciada de acuerdo al tipo de contaminante y combustible, para lo cual se podrá ajustar el literal a) de la presente obligación.\n\nNota 2: Revisar previamente las condiciones establecidas por el proyecto en el PSM en relación con este permiso, con el fin de ser consecuentes con las obligaciones impuestas y las propuestas en el plan (no duplicar, no contrariar y tomar las condiciones más estrictas entre las obligaciones mínimas y el PSM).\n\nNota 3: Imponer la obligación en las fases que corresponden teniendo en cuenta las fuentes de emisión sujetas a medición.",null,"Realizar monitoreo de las emisiones atmosféricas generadas en las fuentes puntuales del proyecto de conformidad con lo establecido en el Protocolo  de Control y Vigilancia de la Contaminación Atmosférica Generada por Fuentes Fijas (adoptado por la Resolución 760 de 2010 del MAVDT, ajustado por la Resolución 2153 de 2010, Resolución 591 de 2012, Resolución 1632 de 2012 y Resolución 1807 de 2012, o la norma que la modifique, derogue o sustituya), dando cumplimiento a las siguientes condiciones:\n\na) Para determinar la frecuencia de los monitoreos de emisiones atmosféricas asociadas a fuentes puntuales, realizar un monitoreo al inicio de la operación y dar cumplimiento a lo establecido en el numeral 3.2 y en la tabla No. 9 del Protocolo para el Control y Vigilancia de la Contaminación Atmosférica Generada por Fuentes Fijas. Presentar los resultados del monitoreo inicial, las frecuencias establecidas con su respectiva justificación (determinación de las UCA) y el cumplimiento de altura mínima de descarga de las fuentes autorizadas según el Protocolo en el primer Informe de Cumplimiento Ambiental - ICA. \nb) Medir en cada monitoreo de acuerdo con la actividad industrial realizada, los contaminantes establecidos en la Tabla 2 del Protocolo  de Control y Vigilancia de la Contaminación Atmosférica Generada por Fuentes Fijas, de acuerdo con las actividades desarrolladas por el proyecto en cada una de sus etapas.\nc) Las fuentes de emisión contarán con un sistema de extracción localizada, chimenea, plataforma y puertos de muestreo que permitan realizar la medición directa y demostrar el cumplimiento normativo. La plataforma, diámetro y localización de los puertos de muestreo, se construirán de acuerdo a los métodos y procedimientos adoptados en el Protocolo para el Control y Vigilancia de la Contaminación Atmosférica generada por fuentes fijas última versión.\nd) Entregar en los respectivos Informes de Cumplimiento Ambiental - ICA el informe de los resultados y análisis de las mediciones de emisiones (asociadas a fuentes fijas puntuales), cumpliendo con lo establecido en el numeral 2.2 del Protocolo en mención y empleando los formatos establecidos en el Anexo 2, 3 y 4 del mismo. En dicho informe se compararán las mediciones con los estándares establecidos en la Resolución 909 de 2008, o aquellas que la modifiquen o sustituyan, para los contaminantes de la Tabla 2 según el Protocolo. De sobrepasar los límites de emisión para cada contaminante, el titular de la licencia presentará, las medidas de manejo pertinentes, necesarias para garantizar el cumplimiento de los estándares, las cuales serán informadas en los Informes de Cumplimiento Ambiental - ICA.","N/A","Aplica","N/A","N/A","Permanente"]
[2,"AIRE","Mantenimiento preventivo y correctivo de los sistemas de control de las fuentes de emisión.",null,"Realizar el mantenimiento preventivo y correctivo de los sistemas de control de las fuentes de emisión, de conformidad con lo establecido en el  Protocolo  para el Control y Vigilancia de la Contaminación Atmosférica Generada por Fuentes Fijas (adoptado por la Resolución 760 de 2010 del MAVDT, ajustado por la Resolución 2153 de 2010, Resolución 591 de 2012, Resolución 1632 de 2012 y Resolución 1807 de 2012, o la norma que la modifique, derogue o sustituya) y presentar en los Informes de Cumplimiento Ambiental - ICA las evidencias de su implementación, así como la ficha técnica del fabricante, y la eficiencia de control relacionando el respectivo equipo contaminante.","N/A","Aplica","N/A","N/A","Permanente"]
[3,"AIRE","Actualización del inventario de emisiones.",null,"Actualizar el inventario de emisiones atmosféricas generadas por el proyecto como mínimo una vez al año o cada vez que se presenten cambios en los procesos y/o actividades que generan emisiones (por ejemplo, introducción de nuevas fuentes), teniendo en cuenta lo siguiente:\n\na) Para las fuentes fijas puntuales que cuenten con las condiciones técnicas de medición, realizar la estimación de emisiones a partir de medición directa, dando cumplimiento a los criterios establecidos en el Protocolo para el Control y Vigilancia de la Contaminación Atmosférica Generada por Fuentes Fijas (adoptado por la Resolución 760 de 2010 del MAVDT, ajustado por la Resolución 2153 de 2010, Resolución 591 de 2012, Resolución 1632 de 2012 y Resolución 1807 de 2012, o la norma que la modifique, derogue o sustituya).\nb) Para fuentes fijas puntuales a las que no les aplique la medición directa por aspectos técnicos o de seguridad, y fuentes dispersas de área, aplicar métodos alternativos como factores de emisión y balance de masas, teniendo en cuenta las metodologías para el uso de factores de emisión desarrolladas por entidades oficiales, centros de investigación o academia (AP-42 Agencia de Protección Ambiental de los Estados Unidos US-EPA, National Pollutant Inventory - NPI, entre otras), las cuales están referenciadas en la Guía para la Elaboración de Inventarios de Emisiones Atmosféricas del MADS.\nc) Para fuentes móviles se podrán utilizar modelos de emisión de fuentes móviles (ej. IVE, MOBILE, MOVES y/o COPERT) combinados con variables locales (distancias viajadas por la flota, velocidades, etc.), o factores de emisión usados internacionalmente (EPA y Unión Europea). El aforo vehicular a realizar tiene como propósito la identificación de las fuentes móviles que transitan por las vías del proyecto o que se encuentran en el área de influencia. El levantamiento de información de la flota vehicular como mínimo deber ser de (ocho (8) horas / veinticuatro (24) horas continuas por día, en día hábil y festivo. Seleccionar de acuerdo con los horarios de construcción y operación aplicable al POA). Se deberá realizar la identificación y características del punto de aforo y la clasificación de los vehículos por peso y tipo de combustible. Se deberá presentar un informe con los resultados del inventario de fuentes y emisiones, y se deberá anexar las memorias de cálculos con la estimación de emisiones de los contaminantes considerados, los cálculos y suposiciones realizados.\nd) Presentar el inventario con y sin las eficiencias de las medidas de control en el cálculo de las emisiones. Para cada contaminante se deberá justificar las eficiencias de control con las respectivas evidencias documentales.\ne) Reportar la actualización en los respectivos Informes de Cumplimiento Ambiental - ICA, el cual contendrá como mínimo: Metodología empleada; Información georreferenciada de las fuentes; Tipo de fuente; Tipo combustible empleado; Consumo de combustible por cada fuente (nominal en base horaria y total acumulado anual); Tiempos de operación (horas/año); Sistemas de control de emisiones (discriminando sistema y tipo de contaminante); Porcentaje de eficiencia de los sistemas; Emisiones desagregadas  por actividad; Para fuentes fijas puntuales se requieren los datos de altura y diámetro de las chimeneas;  Identificar y presentar un análisis de las fuentes de emisiones atmosféricas del proyecto que se asocian con los contaminantes monitoreados a nivel de inmisión, especialmente para los contaminantes no criterio que puedan emitirse en las etapas de su desarrollo, con base información cuantitativa y cualitativa generada para el componente atmosférico, y otros medios y componentes; y fuentes de información utilizada.\nf) Anexar los archivos del inventario de fuentes diferenciando claramente la metodología y los cálculos (formatos accesibles .xls no protegidos), de las fuentes de contaminantes criterio y/o tóxicos (fijas puntuales y dispersas o difusas) con las consideraciones sobre la estimación.","N/A","Aplica","N/A","N/A","Permanente"]
[4,"AIRE","Modelar la dispersión de contaminantes atmosféricos.\n\nNota: En caso de evidenciar la necesidad de modelar otro contaminante de interés, inlcuirlo en el literal b).",null,"Modelar la dispersión de contaminantes atmosféricos, al menos una vez al año o cada vez que se presenten cambios en los procesos y/o actividades que generan emisiones (por ejemplo, introducción de nuevas fuentes), en tanto el Ministerio de Ambiente y Desarrollo Sostenible adopte el Protocolo de Modelización de Contaminantes Atmosféricos, se deberán realizar bajo las siguientes condiciones:\n\na) Emplear un sistema de modelación actualizado avalado por la EPA que represente adecuadamente las condiciones de dispersión en el área de influencia del proyecto.\nb) Considerar las configuraciones recomendadas por el ente desarrollador para el sistema de modelación utilizado. \nc) Modelar como mínimo PM10, PM2,5 (relacionar demás contaminantes de interés según las fuentes de emisión del proyecto), de acuerdo con el Protocolo para el Monitoreo y Seguimiento de la Calidad del Aire del MAVDT del 2010 (adoptado por la Resolución 650 de 2010, y ajustado por la Resolución 2154 de 2010), Resolución 2254 del 2017 del MADS o aquella que la modifique, derogue o sustituya.\nd) Identificar los receptores de interés, usos del suelo, topografía, ventana de modelación y resolución de malla a emplear en la modelación.\ne) Efectuar un análisis de la información meteorológica obtenida de estaciones automáticas del IDEAM. Cuando esto no sea posible, la modelación se apoyará en información meteorológica obtenida de otras estaciones automáticas (anexando la justificación técnica de la escogencia de estaciones diferentes a las del IDEAM) o en su defecto a partir de información resultante de modelos meteorológicos de pronóstico para el año calendario inmediatamente anterior al estudio. Para las variables aplicables, tener en cuenta lo determinado en la guía de la EPA \"Meteorological Monitoring Guidance for Regulatory Modeling Applications - EPA 454/R 99 005\".\nf) Presentar los resultados de los escenarios a modelar (sin sistemas de control y con sistemas de control) para el año inmediatamente anterior a la presentación del Informe de Cumplimiento Ambiental - ICA.\ng) Presentar el informe de la modelación de la dispersión de contaminantes atmosféricos en los respectivos Informes de Cumplimiento Ambiental - ICA como mínimo con la siguiente información:\ni) Diagrama de flujo de los procesos que generan emisiones atmosféricas. \nii) Descripción del modelo empleado incluyendo los resultados de las concentraciones obtenidas para los receptores sensibles y gráficas de isopletas georreferenciadas, donde se muestre la ubicación de las fuentes de emisión y de los receptores.\niii) Datos de entrada de la modelación: descripción y ubicación de la región de impacto, identificación y ubicación georreferenciado de las fuentes de emisión y de los posibles receptores, archivo geográfico con la topografía de la región y tipo de uso del suelo, información y análisis de la meteorología  (archivos nativos p. ej .SAM, .UA, .PFL, .SFC y accesibles .csv, xls, .txt no protegidos) y de la calidad del aire en la región (en caso de no existir dicha información, utilizar la información de calidad de aire más reciente), análisis sobre potenciales receptores, contaminantes emitidos y descripción del método de cuantificación de las emisiones, que permitan la reproducción total del modelo. \niv) Reporte de los criterios, características del modelo, alcances y tamaño de mallas empleados para la modelación. Anexar los archivos de entrada y salida de los procesadores y pre procesadores empleados en la modelación, en los formatos originales de entrada y salida del modelo (archivos nativos p. ej. .ADI, .SOU, .ROU, .ADO, y accesibles .csv, xls, .txt no protegidos), de forma que se permita la reproducción total del modelo.\nv) Técnicas de validación de la modelación y la concentración de fondo tenidas en cuenta, así como de los resultados obtenidos. \nvi) Análisis, conclusiones y anexos.","N/A","Aplica","N/A","N/A","Permanente"]
[5,"AIRE","Monitoreos de calidad del aire. \n\nNota 1: Revisar previamente las condiciones establecidas por el proyecto en el PSM en relación con estos monitoreos, con el fin de ser consecuentes con las obligaciones impuestas y las propuestas en el plan (no duplicar, no contrariar y tomar las condiciones más estrictas entre las obligaciones mínimas y el PSM). Específicamente, la frecuencia del monitoreo se evaluará dentro del programa de monitoreo propuesto por el usuario en el EIA, lo cual se deberá ajustar de acuerdo con los criterios de evaluación, en caso de ser necesario.\n\nNota 2: Aplica en fase de desmatelamiento y abandono cuando implique el desmatalamiento de obras duras. ",null,"Realizar monitoreos de calidad del aire con los criterios establecidos para un (Sistema de Vigilancia de Calidad de Aire Industrial Fijo / Indicativo - SVCAI. Seleccionar el sistema de acuerdo con la complejidad del proyecto) según el Protocolo para el Monitoreo y Seguimiento de la Calidad del Aire del MAVDT del 2010 (adoptado por la Resolución 650 de 2010, y ajustado por la Resolución 2154 de 2010, o la norma que la modifique, derogue o sustituya), y entregar los respectivos soportes en los Informes de Cumplimiento Ambiental - ICA, teniendo en cuenta lo siguiente:\n\na) Documento donde se argumente la selección de la localización de las estaciones que conformen el Sistema de Vgilancia de Calidad de Aire, teniendo en cuenta los criterios establecidos en el Protocolo para el Monitoreo y Seguimiento de la Calidad del Aire del MAVDT (2010). Esta obligación se presentará en el primer Informe de Cumplimiento Ambiental - ICA.\nb) Información meteorológica: debe hacer referencia al año calendario inmediatamente anterior al estudio, la cual debe ser previamente validada de acuerdo a los estándares establecidos por la EPA, de igual forma se deberá entregar la información meteorológica de la campaña de monitoreo (Quality Assurance Handbook for Air Pollution Measurement Systems Volumen IV: Meteorological Measurement Versión 2.0 EPA-454/B-08-002). Anexar los archivos georreferenciados de acuerdo con el modelo de almacenamiento geográfico establecido en la Resolución 2182 de 2016 del MADS, o la que la modifique, derogue o sustituya.\nc) Reportes de laboratorio (que incluya datos diarios u horarios dependiendo de la tecnología de la estación de monitoreo - manual o automática).\nd) Comparación de las mediciones con los niveles máximos permisibles establecidos en la Resolución 2254 de 2017 del MADS, o aquella que la modifique, derogue o sustituya, y con la línea base presentada en el EIA para los contaminantes evaluados. Los contaminantes a registrar serán los establecidos en la Resolución  2254 de 2017 del MADS, o aquella que la modifique o sustituya, aplicables según la actividad industrial desarrollada y las fuentes de emisión identificadas. \ne) Informe de las acciones implementadas para garantizar el cumplimiento de los estándares en caso de sobrepasar los límites de inmisión para cada contaminante.\nf) Informe que incluya como mínimo los contenidos establecidos en el Protocolo para el Monitoreo y Seguimiento de la Calidad del Aire del MAVDT (2010) - Manual de operación, según el sistema de vigilancia de calidad del aire aplicable.","N/A","Aplica","N/A","N/A","Permanente"]
[6,"AIRE","Reporte al Subsistema de Información sobre Calidad de Aire - SISAIRE\n\nNota: Aplica para proyectos, obras y actividades que requieran realizar monitoreos permanentes de calidad del aire",null,"De acuerdo con lo establecido en la Resolución 2254 del 2017 del MADS, para Sistemas de Vigilancia de la Calidad del Aire - SVCA que realicen monitoreos con una periodicidad permanente (continua en el tiempo durante la vida útil del proyecto) reportar al Subsistema de Información sobre Calidad de Aire - SISAIRE los datos validados resultantes de las mediciones de calidad de aire y variables meteorológicas. Tener en cuenta lo establecido en la Resolución 651 del 29 de marzo 2010 o aquella que la modifique, derogue o sustituya y presentar las evidencias del cargue a dicho sistema.","N/A","Aplica","N/A","N/A","Permanente"]
[7,"AIRE","Riego en vías \n\nNota: Ajustar la presente obligación de acuerdo con la propuesta realizada por usuario en su plan de riego, PUEEA y/o programa de seguimiento y monitoreo.",null,"Presentar el plan de riego asociado a la humectación de vías de acceso y zonas descubiertas sin pavimentar (internas del proyecto), el cual debe inlcuir lo siguiente:\n\na) Rutas y zonas por regar. \nb) Métodos de riego empleados, los cuales deberán garantizar la mayor área de humectación y el menor consumo de agua. \nc) Agua a emplear en las actividades de humectación, la cual deberá dar cumplimiento a lo establecido en la normatividad vigente, y las obligaciones establecidas sobre (Espacio para indicar los permisos/autorizaciones respectivas que se hayan autorizado al proyecto y que estén relacionados con el agua que será empleada para la humectación de vías: vertimientos al suelo, concesión de aguas, compra de agua, aguas lluvias, recirculación en suelo soporte de infraestructura, entre otras).\nd) En caso de emplear aditivos u otros materiales, deberan ser inocuos y no presentar problemas de compactación u otros impactos al suelo superficial, por infiltración o escorrentía ante eventuales precipitaciones. \ne) Indicadores asociados con las actividades de humectación en función del área regada, las cantidades de agua empleadas y la cantidad de material particulado mitigado.\nf) Presentar los soportes de implementación del plan en los respectivos Informes de Cumplimiento Ambiental - ICA, incluyendo: i) evidencias de la ejecución de las medidas con los volúmenes de agua empleados, su origen, métodos de riego empleados, áreas y vías en las cuales fue realizado y ii) análisis de la información meteorológica para el balance hídrico de evaporación-precipitación en los periodos de riego.","N/A","Aplica","N/A","N/A","Permanente"]
[8,"CAMBIO CLIMÁTICO","Cuantificación de gases de efecto invernadero - GEI, acciones de mitigación y adaptación\n\nNota: Aplica para carreteras",null,"Presentar en el primer Informe de Cumplimiento Ambiental – ICA de la fase constructiva del proyecto (o en el siguiente Informe de Cumplimiento Ambiental – ICA, si es modificación de licencia) el plan integral de gestión de Cambio Climático del proyecto, contemplando como mínimo:\n\na) La cuantificación del alcance directo e indirecto (indirecto opcional) de las emisiones de gases efecto invernadero - GEI, como: dióxido de carbono (CO2), óxido nitroso (N2O), metano (CH4), hidrofluorocarbonos (HFC), perfluorocarbonos (PFC), Trifluoruro de nitrógeno (NF6) y Hexafluoruro de Azufre (SF6) en toneladas de CO2eq, de acuerdo con la Norma Técnica Colombiana NTC-ISO 14064-1: 2020 o aquella que la modifique o sustituya. En caso de que por la naturaleza del proyecto no se requiera de la estimación de alguno(s) de los gases, justificar técnicamente. Presentar los resultados en hoja de cálculo (excel editable), junto con su  respectivo análisis, la cual deberá contemplar como minimo: puntos de emisión ID, alcance, tipo de fuente generadora GEI, nombre fuente de emisión GEI, caracteristicas de la fuente de GEI, categoria IPCC equivalente, Nombre de la sustancia, método de determinación de la emisión, emision (carga emitida) determinada (kg/año), potencial de calentamiento global, emisión (tonelada de CO2e/año), tipo de verificación GEI. Realizar la actualización de la cuantificación de emisiones de GEI (de manera semestral / al finalizar la vida util del proyecto -si el proyecto tiene una duración inferior a 2 años-. Seleccionar la periodicidad de acuerdo con la duración del proyecto) y presentarla a través de los respectivos Informes de Cumplimiento Ambiental – ICA.\nb) Relación de acciones de mitigación y estimado de reducción de GEI en hoja de cálculo editable, contemplando como minimo: Nombre de la medida, objetivo, descripción de la medida y acciones a seguir, potencial de mitigación de la medida (toneladas de CO2 eq), indicador propuesto, fecha de inicio y fin de implementación y avance de implementación (%), entre otras. Adicionalmente, presentar (de manera semestral / al finalizar la vida util del proyecto -si el proyecto tiene una duración inferior a 2 años-. Seleccionar la periodicidad de acuerdo con la duración del proyecto) a través de los correspondientes Informes de Cumplimiento Ambiental - ICA el reporte del avance de las acciones en la hoja de cálculo editable y los soportes que evidencien el cumplimiento de las mismas por cada periodo.\nc) El análisis de vulnerabilidad al cambio climático, compuesto por la sensibilidad climática y la capacidad de adaptación, asi como el análisis de riesgo climático que incorpora la amenaza, sensibilidad climática, la capacidad adaptativa y los elementos expuestos de acuerdo con las directrices del IPCC.\nd) Relación de acciones de adaptación al cambio climático y la variabilidad climática, que contribuyan a la reducción del riesgo sobre los recursos naturales renovables o al ambiente. Se debe presentar en hoja de cálculo editable, contemplando como mínimo: Nombre de la medida, amenaza que atiende, objetivo, descripción de la medida y acciones a seguir, Dimensión de vulnerabilidad TCNCC, Indicador propuesto, fecha de inicio de implementación, fecha fin de implementación y avance implementación (%). Adicionalmente, presentar (de manera semestral / al finalizar la vida util del proyecto -si el proyecto tiene una duración inferior a 2 años-. Seleccionar la periodicidad de acuerdo con la duración del proyecto) a través de los respectivos Informes de Cumplimiento Ambiental - ICA el reporte del avance de las acciones en la hoja de cálculo editable y los soportes que evidencien el cumplimiento de las mismas por cada periodo.","N/A","Aplica","N/A","N/A","Permanente"]
[9,"CAMBIO CLIMÁTICO","Cuantificación de gases de efecto invernadero - GEI y acciones de adaptación\n\nNota: Aplica para túneles",null,"Presentar en el primer Informe de Cumplimiento Ambiental – ICA de la fase constructiva del proyecto (o en el siguiente Informe de Cumplimiento Ambiental – ICA, si es modificación de licencia) el plan integral de gestión de Cambio Climático del proyecto, contemplando como mínimo:\n\na) La cuantificación del alcance directo e indirecto (indirecto opcional) de las emisiones de gases efecto invernadero - GEI, como: dióxido de carbono (CO2), óxido nitroso (N2O), metano (CH4), hidrofluorocarbonos (HFC), perfluorocarbonos (PFC), Trifluoruro de nitrógeno (NF6) y Hexafluoruro de Azufre (SF6) en toneladas de CO2eq, de acuerdo con la Norma Técnica Colombiana NTC-ISO 14064-1: 2020 o aquella que la modifique o sustituya. En caso de que por la naturaleza del proyecto no se requiera de la estimación de alguno(s) de los gases, justificar técnicamente. Presentar los resultados en hoja de cálculo (excel editable), junto con su  respectivo análisis, la cual deberá contemplar como minimo: puntos de emisión ID, alcance, tipo de fuente generadora GEI, nombre fuente de emisión GEI, caracteristicas de la fuente de GEI, categoria IPCC equivalente, Nombre de la sustancia, método de determinación de la emisión, emision (carga emitida) determinada (kg/año), potencial de calentamiento global, emisión (tonelada de CO2e/año), tipo de verificación GEI. Realizar la actualización de la cuantificación de emisiones de GEI (de manera semestral / al finalizar la vida util del proyecto -si el proyecto tiene una duración inferior a 2 años-. Seleccionar la periodicidad de acuerdo con la duración del proyecto) y presentarla a través de los respectivos Informes de Cumplimiento Ambiental – ICA.\nb) El análisis de vulnerabilidad al cambio climático, compuesto por la sensibilidad climática y la capacidad de adaptación, asi como el análisis de riesgo climático que incorpora la amenaza, sensibilidad climática, la capacidad adaptativa y los elementos expuestos de acuerdo con las directrices del IPCC.\nc) Relación de acciones de adaptación al cambio climático y la variabilidad climática, que contribuyan a la reducción del riesgo sobre los recursos naturales renovables o al ambiente. Se debe presentar en hoja de cálculo editable, contemplando como mínimo: Nombre de la medida, amenaza que atiende, objetivo, descripción de la medida y acciones a seguir, Dimensión de vulnerabilidad TCNCC, Indicador propuesto, fecha de inicio de implementación, fecha fin de implementación y avance implementación (%). Adicionalmente, presentar (de manera semestral / al finalizar la vida util del proyecto -si el proyecto tiene una duración inferior a 2 años-. Seleccionar la periodicidad de acuerdo con la duración del proyecto) a través de los respectivos Informes de Cumplimiento Ambiental - ICA el reporte del avance de las acciones en la hoja de cálculo editable y los soportes que evidencien el cumplimiento de las mismas por cada periodo.","N/A","Aplica","N/A","N/A","Permanente"]
[10,"RUIDO","Monitoreos de ruido ambiental\n\nNota 1: La decisión de realizar monitoreo 1 h / jornada / día o 24 h / joranda / día dependerá del carácter continuo o intermitente de la zona a caracterizar. Incluir el periodo de monitoreo en la nota roja del literal b). \n\nNota 2: Revisar previamente las condiciones establecidas por el proyecto en el PSM en relación con esta actividad, con el fin de ser consecuentes con las obligaciones impuestas y las propuestas en el plan (no duplicar, no contrariar y tomar las condiciones más estrictas entre las obligaciones mínimas y el PSM).",null,"Realizar los monitoreos de ruido ambiental y entregar los respectivos soportes en los Informes de Cumplimiento Ambiental - ICA, teniendo en cuenta lo siguiente:\n\na) Los monitoreos de ruido deben cumplir con los parámetros y procedimientos establecidos en la Resolución 0627 de 2006 del MAVDT y el estándar internacional ISO 1996 incluyendo el análisis de bajas frecuencias, o aquellas que la modifiquen, deroguen o sustituyan.\nb) Durante las etapas de construcción, operación y desmantelamiento, realizar monitoreos de ruido ambiental durante dos (2) días a la semana, garantizando que uno de estos días sea dominical, durante (relacionar la duranción del monitoreo de acuerdo con la nota 1). La periodicidad del monitoreo será semestral para la fase constructiva y de desmantelamiento y abandono y anual para la fase operativa. Los puntos de monitoreo deben tener una adecuada micro localización evitando obstáculos entre la fuente y el punto de muestreo. La ubicación de los equipos debe permitir en lo posible una relación señal ruido que permita la identificación de la fuente objeto de estudio sobre el ruido ambiente. \nc) Los puntos de monitoreo deberán coincidir con los puntos monitoreados en la línea base presentada en el EIA, y en caso de que se presenten nuevos potenciales receptores de interés, considerar puntos adicionales de monitoreo, los cuales se localizarán estratégicamente respecto a la ubicación de estos receptores.\nd) Los niveles de presión sonora de cada uno de los puntos de monitoreo, deben ser presentados con el nivel total y discriminados en bandas de tercios de octava para cada hora de medición.\ne) Los monitoreos deben caracterizar los periodos de operación más representativos dentro de cada periodo de reporte, en este sentido se debe considerar la medición de manera simultánea en todos los puntos a fin de tener una trazabilidad en el tiempo y espacio de cada escenario evaluado. Se deberá contar tantos equipos como puntos de muestreo para realizar las mediciones simultáneas y continuas durante todo el desarrollo del monitoreo.\nf) Los monitoreos de ruido deben aportar las correcciones de ruido asociadas al tipo de fuente, así como incertidumbre de medida de acuerdo con lo estipulado en la Resolución 0627 del MADS e ISO 1996 a fin de estimar los efectos que puedan generarse por la operación de la fuente objeto de estudio para todas y cada una de las etapas del proyecto.\ng) Presentar en los respectivos Informes de Cumplimiento Ambiental - ICA los informes de los monitoreos de ruido, incluyendo la información requerida en el Artículo 21 de la Resolución 0627 de 2006. Incluir en el informe la comparación de las mediciones con los estándares máximos permisibles establecidos en la Resolución 0627 de 2006 (o la que la modifique, derogue o sustituya), con la línea base presentada en el instrumento de manejo y control ambiental para ruido ambiental y con las mediciones de emisión de ruido para cada hora monitoreada.\nh) Georreferenciar en mapas temáticos los puntos de monitoreo sobre la información de uso actual de suelo y de los instrumentos de ordenamiento territorial del área de influencia con la respectiva justificación de la selección de los sectores de ruido establecidos en la Resolución 627 de 2006, cada que se actualicen los instrumentos de ordenamiento territorial y/o se incluyan nuevos puntos de monitoreo. Presentar esta información en los respectivos Informes de Cumplimiento Ambiental - ICA.\ni) Actualizar el inventario de potenciales receptores de interés (asentamientos poblacionales, viviendas, infraestructura social y ecosistemas estratégicos) del proyecto y presentarlo cuando se presenten cambios.","N/A","Aplica","N/A","N/A","Permanente"]
[11,"RUIDO","Monitoreos de emisión de ruido\n\nNota 1: Revisar previamente las condiciones establecidas por el proyecto en el PSM en relación con esta actividad, con el fin de ser consecuentes con las obligaciones impuestas y las propuestas en el plan (no duplicar, no contrariar y tomar las condiciones más estrictas entre las obligaciones mínimas y el PSM).",null,"Realizar los monitoreos de emisión de ruido y entregar los respectivos soportes en los Informes de Cumplimiento Ambiental - ICA, teniendo en cuenta lo siguiente:\n\na) Seleccionar puntos en los límites industriales de la operación donde se identifique la mayor emisión de ruido para realizar los monitoreos de emisión.\nb) Cumplir con los parámetros y procedimientos establecidos en la Resolución 0627 de 2006 del MAVDT o aquellas que la modifiquen, deroguen o sustituyan, para lo cual deberá contemplarse monitoreos con las fuentes prendidas (y apagadas de ser posible).\nc)Realizar los monitoreos de emisión de ruido dentro de la campaña de monitoreo de ruido ambiental, en los periodos de operación más representativos en tiempo y lugar de la actividad, al menos durante 1 día.\nd) Georreferenciar en mapas temáticos los puntos de monitoreo sobre la información de uso actual de suelo y de los instrumentos de ordenamiento territorial del área de influencia con la respectiva justificación de la selección de los sectores de ruido establecidos en el Artículo 9 y su parágrafo primero de la Resolución 627 de 2006, cada que se actualicen los instrumentos de ordenamiento territorial y/o se incluyan nuevos puntos de monitoreo. Presentar esta información en los respectivos Informes de Cumplimiento Ambiental - ICA.\ne) Presentar en los respectivos Informes de Cumplimiento Ambiental - ICA los informes de los monitoreos de ruido, incluyendo la información requerida en el Artículo 21 de la Resolución 0627 de 2006. Incluir en el informe la comparación de las mediciones con los estándares máximos permisibles establecidos en la Resolución 0627 de 2006 (o la que la modifique, derogue o sustituya) y con los monitoreos de ruido ambiental.","N/A","Aplica","N/A","N/A","Permanente"]
[12,"RUIDO","Inventarios de fuentes de ruido",null,"Realizar los inventarios de fuentes de manera anual para la fase constructiva o cada vez que se presenten cambios en el inventario de fuentes generadoras de ruido y/o de potenciales receptores de interés a los inicialmente identificados,, dando cumplimiento a las siguientes condiciones y presentar los respectivos soportes en los Informes de Cumplimiento Ambiental - ICA:\n\na) Realizar un inventario de fuentes de emisión de ruido en el área del proyecto de tipo puntual, lineal o de área identificando ubicación, trazados internos, horas de operación por periodo de acuerdo con los horarios estipulados en el Artículo 2 de la resolución 627 de 2006 del MADS.\nb) Para las fuentes a las cuales no se les realice mediciones de caracterización de potencia bajo estándares internacionales, se debe aportar las respectivas fichas técnicas de todas y cada una de las fuentes identificadas, con i) la capacidad, ii) potencia, iii) dimensiones, iv) niveles de emisión de ruido a distancias conocidas, especificando la ponderación (p. ej. dB(A) o dB(Z)), v) potencia acústica de las fuentes preferiblemente con una resolución de 1/3 de octava. De no contar con dicha información, obtener información de fuentes secundarias, tales como base de datos, con el origen de la información, los niveles Lw y los valores que componen el espectro en frecuencia en 1/1 octava o 1/3 de octava; de ser posible y durante la etapa operativa se debe caracterizar dicho parámetro a la luz de un estándar internacional que permita la adecuada caracterización y evaluación de la emisión de la fuente.\nc) Para fuentes de tráfico, inventariar los tipos de vías previamente identificadas en el área de influencia y caracterizar el tráfico vehicular asociado, teniendo en cuenta las dinámicas o variaciones temporales del volumen del tráfico con una resolución de (ocho (8) horas / veinticuatro (24) horas continuas por día, en día hábil y festivo. Seleccionar de acuerdo con los horarios de construcción y operación aplicable al POA) incluyendo los periodos de mayor y menor flujo y clasificación del parque automotor que transite por las vías por peso, velocidad de diseño de las vías identificadas, identificación y características del punto de aforo (como mínimo ancho de calzada, número de carriles, pendiente), tipo de rodadura (pavimentada o destapada) u otras variables solicitadas por el método de modelación empleado.\nd) Georreferenciar el inventario de fuentes, vías y receptores y proyectarlo en mapas temáticos. De igual manera, adjuntar la información espacial asociada a estos en los anexos de los diferentes documentos o memorias técnicas. Así mismo, se deben presentar los archivos georreferenciados de acuerdo con el modelo de almacenamiento geográfico establecido en la Resolución 2182 de 2016 del MADS, y/o la que las modifiquen, deroguen o sustituyan.\ne) Incorporar los inventarios de ruido en los análisis de los monitoreos de ruido y los modelos de niveles de presión sonora.","N/A","Aplica","N/A","N/A","Permanente"]
[13,"RUIDO","Modelación de ruido\n\n",null,"Realizar la modelación de ruido de manera anual para la fase constructiva o cada vez que se presenten cambios en el inventario de fuentes generadoras de ruido y/o de potenciales receptores de interés a los inicialmente identificados, y presentar en los respectivos Informes de Cumplimiento Ambiental - ICA:\n\na) Cartografía detallada de la zona, que incluya: curvas de nivel y modelo digital de elevación de terreno que contengan las fuentes de interés y que abarquen hasta los receptores; la resolución debe ser representativa del terreno a una escala detallada en fuentes y receptores tomando como referencia lo establecido en la ISO9613 y la ISO17534, así mismo, presentar la distribución en plano (layout) del área que permita la identificación cartográfica de las fuentes o áreas de operación.\nb) Método de cálculo implementado según el modelo.\nc) Meteorología y condiciones de propagación del ruido (temperatura, velocidad, dirección del viento y presión atmosférica).\nd) Cálculo de niveles de ruido sobre los receptores previamente identificados en la caracterización y aporte de la fuente sobre el ruido ambiente en el dominio de simulación del proyecto.\ne) Los escenarios a simular deben considerar periodo diurno y nocturno. Detallar las suposiciones, alcances y limitaciones consideradas en la modelación.\nf) Análisis de resultados que permitan identificar los aportes sobre los receptores, tomando como referencia los estándares máximos permisibles establecidos en la Resolución 0627 de 2006, o aquella que la modifique, derogue o sustituya.\ng) Adjuntar los datos de entrada y salida del modelo, memorias de cálculo y demás soportes de la modelación como archivos nativos, shape file, DWG.\nh) En caso de existir una afectación sobre los receptores previamente identificados, proponer medidas o sistemas de control adecuadas según el caso y viabilidad de estas de acuerdo con la operación, y presentar: cálculos y descripción del procedimiento de obtención del sistema de control empleado, representación en mapas de ruido y sistemas de control propuesto, así como un monitoreo que evidencie la efectividad de la barrera tomando como referencia estándares internacionales.","N/A","Aplica","N/A","N/A","Permanente"]
[14,"RUIDO","Medidas de control y mitigación para los niveles de ruido",null,"Implementar las medidas de control y mitigación de ruido, y presentar en los Informes de Cumplimiento Ambiental - ICA los soportes que evidencien el cumplimiento de lo siguiente:\n\na) Los niveles de emisión de ruido deben compararse con los límites establecidos en la Resolución 0627 de 2006, o la que la modifique, derogue o sustituya, para aquellas fuentes de emisiones sonoras representativas, teniendo en cuenta para ello la trascendencia al uso de suelo de mayor restricción, asegurando que las medidas planteadas y adoptadas sean técnicamente viables. La Sociedad deberá demostrar que las emisiones sonoras no generan aportes adicionales sobre los niveles de ruido ambiental caracterizados en la línea base, en los receptores sensibles como viviendas y puntos de interés faunístico implementando, en caso necesario, medidas de control adecuadas.\nb) Describir las medidas asociadas a los sistemas de control implementadas sobre las fuentes de emisión de ruido relacionando su tipología (p. eje. pantalla, silenciador, encapsulamiento entre otros) y eficiencia asociada, dicha información debe estar acompañada y soportada por medio de documento técnico.\nc) Relacionar las prácticas encaminadas a la diminución de ruido desde y hacia el entorno identificando la fuente y el proceso empleado.","N/A","Aplica","N/A","N/A","Permanente"]
[15,"VIBRACIONES","Monitoreo de vibraciones\n\nNota: Imponer esta obligación en caso de que el impacto por vibraciones haya sido indentificado y evaluado dentro del EIA y/o modificación de licencia ambiental.",null,"Realizar monitoreo de vibraciones por efecto de las voladuras y tráfico pesado sobre las edificaciones que puedan ser afectadas por las actividades del proyecto, de acuerdo con el tipo de fuente / actividad y presentar los respectivos soportes en los Informes de Cumplimiento Ambiental - ICA, contemplando lo siguiente:\n\na) Los monitoreos de vibración sobre estructuras deben contemplar las recomendaciones en cuanto a equipos de medida y procedimientos de medición de los niveles: de velocidad pico de partícula e identificando la frecuencia máxima dominante establecidas en el estándar Alemán DIN 4150 - 1 y 3 - normativas de referencia (DIN 45669 - 1 y 2) o cualquier otro estándar con unidad de medida que evalúe las vibraciones. Los equipos de medición deben tener certificados de calibración vigente, como mínimo cada año o de acuerdo al periodo estipulado por el fabricante o la norma o estándar de referencia adoptado.\nb) Las mediciones deben estar orientadas a caracterizar la velocidad pico de partícula en mm/s (En adelante PPV) en 3 ejes de evaluación (x, y, z), en las frecuencias de análisis entre 1Hz y 315 Hz. Tanto las unidades en términos de desplazamiento, velocidad o aceleración (p.ej. PPV, VdB u otro), el perfil de frecuencias, y en general la configuración de los equipos, como la ubicación del sensor y el análisis de la evaluación de los cambios en la infraestructura, por ejemplo, pisos altos o bajos, deben cumplir con las especificaciones definidas según el método de medición seleccionado.\nc) Los resultados de las mediciones deben comparase con los límites criterio propuestos por el estándar adoptado de acuerdo al tipo de infraestructura evaluada.\nd) Para aquellos eventos en que los niveles establecidos por el estándar adoptado superen los límites para el tipo de infraestructura, se deberá reportar la fuente que lo causa y de manera objetiva los posible sistemas o medidas de mitigación de la vibración que lo genera. De igual manera, evaluar por medio de modelaciones de propagación de las ondas de vibración su incidencia sobre la infraestructura cercana y sobre los receptores.","N/A","Aplica","N/A","N/A","Permanente"]
[16,"EXPLORACIÓN DE AGUAS SUBTERRÁNEAS","Prueba de bombeo\n\nNota 1: Prestar especial atención al literal c) para definir si este permiso requiere necesariamente de la construcción de un pozo de observación/piezómetro o puede emplear pozos aledaños existentes. En ese caso, ajustar el literal c). \n\nNota 2: Revisar previamente las condiciones establecidas por el proyecto en el PSM en relación con este permiso, con el fin de ser consecuentes con las obligaciones impuestas y las propuestas en el plan (no duplicar, no contrariar y tomar las condiciones más estrictas entre las obligaciones mínimas y el PSM).",null,"Finalizada la perforación del pozo de exploración realizar una prueba de bombeo, la cual cumplirá con las siguientes condiciones:\n\na) Duración mínima de bombeo de 24 horas continuas o hasta alcanzar la estabilización del nivel piezométrico.\nb) Realizarse escalonada y a caudal constante, registrando niveles durante el bombeo y la recuperación, hasta alcanzar al menos el 90% del nivel estático.\nc) Para la caracterización hidráulica de los acuíferos incluir pozos de observación/piezómetros que capten de los mismos niveles acuíferos del pozo exploratorio. Para ello, construir al menos un pozo de observación /piezómetro para ese fin o emplear pozos aledaños existentes de los que se conozca el diseño y que estén dentro del radio de influencia del cono de abatimiento previsto para el pozo exploratorio. \nd) Medir los niveles estáticos y dinámicos tanto en el pozo bombeado como en el(los) pozo(s) de observación/piezómetro(s).\ne) La frecuencia de medición de niveles (abatimiento y recuperación) en el pozo de captación y pozo(s) de observación/piezómetro(s), debe garantizar alrededor de 10 observaciones por ciclo logarítmico del tiempo para elaborar la curva de abatimiento versus tiempo.\nf) Asegurar que el agua producto de la(s) prueba(s) de bombeo, se disponga en el suelo o en una fuente de agua superficial una vez terminada la prueba, garantizando las medidas adecuadas para su disposición, sin impactar el sistema receptor. Por ningún motivo, se podrá dar un uso diferente a esta agua.","N/A","Aplica","N/A","N/A","Temporal"]
[17,"EXPLORACIÓN DE AGUAS SUBTERRÁNEAS","Caracterización fisicoquímica y microbiológica del agua subterránea\n\nNota: Revisar previamente las condiciones establecidas por el proyecto en el PSM en relación con este permiso, con el fin de ser consecuentes con las obligaciones impuestas y las propuestas en el plan (no duplicar, no contrariar y tomar las condiciones más estrictas entre las obligaciones mínimas y el PSM).",null,"Realizar la caracterización fisicoquímica y microbiológica del agua subterránea una vez finalice el bombeo, cumpliendo con las siguientes condiciones:\n\na) Medir las siguientes características físicas de el(los) pozo(s) de observación/piezómetro(s): profundidad, nivel topográfico y nivel piezométrico donde se toma la muestra.\nb) Medir los siguientes parámetros fisicoquímicos y microbiológicos: pH, conductividad eléctrica, temperatura, potencial rédox, oxígeno disuelto, sólidos disueltos totales, color, turbiedad, alcalinidad, dureza, aniones y cationes (Na+, K+, Mg++, Ca++, Fe total, SO4=, Cl-, NO3-, CO3=, HCO3-), coliformes totales, coliformes fecales y E. Coli. Presentar al término del permiso de exploración de aguas subterráneas, los reportes de laboratorio, las cadenas de custodia y el análisis de resultados de conformidad con el uso para el cual se vaya a destinar el recurso hídrico.\nc) Calcular y presentar el valor del error analítico (%) a partir de la sumatoria de aniones y cationes.  Solo podrán reportarse las caracterizaciones de muestras que tengan errores analíticos inferiores a ±10%. Presentar dichos cálculos al término del permiso de exploración de aguas subterráneas.","N/A","Aplica","N/A","N/A","Temporal"]
[18,"EXPLORACIÓN DE AGUAS SUBTERRÁNEAS","Informe final de exploración\n\nNota: Ver formato de hoja de vida de pozo de captación y de pozo de observación/piezómetro en el anexo correspondiente",null,"Presentar el informe final de exploración de agua subterránea en un plazo de sesenta (60) días hábiles al término del permiso de exploración de aguas subterráneas, de acuerdo con el artículo 2.2.3.2.16.10 del Decreto 1076 de 2015, el cual incluirá adicional a lo exigido en dicho numeral: \n\na) Registro eléctrico (resistividad, Gamma Ray y Potencial Espontáneo). \nb) Diseño definitivo de el(los) pozo(s): nivel topográfico, diámetro, materiales, longitud y ubicación de filtros y sellos hidráulicos.\nc) Informe de ejecución y resultados de las pruebas de bombeo, incluyendo: nivel estático, dinámico y caudal de la prueba, cálculo de abatimiento y cono de abatimiento, formatos de campo que den soporte a la información presentada, descripción de los pozos de observación empleados en la prueba de bombeo y memoria de cálculo de los parámetros hidrogeológicos que incluya: análisis diagnóstico de la prueba, ecuación del pozo, transmisividad, coeficiente de almacenamiento, conductividad hidráulica, caudal recomendado de explotación y rendimiento del pozo.\nd) Análisis hidrogeoquímico empleando métodos gráficos adecuados (Piper, Stiff, u otro), relaciones inter paramétricas y correlación de la química del agua con el conocimiento geológico, geoquímico e hidrogeológico.  \ne) \"Formato de Hoja de Vida de Pozo de Captación - Aguas Subterráneas\" actualizado.\nf) \"Formato de Hoja de Vida de Pozo de Observación/Piezómetro - Aguas Subterráneas\" actualizado.","N/A","Aplica","N/A","N/A","Temporal"]
[19,"CONCESIÓN AGUAS SUBTERRÁNEAS","Registro de caudal captado",null,"Realizar un registro diario del caudal captado a través de la instalación de equipos de medición que se encuentren debidamente calibrados. La elección del medidor, calibración, instalación y mantenimiento de los equipos de medición debe cumplir con lo dispuesto en la NTC-ISO 4064 1-2-3: 2016, o aquellas que la modifiquen, deroguen o sustituyan. El registro consolidado se entregará conforme el modelo de almacenamiento geográfico establecido en la Resolución 2182 del 2016 del MADS, o aquella norma que la modifique, derogue o sustituya. Adicionalmente, entregar los registros de campo, dentro de los que se debe incluir un registro fotográfico mes vencido del caudal captado a través del medidor de flujo, y los certificados de calibración de los equipos de medición de caudal. ","N/A","Aplica","N/A","N/A","Permanente"]
[20,"CONCESIÓN AGUAS SUBTERRÁNEAS","Registro de nivel estático y dinámico y parámetros in situ\n\nNota: Revisar previamente las condiciones establecidas por el proyecto en el PSM en relación con este permiso, con el fin de ser consecuentes con las obligaciones impuestas y las propuestas en el plan (no duplicar, no contrariar y tomar las condiciones más estrictas entre las obligaciones mínimas y el PSM).",null,"Realizar una vez al mes mediciones del nivel estático y dinámico del pozo, así como la medición de parámetros in situ (pH, temperatura, conductividad eléctrica, oxígeno disuelto y sólidos disueltos totales), y presentar en los respectivos Informes de Cumplimiento Ambiental - ICA: \n\na) Base de datos con la información solicitada de manera acumulada, en hoja de cálculo, analizando la tendencia y comportamiento de los niveles y variables químicas in situ solicitadas.\nb) Registros de campo de la toma de datos, para el periodo reportado.\nc) Certificados de calibración del(los) equipo(s) de medición vigentes según la periodicidad que establezca el fabricante del equipo. ","N/A","Aplica","N/A","N/A","Permanente"]
[21,"CONCESIÓN AGUAS SUBTERRÁNEAS","Monitoreos del recurso hídrico subterráneo\n\nNota: Revisar previamente las condiciones establecidas por el proyecto en el PSM en relación con este permiso, con el fin de ser consecuentes con las obligaciones impuestas y las propuestas en el plan (no duplicar, no contrariar y tomar las condiciones más estrictas entre las obligaciones mínimas y el PSM).",null,"Realizar dos monitoreos al año, uno en época de máximas y otro en época de mínimas precipitaciones en el pozo de observación/piezómetro. En caso de que por condiciones de variabilidad climática no sea posible realizar los monitoreos en dichas épocas, justificar en el correspondiente ICA su ejecución en épocas de transición. Por otro lado, en caso de que el pozo de observación/piezómetro no se haya construido dentro del permiso de exploración de aguas subterráneas debido a la existencia de pozos aledaños dentro de la misma cuenca subterránea que permitieron conocer las características hidráulicas del acuífero, realizarlos en el pozo de captación de agua subterránea autorizado, bajo las siguientes condiciones:\n\na) Medir como mínimo los siguientes parámetros fisicoquímicos y microbiológicos: pH, temperatura, potencial rédox, color, turbiedad, alcalinidad, dureza, conductividad eléctrica, oxígeno disuelto, sólidos disueltos totales, aniones y cationes (Na+, K+, Mg++, Ca++, Fe total, SO4=, Cl-, NO3-, CO3=, HCO3-), coliformes totales y fecales y E. Coli. Presentar en los Informes de Cumplimiento Ambiental - ICA, los reportes de laboratorio, que incluyan la descripción metodología de toma de muestras y preservación, y las cadenas de custodia.\nb) Calcular y presentar el valor del error analítico (%) a partir de la sumatoria de aniones y cationes. Solo podrán reportarse las caracterizaciones de muestras que tengan errores analíticos inferiores a ±10%. Presentar dichos cálculos en los Informes de Cumplimiento Ambiental - ICA.","N/A","Aplica","N/A","N/A","Permanente"]
[22,"CONCESIÓN AGUAS SUBTERRÁNEAS","Presentación de informe de monitoreos de calidad de agua en ICA\n\nNota: Ver formato de hoja de vida de pozo de captación y de pozo de observación/piezómetro en el anexo correspondiente",null,"Presentar los informes de los monitoreos de calidad de agua subterránea y de niveles piezométricos en los respectivos Informes de Cumplimiento Ambiental - ICA, los cuales contendrán como mínimo:\n\na) Análisis de calidad del agua y de niveles estáticos y dinámicos, los cuales se realizarán en una base temporal evaluando el comportamiento de cada variable a través del tiempo y comparándolo con los parámetros medidos en la línea base presentada.\nb) Análisis hidrogeoquímico empleando métodos gráficos adecuados (Piper, Stiff, u otro), relaciones inter paramétricas y correlación de la química del agua con el conocimiento geológico, geoquímico, hidrogeológico y su evolución temporal, identificando un posible cambio de fase hidrogeoquímica respecto a la identificada en la línea base.\nc) \"Formato de Hoja de Vida de Pozo de Captación - Aguas Subterráneas\" actualizado.\nd) \"Formato de Hoja de Vida de Pozo de Observación/Piezómetro - Aguas Subterráneas\" actualizado (si aplica).","N/A","Aplica","N/A","N/A","Permanente"]
[23,"CONCESIÓN AGUAS SUBTERRÁNEAS","Aviso informativo en los sitios de captación autorizados",null,"Instalar un aviso informativo de fácil visibilidad en el sitio de captación autorizado, incluyendo la información de la licencia ambiental respecto a la concesión de aguas subterráneas: número, fecha de la resolución que otorga la concesión de aguas, nombre del titular de la licencia, información de contacto, coordenadas del punto de captación y el caudal autorizado de captación.","N/A","Aplica","N/A","N/A","Permanente"]
[24,"CONCESIÓN AGUAS SUBTERRÁNEAS","Clausura de pozos de captación y pozos de observación/piezómetros",null,"Cuando finalice la captación de agua subterránea, clausurar los pozos de observación y de captación de acuerdo a los lineamientos establecidos en la NTC 5539:2007 y/o conforme a las actualizaciones que se hagan de esta. Presentar informe respectivo y reporte de esta novedad en el \"Formato de Hoja de Vida de Pozo de Captación - Aguas Subterráneas\" y en el \"Formato de Hoja de Vida de Pozo de Observación/Piezómetro - Aguas Subterráneas\", si aplica.","N/A","N/A","N/A","N/A","Temporal"]
[25,"CONCESIÓN AGUAS SUBTERRÁNEAS","Programa de Uso Eficiente y Ahorro  de Agua - PUEAA",null,"Presentar en los Informes de Cumplimiento Ambiental - ICA, según el  periodo reportado, los soportes que evidencien el cumplimiento de las metas e indicadores establecidas en el Programa de Uso Eficiente y Ahorro de Agua - PUEAA reglamentado bajo la 2.2.3.2.1.1.5 del Decreto 1076 del 2015 (Resolución 1257 del 2018), o aquella que la modifique, derogue o sustituya.","N/A","Aplica","N/A","N/A","Permanente"]
[26,"CONCESIÓN AGUAS SUPERFICIALES","Registro de caudal captado\n\nNota: Revisar previamente las condiciones establecidas por el proyecto en el PSM en relación con este permiso, con el fin de ser consecuentes con las obligaciones impuestas y las propuestas en el plan (no duplicar, no contrariar y tomar las condiciones más estrictas entre las obligaciones mínimas y el PSM).",null,"Realizar un registro diario del caudal captado para captaciones permanentes e intermitentes a través de la instalación de equipos de medición que se encuentren debidamente calibrados. La elección del medidor, calibración, instalación y mantenimiento de los equipos de medición debe cumplir con lo dispuesto en la NTC-ISO 4064 1-2-3: 2016, o aquellas que la modifiquen, deroguen o sustituyan. El registro consolidado se entregará en los respectivos Informes de Cumplimiento Ambiental - ICA de acuerdo con el modelo de almacenamiento geográfico establecido en la Resolución 2182 del 2016 del MADS, o aquella norma que la modifique, derogue o sustituya.","N/A","Aplica","N/A","N/A","Permanente"]
[27,"CONCESIÓN AGUAS SUPERFICIALES","Mediciones de nivel y caudal del cuerpo de agua donde se realiza la captación\n\nNota 1: Para grandes cuerpos de agua (caudalosos), se podrá omitir la instalación del medidor de nivel (del literal a) y se podrá ajustar la frecuencia de medición de nivel y caudal para captaciones permanentes de semanal a mensual (del literal b).\nNota 2: Ajustar literal b) de acuerdo con la solicitud, por ejemplo: si las captaciones son permanentes, eliminar el texto donde hace mención a las intermitentes.\nNota 3: Revisar previamente las condiciones establecidas por el proyecto en el PSM en relación con este permiso, con el fin de ser consecuentes con las obligaciones impuestas y las propuestas en el plan (no duplicar, no contrariar y tomar las condiciones más estrictas entre las obligaciones mínimas y el PSM).",null,"Realizar mediciones de nivel y caudal del cuerpo de agua donde se realiza la captación bajo las siguientes condiciones:\n\na) Localizar una sección transversal estable en un punto inmediatamente aguas arriba del sitio de la captación, teniendo en cuenta que no haya aportes o extracciones significativas de caudal (naturales o antrópicas), siguiendo los lineamientos establecidos por el Protocolo para el Monitoreo y Seguimiento del Agua (IDEAM, 2007), o aquel que lo modifique, derogue o sustituya, para la medición de caudal e instalar allí un medidor de nivel en el que se establezca el nivel correspondiente al caudal ambiental. Presentar en los Informes de Cumplimiento Ambiental - ICA los métodos seleccionados para medición de caudal y nivel y su justificación, de acuerdo con los métodos establecidos en el Protocolo en mención.\nb) Realizar las mediciones de niveles de la siguiente manera: para captaciones permanentes, con una frecuencia semanal durante todo el año y para captaciones intermitentes, inmediatamente antes del inicio de la captación y durante el periodo de la captación (definir la frecuencia de acuerdo con el tiempo en que se vaya a realizar la captación). A partir de la curva de calibración, presentar el cálculo de los caudales correspondientes. Presentar la base de datos en los respectivos Informes de Cumplimiento Ambiental - ICA.\nc) Realizar la calibración de la curva nivel-caudal de la sección transversal del cuerpo de agua, siguiendo lo establecido en el Protocolo en mención, dos veces al año considerando épocas de máximas y mínimas precipitaciones, de acuerdo con la variación hidrológica presentada en el EIA. En caso de que por condiciones de variabilidad climática no sea posible realizar la calibración de la curva nivel-caudal en dichas épocas, justificar en el correspondiente ICA su ejecución en épocas de transición. De la misma manera, realizar una vez al año el levantamiento de la sección transversal donde se calibró la curva nivel-caudal, y en caso de que identifique un cambio significativo en la geometría de la sección transversal presentada históricamente, proyectar los ajustes necesarios de la curva. Presentar los respectivos soportes en los Informes de Cumplimiento Ambiental - ICA.\nd) Presentar en los Informes de Cumplimiento Ambiental - ICA el análisis de la información acumulada y su comparación con los caudales obtenidos en la línea base (caudales medios, mínimos, máximos mensuales multianuales y caudales ambientales).","N/A","Aplica","N/A","N/A","Permanente"]
[28,"CONCESIÓN AGUAS SUPERFICIALES","Monitoreos físico químicos del recurso hídrico\n\nNota: Revisar previamente las condiciones establecidas por el proyecto en el PSM en relación con este permiso, con el fin de ser consecuentes con las obligaciones impuestas y las propuestas en el plan (no duplicar, no contrariar y tomar las condiciones más estrictas entre las obligaciones mínimas y el PSM).",null,"Realizar monitoreos físico químicos del recurso hídrico mínimo dos veces al año en el cuerpo de agua donde se realiza la captación, considerando épocas de máximas y mínimas precipitaciones. En caso de que por condiciones de variabilidad climática no sea posible realizar los monitoreos en dichas épocas, justificar en el correspondiente ICA su ejecución en épocas de transición. Realizar dichos monitoreos siguiendo los lineamientos establecidos en la Guía para el Monitoreo de Vertimientos, Aguas Superficiales y Subterráneas del 2002 del IDEAM o cualquiera que lo modifique, derogue o sustituya, cumpliendo con las siguientes condiciones:\n\na) Tomar una muestra integrada en la sección transversal establecida de acuerdo con los lineamientos de la Guía en mención.\nb) Realizar los monitoreos aguas arriba y aguas abajo del punto de captación, teniendo en cuenta que no haya aportes o extracciones significativas de caudal (naturales o antrópicas) entre los puntos de medición y el punto de captación.\nc) Registrar en cada monitoreo calidad como mínimo los siguientes parámetros: temperatura, pH, conductividad, oxígeno disuelto, DBO(5), DQO, grasas y aceites, turbiedad, alcalinidad, dureza y coliformes totales y fecales. \nd) Presentar en los Informes de Cumplimiento Ambiental - ICA, los reportes de laboratorio, las cadenas de custodia y el análisis multitemporal de los resultados que refleje la tendencia de la calidad del medio afectado por la concesión y su comparación con la línea base presentada en el estudio de viabilidad ambiental.\ne) Registrar el estado del tiempo (nubosidad, temperatura del aire, velocidad del viento, humedad relativa, temperatura del punto de rocío) durante el monitoreo.","N/A","Aplica","N/A","N/A","Permanente"]
[29,"CONCESIÓN AGUAS SUPERFICIALES","Suspensión de actividades de captación",null,"Suspender las actividades de captación cuando el caudal aguas arriba del punto de captación sea igual o inferior al caudal ambiental (cuando el caudal ambiental del cuerpo de agua donde se realiza la captación no se encuentre reglamentado por la autoridad regional, este deberá calcularse de manera mensual y para la condición climatológica normal, húmeda y seca), e informar a la autoridad ambiental competente y a la ANLA, dentro de las 24 h posteriores a la situación y por los medios legalmente establecidos, sobre la suspensión de actividades. Para ello, el titular de la presente licencia ambiental, implementará un sistema que permita validar el nivel del caudal previo a la actividad de captación. Así mismo, informar a la autoridad ambiental competente y a la ANLA dentro de las 24 horas posteriores a la reactivación de la captación.","N/A","Aplica","N/A","N/A","Temporal"]
[30,"CONCESIÓN AGUAS SUPERFICIALES","Aviso informativo en el lugar de acceso a los sitios de captación autorizados",null,"Instalar un aviso informativo de fácil visibilidad en el lugar de acceso a los sitios de captación autorizados, el cual incluya la información de la licencia ambiental respecto a  la concesión de aguas: número y fecha de la resolución que otorga la concesión, titular de la licencia, información de contacto, nombre de la fuente hídrica, coordenadas del punto de captación autorizada en la resolución, caudal autorizado de captación y caudal ambiental de la fuente.","N/A","Aplica","N/A","N/A","Permanente"]
[31,"CONCESIÓN AGUAS SUPERFICIALES","Captación del recurso mediante motobomba adosada a carrotanque",null,"Para la captación del recurso mediante motobomba adosada a carrotanque, se deberá tener en cuenta:\n\na) Ubicar los carrotanques empleados para realizar las captaciones fuera de la ronda de protección del cuerpo a captar.\nb) Las zonas donde se parqueen los vehículos deberán garantizar la estabilidad de los taludes de las márgenes del cuerpo de agua de donde se realice la captación. \nc) El sitio donde se parqueen los vehículos garantizarán condiciones de impermeabilización y sistema de control de fluidos ante eventuales fugas y derrames de los vehículos.\nd) El vehículo deberá contar con un sistema de micromedición para controlar el caudal captado.\ne) Las motobombas y vehículos transportadores del agua deberán contar con los mantenimientos preventivos. Presentar en los Informes de Cumplimiento Ambiental - ICA los respectivos soportes. \nf) Diligenciar las planillas en campo, que incluyan: placa de vehículo, fecha, hora de inicio y final de la captación y lectura inicial y final del sistema de medición de caudal. Presentar las planillas en los Informes de Cumplimiento Ambiental - ICA.","N/A","Aplica","N/A","N/A","Permanente"]
[32,"CONCESIÓN AGUAS SUPERFICIALES","Captación del recurso mediante equipo de bombeo fijo\n\nNota: Tener en cuenta la zonificación de manejo ambiental en relación con las rondas hídricas y permisos de ocupación de cauces empleados para la concesión.",null,"Para captación del recurso mediante equipo de bombeo fijo, se deberá tener en cuenta:\n\na) Ubicar el equipo de bombeo fijo sobre una base impermeabilizada fuera de la ronda de protección del cuerpo a captar y/o zonificación de manejo, la cual debe contar con techo, cerramiento, equipos para atender posibles conatos de incendios, kits para atender derrames de combustible, canales perimetrales que descolen en un tanque de almacenamiento para su posterior retiro, tratamiento y disposición final como residuo peligroso.\nb) El equipo de bombeo, deberá contar con un sistema de micromedición para controlar el caudal captado.\nc) Las motobombas deberán contar con los mantenimientos preventivos. Presentar en los Informes de Cumplimiento Ambiental - ICA los respectivos soportes. ","N/A","Aplica","N/A","N/A","Permanente"]
[33,"CONCESIÓN AGUAS SUPERFICIALES","Programa de Uso Eficiente y Ahorro de Agua - PUEAA",null,"Presentar en los Informes de Cumplimiento Ambiental - ICA, según el  periodo reportado, los soportes que evidencien el cumplimiento de las metas e indicadores establecidas en el Programa de Uso Eficiente y Ahorro de Agua - PUEAA reglamentado bajo la 2.2.3.2.1.1.5 del Decreto 1076 del 2015 (Resolución 1257 del 2018), o aquella que la modifique, derogue o sustituya.","N/A","Aplica","N/A","N/A","Permanente"]
[34,"OCUPACIÓN DE CAUCE","Protección de las áreas intervenidas",null,"Garantizar la protección de las áreas intervenidas para la ocupación, dando cumplimiento a lo siguiente:\n\na) Realizar las obras geotécnicas necesarias para la estabilización de taludes y reconformación morfológica de las márgenes de los cauces, sin afectar el caudal y la dinámica natural de las corrientes de agua.\nb) Hacer seguimiento detallado durante todo el proceso constructivo de las obras autorizadas, de las obras de protección geotécnica y del estado de las márgenes del cauce. Presentar en cada Informe de Cumplimiento Ambiental - ICA según el periodo reportado, las actividades realizadas, evidenciando su cumplimiento a través de un registro fotográfico que incluya las condiciones iniciales del mismo.\nc) Realizar labores de revegetalización de las áreas intervenidas con especies nativas de la región.","N/A","Aplica","N/A","N/A","Permanente"]
[35,"OCUPACIÓN DE CAUCE","Monitoreos físico químicos del cuerpo de agua donde se realiza la ocupación de cauce.\n\nNota 1: Dependiendo del número de ocupaciones, la duración de las etapas del proyecto y momento de construcción de las obras de ocupación, se podrá ajustar el literal a) y c) que relaciona como temporalidad de los monitoreos \"una semana previa\" y \"una semana después\", respectivamente, por realizar los monitoreos en la temporalidad climática del área en la que se proyecta la construcción.\n\nNota 2: Revisar previamente las condiciones establecidas por el proyecto en el PSM en relación con este permiso, con el fin de ser consecuentes con las obligaciones impuestas y las propuestas en el plan (no duplicar, no contrariar y tomar las condiciones más estrictas entre las obligaciones mínimas y el PSM).",null,"Realizar monitoreos físico químicos de (el o los) cuerpo(s) de agua donde se realiza la ocupación de cauce, siguiendo los lineamientos establecidos en la Guía para el Monitoreo de Vertimientos, Aguas Superficiales y Subterráneas del 2002 del IDEAM, y bajo las siguientes condiciones: \n\na) Realizar un monitoreo de la calidad del agua la semana previa a la iniciación de las obras asociadas a la ocupación.\nb) Realizar un monitoreo de calidad de agua mensual cuando las obras de ocupación de cauce tengan una duración igual o mayor a un mes y un monitoreo de calidad de agua cuando las obras de ocupación de cauce tengan una duración menor a un mes.\nc) Realizar un monitoreo de la calidad del agua en el transcurso de la semana siguiente a la finalización de las obras asociadas a la ocupación.\nd) Para cada monitoreo de calidad del agua tomar una muestra integrada en la sección transversal, registrando en cada uno de ellos los siguientes parámetros: caudal, nivel de la lámina de agua, pH, temperatura, turbidez, conductividad, oxígeno disuelto, alcalinidad, grasas y aceites, sólidos suspendidos totales y sólidos sedimentables. \ne) Presentar en los Informes de Cumplimiento Ambiental - ICA, los reportes de laboratorio, las cadenas de custodia y análisis global de los resultados y de la tendencia de la calidad del medio afectado por las ocupaciones, comparándola con la línea base presentada.\nf) Realizar los monitoreos de calidad del agua y las mediciones de caudal en dos puntos: uno aguas arriba y el otro aguas abajo del sitio de ocupación, teniendo en cuenta que no haya aportes o extracciones significativas de caudal (naturales o antrópicas) entre el punto de medición y el punto de la ocupación.\ng) Registrar el estado del tiempo (nubosidad, temperatura del aire, velocidad del viento, humedad relativa, temperatura del punto de rocío) durante cada monitoreo de calidad del agua.\nh) En los casos en que el caudal asociado a la ocupación de cauce no sea suficiente para la toma y análisis de las muestras, justificar técnicamente y presentar evidencia fotográfica en los Informes de Cumplimiento Ambiental - ICA.","N/A","Aplica","N/A","N/A","Permanente"]
[36,"OCUPACIÓN DE CAUCE","Informe del análisis histórico de la dinámica fluvial de las corrientes asociadas a la ocupación",null,"Presentar en los Informes de Cumplimiento Ambiental - ICA:\n\na) Un informe actualizado del análisis histórico de la dinámica fluvial de las corrientes asociadas a la ocupación finalizada la obra, y cada dos años durante la ejecución del proyecto (a partir de fotografías aéreas, sensores remotos u otra información secundaria de diferentes épocas), en caso en que la información secundaria no permita evidenciar la obra y las corrientes asociadas, se deberá emplear información primaria (batimetrías, imágenes lidar, etc.), que permita verificar los cambios respecto a la línea base en la morfología de las orillas del cuerpo de agua objeto de la ocupación. Presentar el análisis multitemporal de los resultados que refleje la tendencia del comportamiento de la morfología del cuerpo de agua objeto de la ocupación. En caso de que se evidencien cambios, el titular de la licencia ambiental formulará y ejecutará las correspondientes medidas para el mejoramiento y/o sustitución de la obra de ocupación de cauce. \nb) Un reporte del estado las obras asociadas a la ocupación de cauce (márgenes, taludes, revegetalización, entre otros) y de las actividades ejecutadas que garanticen el normal flujo del agua a través de la obra de ocupación, con su respectivo registro fotográfico.","N/A","Aplica","N/A","N/A","Permanente"]
[37,"VERTIMIENTO EN AGUA SUPERFICIAL","Medición de nivel y caudal del cuerpo de agua receptor y calibración de la curva nivel-caudal",null,"Realizar mediciones de nivel y caudal del cuerpo de agua receptor del vertimiento siguiendo los lineamientos establecidos en el Protocolo para el Monitoreo y Seguimiento del Agua (IDEAM, 2007) o aquel que lo modifique, derogue o sustituya, y bajo las siguientes condiciones:\n\na) Localizar una sección transversal estable de acuerdo con los lineamientos establecidos en el Protocolo para la medición de caudal e instalar allí un medidor de nivel.\nb) Realizar las mediciones de caudal aguas arriba y aguas abajo del vertimiento con una frecuencia mensual durante el tiempo en el que se realice el vertimiento, teniendo en cuenta que no haya aportes o extracciones significativas de caudal (naturales o antrópicas) entre los puntos de medición y el punto de vertimiento. Presentar la base de datos en los respectivos Informes de Cumplimiento Ambiental - ICA.\nc) Realizar la calibración de la curva nivel-caudal de la sección transversal del cuerpo de agua, siguiendo lo establecido en el Protocolo en mención, dos veces al año considerando épocas de máximas y mínimas precipitaciones, de acuerdo con la variación hidrológica presentada en el EIA. En caso de que por condiciones de variabilidad climática no sea posible realizar la calibración de la curva nivel-caudal en dichas épocas, justificar en el correspondiente ICA su ejecución en épocas de transición. De la misma manera, realizar una vez al año el levantamiento de la sección transversal donde se calibró la curva nivel-caudal, y en caso de que identifique un cambio significativo en la geometría de la sección transversal presentada históricamente, proyectar los ajustes necesarios de la curva. Presentar los respectivos soportes en los Informes de Cumplimiento Ambiental - ICA.","N/A","Aplica","N/A","N/A","Permanente"]
[38,"VERTIMIENTO EN AGUA SUPERFICIAL","Medición de caudal diario cuando el vertimientos esté condicionado en ciertas épocas del año debido a las características del régimen de caudal.",null,"Cuando el permiso de vertimientos esté condicionado en ciertas épocas del año debido a las características del régimen de caudal, implementar un sistema de medición de caudales debidamente calibrado sobre la fuente hídrica receptora con frecuencia de medición diaria, con el fin de restringir el vertimiento de acuerdo con las condiciones hidrológicas autorizadas. ","N/A","Aplica","N/A","N/A","Permanente"]
[39,"VERTIMIENTO EN AGUA SUPERFICIAL","Suspensión de actividades bajo lo dispuesto en el artículo 2.2.3.3.4.15 del Decreto 1076 de 2015",null,"Suspender las actividades de vertimiento cuando se presente alguna de las siguientes situaciones:\n\na) La reparación y reinicio de los sistemas de tratamiento requieran más de tres (3) horas diarias (artículo 2.2.3.3.4.15 del Decreto 1076 de 2015).\nb) El caudal medido sobre la fuente receptora sea menor que el caudal ambiental (cuando el caudal ambiental del cuerpo de agua donde se realiza el vertimiento no se encuentre reglamentado por la autoridad regional, deberá tenerse en cuenta el calculado por el proyecto en el EIA). Para ello, el titular de la licencia ambiental, implementará un sistema que permita validar el nivel del caudal previo a la actividad del vertimiento. \n\nInformar a la autoridad ambiental regional y a la ANLA, dentro de las 24 h posteriores a la situación y por los medios legalmente establecidos, sobre la suspensión de actividades y/o la puesta en marcha del Plan de Gestión del Riesgo para el Manejo de Vertimientos. Así mismo, informar a la autoridad ambiental competente y a la ANLA dentro de las 24 horas posteriores a la reactivación del vertimiento.","N/A","Aplica","N/A","N/A","Permanente"]
[40,"VERTIMIENTO EN AGUA SUPERFICIAL","Monitoreos de calidad del recurso hídrico en el cuerpo de agua donde se realiza el vertimiento. \n\nNota: Revisar previamente las condiciones establecidas por el proyecto en el PSM en relación con este permiso, con el fin de ser consecuentes con las obligaciones impuestas y las propuestas en el plan (no duplicar, no contrariar y tomar las condiciones más estrictas entre las obligaciones mínimas y el PSM).",null,"Realizar monitoreos de calidad del recurso hídrico dos veces al año en el cuerpo de agua donde se realiza el vertimiento, considerando épocas de máximas y mínimas precipitaciones. En caso de que por condiciones de variabilidad climática no sea posible realizar los monitoreos en dichas épocas, justificar en el correspondiente ICA su ejecución en épocas de transición. Dichos monitoreos se realizarán mediante la toma de muestras integradas en la sección transversal siguiendo los lineamientos establecidos en la Guía para el Monitoreo de Vertimientos, Aguas Superficiales y Subterráneas del 2002 del IDEAM, o cualquiera que la modifique, derogue o sustituya, dando cumplimiento a las siguientes condiciones:\n\na) Realizar una medición de nivel y caudal aguas arriba y aguas abajo del vertimiento de manera simultánea a la toma de muestras, teniendo en cuenta que no haya aportes o extracciones significativas de caudal (naturales o antrópicas) entre los puntos de medición y el punto de vertimiento. Presentar la base de datos en los respectivos Informes de Cumplimiento Ambiental - ICA.\nb) Realizar el monitoreo aguas arriba y aguas abajo siguiendo la masa de agua: 1) Aguas arriba del punto de vertimiento y 2) Aguas abajo del vertimiento, en un punto situado después de la distancia de mezcla completa estimada desde el sitio de la descarga. Estos puntos deberán coincidir con los definidos en la línea base ambiental.\nc) Registrar en cada monitoreo los parámetros establecidos en la Resolución 631 de 2015 o aquella que la modifique, derogue o sustituya. De igual manera, se deben contemplar los parámetros establecidos en los Planes de Ordenamiento y Manejo de Cuencas Hidrográficas - POMCAs y en los Planes de Ordenamiento del Recurso Hídrico - PORH. \nd) Monitorear las siguientes comunidades hidrobiológicas: perifiton, bentos y fauna íctica para cuerpos lóticos, y adicionalmente plancton y macrófitas para cuerpos lénticos. \ne) Registrar el estado del tiempo (nubosidad, temperatura del aire, velocidad del viento, humedad relativa, temperatura del punto de rocío) durante el monitoreo.\nf) Presentar en los Informes de Cumplimiento Ambiental - ICA, los reportes de laboratorio, las cadenas de custodia y el análisis de la tendencia de la calidad del medio afectado por el vertimiento, comparándola con la línea base presentada.\ng) Cuando entre el punto de monitoreo y el punto de vertimiento se presenten aportes o extracciones, estas se monitorearán y cuantificarán (calidad y cantidad). Presentar los respectivos soportes en los Informes de Cumplimiento Ambiental - ICA. ","N/A","Aplica","N/A","N/A","Permanente"]
[41,"VERTIMIENTO EN AGUA SUPERFICIAL","Monitoreo del vertimiento\n\nNota: Revisar previamente las condiciones establecidas por el proyecto en el PSM en relación con este permiso, con el fin de ser consecuentes con las obligaciones impuestas y las propuestas en el plan (no duplicar, no contrariar, tomar las condiciones más estrictas entre las obligaciones mínimas y el PSM, tener en cuenta la posibilidad de ajustar la frecuencia del monitoreo de acuerdo con el origen del agua residual y magnitud del vertimiento).",null,"Realizar monitoreos de las aguas residuales (domésticas y no domésticas) a la salida del sistema de tratamiento, mediante un muestreo compuesto de 24 horas (o durante el tiempo en que se realice el vertimiento) con mediciones horarias, siguiendo lo establecido en la Guía para el Monitoreo de Vertimientos, Aguas Superficiales y Subterráneas del 2002 del IDEAM, o cualquiera que la modifique, derogue o sustituya, dando cumplimiento a las siguientes condiciones:\n\na) La periodicidad de la realización de los monitoreos de ARD y ARnD deberá ser cada dos meses. \nb) La fecha de realización del monitoreo del vertimiento debe coincidir con la fecha de realización del monitoreo de calidad del cuerpo receptor.\nc) Registrar en cada monitoreo del vertimiento los parámetros establecidos en la Resolución 631 de 2015 o aquella que la modifique, derogue o sustituya. \nd) Presentar en los Informes de Cumplimiento Ambiental - ICA, los reportes de laboratorio, las cadenas de custodia y el análisis de los resultados de los monitoreos, que incluya las correlaciones entre variaciones de proceso y variaciones en las mediciones, así como la comparación en los resultados con los límites establecidos en la normatividad mencionada.","N/A","Aplica","N/A","N/A","Permanente"]
[42,"VERTIMIENTO EN AGUA SUPERFICIAL","Validación del modelo de calidad de agua",null,"Presentar en los respectivos Informes de Cumplimiento Ambiental - ICA la validación del modelo de calidad del agua dos años después de iniciado el vertimiento, teniendo en cuenta las condiciones desarrolladas en ese periodo para los cuerpos de agua donde se autoriza el vertimiento, siguiendo lo establecido en la Guía Nacional de Modelación del Recurso Hídrico para Aguas Superficiales Continentales, adoptada por la Resolución 959 de 2018 del Ministerio de Ambiente y Desarrollo Sostenible, o aquella que la modifique, derogue o sustituya, dando cumplimiento a las siguientes condiciones:\n\na) Registrar en cada monitoreo los parámetros físicos, químicos, microbiológicos e hidrobiológicos establecidos en la Guía Nacional de Modelación del Recurso Hídrico para Aguas Superficiales Continentales. En caso de que por la naturaleza del proyecto, requiera de la exclusión de algún(nos) parámetros(s) justificar mediante balances de materia o de masa y/o con la realización de la respectiva caracterización que demuestre que estos no se encuentran presentes en sus aguas residuales.  Dentro de la justificación, puede hacer uso de la información de las hojas técnicas de las materias primas e insumos empleados en el proceso. \nb) Presentar en los Informes de Cumplimiento Ambiental - ICA, los reportes de laboratorio, las cadenas de custodia y el análisis de la tendencia de la calidad del medio afectado por el vertimiento, comparándola con la línea base presentada en el EIA.\nc) La fecha de realización de los monitoreos insumo para la actualización del modelo, debe coincidir con la fecha de realización de los monitoreos de calidad del cuerpo receptor y serán complemento de los parámetros monitoreados en el cuerpo de agua receptor.\nd) Realizar el monitoreo en tres puntos siguiendo la masa de agua: 1) Aguas arriba del punto de vertimiento, 2) Aguas abajo del vertimiento, en un punto situado después de la distancia de mezcla completa estimada desde el sitio de la descarga y 3) Al final del tramo seleccionado para modelación (la longitud del tramo de modelación debe ser la misma que la definida en el EIA).\n\nEn caso de que se presenten cambios en las fuentes de agua receptoras (régimen hidrológico, hidráulica, nuevos puntos de vertimientos, nuevos puntos de captación, etc.) se deberá validar el modelo y presentar a esta Autoridad en los respectivos Informes de Cumplimiento Ambiental - ICA.","N/A","Aplica","N/A","N/A","Permanente"]
[43,"VERTIMIENTO EN AGUA SUPERFICIAL","Mantenimiento preventivo o correctivo del sistema de tratamiento de aguas residuales",null,"Presentar en los Informes de Cumplimiento Ambiental - ICA, los soportes que evidencien las actividades de mantenimiento preventivo o correctivo efectuadas al sistema de tratamiento de aguas residuales (minuta u hoja de vida del sistema de tratamiento e informes de disposición de lodos producto del mantenimiento), en cumplimiento del artículo 2.2.3.3.4.16 del Decreto 1076 de 2015, o aquel que lo modifique, derogue o sustituya.","N/A","Aplica","N/A","N/A","Permanente"]
[44,"VERTIMIENTO EN AGUA SUPERFICIAL","Aviso informativo en el lugar del vertimiento",null,"Instalar un aviso informativo de fácil visibilidad en el lugar del vertimiento autorizado, el cual incluya la información de la licencia ambiental respecto al permiso de vertimiento: número y fecha de la resolución que autoriza el permiso de vertimiento, titular de la licencia, información de contacto, nombre de la fuente hídrica, coordenadas del punto de vertimiento autorizado en la resolución, caudal del vertimiento autorizado (l/s) y caudal ambiental de la fuente.","N/A","Aplica","N/A","N/A","Permanente"]
[45,"VERTIMIENTO EN SUELO","Instalación red piezométrica para monitoreo.\n\n\nNota: Revisar previamente las condiciones establecidas por el proyecto en el PSM en relación con este permiso, con el fin de ser consecuentes con las obligaciones impuestas y las propuestas en el plan (no duplicar, no contrariar y tomar las condiciones más estrictas entre las obligaciones mínimas y el PSM).",null,"Realizar la instalación de la red piezométrica para monitoreo de aguas subterráneas en la zona de riego/aspersión autorizada antes de la puesta en marcha del sistema de vertimiento en suelos, dando cumplimiento a lo siguiente:\n\na) Contemplar un número representativo de piezómetros, para lo cual presentará la justificación técnica del número de piezómetros a implementar en el Plan de Manejo Ambiental Específico.\nb) Localizarse aguas arriba y aguas abajo del área de vertimiento de acuerdo a la dirección del flujo local de las aguas subterráneas. \nc) Los pozos de observación/piezómetros se deberán nivelar topográficamente. \nd) Los pozos deberán  contar con un mecanismo de protección que impida el ingreso de sustancias en su interior.","N/A","Aplica","N/A","N/A","Temporal"]
[46,"VERTIMIENTO EN SUELO","Clausura de pozos de observación/piezómetros\n\nNota: Ver formato de hoja de vida de pozo de observación/piezómetro en el anexo correspondiente",null,"Clausurar los pozos de observación/piezómetros, de acuerdo con los lineamientos establecidos en la NTC 5539:2007 -sección 4.10- y/o conforme a las actualizaciones que se hagan de esta, una vez se finalicen los vertimientos en suelos y se compruebe de manera previa mediante un monitoreo de calidad de aguas subterráneas con base en la caracterización en la línea base, que no existen impactos residuales por la ejecución del vertimiento. Presentar los soportes que evidencien la no afectación al recurso agua, el informe de las actividades de clausura y el reporte de esta novedad en el \"Formato de Hoja de Vida de Pozo de Observación/Piezómetro - Aguas Subterráneas\" en los respectivos Informes de Cumplimiento Ambiental - ICA.","N/A","N/A","N/A","N/A","Temporal"]
[47,"VERTIMIENTO EN SUELO","Monitoreos de suelo receptor para vertimiento de aguas residuales no domésticas - ARnD\n\nNota: Revisar previamente las condiciones establecidas por el proyecto en el PSM en relación con este permiso, con el fin de ser consecuentes con las obligaciones impuestas y las propuestas en el plan (no duplicar, no contrariar y tomar las condiciones más estrictas entre las obligaciones mínimas y el PSM).",null,"Para aguas residuales no domésticas - ARnD tratadas, realizar monitoreos fisicoquímicos y biológicos del suelo receptor, antes de iniciar el vertimiento y dos veces al año después de iniciado considerando épocas de máximas y mínimas precipitaciones. En caso de que por condiciones de variabilidad climática no sea posible realizar los monitoreos en dichas épocas, justificar en el correspondiente ICA su ejecución en épocas de transición. Dar cumplimiento a las siguientes condiciones:\n\na) Realizar la toma de muestras puntuales y análisis de parámetros fisicoquímicos y biológicos establecidos en el artículo 2.2.3.3.4.9 del Decreto 1076 de 2015, o aquel que lo modifique, derogue o sustituya, en cada área de disposición. \nb) Presentar en los Informes de Cumplimiento Ambiental - ICA, los reportes de laboratorio, las cadenas de custodia y el análisis de resultados de monitoreos en una base temporal para cada variable, empleando gráficas de tendencia de concentración versus tiempo (actualizar las gráficas con la información recolectada en cada muestreo); el análisis debe estar orientado a medir el cambio en las propiedades iniciales del suelo (línea base) por efectos del vertimiento en cada sitio de muestra analizada.\nc) Realizar la toma de muestras con base en los criterios definidos por las autoridades competentes. ","N/A","Aplica","N/A","N/A","Permanente"]
[48,"VERTIMIENTO EN SUELO","Monitoreos de aguas subterráneas para vertimiento de aguas residuales no domésticas - ARnD\n\nNota: Revisar previamente las condiciones establecidas por el proyecto en el PSM en relación con este permiso, con el fin de ser consecuentes con las obligaciones impuestas y las propuestas en el plan (no duplicar, no contrariar y tomar las condiciones más estrictas entre las obligaciones mínimas y el PSM).",null,"Para aguas residuales no domésticas - ARnD tratadas, realizar monitoreos fisicoquímicos y microbiológicos de las aguas subterráneas en cada uno de los pozos de observación/piezómetros instalados, antes de iniciar el vertimiento y dos veces al año después de iniciado en cada uno de los pozos de observación/piezómetros instalados, considerando épocas de máximas y mínimas precipitaciones. En caso de que por condiciones de variabilidad climática no sea posible realizar los monitoreos en dichas épocas, justificar en el correspondiente ICA su ejecución en épocas de transición. Dar cumplimiento a las siguientes condiciones:\n\na) Realizar la toma de muestras puntuales y análisis de parámetros fisicoquímicos y biológicos establecidos en el artículo 2.2.3.3.4.9 del Decreto 1076 de 2015, o aquel que lo modifique, derogue o sustituya, y de los iones y cationes (Na+, K+, Mg++, Ca++, Fe++, SO4=, Cl-, NO3-, CO3=, HCO3-). \nb) Calcular y presentar el valor del error analítico (%) a partir de la sumatoria de aniones y cationes.  Solo podrán reportarse las caracterizaciones de muestras que tengan errores analíticos inferiores a ±10%. Presentar dichos cálculos en los Informes de Cumplimiento Ambiental – ICA.\nc) Realizar la toma de muestras siguiendo la Guía para el Monitoreo de Vertimientos, Aguas Superficiales y Subterráneas del 2002 del IDEAM o aquella que lo modifique, derogue o sustituya.\nd) Llevar un registro del nivel freático de cada pozo de observación/piezómetro de la red instalada, con el fin de analizar la variación del nivel freático del área de vertimiento, comparándolo con el caudal vertido y el régimen de precipitación. Presentar los soportes en los Informes de Cumplimiento Ambiental – ICA.\t\ne) Presentar en los Informes de Cumplimiento Ambiental - ICA, los reportes de laboratorio, las cadenas de custodia y el análisis de resultados de monitoreos en una base temporal para cada variable, empleando gráficas de tendencia de concentración versus tiempo (actualizar las gráficas con la información recolectada en cada muestreo). En caso de que por acción del vertimiento se presente un cambio en las características del agua subterránea, el titular de la licencia ambiental suspenderá el vertimiento y propondrá las medidas a que haya lugar.","N/A","Aplica","N/A","N/A","Permanente"]
[49,"VERTIMIENTO EN SUELO","Monitoreos de suelo receptor para vertimiento de aguas residuales domésticas - ARD\n\nNota: Revisar previamente las condiciones establecidas por el proyecto en el PSM en relación con este permiso, con el fin de ser consecuentes con las obligaciones impuestas y las propuestas en el plan (no duplicar, no contrariar y tomar las condiciones más estrictas entre las obligaciones mínimas y el PSM).",null,"Para aguas residuales domésticas - ARD tratadas, realizar monitoreos fisicoquímicos y biológicos del suelo receptor, antes de iniciar el vertimiento y dos veces al año después de iniciado, considerando épocas de máximas y mínimas precipitaciones. En caso de que por condiciones de variabilidad climática no sea posible realizar los monitoreos en dichas épocas, justificar en el correspondiente ICA su ejecución en épocas de transición. Dar cumplimiento a las siguientes condiciones:\n\na) Realizar la toma de muestras puntuales y análisis de parámetros: textura (porcentaje de arena, limo y arcilla), densidad real, densidad aparente, materia orgánica, pH, cloruros, conductividad eléctrica, capacidad de intercambio catiónico, grasas y aceites, bario, cadmio, mercurio, bacterias totales y HTP, en cada área de disposición. \nb) Realizar la toma de muestras con base en los criterios definidos por las autoridades competentes. \nc) Presentar en los Informes de Cumplimiento Ambiental - ICA, los reportes de laboratorio, las cadenas de custodia y el análisis de resultados de monitoreos en una base temporal para cada variable, empleando gráficas de tendencia de concentración versus tiempo (actualizar las gráficas con la información recolectada en cada muestreo); el análisis estará orientado a medir el cambio en las propiedades iniciales del suelo (línea base) por efectos del vertimiento en cada sitio de muestra analizada, así como con los límites genéricos basados en riesgos (LGBR) de la EPA (https://www.epa.gov/risk/regional-screening-levels-rsls-generic-tables,  Niveles de Detección Regional (RSLs) - Niveles de Detección (TR = 1E-06 THQ = 1.0) - Tabla resumen - Suelo Industrial).","N/A","Aplica","N/A","N/A","Permanente"]
[50,"VERTIMIENTO EN SUELO","Monitoreos de aguas subterráneas para vertimiento de aguas residuales domésticas - ARD\n\nNota: Revisar previamente las condiciones establecidas por el proyecto en el PSM en relación con este permiso, con el fin de ser consecuentes con las obligaciones impuestas y las propuestas en el plan (no duplicar, no contrariar y tomar las condiciones más estrictas entre las obligaciones mínimas y el PSM).",null,"Para aguas residuales domésticas - ARD tratadas, realizar monitoreos fisicoquímicos y microbiológicos de las aguas subterráneas en cada uno de los pozos de observación/piezómetros instalados, antes de iniciar el vertimiento y dos veces al año después de iniciado en cada uno de los pozos de observación/piezómetros instalados, considerando épocas de máximas y mínimas precipitaciones. En caso de que por condiciones de variabilidad climática no sea posible realizar los monitoreos en dichas épocas, justificar en el correspondiente ICA su ejecución en épocas de transición. Dar cumplimiento a las siguientes condiciones:\n \na) Realizar la toma de muestras puntuales y análisis de parámetros fisicoquímicos y biológicos establecidos en el artículo 2.2.3.3.4.9 del Decreto 1076 de 2015, o aquel que lo modifique, derogue o sustituya.  \nb) Calcular y presentar el valor del error analítico (%) a partir de la sumatoria de aniones y cationes.  Solo podrán reportarse las caracterizaciones de muestras que tengan errores analíticos inferiores a ±10%. Presentar dichos cálculos en los Informes de Cumplimiento Ambiental – ICA.\nc) Realizar la toma de muestras siguiendo la Guía para el Monitoreo de Vertimientos, Aguas Superficiales y Subterráneas del 2002 del IDEAM o aquella que lo modifique, derogue o sustituya. \nd) Llevar un registro del nivel freático de cada pozo de observación/piezómetro de la red instalada, con el fin de analizar la variación del nivel freático del área de vertimiento, teniendo en cuenta el caudal vertido y el régimen de precipitación. Presentar los soportes en los Informes de Cumplimiento Ambiental – ICA. \ne) Presentar en los Informes de Cumplimiento Ambiental - ICA, los reportes de laboratorio, las cadenas de custodia y el análisis de resultados de monitoreos en una base temporal para cada variable, empleando gráficas de tendencia de concentración versus tiempo (actualizar las gráficas con la información recolectada en cada muestreo). ","N/A","Aplica","N/A","N/A","Permanente"]
[51,"VERTIMIENTO EN SUELO","Monitoreo del vertimiento de aguas residuales no domésticas - ARnD\n\nNota: Revisar previamente las condiciones establecidas por el proyecto en el PSM en relación con este permiso, con el fin de ser consecuentes con las obligaciones impuestas y las propuestas en el plan (no duplicar, no contrariar y tomar las condiciones más estrictas entre las obligaciones mínimas y el PSM).",null,"Realizar monitoreos de aguas residuales no domésticas - ARnD cada dos meses a la salida del sistema de tratamiento, mediante un muestreo compuesto de 24 horas (o durante el tiempo en que se realice el vertimiento) con mediciones horarias, dando cumplimiento a las siguientes condiciones:\n\na) Realizar el monitoreo del vertimiento de conformidad con lo establecido en la Guía para el Monitoreo de Vertimientos, Aguas Superficiales y Subterráneas del 2002 del IDEAM, o cualquiera que la modifique, derogue o sustituya.\nb) Registrar en cada monitoreo del vertimiento, los parámetros establecidos en los artículos 2.2.3.3.9.14. y 2.2.3.3.9.16. del Decreto 1076 de 2015, o aquel que lo modifique, derogue o sustituya. \nc) Presentar en los Informes de Cumplimiento Ambiental - ICA, los reportes de laboratorio, las cadenas de custodia y el análisis de los resultados de los monitoreos. ","N/A","Aplica","N/A","N/A","Permanente"]
[52,"VERTIMIENTO EN SUELO","Monitoreo del vertimiento de aguas residuales domésticas - ARD\n\nNota: Revisar previamente las condiciones establecidas por el proyecto en el PSM en relación con este permiso, con el fin de ser consecuentes con las obligaciones impuestas y las propuestas en el plan (no duplicar, no contrariar y tomar las condiciones más estrictas entre las obligaciones mínimas y el PSM).",null,"Realizar monitoreos de las aguas residuales domésticas - ARD cada dos meses a la salida del sistema de tratamiento, mediante un muestreo compuesto de 24 horas (o durante el tiempo en que se realice el vertimiento) con mediciones horarias, dando cumplimiento a las siguientes condiciones:\n\na) Realizar el monitoreo del vertimiento de conformidad con lo establecido en la Guía para el Monitoreo de Vertimientos, Aguas Superficiales y Subterráneas del 2002 del IDEAM, o cualquiera que la modifique, derogue o sustituya.\nb) Realizar la toma de muestras puntuales y análisis de parámetros establecidos en la Resolución 699 del 06 de julio de 2021, o aquel que lo modifique, derogue o sustituya, en cada área de disposición. \nc) Presentar en los Informes de Cumplimiento Ambiental - ICA, los reportes de laboratorio, las cadenas de custodia y el análisis de los resultados de los monitoreos. ","N/A","Aplica","N/A","N/A","Permanente"]
[53,"VERTIMIENTO EN SUELO","Actualización de modelo de flujo y transporte de solutos en el suelo ",null,"Presentar en los respectivos Informes de Cumplimiento Ambiental - ICA la validación del modelo numérico del flujo y transporte de solutos en el suelo para aguas residuales no domésticas del que trata el artículo 2.2.3.3.4.9 del Decreto 1076 de 2015, o la norma que lo modifique, derogue o sustituya, dos años después de iniciado el vertimiento.","N/A","Aplica","N/A","N/A","Permanente"]
[54,"VERTIMIENTO EN SUELO","Hoja de vida piezómetros\n\nNota: Ver formato de hoja de vida de pozo de observación en el anexo correspondiente",null,"Mantener actualizado el \"Formato de Hoja de Vida de Pozo de Observación/Piezómetro - Aguas Subterráneas\" de cada pozo instalado, los cuales se presentarán en los respectivos Informes de Cumplimiento Ambiental - ICA.","N/A","Aplica","N/A","N/A","Permanente"]
[55,"VERTIMIENTO EN SUELO","Suspensión de actividades de vertimiento",null,"No desarrollar las actividades de vertimiento cuando se presenten las situaciones de las que trata el artículo 2.2.3.3.4.15 del Decreto 1076 de 2015, e informar a la autoridad ambiental regional y a la ANLA, dentro de las 24 h posteriores a la situación y por los medios legalmente establecidos, sobre la suspensión de actividades y/o la puesta en marcha del Plan de Gestión del Riesgo para el Manejo de Vertimientos, cuando la reparación y reinicio de los sistemas de tratamiento requieran más de tres (3) horas diarias.","N/A","Aplica","N/A","N/A","Permanente"]
[56,"VERTIMIENTO EN SUELO","Mantenimiento preventivo o correctivo del sistema de tratamiento de aguas residuales",null,"Presentar en los Informes de Cumplimiento Ambiental - ICA, los soportes que evidencien las actividades de mantenimiento preventivo o correctivo efectuadas al sistema de tratamiento de aguas residuales (minuta u hoja de vida del sistema de tratamiento e informe técnico del mantenimiento y de la disposición de lodos producto del mismo), en cumplimiento del artículo 2.2.3.3.4.16 del Decreto 1076 de 2015, o la norma que lo modifique, derogue o sustituya.","N/A","Aplica","N/A","N/A","Permanente"]
[57,"VERTIMIENTO EN SUELO","Aviso informativo en el lugar del vertimiento",null,"Instalar un aviso informativo de fácil visibilidad en el lugar del vertimiento autorizado, el cual incluya la información de la licencia ambiental respecto al permiso de vertimiento: número y fecha de la resolución que otorga el permiso de vertimiento, titular de la licencia, información de contacto, coordenadas del punto de vertimiento autorizado en la resolución y  caudal del vertimiento autorizado (l/s).","N/A","Aplica","N/A","N/A","Permanente"]
[58,"APROVECHAMIENTO FORESTAL","Inventario forestal para PMA especifico",null,"Reportar en cada PMA especifico los volúmenes que efectivamente serán aprovechados mediante un inventario forestal al 100%, volúmenes que en todo caso no podrán superar los valores máximos autorizados en la presente licencia ambiental por tipo de cobertura vegetal. ","Aplica","N/A","N/A","N/A","Temporal"]
[59,"APROVECHAMIENTO FORESTAL","Reporte de actividades de aprovechamiento forestal en ICA\n\nNota: En el marco del artículo 2.2.1.1.10.4.3 del Decreto 1076 del 2015, la autoridad ambiental otorga o niega el aprovechamiento forestal de productos maderables y el manejo sostenible de la flora silvestre y de los productos forestales no maderables.",null,"Reportar en los informes de cumplimiento ambiental - ICA - el inventario forestal e informe detallado del aprovechamiento forestal adelantado durante el periodo a ser reportado. Presentar la información documental conforme a los lineamientos establecidos en el Manual de Seguimiento Ambiental de Proyectos y bajo el modelo de almacenamiento geográfico adoptado en la Resolución 2182 del 23 de diciembre de 2016, o aquella que la modifique, derogue o sustituya. Detallar en cada informe volúmenes totales y comerciales de aprovechamiento forestal efectivamente removidos por tipo de obra y tipo de cobertura, volúmenes acumulados (Cuando el aprovechamiento forestal se reporta en varios ICA´s), individuos arbóreos aprovechados (nombre común, nombre científico y familia de la especie) con la respectiva ubicación en coordenadas planas con datum y origen, y el área de aprovechamiento (municipio, vereda, predio y polígono de aprovechamiento).","N/A","Aplica","N/A","N/A","Permanente"]
[60,"APROVECHAMIENTO FORESTAL","Reporte de actividades de aprovechamiento forestal de arboles aislados.",null,"Cuando se requiera de la remoción de árboles aislados en un volumen igual o menor a veinte metros cúbicos (20 m³) de conformidad con el articulo 2.2.1.1.9.6. del decreto 1076 de 2015, la sociedad XXX reportará las actividades adelantadas en el respectivo informe de cumplimiento ambiental y no podrá superar el volumen mencionado durante el desarrollo de todas las actividades contempladas en el proyecto.","N/A","Aplica","N/A","N/A","Temporal"]
[61,"APROVECHAMIENTO FORESTAL","Manejo de residuos del aprovechamiento forestal",null,"Disponer los residuos vegetales resultantes de las actividades de aprovechamiento forestal (hojas, ramas, raíces) de tal forma que no se intervenga en la dinámica natural de ecosistemas estratégicos o drenajes naturales, dando cumplimiento a lo establecido en las medidas del Plan de Manejo Ambiental y documentando su implementación y georreferenciación en los Informes de Cumplimiento Ambiental - ICA respectivos.","N/A","Aplica","N/A","N/A","Temporal"]
[62,"APROVECHAMIENTO FORESTAL","Se prohíbe la realización de quemas",null,"No realizar quemas a cielo abierto de los productos, subproductos y/o residuos vegetales resultantes del aprovechamiento forestal.","N/A","Aplica","N/A","N/A","Permanente"]
[63,"APROVECHAMIENTO FORESTAL","Manejo de especies endémicas o en alguna categoría de amenaza.",null,"Dar cumplimiento a lo establecido en las medidas de manejo aprobadas en el presente acto administrativo, tendientes a garantizar la protección y conservación, mediante las alternativas existentes para tal fin, de las especies endémicas o en alguna categoría de amenaza de acuerdo con la lista roja de la UICN, los libros rojos de los institutos de investigación Humboldt y SINCHI, la Resolución 1912 del 15 de septiembre de 2017 o aquellas que la modifiquen, deroguen o sustituyan, o que se encuentren en algún apéndice del CITES (Convenio sobre el comercio internacional de especies amenazadas). Documentar y presentar su implementación en los informes de cumplimiento ambiental - ICA-, incluyendo la respectiva georreferenciación y registro fotográfico.","N/A","Aplica","N/A","N/A","Permanente"]
[64,"APROVECHAMIENTO FORESTAL","Manejo de los productos obtenidos del aprovechamiento forestal ",null,"Los productos obtenidos del aprovechamiento forestal no podrán ser comercializados y solo podrán ser utilizados en las actividades propias del proyecto y/o entregarse a titulo de donación, determinando de manera prevalente como titular al propietario del predio o a las comunidades, organizaciones sociales y/o autoridades territoriales del área de influencia. El destino de los productos (uso y/o donación) estará soportado mediante actas de donación o reportes de su uso en actividades del proyecto, según corresponda adjuntando registro fotográfico, los cuales serán incluidos  en los informes de cumplimiento ambiental - ICA- respectivos.","N/A","Aplica","N/A","N/A","Temporal"]
[65,"RECOLECCIÓN DE ESPECÍMENES DE ESPECIES SILVESTRES DE LA\nBIODIVERSIDAD","Reporte de actividades relacionadas con el permiso de recolección",null,"Presentar en el respectivo informe de cumplimiento ambiental - ICA - las actividades de recolección relacionadas con el permiso, incluyendo la relación del material recolectado, removido o extraído temporal o definitivamente del medio silvestre y la metodología implementada. Presentar la información documental conforme a los lineamientos establecidos en el Manual de Seguimiento Ambiental de Proyectos y bajo el modelo de almacenamiento geográfico adoptado en la Resolución 2182 del 23 de diciembre de 2016  o aquella norma que la modifiquen o sustituya.","N/A","Aplica","N/A","N/A","Permanente"]
[66,"FAUNA","Estudio ecológico de sitios de reubicación y ahuyentamiento",null,"Presentar un estudio ecológico de los sitios de reubicación y ahuyentamiento de fauna, en el primer Informe de Cumplimiento Ambiental - ICA de la fase constructiva para que sea objeto de análisis y aprobación, el cual incluya:\n\ni) Oferta de hábitat.\nii) Tipo de cobertura vegetal.\niii) Rutas de fuga, corredores biológicos, área y accesibilidad.\niv) Análisis de la capacidad de carga de los ecosistemas que recibirán las especies de fauna. Se podrán emplear especies focales a partir de los impactos generados por el proyecto. \nv) Plan de seguimiento y monitoreo que incluya acciones e indicadores que permitan corroborar la efectividad y pertinencia a nivel de individuos reubicados, poblaciones y hábitat.\nvi) Dichas áreas deberán encontrarse dentro del área de influencia del proyecto, en caso de que no sea posible, justificar las razones de la selección en sitios fuera de la misma.","N/A","Aplica","N/A","N/A","Temporal"]
[67,"FAUNA","Ahuyentamiento, rescate y/o reubicación de fauna silvestre",null,"Realizar actividades de ahuyentamiento, rescate y/o reubicación de los diferentes individuos de especies de fauna silvestre presentes en áreas intervenidas por el proyecto. Documentar la localización de los sitios de reubicación de fauna y actividades ejecutadas en cada Informe de Cumplimiento Ambiental - ICA, haciendo uso del modelo de almacenamiento geográfico establecido en la Resolución 2182 de 2016 del MADS, o aquella norma que la modifique o sustituya,  ","N/A","Aplica","N/A","N/A","Permanente"]
[68,"FAUNA","Seguimiento a la fauna en áreas de compensación\n\nNota: Imponer en caso de que el proyecto cuente con plan de compensación, que no haya incluido dentro del mismo el seguimiento a los grupos de fauna presentes en el área a compensar y que tengan correlación con las acciones de compensación.",null,"Realizar seguimiento a los grupos de fauna, con la periodicidad aprobada por esta Autoridad para el seguimiento y monitoreo descrito en el plan de compensación del medio biótico, en áreas en donde se adelanten actividades aprobadas en dicho plan, en cuanto a la composición, abundancia y estructura de los diferentes grupos taxonómicos, a partir de la implementación de metodologías y variables presentadas en el Estudio de Impacto Ambiental, considerando como mínimo las siguientes condiciones:\n\na) Establecer una red de monitoreo para los diferentes grupos taxonómicos referenciados en el EIA.\nb) Realizar análisis multitemporales y espaciales.\nc) Identificar posibles corredores de movilidad.\nd) Identificar posibles conflictos con las comunidades aledañas.\ne) Evaluar la pertinencia de complementar y/o modificar las medidas de manejo establecidas.\n\nReportar los resultados en los respectivos Informes de Cumplimiento Ambiental - ICA.","N/A","Aplica","Aplica","N/A","Permanente"]
[69,"FAUNA","Caracterización de fauna\n\nNota: Imponer en caso de que el impacto en la fauna silvestre sea significativo y el profesional evaluador considere su aplicabilidad de acuerdo con impactos adicionales relacionados con la conectividad,  fragmentación de hábitat, entre otros. ",null,"Realizar seguimiento a los grupos de fauna del área de influencia del proyecto, con una frecuencia (definir la frecuencia de acuerdo con el criterio de los evaluadores para el proyecto), respecto a composición, abundancia y estructura de los diferentes grupos taxonómicos, a partir de las metodologías y variables presentadas en el Estudio de Impacto Ambiental EIA, considerando como mínimo las siguientes condiciones:\n\na) Establecer una red de monitoreo para los diferentes grupos taxonómicos referenciados en el EIA.\nb) Realizar análisis multitemporales y espaciales.\nc) Identificar posibles corredores de movilidad.\nd) Identificar posibles conflictos con las comunidades aledañas.\ne) Evaluar la pertinencia de complementar y/o modificar las medidas de manejo establecidas.\n\nReportar los resultados en los respectivos Informes de Cumplimiento Ambiental - ICA.","N/A","Aplica","N/A","N/A","Permanente"]
[70,"FAUNA","\nPresentación de sistema de pasos de fauna\n\nNota: Aplica para proyectos que requieran la construcción o adecuación de vías para su ejecución",null,"Incorporar en el Plan de Manejo Ambiental un sistema de pasos de fauna como una de las medidas de mitigación a los impactos de atropellamiento, mortalidad de fauna y efecto barrera para la dispersión, o su equivalente de acuerdo con el ejercicio de jerarquización de impactos ambientales. El sistema de pasos de fauna deberá ser objeto de diseño, construcción y mantenimiento con base en los análisis de conectividad funcional, las obras de drenaje adaptadas a la movilidad de las especies, estructuras disuasivas y de encauzamiento, y la cobertura vegetal existente asociada o por restaurar, y demás criterios contemplados en los lineamientos de Infraestructura Verde Vial para Colombia (MADS, FCDS & WWF, 2020), el documento \"Atropellamiento de fauna silvestre en Colombia. Guía para entender y diagnosticar este impacto\" (Jaramillo-Fayad et al. 2021) y otras fuentes que sirvan de orientación para el diseño de este tipo de estructuras. Dicha información, deberá ser presentada en el primer Informe de Cumplimiento Ambiental - ICA de la fase constructiva.\n\nParágrafo: Para las vías existentes que se encuentren dentro del área de influencia del proyecto y que vayan a ser empleadas por el proyecto, se deberá tener en cuenta para el diseño del sistema de pasos de fauna un análisis de puntos calientes - hotspot, para determinar la susceptibilidad frente a los impacto de atropellamiento, mortalidad de fauna y efecto barrera para la dispersión, o su equivalente de acuerdo con el ejercicio de jerarquización de impactos ambientales.","N/A","Aplica","N/A","N/A","Temporal"]
[71,"FAUNA","Seguimiento a pasos de fauna\n\nNota 1: Aplica para proyectos que requieran la construcción o adecuación de vías para su ejecución.\n\nNota 2: La frecuencia del seguimiento al sistema de pasos de fauna se evaluará con base en el diseño del sistema de pasos de fauna presentado en el primer ICA de la fase constructiva. ",null,"Realizar un seguimiento sistemático, estandarizado, representativo y adaptativo al cumplimiento y efectividad del sistema de pasos de fauna como medida de mitigación frente a los impactos de atropellamiento, mortalidad de fauna y efecto barrera para la dispersión, o su equivalente de acuerdo con el ejercicio de jerarquización de impactos ambientales, teniendo en cuenta los lineamientos de Infraestructura Verde Vial para Colombia (MADS, FCDS & WWF, 2020) y otras fuentes que sirvan de orientación para el monitoreo. Documentar las actividades de monitoreo en cada Informe de Cumplimiento Ambiental - ICA, haciendo uso del modelo de almacenamiento geográfico establecido en la Resolución 2182 de 2016 del MADS, o aquella norma que la modifique o sustituya.\n\nParágrafo: La efectividad de la medida se evaluará en función de dos aspectos, el primero relacionado directamente con el uso o no uso de los pasos de fauna y el segundo con la disminución en el atropellamiento o mortalidad de fauna sobre la vía, con el propósito de identificar la pertinencia de complementar y/o modificar la medida de manejo establecida.","N/A","Aplica","N/A","N/A","Permanente"]
[72,"VEDAS","Rescate y sobrevivencia de especies vasculares en veda\n\nNota 1: Seleccionar de los instrumentos de “Porcentaje de rescate y sobrevivencia de bromelias según estado de conservación” y \"Porcentaje de rescate y sobrevivencia de orquídeas según estado de conservación” adoptados en GESPRO, los porcentajes para cada una de las especies registradas en el proyecto.\n\nNota 2: En los casos en que la especie no se encuentre listada en el instrumento, se deberá imponer un porcentaje de rescate del 100% y de sobrevivencia entre el 70 y 80%.",null,"Rescatar las especies vasculares en veda nacional bajo la Resolución 0213 de 1977 del INDERENA (orquídeas y bromelias) y garantizar un rescate y sobrevivencia porcentual por especie de conformidad con lo establecido en la siguiente tabla. Dichos porcentajes responden a características intrínsecas de cada especie (botánicas, fisiológicas, ecológicas, de distribución, grado de amenaza, endemismo y/o usos locales).\n\n[Incluir tabla de porcentajes por especies]\n\nEn los casos cuya determinación se haya realizado a nivel de familia, género o “confertus” y “affín”, se debe rescatar el 100% de los individuos, aplicando el principio de precaución, dadas las condiciones de riqueza, endemismo y amenaza de estos grupos taxonómicos en el país y el desconoccimiento de la identidad taxonómica de la especie registrada en el proyecto; por lo tanto, el porcentaje de sobrevivencia será diferencial, dado que depende principalmente de la capacidad de adaptación del género específico y de los requerimientos de hábitat puntuales, se debe garantizar una sobrevivencia del [establecer el porcentaje, entre el 70% y 80%].","N/A","Aplica","N/A","N/A","Permanente"]
[73,"VEDAS","Seguimiento al rescate de especies vasculares en veda",null,"Reportar en los respectivos Informes de Cumplimiento Ambiental - ICA, las actividades de seguimiento de especies vasculares rescatadas bajo el “Modelo base de datos de rescate de especies vasculares en veda nacional y preferencia de forofitos”, disponible en el sitio web: https://www.anla.gov.co/01_anla/proyectos/nuevo-licenciamiento-ambiental/elaboracion-ica-y-control-y-seguimiento","N/A","Aplica","N/A","N/A","Permanente"]
[74,"VEDAS","Seguimiento, monitoreo y mantenimiento de especies vasculares en veda",null,"Reportar en los respectivos Informes de Cumplimiento Ambiental - ICA, las actividades de seguimiento de especies vasculares trasladadas y reubicadas bajo la \"Modelo base de datos consolidada de seguimiento, monitoreo y mantenimiento de especies vasculares trasladadas y reubicadas”, disponible en el sitio web: https://www.anla.gov.co/01_anla/proyectos/nuevo-licenciamiento-ambiental/elaboracion-ica-y-control-y-seguimiento","N/A","Aplica","N/A","N/A","Permanente"]
[75,"VEDAS","Cálculo del área de retribución por afectación a especies no vasculares y líquenes en veda y sus criterios de evaluación",null,"Realizar el cálculo del área de retribución por afectación a especies no vasculares y líquenes en veda bajo el instrumento de “Cálculo del área de retribución por afectación a especies no vasculares y líquenes en veda y sus criterios de evaluación”, disponible en el sitio web: https://www.anla.gov.co/01_anla/proyectos/nuevo-licenciamiento-ambiental/elaboracion-ica-y-control-y-seguimiento Reportar dicha información en el respectivo Informe de Cumplimiento Ambiental - ICA para evaluación y aprobación de esta autoridad.","N/A","Aplica","N/A","N/A","Permanente"]
[76,"CONSTRUCCIÓN Y/O ADECUACIÓN DE VÍAS DE APOYO AL PROYECTO","Gestión de autorizaciones y/o permisos para realizar las obras de construcción y/o adecuación de vías",null,"Anexar, previo al inicio de la fase constructiva del proyecto mediante oficio radicado a esta Autoridad, las autorizaciones y/o permisos necesarios para realizar las obras de construcción y/o adecuación de las vías que servirán de apoyo al proyecto.","Aplica","N/A","N/A","N/A","Temporal"]
[77,"CONSTRUCCIÓN Y/O ADECUACIÓN DE VÍAS DE APOYO AL PROYECTO","Reporte de las actividades de  mantenimiento, rehabilitación y/o mejoramiento",null,"Remitir en los Informes de Cumplimiento Ambiental - ICA, un informe en el que se especifique y reporten las actividades de construcción y/o adecuación realizadas sobre las vías que servirán de apoyo al proyecto, y sus zonas aledañas incluidas en el derecho de vía - DDV, para cada periodo reportado, incluyendo los soportes técnicos y registros fílmicos y/o fotográficos en los que se evidencie fecha y coordenadas. ","N/A","Aplica","N/A","N/A","Permanente"]
[78,"CONSTRUCCIÓN Y/O ADECUACIÓN DE VÍAS DE APOYO AL PROYECTO","Informe del estado de las vías de apoyo al proyecto, al finalizar la fase constructiva del proyecto",null,"Al finalizar la fase constructiva del proyecto, presentar en el respectivo Informe de Cumplimiento Ambiental - ICA, un informe que incluya el estado final de las vías que sirvieron de apoyo al proyecto, y sus zonas aledañas incluidas en el derecho de vía - DDV, garantizando que las mismas sean entregadas en iguales o mejores condiciones. Incluir en dicho informe un registro fílmico y/o fotográfico en el que se evidencie fecha y coordenadas. ","N/A","Aplica","N/A","N/A","Temporal"]
[79,"CONSTRUCCIÓN DE TÚNELES LICENCIADOS","Validación de las condiciones geológicas y/o geotécnicas en los  frentes de avance subterráneo\n\nNota: Para túneles de longitud menor a 500 m.",null,"Implementar acciones de tipo exploratorio como mínimo cada 20% de avance longitudinal en los frentes de excavación subterránea, con el fin de validar la condición (litológica- estructural) geológica y geotécnica del macizo objeto  de intervención. Reportar los resultados en cada porcentaje de avance a la ANLA a través del correo electrónico licencias@anla.gov.co.","N/A","Aplica","N/A","N/A","Permanente"]
[80,"CONSTRUCCIÓN DE TÚNELES LICENCIADOS","Validación de las condiciones geológicas y/o geotécnicas en los  frentes de avance subterráneo\n\nNota: Para túneles de longitud  entre  500 m  a 1.000 m.",null,"Implementar acciones de tipo exploratorio como mínimo cada 10 % de avance longitudinal en los frentes de excavación subterránea, con el fin de validar  la condición (litológica- estructural) geológica y geotécnica del macizo objeto  de intervención. Reportar los resultados en cada porcentaje de avance a la ANLA a través del correo electrónico licencias@anla.gov.co.","N/A","Aplica","N/A","N/A","Permanente"]
[81,"CONSTRUCCIÓN DE TÚNELES LICENCIADOS","Validación de las condiciones geológicas y/o geotécnicas en los  frentes de avance subterráneo\n\nNota: Para túneles de longitud  mayor de 1.000 m.",null,"Implementar acciones de tipo exploratorio como mínimo cada 5% de avance longitudinal en los frentes de excavación subterránea, con el fin de validar  la condición  (litológica- estructural) geológica y geotécnica del macizo objeto  de intervención. Reportar los resultados en cada porcentaje de avance a la ANLA a través del correo electrónico licencias@anla.gov.co.","N/A","Aplica","N/A","N/A","Permanente"]
[82,"CONSTRUCCIÓN DE TÚNELES LICENCIADOS","Revisión de la efectividad  de las medidas de estabilidad geológica- geotécnica en los frentes de avance subterráneo\n\nNota: Para túneles de longitud menor a 500 m.   ",null,"Verificar la condición tenso-deformacional en las unidades geológicas – geotécnicas identificadas en el frente de excavación, mínimo cada 20 % de avance longitudinal, con el fin de validar la efectividad de las medidas de estabilidad  propuestas que garanticen  la mitigación  del impacto sobre  el medio litosférico (macizo rocoso objeto de intervención). Reportar los resultados en cada porcentaje de avance a la ANLA a través del correo electrónico licencias@anla.gov.co.","N/A","Aplica","N/A","N/A","Permanente"]
[83,"CONSTRUCCIÓN DE TÚNELES LICENCIADOS","Revisión de la efectividad  de las medidas de estabilidad geológica- geotécnica en los frentes de avance subterráneo\n\nNota: Para túneles de longitud entre  500 m a 1.000 m.   ",null,"Verificar la condición tenso-deformacional en las unidades geológicas – geotécnicas identificadas en el frente de excavación, mínimo cada 10 % de avance longitudinal, con el fin validar la efectividad de las medidas de estabilidad  propuestas que garanticen  la mitigación  del impacto sobre  el medio litosférico (macizo rocoso objeto de intervención). Reportar los resultados en cada porcentaje de avance a la ANLA a través del correo electrónico licencias@anla.gov.co.","N/A","Aplica","N/A","N/A","Permanente"]
[84,"CONSTRUCCIÓN DE TÚNELES LICENCIADOS","Revisión de la efectividad  de las medidas de estabilidad geológica- geotécnica en los frentes de avance subterráneo\n\nNota: Para túneles de longitud mayor de 1.000 m.",null,"Verificar la condición tenso-deformacional en las unidades geológicas – geotécnicas identificadas en el frente de excavación, mínimo cada 5 % de avance longitudinal, con el fin de validar la efectividad de las medidas de estabilidad  propuestas que garanticen  la mitigación  del impacto sobre  el medio litosférico (macizo rocoso objeto de intervención). Reportar los resultados cada porcentaje de avance a la ANLA a través del correo electrónico licencias@anla.gov.co.","N/A","Aplica","N/A","N/A","Permanente"]
[85,"CONSTRUCCIÓN DE TÚNELES LICENCIADOS","Revisión de la efectividad  de las medidas de estabilidad geotécnica en los portales de entrada y salida   ",null,"Analizar la condición de estabilidad geotécnica del talud (estática y pseudoestática) teniendo como referente el  estado de esfuerzos efectivos en  la ladera y  los procesos de  deformación (desplazamientos verticales u horizontales) presentes durante la  conformación de los portales de entrada y salida al 20%, 40% , 60%, 80% y 100%  de avance constructivo, con el fin de validar la efectividad de las medidas de estabilidad  propuestas que garanticen  la mitigación  del impacto sobre  el medio litosférico (Ladera).  Reportar los resultados en cada porcentaje de avance a la ANLA a través del correo electrónico licencias@anla.gov.co.","N/A","Aplica","N/A","N/A","Permanente"]
[86,"CONSTRUCCIÓN DE TÚNELES LICENCIADOS","Seguimiento a  los variaciones  en el nivel piezométrico dentro el área de influencia del túnel definida a partir del modelo hidrogeológico numérico\n\nNota: De acuerdo a las características y la complejidad del túnel, se podrán requerir monitoreos con una frecuencia más restrictiva.",null,"Realizar monitoreos semanales a las variaciones  del nivel piezométrico presente en el sistema acuífero en el área de influencia del túnel definida a partir del modelo hidrogeológico numérico, en los diferentes puntos de interés hidrogeológico asociados a la red piezométrica autorizada en la licencia ambiental. Reportar los resultados mensualmente a la ANLA a través del correo electrónico licencias@anla.gov.co donde se debe incluir el análisis  de las variaciones acumuladas durante la construcción y los posibles impactos en el medio hidrosférico (superficial, subsuperficial y subterráneo).","N/A","Aplica","N/A","N/A","Permanente"]
[87,"CONSTRUCCIÓN DE TÚNELES LICENCIADOS","Seguimiento  y control a los caudales de infiltración en los frentes de excavación",null,"Realizar mediciones de los caudales de infiltración por cada 10 m de avance de excavación, y reportar las medidas de control  de infiltraciones  implementadas de acuerdo al caudal identificado en el frente de obra. La suma de los caudales cada 10 m no debe superar el caudal total estimado en el modelo hidrogeológico numérico del túnel. En caso de superar el caudal total proyectado en el modelo numérico, suspender las obras  y reportar a la ANLA para establecer los posibles impactos adicionales y las medidas de manejo correspondientes. Reportar los resultados mensualmente  a la ANLA a través del correo electrónico licencias@anla.gov.co.","N/A","Aplica","N/A","N/A","Permanente"]
[88,"CONSTRUCCIÓN DE TÚNELES LICENCIADOS","Seguimiento  y control a los caudales de fuentes hídricas superficiales localizadas dentro el área de influencia del túnel definida a partir del modelo hidrogeológico numérico",null,"Realizar monitoreos semanales a las variaciones  en los caudales de las fuentes hídricas localizadas dentro del  área de influencia del túnel definida a partir del modelo hidrogeológico numérico, teniendo en cuenta usos y usuarios. Reportar los resultados mensualmente  a la ANLA a través del correo electrónico licencias@anla.gov.co donde se debe incluir el análisis  de las variaciones acumuladas durante la construcción, los posibles impactos en el medio hidrosférico y  la implementación de las medidas de manejo ambiental correspondientes.","N/A","Aplica","N/A","N/A","Permanente"]
[89,"CONSTRUCCIÓN DE TÚNELES LICENCIADOS","Seguimiento a la condición de la infraestructura por efecto de uso de explosivos  durante la excavación del túnel",null,"Presentar las actas de seguimiento realizadas durante la etapa constructiva y comparar dicha información con las actas de vecindad levantadas antes del inicio de la construcción, con el fin de evidenciar las posibles afectaciones a la infraestructura (vial, de servicios públicos, viviendas, entre otros) por efecto de las detonaciones durante la excavación del túnel. Presentar los resultados en los respectivos Informes de Cumplimiento Ambiental - ICA.","N/A","Aplica","N/A","N/A","Temporal"]
[90,"CONSTRUCCIÓN DE TÚNELES LICENCIADOS","Seguimiento a la condición del medio natural por efecto de uso de explosivos  durante la excavación del túnel",null,"Presentar un reporte que incluya las posibles afectaciones al medio natural (nacederos, coberturas, fauna, laderas, entre otros) por efecto de las detonaciones durante la excavación del túnel. Presentar los resultados en los respectivos Informes de Cumplimiento Ambiental - ICA.","N/A","Aplica","N/A","N/A","Temporal"]
[91,"CONSTRUCCIÓN DE TÚNELES LICENCIADOS","Seguimiento  y control al manejo, tratamiento y disposición final de los vertimientos de ARnD generados  en los frentes de excavación",null,"Implementar una red de conducción provisional que permita el transporte eficiente en tramos extensos de las ARnD generadas de los frentes de obra del túnel, de igual manera, instalar un sistema de tratamiento que garantice los estándares normativos  en el efluente tratado para luego ser dispuesto hacia un cuerpo hídrico receptor o en un campo de infiltración, permiso que deberá ser previamente autorizado por esta Autoridad.","N/A","Aplica","N/A","N/A","Temporal"]
[92,"CONSTRUCCIÓN DE TÚNELES LICENCIADOS","Actualización y validación  del modelo hidrogeológico del túnel\n\nNota: Para túneles de longitud menor a 500 m.",null,"Realizar la actualización del modelo hidrogeológico conceptual y matemático del túnel presentado en el EIA, como mínimo cada 20% de avance longitudinal en los frentes de excavación subterránea para túneles de longitud menor a 500 m, a través de la revisión y análisis de los posibles cambios que se pueden evidenciar durante la etapa constructiva con relación a las variables geológicas, hidrológicas e hidráulicas que conforman el sistema acuífero objeto de intervención del túnel, los cuales  aportan como datos de entrada al modelo hidrogeológico tanto a nivel conceptual como matemático: Aspecto geológico: variación en la información de unidades geológicas, fallas y datos estructurales; Aspecto hidrológico y climatológico: variación en la información del régimen hidrológico de las fuentes hídricas (lóticas , lénticas), variación en variables climatológicas de la zona  y por ende el  balance hidroclimático de la zona de estudio, variación en la condición de recarga, tránsito y descarga dentro del sistema hídrico y variación en la demanda del recurso hídrico dentro del área de influencia del túnel; y Aspecto hidráulico: variación en las condiciones piezométricas del sistema hídrico y variaciones en las condiciones hidráulicas en el medio litosférico (condiciones de permeabilidad, almacenamiento y transmisividad).\n\nRemitir a la ANLA el resultado del proceso de actualización, e incluir una revisión detallada de cada uno de los impactos presentados inicialmente en el EIA vs la condición actual, la revisión de la efectividad de las medidas de manejo ambiental, seguimiento y monitoreo y sus ajustes (si aplican) en protección del medio litoférico, hidrosférico y socioeconómico objeto de impacto por efecto de las obras subterráneas. Reportar los resultados conforme al porcentaje de avance del túnel a la ANLA a través del correo electrónico licencias@anla.gov.co e incluir el análisis de las variaciones acumuladas durante la construcción y los posibles impactos en el medio hidrosférico (superficial, subsuperficial y subterráneo). ","N/A","Aplica","N/A","N/A","Permanente"]
[93,"CONSTRUCCIÓN DE TÚNELES LICENCIADOS","Actualización y validación  del modelo hidrogeológico del túnel\n\nNota: Para túneles de longitud entre 500 y 1.000 m.",null,"Realizar la actualización del modelo hidrogeológico conceptual y matemático del túnel presentado en el EIA, como mínimo cada 10% de avance longitudinal en los frentes de excavación subterránea para túneles de longitud entre 500 m y 1.000 m, a través de la revisión y análisis de los posibles cambios que se pueden evidenciar durante la etapa constructiva con relación a las variables geológicas, hidrológicas e hidráulicas que conforman el sistema acuífero objeto de intervención del túnel, los cuales  aportan como datos de entrada al modelo hidrogeológico tanto a nivel conceptual como matemático: Aspecto geológico: variación en la información de unidades geológicas, fallas y datos estructurales; Aspecto hidrológico y climatológico: variación en la información del régimen hidrológico de las fuentes hídricas (lóticas , lénticas), variación en variables climatológicas de la zona  y por ende el  balance hidroclimático de la zona de estudio, variación en la condición de recarga, tránsito y descarga dentro del sistema hídrico y variación en la demanda del recurso hídrico dentro del área de influencia del túnel; y Aspecto hidráulico: variación en las condiciones piezométricas del sistema hídrico y variaciones en las condiciones hidráulicas en el medio litosférico (Condiciones de Permeabilidad, almacenamiento y transmisividad).\n\nRemitir a la ANLA el resultado del proceso de actualización, e incluir una revisión detallada de cada uno de los impactos presentados inicialmente en el EIA vs la condición actual, la revisión de la efectividad de las medidas de manejo ambiental, seguimiento y monitoreo y sus ajustes (si aplican) en protección del medio litoférico, hidrosférico y socioeconómico  objeto de impacto por efecto de las obras subterráneas. Reportar los resultados conforme al porcentaje de avance del túnel a la ANLA a través del correo electrónico licencias@anla.gov.co e incluir el análisis de las variaciones acumuladas durante la construcción y los posibles impactos en el medio hidrosférico (superficial, subsuperficial y subterráneo). ","N/A","Aplica","N/A","N/A","Permanente"]
[94,"CONSTRUCCIÓN DE TÚNELES LICENCIADOS","Actualización y validación  del modelo hidrogeológico del túnel\n\nNota: Para túneles de longitud mayor a 1.000 m.",null,"Realizar la actualización del modelo hidrogeológico conceptual y matemático del túnel presentado en el EIA, como mínimo cada 5% de avance longitudinal en los frentes de excavación subterránea para túneles de longitud mayor a 1.000 m, a través de la revisión y análisis de los posibles cambios que se pueden evidenciar durante la etapa constructiva con relación a las variables geológicas, hidrológicas e hidráulicas que conforman el sistema acuífero objeto de intervención del túnel, los cuales  aportan como datos de entrada al modelo hidrogeológico tanto a nivel conceptual como matemático: Aspecto geológico: variación en la información de unidades geológicas, fallas y datos estructurales; Aspecto hidrológico y climatológico: variación en la información del régimen hidrológico de las fuentes hídricas (lóticas , lénticas), variación en variables climatológicas de la zona  y por ende el  balance hidroclimático de la zona de estudio, variación en la condición de recarga, tránsito y descarga dentro del sistema hídrico y variación en la demanda del recurso hídrico dentro del área de influencia del túnel; y Aspecto hidráulico: variación en las condiciones piezométricas del sistema hídrico y variaciones en las condiciones hidráulicas en el medio litosférico (Condiciones de Permeabilidad, almacenamiento y transmisividad).\n\nRemitir a la ANLA el resultado del proceso de actualización, e incluir una revisión detallada de cada uno de los impactos presentados inicialmente en el EIA vs la condición actual, la revisión de la efectividad de las medidas de manejo ambiental, seguimiento y monitoreo y sus ajustes (si aplican) en protección del medio litoférico, hidrosférico y socioeconómico  objeto de impacto por efecto de las obras subterráneas. Reportar los resultados conforme al porcentaje de avance del túnel a la ANLA a través del correo electrónico licencias@anla.gov.co e incluir el análisis de las variaciones acumuladas durante la construcción y los posibles impactos en el medio hidrosférico (superficial, subsuperficial y subterráneo). ","N/A","Aplica","N/A","N/A","Permanente"]
[95,"MATERIALES DE CONSTRUCCIÓN","Adquisición de materiales de construcción a través de terceros",null,"Para el desarrollo de las actividades del proyecto, realizar la adquisición de materiales de construcción con terceros que cuenten con los correspondientes permisos o autorizaciones ante la autoridad minera y ambiental competente, y reportar en los respectivos Informes de Cumplimiento Ambiental - ICA lo siguiente:\n\na)  Copias de los títulos mineros y licencias y/o permisos ambientales vigentes para el periodo reportado de las empresas proveedoras de materiales de construcción utilizados durante el periodo. En caso de cambio de proveedores diferentes a los reportados en el EIA y/o modificación o renovación de las licencias y/o permisos ambientales de las empresas proveedoras, presentar los soportes correspondientes.\nb) Las certificaciones/facturas de compra de material en las que se discrimine la fuente u origen, tipo de material, cantidad adquirida (expresada en unidades de volumen o masa) y fecha o periodo de compra.\nc) Reporte en el que se evidencie el uso/destino del material, discriminando las cantidades (unidades de volumen o masa).","N/A","Aplica","N/A","N/A","Permanente"]
[96,"ALMACENAMIENTO DE COMBUSTIBLES Y PRODUCTOS QUÍMICOS","Características de los sitios de almacenamiento y manejo de combustible y productos químicos",null,"Instalar en los sitios donde se almacene, manipule y/o utilice crudo, aceites, combustibles, productos químicos, residuos aceitosos u otro material potencialmente contaminante, los elementos y/o la infraestructura necesaria que garantice la contención en caso de derrames y la no contaminación del suelo, de acuerdo al Título 6, Parte 2, Libro 2 del Decreto 1076 de 2015 y demás normativa vigente en la materia, tales como:\n\na) Diques de contención con base y muros impermeabilizados que permitan contener como mínimo el 110% del volumen almacenado.\nb) Sistema de cunetas perimetrales, que descolen en cajas de inspección o tanques ciegos para su contención, recolección y posterior tratamiento como residuo peligroso.\nc) Condiciones óptimas o sistemas que permitan la ventilación e iluminación.\nd) Sistemas de prevención y control de incendios.\ne) Kit antiderrames.\nf) Señalización.\ng) Hojas de seguridad de los productos químicos almacenados con la matriz de compatibilidad.","N/A","Aplica","N/A","N/A","Permanente"]
[97,"ALMACENAMIENTO DE MATERIALES DE CONSTRUCCIÓN","Características de los sitios de almacenamiento de materiales de construcción",null,"El almacenamiento de materiales de construcción cumplirá con las siguientes condiciones:\n\na) Ubicarse en áreas aptas de acuerdo con la zonificación de manejo ambiental establecida para el proyecto.\nb) Ubicarse en una zona libre, plana en lo posible y de fácil acceso.\nc) Realizar el descapote del área previo al almacenamiento del material.\nd) Implementar medidas de retención de sedimentos en la zona de acopio, que garanticen la no afectación de los cuerpos hídricos cercanos.\ne) Todo material de construcción acopiado a cielo abierto dentro de los frentes de obra y que no pueda ser utilizado durante la jornada laboral, será cubierto y señalizado.","N/A","Aplica","N/A","N/A","Permanente"]
[98,"AGUAS DE ESCORRENTÍA","Manejo de aguas de escorrentía superficial\n\nNota: El literal c) aplica cuando se presenten condiciones de alta pendiente. Incluir o no de acuerdo con criterio del profesional, teniendo en cuenta las caracteríasticas del proyecto.",null,"Implementar sistemas de control y manejo de escorrentía dando cumplimiento a lo siguiente:\n\na) Contar con una pendiente que favorezca su conducción a los sistemas de control y manejo de escorrentía, de tal forma que la escorrentía fluya libremente hacia ellas.\nb) De acuerdo con las características de pendiente y tipo de sistemas de control y manejo, debera contar con disipadores de energía o cualquier otro sistema, que garantice que el agua lluvia llegue a una baja velocidad, evitando la generación de erosión en los terrenos contiguos.\nc) El agua lluvia recogida a través de dicho sistema deberá pasar por un sistema de remoción de sólidos antes de ser entregada al medio natural y podrá contar con tratamientos adicionales, dependiendo de las características del medio por el cual se transporte.\nd) Presentar los soportes de la construcción de estos sistemas y del mantenimiento rutinario a través de los respectivos Informes de Cumplimiento Ambiental - ICA.","N/A","Aplica","N/A","N/A","Permanente"]
[99,"COMPRA DE AGUA","Compra de agua a terceros autorizados",null,"Desarrollar la actividad de compra de agua (uso industrial y/o consumo humano) con terceros debidamente autorizados, y presentar en los Informes de Cumplimiento Ambiental - ICA:\n\na) Copia de los permisos y/o autorizaciones ambientales vigentes de los proveedores de agua.\nb) Documento que soporte el tipo de uso del agua suministrada por el proveedor, el cual debe estar expedido por la autoridad ambiental competente.\nc) Facturas de compra del agua y/o copia de contratos de suministro de agua, que incluyan como mínimo: nombre y NIT del tercero, volúmenes de agua suministrados (uso industrial y/o consumo humano) y fecha/ periodo de compra, por cada periodo reportado.\nd) Actividades en las que fue empleada el agua en el proyecto, según el periodo reportado.","N/A","Aplica","N/A","N/A","Permanente"]
[100,"ENTREGA DE AGUAS RESIDUALES A TERCEROS","Entrega de agua residual doméstica y no domésticas a gestor externo autorizado",null,"Realizar la entrega de agua residual doméstica y no doméstica (no incluye las de producción) a un gestor externo autorizado, y presentar en los respectivos Informes de Cumplimiento Ambiental - ICA:\n\na) Certificados de recolección y transporte emitido por la empresa respectiva, que indiquen: nombre de empresa que recolectó y transportó las aguas residuales, fechas de entrega, volúmenes de entrega, tipo de agua residual, sitio de recolección y destino de las aguas. \nb) Actas de recibo, tratamiento y disposición final de las aguas residuales, que incluya: empresa que entrega, fecha, volumen, origen y tipo de agua residual.\nc) Copia de los permisos y/o licencias vigentes de las respectivas empresas que prestarán el servicio de recolección, transporte y disposición final de las aguas residuales.","N/A","Aplica","N/A","N/A","Permanente"]
[101,"RECIRCULACIÓN DE AGUA RESIDUAL","Recirculación de agua residual\nNota 1: Se aclara que para el agua residual con uso industrial, la Resolución 1256 del 2021 no establece criterios de calidad desde el punto de vista ambiental. No obstante, teniendo en cuenta lo dispuesto en el parágrafo 3 del artículo 5, esta Autoridad podrá requerir el monitoreo de los parámetros que se consideren, con el fin de hacer seguimiento a la tendencia de la calidad del agua que es objeto de recirculación y su posible afectación a los diferentes recursos naturales. Por tal razón, se solicitan parámetros básicos para monitorear cuando se haga uso del agua residual para riego en vías y/o jardines, a través del literal b).\nNota 2: En caso de que el proyecto manifieste para el agua residual con uso industrial un uso diferente al riego en vías y/o jardines, eliminar el literal b) y c) o solicitar bajo criterio técnico y conocimiento del origen de las aguas residuales objeto de recirculación, los parámetros que se consideren necesarios.",null,"Realizar la recirculación de las aguas residuales generadas en el proyecto, dando cumplimiento a las siguientes condiciones:\n\na) Para el seguimiento y control de la recirculación del agua residual en suelos de soporte de infraestructura por parte de la Autoridad Ambiental, el titular de la licencia ambiental deberá dar cumplimiento a lo dispuesto en el artículo 3 de la Resolución 1256 de 2021 de Minambiente, o aquella que la modifique, derogue o sustituya, y presentar los respectivos soportes en los Informes de Cumplimiento Ambiental - ICA.\nb) Realizar monitoreos cada dos meses del agua residual para uso industrial (específicamente para riego de vías y/o jardines) que será objeto de recirculación, registrando los siguientes parámetros: conductividad, SAAM, grasas y aceites, fenoles totales, hidrocarburos totales, cianuro libre, cloruros, fluoruros, sulfatos, mercurio, sodio, antimonio, cloro total residual y nitratos. La exclusión de uno o más parámetros deberá solicitarse ante esta Autoridad y estar sustentada con el empleo de balances de materia y la caracterización de las aguas residuales. La recirculación de agua residual con uso industrial para el uso mencionado, no se podrá realizar en áreas pavimentadas o dentro de la ronda de protección a cuerpos de agua.\nc) Presentar en los respectivos Informes de Cumplimiento Ambiental - ICA los reportes de laboratorio, las cadenas de custodia y el análisis de la tendencia de los resultados.\nd) Presentar el reporte mensual de las cantidades de agua que son objeto de recirculación, discriminando el origen y uso dado, en los Informes de Cumplimiento Ambiental - ICA.","N/A","Aplica","N/A","N/A","Permanente"]
[102,"REÚSO DE AGUAS RESIDUALES POR PARTE DE USUARIO RECEPTOR","Entrega de agua residual para reúso\n\nNota: Para el agua residual con uso industrial, no aplicaría el literal b) de la presente obligación, toda vez que la Resolución 1256 del 2021 no establece criterios de calidad desde el punto de vista ambiental. Sin embargo, tener en cuenta lo dispuesto en el parágrafo 3 del artículo 5. En ese caso, ajustar dicho literal.",null,"Realizar la entrega de las aguas residuales para reúso de conformidad con lo dispuesto en la Resolución 1256 de 2021 expedida por el MADS o aquella que la modifique, derogue o sustituya, y presentar en los Informes de Cumplimiento Ambiental – ICA:\n\na) Reporte diario de las cantidades de agua residual entregada al usuario receptor.\nb) Reporte de los resultados del monitoreo realizado al agua residual para uso agrícola por parte del usuario receptor, de acuerdo con lo establecido en el artículo 5 de la Resolución 1256 de 2021. La exclusión de uno o más parámetros deberá solicitarse ante esta Autoridad y estar sustentada con el empleo de balances de materia y la caracterización de las aguas residuales, la cual debe ser efectuada por el usuario receptor. \nc) Soportes en los que se evidencie el uso del agua por parte del usuario receptor.\nd) Concesión de aguas por parte del usuario receptor. Cuando la concesión de aguas del usuario receptor se haya vencido o la licencia ambiental se haya modificado en términos de este permiso (cuando este incluya la concesión de aguas), el titular de la licencia ambiental presentará una copia de la renovación del permiso o modificación de licencia ambiental por parte del receptor.","N/A","Aplica","N/A","N/A","Permanente"]
[103,"GESTIÓN INTEGRAL DE AGUAS","Reporte semanal de los volúmenes y caudales de agua residual gestionada según el permiso respectivo o la actividad autorizada",null,"Llevar un registro (base de datos) mensual y acumulado de los volúmenes y caudales de las aguas gestionadas [Espacio para indicar el permiso respectivo: vertimientos, concesión de aguas, y/o la actividad autorizada: compra de agua, reúso, entrega de aguas residuales para reúso, entrega de aguas residuales a terceros], lo cual se soportará mediante un balance de masa, en términos de volumen, que se presentará en cada Informe de Cumplimiento Ambiental - ICA, según el periodo reportado.","N/A","Aplica","N/A","N/A","Permanente"]
[104,"RESIDUOS","Registro de residuos generados, aprovechados, tratados y/o dispuestos (Base de datos)",null,"Llevar un registro (base de datos) mensual acumulada de la cantidad de residuos sólidos convencionales (aprovechables y no aprovechables), residuos peligrosos (sólidos y líquidos), residuos posconsumo y residuos de construcción y demolición (RCD) generados, aprovechados, tratados y/o dispuestos, que indique como mínimo: tipo de residuo, cantidad de residuos generados, cantidad de residuos aprovechados, tratados y/o dispuestos por parte de terceros o del titular de la licencia, tipo de aprovechamiento, tratamiento y disposición. Presentar dicho registro, en los respectivos Informes de Cumplimiento Ambiental - ICA a través del formato \"Plantilla de Seguimiento a la Gestión de Residuos\".","N/A","Aplica","N/A","N/A","Permanente"]
[105,"RESIDUOS","Características de los sitios de almacenamiento temporal de residuos",null,"Contar con sitios de almacenamiento temporal de residuos sólidos convencionales (aprovechables y no aprovechables) y de residuos peligrosos (líquidos y sólidos) en facilidades centrales, en cumplimiento del Decreto 1077 de 2015 (Compila Decreto 2981 de 2013 del Ministerio de Vivienda, Ciudad y Territorio) y del Reglamento Técnico del Sector de Agua Potable y Saneamiento Básico - RAS, los cuales deberán ser independientes y contar con:\n\na) Base impermeabilizada para evitar una posible contaminación del suelo.\nb) Cubierta para evitar el contacto con el agua.\nc) Sistema de diques y cunetas perimetrales para los residuos líquidos.\nd) Condiciones óptimas o sistemas que permitan la ventilación e iluminación.\ne) Sistemas de prevención y control de incendios.\nf) Kit antiderrames (para el almacenamiento de residuos líquidos peligrosos)\ng) Señalización.\nh) Los recipientes empleados para el almacenamiento de los residuos deberán ser identificados por tipo de residuo y permitir su fácil limpieza.","N/A","Aplica","N/A","N/A","Permanente"]
[106,"RESIDUOS","Manejo de residuos sólidos convencionales (aprovechables y no aprovechables) a través de terceros autorizados",null,"Realizar el manejo de residuos sólidos convencionales (aprovechables y no aprovechables) a través de terceros debidamente autorizados para su transporte, almacenamiento, aprovechamiento, tratamiento y/o disposición final, y presentar en los respectivos Informes de Cumplimiento Ambiental – ICA:\n\na) Copia de las autorizaciones, permisos y/o licencias de las respectivas empresas encargadas de la gestión de los residuos.\nb) Actas de entrega para el transporte, almacenamiento, aprovechamiento, tratamiento y/o disposición final, que indiquen: nombre de empresa, fecha de entrega, sitio de entrega, tipo de residuos, cantidad, tratamiento y/o aprovechamiento a implementar (para el caso de residuos aprovechables).\nc) Relacionar los volúmenes generados de residuos tanto aprovechables como no aprovechables en en el registro (base de datos) solicitada por esta Autoridad.","N/A","Aplica","N/A","N/A","Permanente"]
[107,"RESIDUOS","Prohibición de entrega de residuos orgánicos provenientes de alimentos a la comunidad",null,"Los residuos orgánicos provenientes de alimentos no podrán ser entregados a la comunidad para su aprovechamiento.","N/A","Aplica","N/A","N/A","Permanente"]
[108,"RESIDUOS","Manejo de residuos posconsumo",null,"Integrar la gestión de los residuos posconsumo, como: pilas y/o acumuladores, bombillas, llantas usadas, computadores y/o periféricos, baterías plomo ácido, fármacos o medicamentos vencidos, envases y empaques y demás residuos posconsumo considerados por la normativa actual vigente, a las corrientes posconsumo reglamentadas y presentar en los respectivos Informes de Cumplimiento Ambiental – ICA los certificados de entrega de estos residuos al Plan de Gestión de Devolución de Productos Posconsumo y/o al Sistema de Recolección Selectiva y Gestión Ambiental de Residuos aprobados por esta Autoridad, indicando por cada periodo reportado:\n\na) El volumen y/o peso de residuos posconsumo entregados, discriminando tipo de residuo y el manejo que se le otorgará por parte del Plan de Gestión de Devolución de Productos Posconsumo y/o Sistema de Recolección Selectiva y Gestión Ambiental de Residuos a los residuos posconsumo entregados.\nb) Relacionar los volúmenes generados, aprovechados, tratados y/o dispuestos en el registro (base de datos) solicitada por esta Autoridad.","N/A","Aplica","N/A","N/A","Permanente"]
[109,"RESIDUOS","Manejo de residuos peligrosos (líquidos y sólidos) a través de terceros autorizados",null,"Realizar el manejo de residuos peligrosos (líquidos y sólidos) a través de terceros debidamente autorizados para su transporte, almacenamiento, aprovechamiento, tratamiento y/o disposición final, y presentar en los respectivos Informes de Cumplimiento Ambiental – ICA:\n\na) Copia de las autorizaciones, permisos y/o licencias de las respectivas empresas encargadas de la gestión de los residuos.\nb) Actas de entrega para el transporte, almacenamiento, aprovechamiento, tratamiento y/o disposición final, que indiquen: nombre de empresa, fecha de entrega, sitio de entrega, tipo de residuos y cantidad.\nc) Certificados de tratamiento, aprovechamiento y/o disposición final, que indiquen: nombre de empresa que gestionó los residuos, nombre de empresa que entregó los residuos, fechas de recepción y gestión de residuos, tipo de residuo, cantidad, tipo de tratamiento realizado  y/o alternativa de disposición final y sitio donde se gestionó el residuo.\nd) Relacionar los volúmenes generados, aprovechados, tratados y/o dispuestos en el registro (base de datos) solicitada por esta Autoridad.","N/A","Aplica","N/A","N/A","Permanente"]
[110,"RESIDUOS","Registro RESPEL para  cantidad igual o mayor a 10 kg/mes de residuos sólidos peligrosos",null,"Para cantidades iguales o superiores a 10 kg/mes de residuos sólidos peligrosos, dar cumplimiento a lo establecido en la Resolución 1362 del 2007 del Ministerio de Ambiente, Vivienda y Desarrollo Territorial, o aquella que la modifique, derogue o sustituya, por la cual se establecen los requisitos y el procedimiento para el Registro de Generadores de Residuos o Desechos Peligrosos, a que hacen referencia los artículos 2.2.6.1.6.1 y 2.2.6.1.6.2 del Decreto 1076 de 2015. ","N/A","Aplica","N/A","N/A","Permanente"]
[111,"RESIDUOS","Almacenamiento temporal de los residuos peligrosos y especiales",null,"De conformidad con el establecido en el artículo 2.2.6.1.3.1. del Título 6, Parte 2, Libro 2 del Decreto 1076 de 2015 o aquella que la modifique, derogue o sustituya, no se podrá realizar el almacenamiento temporal de residuos peligrosos por más de doce (12) meses; en los casos debidamente sustentados y justificados, se podrá solicitar ante esta autoridad, una extensión de dicho periodo. ","N/A","Aplica","N/A","N/A","Permanente"]
[112,"RESIDUOS","Manejo de residuos hospitalarios y similares",null,"Presentar la gestión de los residuos hospitalarios y similares generados en el proyecto en los Informes de Cumplimiento Ambiental - ICA, dando cumplimiento a las siguientes condiciones:\n\na) Copia de las autorizaciones, permisos y/o licencias de las respectivas empresas encargadas de la gestión de los residuos.\nb) Actas de entrega para el transporte, almacenamiento, aprovechamiento, tratamiento y/o disposición final, que indiquen: nombre de empresa, fecha de entrega, sitio de entrega, tipo de residuos y cantidad.\nc) Certificados de tratamiento, aprovechamiento y/o disposición final, que indiquen: nombre de empresa que gestionó los residuos, nombre de empresa que entregó los residuos, fechas de recepción y gestión de residuos, tipo de residuo, cantidad, tipo de tratamiento realizado  y/o alternativa de disposición final y sitio donde se gestionó el residuo.\nd) Almacenarse de acuerdo al código de colores y las características y condiciones específicas establecidas en el Manual de Procedimientos para la Gestión Integral de Residuos Hospitalarios y Similares, adoptado por la Resolución 1164 de 2002 del Ministerio de Ambiente y Ministerio de Salud, o aquella que la modifique, derogue o sustituya.\ne) Relacionar los volúmenes generados, tratados y/o dispuestos en el registro (base de datos) solicitada por esta Autoridad.","N/A","Aplica","N/A","N/A","Permanente"]
[113,"RESIDUOS","Metas de aprovechamiento (reutilización, tratamiento y reciclaje) de residuos de construcción y demolición - RCD",null,"Dar cumplimiento al parágrafo del artículo 19 de la Resolución 472 de 2017 del Ministerio de Ambiente y Desarrollo Sostenible (modificada por la Resolución 1257 del 2021), o aquella otra que la modifique, derogue o sustituya, en lo relacionado con las metas de aprovechamiento (reutilización, tratamiento y reciclaje) de residuos de construcción y demolición – RCD  para proyectos, obras o actividades sujetos a licenciamiento ambiental, y presentar en los respectivos Informes de Cumplimiento Ambiental - ICA:\n\na) Reporte en el que se indique: porcentaje de material aprovechado, respecto del total utilizado en la obra, tipo de material aprovechado, volumen de material aprovechado, sectores de donde proviene el material, actividades/sectores en los que fue aprovechado, periodo en los que fue realizado.","N/A","Aplica","N/A","N/A","Permanente"]
[114,"RESIDUOS","Disposición final de residuos de construcción y demolición - RCD",null,"Disponer los residuos de construcción y demolición – RCD no susceptibles de aprovechamiento de acuerdo con lo establecido en la Resolución 472 de 2017 del Ministerio de Ambiente y Desarrollo Sostenible (modificada por la Resolución 1257 del 2021), o aquella otra que la modifique o sustituya, en los sitios de disposición final de RCD legalmente autorizados, para lo cual el titular del proyecto entregará en los respectivos Informes de Cumplimiento Ambiental – ICA:\n\na) Copia de las autorizaciones, permisos y/o licencias del sitio de disposición final de RCD.\nb) Actas de entrega, que indiquen: nombre de empresa, fecha de entrega, sitio de entrega, tipo de residuo y cantidad.\nc) Certificados de disposición final, que indiquen: nombre de empresa que gestionó los residuos, nombre de empresa que entregó los residuos, fechas de recepción y gestión de residuos, tipo de residuo, cantidad y sitio donde se gestionó el residuo.\nd) Relacionar los volúmenes de RCD generados, aprovechados, tratados y/o dispuestos por tipo de residuo en el registro (base de datos) solicitada por esta Autoridad.","N/A","Aplica","N/A","N/A","Permanente"]
[115,"ZONAS DE DISPOSICIÓN DE MATERIAL SOBRANTE DE EXCAVACIONES","Manejo de ZODMEs",null,"Dar cumplimiento a las siguientes condiciones relacionadas con el manejo de las ZODMEs:\n\na) Implementar sistemas de manejo de aguas de escorrentía y sistemas de control de sólidos a la salida de los drenajes del depósito, de tal manera que no se vean afectados cuerpos de aguas, estabilidad del relleno y/o los predios vecinos.\nb) No se podrá disponer en las ZODMEs residuos sólidos convencionales y peligrosos, tales como: orgánicos, chatarra, madera, papel, lodos, combustibles, entre otros no autorizados.\nc) Realizar la compactación y cubrimiento del material mientras se realice la disposición del mismo.\nd) Presentar en los Informes de Cumplimiento Ambiental – ICA el avance para el respectivo periodo reportado según el modelo de almacenamiento de datos geográficos establecido en la Resolución 2182 de 2016 expedida por el MADS, o aquella que la modifique o sustituya.\ne) Presentar el origen, volúmenes y tipo de material dispuesto a la fecha de corte de los Informes de Cumplimiento Ambiental – ICA, discriminando el volumen acumulado y dispuesto en el periodo.\nf) Realizar monitoreos [definir la frecuencia, la cual estará en función de la estabilidad del terreno de acuerdo; validar con el estudio geotécnico que presente el proyecto] a través de levantamientos altimétricos y planimétricos de la zona del depósito, a fin de verificar la conformación del relleno. Presentar los resultados de los monitoreos en los Informes de Cumplimiento Ambiental – ICA. \ng) Implementar sistemas de medición de la estabilidad del lleno para identificar oportunamente una posible falla debida al asentamiento generado en el relleno al finalizar la conformación del mismo. Presentar los soportes correspondientes en los Informes de Cumplimiento Ambiental – ICA.\nh) Al finalizar el lleno de la ZODME realizar su revegetalización con especies nativas, o aquella otra actividad pactada con los propietarios de los predios de acuerdo con el uso final que se le vaya a dar al área, cuando estas se encuentren localizadas en predios privados. El titular de la licencia ambiental acreditará documentalmente a la ANLA a través del respecto Informe de Cumplimiento Ambiental - ICA la conformación final de la ZODME.\ni) Luego de la etapa de clausura de la ZODME y mientras el proyecto esté en construcción, continuar con el mantenimiento rutinario de los sistemas de manejo de aguas de escorrentía, sólidos y revegetalización establecidos en la misma, en caso de que esta última aplique. De lo anterior, presentar las actividades adelantadas con registro fotográfico en el respectivo Informe de Cumplimiento Ambiental ICA del periodo reportado.","N/A","Aplica","N/A","N/A","Permanente"]
[116,"DESMANTELAMIENTO Y ABANDONO","Entrega del estudio del que trata el artículo 2.2.2.3.9.2 del Decreto 1076 del 26 de 2015.",null,"Presentar mediante oficio dirigido a la Subdirección de Seguimiento de Licencias Ambientales por lo menos con tres (3) meses de anticipación al inicio del desmantelamiento y abandono del proyecto, el estudio del que trata el artículo 2.2.2.3.9.2 del Decreto 1076 del 2015, o la norma que lo modifique y/o sustituya.","N/A","Aplica","N/A","N/A","Temporal"]
[117,"DESMANTELAMIENTO Y ABANDONO","Desmonte y cierre de instalaciones temporales y retiro de equipos, materiales y escombros",null,"Al finalizar la fase constructiva, realizar el desmonte y cierre de las instalaciones temporales como campamentos, plantas de triturado, concreto, mezcla asfáltica, fuentes de material y demás áreas utilizadas para la construcción del proyecto, así como el retiro de los equipos de construcción, materiales sobrantes y escombros. Documentar y reportar las medidas y acciones implementadas en los Informes de Cumplimiento Ambiental - ICA.","N/A","Aplica","N/A","N/A","Temporal"]
[118,"COMPENSACIONES DEL MEDIO BIÓTICO","No generar impactos adicionales en el desarrollo de las actividades de compensación",null,"En ningún caso las actividades de compensación podrán generar impactos adicionales a los ya identificados por el proyecto; en este sentido, para la implementación de las actividades de compensación no se podrá hacer uso y/o aprovechamiento de recursos naturales adicionales a los ya aprobados para las actividades en el presente acto administrativo.","N/A","Aplica","Aplica","N/A","Permanente"]
[119,"COMPENSACIONES DEL MEDIO BIÓTICO","Inicio de actividades aprobadas de compensación",null,"Dar inicio a las actividades de compensación en un periodo máximo de 6 meses una vez iniciada la actividad que da origen al impacto y a la respectiva compensación, incluyendo las consideraciones de adicionalidad y/u obligaciones específicas del acto administrativo, de conformidad con el articulo 3 de la Resolución 256 del 22 de febrero de 2018, o aquella norma que la modifique, derogue o sustituya, e informar a esta autoridad mediante oficio dirigido a la Subdirección de Seguimiento de Licencias Ambientales el inicio de las actividades de compensación.","N/A","Aplica","N/A","N/A","Temporal"]
[120,"COMPENSACIONES DEL MEDIO BIÓTICO","Presentación del cumplimiento de las formas de implementación\n\nNota 1: Este parágrafo aplica cuando el proyecto tenga formas agrupadas de las obligaciones. Incluir parágrafo en la obligación anterior \"Inicio de actividades aprobadas de compensación\".\nNota 2: En caso de que solo se agrupen obligaciones de compensación, eliminar las obligaciones de inversión de 1% de la obligación.\nNota 3: En caso de que el proyecto agrupe obligaciones de compensaciónes e inversión del 1%, se deberá incluir este parágrafo una única vez (verificar que no esté duplicada con las obligaciones de inversión de 1%).",null,"Parágrafo 1: El cumplimiento de objetivos y obligaciones asociadas a las formas agrupadas de implementación de los planes de compensación del medio biótico e inversión forzosa de no menos del 1% a las que se refiere el Manual de Compensaciones del Componente Biótico y el Articulo  2.2.9.3.1.12. del Decreto 1076 de 2015, o aquella norma que la modifique, derogue o sustituya, se presentarán de manera independiente en los Informes de Cumplimiento Ambiental de cada proyecto y de cada obligación correspondiente, bajo el modelo de almacenamiento geográfico establecido en la Resolución 2182 de 2016 del MADS, o la que la modifique, derogue o sustituya."," -"," -"," -"," -"," -"]
[121,"COMPENSACIONES DEL MEDIO BIÓTICO","No superposiciones entre áreas de compensación e inversión del 1%\n\nNota 1: Incluir parágrafo en la obligación anterior \"Inicio de actividades aprobadas de compensación\".",null,"Parágrafo 2: No se deberán presentar superposiciones entre las áreas destinadas para el cumplimiento de las obligaciones de compensación o de inversión forzosa de no menos del 1%, así como tampoco con áreas destinadas al cumplimiento de obligaciones impuestas a cualquier otro expediente, máxime cuando se trate de la misma actividad propuesta para el cumplimiento de la obligación."," -"," -"," -"," -"," -"]
[122,"COMPENSACIONES DEL MEDIO BIÓTICO","Presentación de cronograma de áreas definitivas de compensación",null,"Entregar mediante oficio dirigido a la Subdirección de Seguimiento de Licencias Ambientales - SSLA, el cronograma con las fechas de presentación de las áreas definitivas de compensación a esta Autoridad para su aprobación, previo al inicio de las actividades que generan el impacto, contemplando la condición del inicio de la implementación de las acciones de compensación en un máximo de seis meses después del inicio de las actividades que generan el impacto. Cualquier modificación deberá ser informada y autorizada por la autoridad, quien se pronunciará sobre la pertinencia de las modificaciones solicitadas.","N/A","Aplica","N/A","N/A","Puntual"]
[123,"COMPENSACIONES DEL MEDIO BIÓTICO","Informar ajustes de área a compensar en el plan de compensación",null,"En caso de identificar que, una vez finalizada la actividad que genera la compensación, se incurre en una compensación de menor o mayor área a la aprobada mediante el presente acto administrativo, el titular de la licencia informará a esta autoridad los ajustes al plan de compensación para que en el marco del seguimiento ambiental sea objeto de análisis y aprobación.","N/A","Aplica","Aplica","N/A","Permanente"]
[124,"COMPENSACIONES DEL MEDIO BIÓTICO","Informar ajustes de localización de áreas de compensación",null,"Las áreas definitivas para el desarrollo de las actividades aprobadas de compensación deberán estar inmersas en las áreas preliminares aprobadas mediante el presente acto administrativo, en caso contrario, deberán ser debidamente justificadas garantizando la adicionalidad y las mismas condiciones de modo, tiempo y lugar que fueron objeto de aprobación, con el fin de ser presentadas a esta autoridad para que en el marco del seguimiento ambiental sea objeto de análisis y aprobación de conformidad con lo dispuesto en el articulo 4 de la resolución 256 del 22 de febrero de 2018 o aquella norma que la modifique, derogue o sustituya.","N/A","Aplica","Aplica","N/A","Permanente"]
[125,"COMPENSACIONES DEL MEDIO BIÓTICO","Cambio en las acciones, modos, mecanismos y/o formas de compensación aprobada",null,"En caso de cambio en las acciones, sitios, modos, mecanismos y/o formas de compensación aprobadas, presentarlos a esta autoridad para que en el marco del seguimiento ambiental sea objeto de análisis y aprobación, de conformidad con lo dispuesto en el articulo 4 de la resolución 256 del 22 de febrero de 2018 o aquella norma que la modifique, derogue o sustituya.","N/A","Aplica","Aplica","N/A","Permanente"]
[126,"COMPENSACIONES DEL MEDIO BIÓTICO","Presentación del informe de avance del plan de compensación",null,"El titular de la licencia ambiental, deberá presentar en los respectivos Informes de Cumplimiento Ambiental - ICA, un informe de avance, el cual debe contener como mínimo: \n\na) Comparación de la caracterización detallada de los polígonos elegidos para llevar a cabo las acciones de compensación del medio biótico, respecto a los resultados obtenidos durante el seguimiento y monitoreo propuesto, para cada uno de los indicadores y realizar el análisis de efectividad respectivo, así como la propuesta de ajuste en caso de resultados desfavorables. \nb) Información geográfica del área compensada a la fecha de presentación del informe de avance, incluyendo la respectiva discriminación por acción de compensación, y porcentaje de avance con respecto al área total a compensar. \nc) Estado de los ecosistemas del área de compensación propuestas para las acciones de restauración, preservación y/o uso sostenible, las cuales deberán ser coherentes con las necesidades del territorio frente a procesos de conservación y restauración ecológica, así como los instrumentos de planificación y ordenamiento territorial.\nd) Descripción de las actividades ejecutadas, que incluya los soportes y registro fotográfico que evidencien cada una de las actividades propuestas en la fase de implementación, seguimiento y monitoreo para las acciones aprobadas.\ne) Porcentaje de avance de acuerdo al cronograma.\n\nParágrafo: La compensación se dará por cumplida una vez se logre el cumplimiento de los objetivos y metas propuestos por la sociedad en términos ecológicos, biológicos y/o ecosistémicos. ","N/A","Aplica","Aplica","N/A","Permanente"]
[127,"COMPENSACIONES DEL MEDIO BIÓTICO","No pérdida neta de biodiversidad con respecto a ecosistema de referencia",null,"El titular de la licencia ambiental evidenciará y cuantificará la no pérdida neta de biodiversidad de la que trata el \"Manual de compensaciones del componente biótico\", utilizando como ecosistema de referencia las áreas de afectación que generan las obligaciones de compensación, para lo cual deberá presentar en el primer Informe de Cumplimiento Ambiental - ICA de la fase constructiva, con base en los datos de línea base del estudio de impacto ambiental: \n\na) El cálculo de los indicadores contenidos en el documento \"Indicadores de impacto para el seguimiento de las obligaciones de compensación y planes de inversión del 1%\" para los ecosistemas de referencia. \nb) Las metas actualizadas del plan de compensación en términos de composición, estructura y función de las acciones a implementar, de acuerdo con los resultados de los atributos ecológicos obtenidos de la aplicación de los indicadores en los ecosistemas de referencia.\n\nEn los siguientes Informes de Cumplimiento Ambiental - ICA se deberá presentar el cálculo de los indicadores de impacto para las áreas de compensación, con el fin de establecer el cumplimiento de las metas en términos de la efectividad de las medidas de compensación asociadas a la no pérdida neta de biodiversidad. \n\nParágrafo: En caso de cambios en las áreas u acciones de compensación, las metas deberán ser actualizadas de acuerdo con el resultados de los indicadores de impacto para la composición, estructura y función de los ecosistemas de referencia.","N/A","Aplica","Aplica","N/A","Permanente"]
[128,"COMPENSACIONES DEL MEDIO BIÓTICO","Exclusividad de las acciones de compensación",null,"Al titular de la licencia en ningún caso le será posible atribuir el cumplimiento de los objetivos de compensación a un tercero.","N/A","Aplica","Aplica","N/A","Permanente"]
[129,"INVERSIÓN DEL 1%","Informar finalización de actividades de la fase constructiva",null,"Informar a la ANLA por medio de oficio dirigido a la Subdirección de Seguimiento de Licencias Ambientales, la fecha de finalización de las actividades de construcción y montaje del proyecto.","N/A","Aplica","N/A","N/A","Temporal"]
[130,"INVERSIÓN DEL 1%","Presentar plan de inversión con liquidación de inversiones",null,"Presentar e iniciar la ejecución del Plan de inversión detallado con la liquidación de las inversiones efectivamente realizadas en pesos colombianos y debidamente discriminada en términos contables, certificada por contador, revisor fiscal o representante legal, conforme al articulo 321 de la ley 1955 del 2019, o la ley que la modifique, derogue o sustituya, y las acciones específicas de destinación de los recursos en el marco de las líneas generales y ámbito geográfico aprobado dentro de los seis (6) meses siguientes a la finalización de las actividades de construcción y montaje del proyecto. Como parte integral de este plan, presentar el anexo geográfico con la información detallada en los términos y condiciones que exige el Modelo de Almacenamiento Geográfico adoptado a través de la Resolución 2182 de 2016 del Ministerio de Ambiente y Desarrollo Sostenible, o la que la modifique, derogue o sustituya.","N/A","N/A","Aplica","N/A","Temporal"]
[131,"INVERSIÓN DEL 1%","Presentación del cumplimiento de las formas de implementación\n\nNota: Este parágrafo aplica cuando el proyecto tenga formas agrupadas de las obligaciones. Incluir parágrafo en la obligación anterior \"Presentar plan de inversión con liquidación de inversiones\".",null,"Parágrafo: El cumplimiento de objetivos y obligaciones asociadas a las formas agrupadas de implementación de los planes de compensación del medio biótico e inversión de no menos del 1% a las que se refiere el Manual de Compensaciones del Componente Biótico y el Articulo  2.2.9.3.1.12. del Decreto 1076 de 2015, o aquella norma que la modifique, derogue o sustituya, se presentarán de manera independiente en los Informes de Cumplimiento Ambiental de cada proyecto y de cada obligación correspondiente, bajo el modelo de almacenamiento geográfico establecido en la Resolución 2182 de 2016 del MADS, o la que la modifique, derogue o sustituya."," -"," -"," -"," -"," -"]
[132,"INVERSIÓN DEL 1%","Actualización de la liquidación de las inversiones",null,"Presentar por medio de oficio dirigido a la Subdirección de Seguimiento de Licencias Ambientales de esta autoridad, la actualización del valor de la liquidación de la inversión en relación con los valores no ejecutados con corte a 31 de diciembre de cada año fiscal, de acuerdo con la fórmula señalada en el parágrafo 1 del artículo 321 de la ley 1955 del 25 de mayo de 2019, con plazo máximo de 31 de marzo del año siguiente.","N/A","Aplica","Aplica","N/A","Permanente"]
[133,"INVERSIÓN DEL 1%","Cumplimiento de cronograma y ejecución del plan\n\nNota: Ajustar obligación en caso de que no se haya presentado cronograma de ejecución.",null,"Dar cumplimiento al Plan de Inversión del 1% de conformidad con el cronograma propuesto y presentar los respectivos soportes de las actividades ejecutadas en los Informes de Cumplimiento Ambiental - ICA y en el modelo de almacenamiento geográfico establecido en la Resolución 2182 de 2016 del MADS, o la que la modifique, derogue o sustituya.","N/A","Aplica","Aplica","N/A","Permanente"]
[134,"PLAN DE GESTIÓN DEL RIESGO","Actualización del Plan de Contingencia",null,"Presentar en los Informes de Cumplimiento Ambiental – ICA, la revisión y/o complemento del Plan de Contingencia siguiendo los lineamientos descritos en el Decreto 1081 del 2015 adicionado por el Decreto 2157 de 2017 en el Artículo 2.3.1.5.2.1.1, Numeral 3.1.2, Literal f y el Decreto 1076 de 2015 en el Artículo 2.2.2.3.5.1, Numeral 9 y el Artículo 2.2.2.3.9.3 o aquellos que los modifiquen o sustituyan y en caso de no presentarse un ajuste en el documento, indicar las razones por las cuales no se realiza:\n\na. Ante nuevas exigencias o cambios en la legislación nacional referente al plan de contingencia, en los plazos establecidos en las mismas.\nb. Cuando se introduzcan cambios en los procesos que aumenten la probabilidad de ocurrencia de una contingencia ambiental y/o consecuencia de la materialización del riesgo.  \nc. Ante cambios en las valoraciones de los escenarios de riesgo presentes en el proyecto.\nd. Ante la ocurrencia de una contingencia que evidencie la necesidad de ajuste del plan.\ne. Ante evidencias producto del proceso de seguimiento y control efectuado por la Autoridad Ambiental Competente.","N/A","Aplica","N/A","N/A","Permanente"]
[135,"PLAN DE GESTIÓN DEL RIESGO","Reporte de eventos",null,"Reportar los eventos de contingencia a través de la plataforma VITAL de conformidad con lo establecido en el artículo 2do de la Resolución 1767 de 2016 o aquellos que los modifiquen o sustituyan, ya sea que los eventos sean generados del proyecto hacia el medio o del medio hacia el proyecto, presentando en cada uno de los avances (reportes parciales, de recuperación ambiental y final, según corresponda) las medidas, monitoreos, protocolos y/o acciones ejecutadas en el marco de la atención.","N/A","Aplica","N/A","N/A","Temporal"]
[136,"PLAN DE GESTIÓN DEL RIESGO","Soportes del monitoreo del riesgo ",null,"Presentar en los Informes de Cumplimiento Ambiental – ICA, los resultados, el análisis y conclusiones de los monitoreos del riesgo asociados al seguimiento de los eventos de origen natural, socio natural y operacional, en donde se involucren los parámetros y frecuencia definidos, asi como la articulación con entidades oficiales (SGC, IDEAM, entre otros) y de acuerdo con los resultados, complementar la valoración del riesgo, según corresponda. En caso de no presentar resultados de los monitoreos del riesgo, remitir las razones de la no ejecución y soportarlo con las evidencias correspondientes a través de oficios, informes, actas, registros fotográficos, entre otros.","N/A","Aplica","N/A","N/A","Permanente"]
[137,"PLAN DE GESTIÓN DEL RIESGO","Monitoreo del riesgo despues de eventos de contingencia",null,"Implementar las medidas de monitoreo asociado a las actividades de atención y seguimiento de los eventos de contingencia que sean necesarias, con el objeto de identificar cambios o afectaciones sobre los medios abiótico, biótico y socioeconómico. ","N/A","Aplica","N/A","N/A","Temporal"]
[138,"PLAN DE GESTIÓN DEL RIESGO","Soportes de ejecución medidas de reducción del riesgo",null,"Presentar en los Informes de Cumplimiento Ambiental – ICA, los soportes de la ejecución de las actividades definidas para las intervenciones correctivas y prospectivas de las medidas de reducción del riesgo. En caso de no presentarse, remitir las razones de la no ejecución y soportarlo con evidencias correspondientes a través de informes, cronogramas, actas, registros fotográficos, entre otros. ","N/A","Aplica","N/A","N/A","Permanente"]
[139,"PLAN DE GESTIÓN DEL RIESGO","Capacitación, divulgaciones, socialización, simulaciones y simulacros ",null,"Presentar en los Informes de Cumplimiento Ambiental – ICA, los soportes de las capacitaciones dirigidas al personal del proyecto y las divulgaciones, socializaciones, simulaciones y simulacros sobre el plan de contingencia involucrando las entidades de los Consejos Municipales de Gestión de Riesgo de Desastres (CMGRD) y los Consejos Departamentales de Gestión de Riesgo de Desastres (CDGRD) y las comunidades del área de influencia, según corresponda. En caso de no presentarse algunos de los convocados, remitir las razones de la no ejecución y soportarlo con las evidencias correspondientes a través de oficios, informes, actas, registros fotográficos, entre otros.","N/A","Aplica","N/A","N/A","Permanente"]
[140,"GESTIÓN SOCIAL","Información sobre las  competencias de las entidades con funciones de control y seguimiento del proyecto",null,"El titular de la Licencia Ambiental comunicará a través de canales idóneos a las autoridades municipales, comunidades y demás grupos de interés presentes en el área de Influencia, una vez sea notificada la presente resolución: i) los datos del proyecto, obra  o actividad incluyendo el número de contrato, acto administrativo que otorga licencia para el desarrollo del proyecto especificando las actividades que autoriza, datos de contacto; ii) las entidades ​que ejercen funciones de control y seguimiento sobre el proyecto, obra o actividad y sus competencias, tanto en temas ambientales como como administrativos. Las evidencias del cumplimiento de esta obligación se presentarán en los Informes de Cumplimiento Ambiental - ICA.","N/A","Aplica","N/A","N/A","Permanente"]
[141,"GESTIÓN SOCIAL","Informar a contratistas y personal del proyecto sobre las obligaciones, prohibiciones y medidas de control de la Resolución que otorga Licencia Ambiental para el proyecto.",null,"Previo al inicio de actividades y de manera permanente, informar a todos sus contratistas y a todo el personal del proyecto sobre las obligaciones, prohibiciones y medidas de control de la presente resolución, el Estudio de Impacto Ambiental, el Plan de Manejo Ambiental y la normativa vigente, y exigir el estricto cumplimiento de las mismas. Presentar en los Informes de Cumplimiento Ambiental - ICA, los soportes que evidencien las actividades de información adelantadas, en los que deberá quedar explícito el contenido de la información brindada al personal del proyecto, y demás soportes correspondientes. Lo anterior sin perjuicio a lo establecido en la medidas de manejo ambiental del PMA aprobado.","N/A","Aplica","N/A","N/A","Permanente"]
[142,"GESTIÓN SOCIAL","Dar a conocer la presente resolución y las obras y/o actividades que en ella se autorizan a las autoridades municipales, comunidades y demás grupos de interés presentes  en el área de influencia del proyecto",null,"Previo al inicio de cada una de las fases operativas del proyecto el titular de la licencia ambiental deberá realizar reuniones con cada una de las comunidades del área de influencia del proyecto, con el fin de dar a conocer la presente resolución, las obras que en ella se autorizan, los principales impactos, medidas de manejo y de seguimiento y monitoreo y resolver las dudas que se puedan presentar al respecto; de igual manera, se deberán realizar reuniones en los casos de autoridades locales y dignatarios de las JAC que asuman funciones en razón de períodos de cambio de administración. Las convocatorias a estas reuniones se deberán efectuar con suficiente antelación y realizarse de manera pública. Se deberá presentar a esta Autoridad mediante los respectivos Informes de Cumplimiento Ambiental - ICA, las constancias de recibido de las convocatorias y las copias de los soportes de estas reuniones en las que se evidencie el proceso, incluyendo listados de asistencia, temáticas desarrolladas, registro fílmico y/o fotográfico, entre otros.","N/A","Aplica","N/A","N/A","Permanente"]
[143,"GESTIÓN SOCIAL","Informar a comunidades y autoridades sobre canales de recepción de PQRS",null,"Previo al inicio de las actividades del proyecto, el titular de la presente licencia ambiental deberá informar a las comunidades y autoridades del área de influencia del proyecto, los canales de recepción de PQRS. De lo anterior, se deberán entregar los respectivos soportes en el primer Informe de Cumplimiento Ambiental - ICA.","N/A","Aplica","N/A","N/A","Permanente"]
[144,"GESTIÓN SOCIAL","Informe de reporte de quejas e inquietudes presentadas",null,"El titular de la presente licencia ambiental contará con un formato de recepción de PQRS y elaborará un informe donde se reporten las quejas e inquietudes presentadas, especificando: municipio, vereda, nombre o comunidad que la interpone, datos de contacto del peticionario, descripción del caso, a qué tipo de actividad está asociada respecto a la Licencia Ambiental, tipo de queja y zona(s) donde se concentra el mayor número de casos. Además, se georreferenciará el sitio o lugar en donde se reporta la PQRS. Presentar en los Informes de Cumplimiento Ambiental - ICA, este informe en formato de excel, o que sea compatible con Sistemas de Información Geográfica, así como los soportes que evidencien el registro, atención y seguimiento del caso.","N/A","Aplica","N/A","N/A","Permanente"]
[145,"VALORACIÓN ECONÓMICA","Análisis de internalización de los impactos ambientales\n\nNota: Aplica para proyectos en los que se propone el análisis de internalización de impactos.",null,"Presentar en cada ICA el seguimiento al análisis de internalización de los impactos ambientales reportando el estado de avance en los indicadores (eficiencia y eficacia) y la medida de manejo propuesta para dicho análisis.","N/A","Aplica","N/A","N/A","Permanente"]
[146,"VALORACIÓN ECONÓMICA","Ajuste del análisis costo / beneficio\n\nNota: Aplica para aquellos proyectos que cuenten con obligaciones en el análisis costo beneficio, desde el acto administrativo.",null,"Presentar en los Informes de Cumplimiento Ambiental - ICA respectivos los ajustes del análisis costo / beneficio a partir de los requerimientos pendientes en el acto administrativo o en el caso de que se presenten modificaciones asociadas al proyecto, teniendo en cuenta los lineamientos del documento Criterios técnicos para el uso de herramientas económicas en los proyectos, obras o actividades objeto de licenciamiento ambiental.","N/A","Aplica","N/A","N/A","Permanente"]
[147,"OBLIGACIONES GENERALES ","Estrategia de recepción de información de los resultados de los monitoreos del uso y aprovechamiento de los recursos naturales\n\nNota: En caso de no contar con obligaciones de transmisión en tiempo real, eliminar la opción 3.",null,"Reportar la información del resultado de los monitoreos del uso y aprovechamiento de los recursos naturales, de conformidad con las condiciones que se describen a continuación:\n\n1. La información geográfica y alfanumérica, cuya frecuencia de presentación y/o entrega se haya definido en el respectivo acto administrativo con una temporalidad superior a la diaria (semanal, quincenal, mensual, bimensual, semestral, etc.), deberá ser radicada a través del Portal de recepción de información - AGIL, el cual permitirá el almacenamiento directo en la Base de Datos Corporativa de acuerdo con el modelo de almacenamiento de datos geográficos establecido en la Resolución 2182 del 2016 de Minambiente o aquella que la modifique, derogue o sustituya.\n2. La información del resultado de los monitoreos, sobre el uso y aprovechamiento de recursos naturales, cuya frecuencia de presentación y/o entrega se haya definido en el respectivo acto administrativo con una temporalidad igual o menor a la diaria (diaria, horaria o minutal), deberá radicarse diariamente de forma consolidada a través de las plantillas de textos plano tipo .txt o .csv (disponibles en la página web de la entidad) por medio del correo electrónico licencias@anla.gov.co con copia a centromonitoreo@anla.gov.co, indicando el asunto del correo, conforme con la siguiente tabla:\n\n(Ver tabla en pestaña 3. Asuntos de radicación, la cual se debe copiar en este espacio)\n\n3. La información que requiera la transmisión continua de datos, cuya frecuencia esté definida en el respectivo acto administrativo en tiempo real o cuasi real, se reportará a través de VPN Site to Site, API REST, o según sea definido conforme con los lineamientos de la Oficina de Tecnologías de la Información - OTI de la Entidad y las posibilidades tecnológicas del titular de la Licencia Ambiental. \n\nParágrafo: La demás información generada por los proyectos deberá entregarse a través del instrumento de seguimiento ambiental habitual (Informe de Cumplimiento Ambiental - ICA) y el mecanismo de recepción disponible (Ventanilla Integral de Trámites Ambientales en Línea - VITAL). ","N/A","Aplica","N/A","N/A","Permanente"]
[148,"OBLIGACIONES GENERALES ","Codificación asociada a permisos y obigaciones\n\nNota: El profesional que se encuentre evaluando o haciendo seguimiento al proyecto, deberá solicitar la codificación de permisos y obligaciones al centro de monitoreo a través de correo electrónico centromonitoreo@anla.gov.co una vez definidos los permisos y obligaciones de monitoreo y planes a solicitar en el marco del acto administrativo.",null,"Utilizar la codificación de la ANLA (campo \"ID ANLA\") asignada a los permisos de uso y aprovechamiento de recursos naturales y a las obligaciones impuestas en el presente acto administrativo para la presentación de la información asociada al seguimiento del proyecto.","N/A","Aplica","N/A","N/A","Permanente"]
[149,"OBLIGACIONES GENERALES ","Informar sobre la conformación del Departamento de Gestión Ambiental",null,"Presentar en el primer Informe de Cumplimiento Ambiental - ICA copia del documento donde conste la conformación del Departamento de Gestión Ambiental, que incluya funciones y responsabilidades asignadas, en cumplimiento al artículo 2.2.8.11.1.7. del Decreto 1076 de 2015, o aquella que la modifique, derogue o sustituya.","N/A","Aplica","N/A","N/A","Temporal"]
[150,"OBLIGACIONES GENERALES ","Modificación de la Licencia Ambiental, cuando se configure alguna de las causales mencionadas en el Decreto 1076 de 2015",null,"El titular de la presente Licencia Ambiental solicitará a la ANLA la modificación de la licencia ambiental, previa a la ejecución de actividades que configuren alguna de las causales señaladas en el Artículo 2.2.2.3.7.1 del Decreto 1076 de 2015. ","N/A","Aplica","N/A","N/A","Permanente"]
[151,"OBLIGACIONES GENERALES ","Cambios menores ",null,"Informar a la ANLA, de manera previa a realizar las actividades consideradas como cambios menores o de ajuste normal dentro del giro ordinario, de conformidad con lo dispuesto en el Capítulo 6, Título 2 , Parte 2, Libro 2 del Decreto 1076 de 2015, o aquella norma que lo modifique o sustituya, actividades que serán objeto de seguimiento. En caso de que las actividades a ejecutar  no se incluyan en el mencionado Decreto, el titular de la licencia solicitará por escrito pronunciamiento de esta autoridad, sobre su viabilidad bajo la modalidad de cambio menor, concepto que se remitirá con destino al expediente.","N/A","Aplica","N/A","N/A","Permanente"]
[152,"OBLIGACIONES GENERALES ","Retirar y/o disponer todas las evidencias de los elementos y materiales sobrantes, en todas las áreas intervenidas por el proyecto",null,"Una vez finalizados los trabajos propios de cada obra o actividad parcial, el titular de la presente licencia ambiental retirará y/o dispondrá todas las evidencias de los elementos y materiales sobrantes, en todas las áreas intervenidas por el proyecto, de manera que no se generen impactos ambientales adicionales, se altere el paisaje ni se contribuya al deterioro ambiental.","N/A","Aplica","N/A","N/A","Permanente"]
[153,"OBLIGACIONES GENERALES ","Uso de fibras naturales",null,"Cumplir lo establecido en la Resolución 1083 de 1996, del hoy Ministerio de Ambiente y Desarrollo Sostenible, para las actividades listadas en su artículo 1°. Con tal fin, el titular de la licencia presentará en los Informes de Cumplimiento Ambiental -ICA- la siguiente información: \n\na) Localización de la actividad, obra o proyecto en la que se hizo uso de las fibras naturales. \nb) La fibra natural utilizada, el tipo de actividad en la que fue usada y la cantidad medida en Kg. \nc) Indicar el estado de integridad física y de funcionamiento de las obras con este tipo de fibras. \n\nParágrafo: El titular de la licencia ambiental justificará fundadamente, en el Informe de Cumplimiento Ambiental -ICA- correspondiente, las razones técnicas del por qué consideró inviable el uso de fibras naturales en esas actividades. (Uso de fibras naturales). ","N/A","Aplica","N/A","N/A","Permanente"]
[154,"OBLIGACIONES GENERALES ","Informar a la ANLA y a las demás Autoridades Ambientales competentes la fecha de iniciación de actividades",null,"Dentro de los diez (10) días calendario previos al inicio de cada una de las fases del proyecto, el titular de la presente licencia ambiental informará a la ANLA, mediante oficio dirigido a la Subdirección de Seguimiento de Licencias Ambientales, y a las demás Autoridades Ambientales regionales y locales en la jurisdicción del proyecto, la fecha de inicio de actividades. En caso de que no se pueda dar inicio al proyecto en la fecha previamente informada, se notificará inmediatamente a esta Autoridad la justificación, así como la nueva fecha de inicio. Enviar a la ANLA copia de los oficios radicados ante las demás autoridades ambientales competentes.","N/A","Aplica","N/A","N/A","Permanente"]
[155,"OBLIGACIONES GENERALES ","Presentación de ICA de acuerdo con lo establecido en el Manual de Seguimiento Ambiental de Proyectos y la Resolución 077 de 2019.",null,"El titular de la presente licencia ambiental presentará los Informes de Cumplimiento Ambiental -ICA de manera [Espacio para definir periodicidad de ICA de cada fase del proyecto (trimestral, semestral o anual)] de acuerdo con lo establecido en el Manual de Seguimiento Ambiental de Proyectos y lo dispuesto en la Resolución 077 de 2019, modificada por la Resolución 0549 de 2020, o aquellas que las que las modifiquen, deroguen o sustituyan.","N/A","Aplica","N/A","N/A","Permanente"]
[156,"OBLIGACIONES GENERALES ","Presencia de comunidades étnicas ",null,"Si durante la vigencia de esta licencia ambiental, se constata la presencia de comunidades étnicas, la existencia de territorios étnicos o se presentan estas dos condiciones en el área de influencia del proyecto, el titular de la licencia ambiental deberá dar aviso por escrito al Ministerio del Interior – Dirección de la Autoridad Nacional de Consulta Previa (con copia a la ANLA), para que en el marco de sus competencias, determine la procedencia del proceso de consulta previa de que trata el artículo 330 de la Constitución Política, de conformidad con el numeral 1 del artículo 16A del Decreto 2353 de 2019. ","N/A","Aplica","N/A","N/A","Permanente"]
[157,"OBLIGACIONES GENERALES ","Monitoreos a través de laboratorios acreditados",null,"Realizar los monitoreos a través de laboratorios acreditados por el IDEAM, tanto para la toma de la muestra, como para el análisis de los parámetros monitoreados. Dichos laboratorios, deberán contar con las técnicas de medición que cuenten con los límites de detección de los diferentes parámetros que permitan verificar el cumplimiento normativo de los mismos. En caso de que no existan laboratorios nacionales acreditados para el análisis de algún(os) parámetro(s), los laboratorios acreditados por el IDEAM podrán enviar la muestra a un laboratorio internacional acreditado en su país de origen o por un estándar internacional, mientras se surte el proceso de acreditación en los laboratorios nacionales. Presentar los soportes de la acreditación de todos los laboratorios empleados para la realización de los monitoreos del proyecto en los Informes de Cumplimiento Ambiental - ICA.","N/A","Aplica","N/A","N/A","Permanente"]
[158,"REQUISITOS DEL ACTO ADMINISTRATIVO","Patrimonio arqueológico\n\nNota: El presente texto debe ser usado a manera de parágrafo del articulo en el que se otorga la licencia.",null,"Parágrafo: La intervención de áreas arqueológicas protegidas de sitios arqueológicos u otras categorías establecidas en la normativa que protege el patrimonio cultural de la Nación son de competencia exclusiva del Instituto Colombiano de Antropología e Historia -ICANH-. En consecuencia, la Licencia Ambiental no autoriza la intervención de dichas áreas."," -"," -"," -"," -"," -"]
[159,"REQUISITOS DEL ACTO ADMINISTRATIVO","La Licencia Ambiental no confiere derechos reales sobre los predios a ser afectados.\n\nNota: El presente texto debe ser usado a manera de parágrafo del articulo en el que se otorga la licencia.",null,"Parágrafo: La Licencia Ambiental que se otorga, no confiere derechos reales sobre los bienes inmuebles que puedan intervenirse o afectarse en la ejecución del proyecto, obra o actividad. Lo anterior, sin perjuicio a lo dispuesto por la Ley 1448 de 2011 o aquella norma que la modifique, deroguen o sustituya, en lo relacionado con restitución de tierras."," -"," -"," -"," -"," -"]
[160,"REQUISITOS DEL ACTO ADMINISTRATIVO","Patrimonio arqueológico",null,"Si dentro del área licenciada se evidencian sitios de interés arqueológico, se deberá dar aviso por escrito al Instituto Colombiano de Antropología e Historia -ICANH- (con copia a la ANLA), de conformidad con el numeral 1.4 del artículo 7 de la Ley 1185 de 2008, el Decreto 138 de 2019 y el numeral 1.6. del artículo 11 de la Ley 397 de 1997, modificado por el artículo 131 del Decreto 2106 de 2019, para lo de su competencia."," -"," -"," -"," -"," -"]
[161,"REQUISITOS DEL ACTO ADMINISTRATIVO","ANLA supervisará la ejecución de las obras y podrá verificar en cualquier momento el cumplimiento de lo dispuesto en la presente Resolución",null,"La ANLA hará control y seguimiento ambiental a la ejecución de proyectos, obras y actividades en los términos del artículo 2.2.2.3.9.1 del Decreto 1076 del 2015, y verificará el cumplimiento de la presente Resolución. "," -"," -"," -"," -"," -"]
[162,"REQUISITOS DEL ACTO ADMINISTRATIVO","Notificar el contenido de la presente Resolución al Representante Legal",null,"Por la Autoridad Nacional de Licencias Ambientales - ANLA, notificar el presente acto administrativo al representante legal o apoderado, o a la persona autorizada por la sociedad XXXXX, de conformidad con los artículos 67 y siguientes del Código de Procedimiento Administrativo y de lo Contencioso Administrativo. \n\nParágrafo: El expediente queda a disposición para su consulta en medio físico o digital. "," -"," -"," -"," -"," -"]
[163,"REQUISITOS DEL ACTO ADMINISTRATIVO","Notificar el contenido de la presente Resolución a terceros intervinientes que lo hayan solicitado expresamente",null,"Por la Autoridad Nacional de Licencias Ambientales - ANLA, notificar el presente acto administrativo a el/la señor(a) XXXXX en su condición de tercer(os) interviniente(s) reconocido(s) dentro de la presente actuación de ser el caso a través del representante legal o apoderado, o a la persona debidamente autorizada, de conformidad con el artículo 71 de la Ley 99 de 1993 y los artículos 67 y siguientes del Código de Procedimiento Administrativo y de lo Contencioso Administrativo. \n\nParágrafo: El expediente queda a disposición para su consulta en medio físico o digital. "," -"," -"," -"," -"," -"]
[164,"REQUISITOS DEL ACTO ADMINISTRATIVO","Comunicar el contenido de la presente Resolución a terceros intervinientes que no hayan solicitado expresamente ser notificados",null,"Por la Autoridad Nacional de Licencias Ambientales - ANLA, comunicar el presente acto administrativo a el/la señor(a) XXXXX en su condición de tercer(os) interviniente(s) reconocido(s) dentro de la presente actuación de ser el caso a través del representante legal o apoderado, o a la persona debidamente autorizada, de conformidad con el artículo 71 de la Ley 99 de 1993."," -"," -"," -"," -"," -"]
[165,"REQUISITOS DEL ACTO ADMINISTRATIVO","Remitir copia de la presente resolución a autoridades y/o entidades que deban ser informadas.",null,"Por la Autoridad Nacional de Licencias Ambientales - ANLA, comunicar el contenido del presente acto administrativo a [Espacio para listar entidades que deban recibir copia de la presente resolución tales como: alcaldías municipales, autoridades ambientales de orden regional y/o local, gobernaciones, procuradurías delegadas para asuntos ambientales, personerías municipales, entre otros]. "," -"," -"," -"," -"," -"]
[166,"REQUISITOS DEL ACTO ADMINISTRATIVO","Publicar  la presente Resolución en la Gaceta Ambiental ",null,"Por la Autoridad Nacional de Licencias Ambientales - ANLA publicar  la presente Resolución en la Gaceta Ambiental de esta Entidad, de conformidad con el artículo 71 de la Ley 99 de 1993. "," -"," -"," -"," -"," -"]
[167,"REQUISITOS DEL ACTO ADMINISTRATIVO","Contra la presente Resolución procede el recurso de reposición",null,"Contra el presente acto administrativo procede el recurso de reposición en los términos establecidos en los artículos 74 y siguientes del Código de Procedimiento Administrativo y de lo Contencioso Administrativo, o la norma que lo modifique, derogue o sustituya."," -"," -"," -"," -"," -"]
[168,"REQUISITOS DEL ACTO ADMINISTRATIVO","Vigencia de la licencia ambiental",null,"La presente Licencia Ambiental, se otorga por el tiempo de duración del proyecto que se autoriza en la presente resolución."," -"," -"," -"," -"," -"]
[169,"REQUISITOS DEL ACTO ADMINISTRATIVO","Pérdida de vigencia de la licencia ambiental",null,"En el caso que, el titular de la licencia ambiental en el término de cinco (5) años contados a partir de la firmeza del presente acto administrativo, no haya dado inicio a la ejecución del proyecto, se procederá a dar aplicación a lo establecido en el artículo 2.2.2.3.8.7. Decreto 1076 de 2015, en relación con la declaratoria de pérdida de vigencia de la licencia ambiental. "," -"," -"," -"," -"," -"]
[170,"REQUISITOS DEL ACTO ADMINISTRATIVO","Aplicación de la Ley 1333 del 2009",null,"El incumplimiento de las obligaciones contenidas en el presente acto administrativo y en las normas ambientales vigentes dará lugar a la imposición y ejecución de las medidas preventivas y sanciones que sean aplicables según el caso, de conformidad con lo establecido en la Ley 1333 del 21 de julio de 2009, o la que modifique, derogue o sustituya."," -"," -"," -"," -"," -"]
[171,"REQUISITOS DEL ACTO ADMINISTRATIVO","Modificar los tiempos de cumplimiento de las obligaciones, sin que ello signifique una novación",null,"En el seguimiento, la Autoridad Nacional de Licencias Ambientales -ANLA- podrá  conceder, por solicitud justificada del titular, nuevos plazos para el cumplimiento de obligaciones, sin que esto implique modificación de la Licencia Ambiental. La modificación del plazo siempre deberá estar técnica y jurídicamente sustentada, previa coordinación ante el Grupo de Actuaciones Sancionatorias ambientales de la Oficina Asesora Jurídica o la dependencia que haga sus veces."," -"," -"," -"," -"," -"]
[172,"REQUISITOS DEL ACTO ADMINISTRATIVO","Informar a la ANLA cuando la empresa y/o sociedad entre en proceso de disolución o régimen de insolvencia o liquidación",null,"En el evento en que el titular de la licencia ambiental entre en proceso de disolución o régimen de insolvencia o liquidación regulados por las normas vigentes, informará inmediatamente de esta situación a esta Autoridad, con fundamento, entre otros, en los artículos 8, 58, 79, 80, 81, 95 numeral 8 de la Constitución Política de 1991, en las Leyes 43 de 1990, 222 de 1995, 1333 de 2009, demás normas vigentes, y en la jurisprudencia aplicable. La sociedad deberá aprovisionar contablemente las obligaciones contingentes que se deriven de la existencia de un procedimiento ambiental sancionatorio conforme con el artículo 40 de la Ley 1333 de 2009 o la norma que la modifique, derogue o sustituya. "," -"," -"," -"," -"," -"]

{"sheet":"OBLIGACIONES APLICABLES","index":2,"n_rows":175,"n_cols":8,"rows_kept":175,"cut":false,"hidden":false,"merged":[[0,1,0,7]]}
[null,"OBLIGACIONES MÍNIMAS APLICABLES AL PROYECTO, OBRA O ACTIVIDAD EN EVALUACIÓN / SEGUIMIENTO\nNota: Usar el texto de esta hoja para construir el concepto técnico y acto administrativo (Copiar y pegar en cada documento a construir)"]
["Aplica (si / no)","TEMÁTICA","OBLIGACIÓN ESTANDARIZADA","Pre construcción","Construcción","Operación y mantenimiento","Desmantelamiento y abandono","Temporalidad"]
[{"$f":"'CARRETERAS Y TÚNELES'!D8","v":0},{"$f":"'CARRETERAS Y TÚNELES'!B8","v":"AIRE"},{"$f":"'CARRETERAS Y TÚNELES'!E8","v":"Realizar monitoreo de las emisiones atmosféricas generadas en las fuentes puntuales del proyecto de conformidad con lo establecido en el Protocolo  de Control y Vigilancia de la Contaminación Atmosférica Generada por Fuentes Fijas (adoptado por la Resolución 760 de 2010 del MAVDT, ajustado por la Resolución 2153 de 2010, Resolución 591 de 2012, Resolución 1632 de 2012 y Resolución 1807 de 2012, o la norma que la modifique, derogue o sustituya), dando cumplimiento a las siguientes condiciones:\n\na) Para determinar la frecuencia de los monitoreos de emisiones atmosféricas asociadas a fuentes puntuales, realizar un monitoreo al inicio de la operación y dar cumplimiento a lo establecido en el numeral 3.2 y en la tabla No. 9 del Protocolo para el Control y Vigilancia de la Contaminación Atmosférica Generada por Fuentes Fijas. Presentar los resultados del monitoreo inicial, las frecuencias establecidas con su respectiva justificación (determinación de las UCA) y el cumplimiento de altura mínima de descarga de las fuentes autorizadas según el Protocolo en el primer Informe de Cumplimiento Ambiental - ICA. \nb) Medir en cada monitoreo de acuerdo con la actividad industrial realizada, los contaminantes establecidos en la Tabla 2 del Protocolo  de Control y Vigilancia de la Contaminación Atmosférica Generada por Fuentes Fijas, de acuerdo con las actividades desarrolladas por el proyecto en cada una de sus etapas.\nc) Las fuentes de emisión contarán con un sistema de extracción localizada, chimenea, plataforma y puertos de muestreo que permitan realizar la medición directa y demostrar el cumplimiento normativo. La plataforma, diámetro y localización de los puertos de muestreo, se construirán de acuerdo a los métodos y procedimientos adoptados en el Protocolo para el Control y Vigilancia de la Contaminación Atmosférica generada por fuentes fijas última versión.\nd) Entregar en los respectivos Informes de Cumplimiento Ambiental - ICA el informe de los resultados y análisis de las mediciones de emisiones (asociadas a fuentes fijas puntuales), cumpliendo con lo establecido en el numeral 2.2 del Protocolo en mención y empleando los formatos establecidos en el Anexo 2, 3 y 4 del mismo. En dicho informe se compararán las mediciones con los estándares establecidos en la Resolución 909 de 2008, o aquellas que la modifiquen o sustituyan, para los contaminantes de la Tabla 2 según el Protocolo. De sobrepasar los límites de emisión para cada contaminante, el titular de la licencia presentará, las medidas de manejo pertinentes, necesarias para garantizar el cumplimiento de los estándares, las cuales serán informadas en los Informes de Cumplimiento Ambiental - ICA."},{"$f":"'CARRETERAS Y TÚNELES'!F8","v":"N/A"},{"$f":"'CARRETERAS Y TÚNELES'!G8","v":"Aplica"},{"$f":"'CARRETERAS Y TÚNELES'!H8","v":"N/A"},{"$f":"'CARRETERAS Y TÚNELES'!I8","v":"N/A"},{"$f":"'CARRETERAS Y TÚNELES'!J8","v":"Permanente"}]
[{"$f":"'CARRETERAS Y TÚNELES'!D9","v":0},{"$f":"'CARRETERAS Y TÚNELES'!B9","v":"AIRE"},{"$f":"'CARRETERAS Y TÚNELES'!E9","v":"Realizar el mantenimiento preventivo y correctivo de los sistemas de control de las fuentes de emisión, de conformidad con lo establecido en el  Protocolo  para el Control y Vigilancia de la Contaminación Atmosférica Generada por Fuentes Fijas (adoptado por la Resolución 760 de 2010 del MAVDT, ajustado por la Resolución 2153 de 2010, Resolución 591 de 2012, Resolución 1632 de 2012 y Resolución 1807 de 2012, o la norma que la modifique, derogue o sustituya) y presentar en los Informes de Cumplimiento Ambiental - ICA las evidencias de su implementación, así como la ficha técnica del fabricante, y la eficiencia de control relacionando el respectivo equipo contaminante."},{"$f":"'CARRETERAS Y TÚNELES'!F9","v":"N/A"},{"$f":"'CARRETERAS Y TÚNELES'!G9","v":"Aplica"},{"$f":"'CARRETERAS Y TÚNELES'!H9","v":"N/A"},{"$f":"'CARRETERAS Y TÚNELES'!I9","v":"N/A"},{"$f":"'CARRETERAS Y TÚNELES'!J9","v":"Permanente"}]
[{"$f":"'CARRETERAS Y TÚNELES'!D10","v":0},{"$f":"'CARRETERAS Y TÚNELES'!B10","v":"AIRE"},{"$f":"'CARRETERAS Y TÚNELES'!E10","v":"Actualizar el inventario de emisiones atmosféricas generadas por el proyecto como mínimo una vez al año o cada vez que se presenten cambios en los procesos y/o actividades que generan emisiones (por ejemplo, introducción de nuevas fuentes), teniendo en cuenta lo siguiente:\n\na) Para las fuentes fijas puntuales que cuenten con las condiciones técnicas de medición, realizar la estimación de emisiones a partir de medición directa, dando cumplimiento a los criterios establecidos en el Protocolo para el Control y Vigilancia de la Contaminación Atmosférica Generada por Fuentes Fijas (adoptado por la Resolución 760 de 2010 del MAVDT, ajustado por la Resolución 2153 de 2010, Resolución 591 de 2012, Resolución 1632 de 2012 y Resolución 1807 de 2012, o la norma que la modifique, derogue o sustituya).\nb) Para fuentes fijas puntuales a las que no les aplique la medición directa por aspectos técnicos o de seguridad, y fuentes dispersas de área, aplicar métodos alternativos como factores de emisión y balance de masas, teniendo en cuenta las metodologías para el uso de factores de emisión desarrolladas por entidades oficiales, centros de investigación o academia (AP-42 Agencia de Protección Ambiental de los Estados Unidos US-EPA, National Pollutant Inventory - NPI, entre otras), las cuales están referenciadas en la Guía para la Elaboración de Inventarios de Emisiones Atmosféricas del MADS.\nc) Para fuentes móviles se podrán utilizar modelos de emisión de fuentes móviles (ej. IVE, MOBILE, MOVES y/o COPERT) combinados con variables locales (distancias viajadas por la flota, velocidades, etc.), o factores de emisión usados internacionalmente (EPA y Unión Europea). El aforo vehicular a realizar tiene como propósito la identificación de las fuentes móviles que transitan por las vías del proyecto o que se encuentran en el área de influencia. El levantamiento de información de la flota vehicular como mínimo deber ser de (ocho (8) horas / veinticuatro (24) horas continuas por día, en día hábil y festivo. Seleccionar de acuerdo con los horarios de construcción y operación aplicable al POA). Se deberá realizar la identificación y características del punto de aforo y la clasificación de los vehículos por peso y tipo de combustible. Se deberá presentar un informe con los resultados del inventario de fuentes y emisiones, y se deberá anexar las memorias de cálculos con la estimación de emisiones de los contaminantes considerados, los cálculos y suposiciones realizados.\nd) Presentar el inventario con y sin las eficiencias de las medidas de control en el cálculo de las emisiones. Para cada contaminante se deberá justificar las eficiencias de control con las respectivas evidencias documentales.\ne) Reportar la actualización en los respectivos Informes de Cumplimiento Ambiental - ICA, el cual contendrá como mínimo: Metodología empleada; Información georreferenciada de las fuentes; Tipo de fuente; Tipo combustible empleado; Consumo de combustible por cada fuente (nominal en base horaria y total acumulado anual); Tiempos de operación (horas/año); Sistemas de control de emisiones (discriminando sistema y tipo de contaminante); Porcentaje de eficiencia de los sistemas; Emisiones desagregadas  por actividad; Para fuentes fijas puntuales se requieren los datos de altura y diámetro de las chimeneas;  Identificar y presentar un análisis de las fuentes de emisiones atmosféricas del proyecto que se asocian con los contaminantes monitoreados a nivel de inmisión, especialmente para los contaminantes no criterio que puedan emitirse en las etapas de su desarrollo, con base información cuantitativa y cualitativa generada para el componente atmosférico, y otros medios y componentes; y fuentes de información utilizada.\nf) Anexar los archivos del inventario de fuentes diferenciando claramente la metodología y los cálculos (formatos accesibles .xls no protegidos), de las fuentes de contaminantes criterio y/o tóxicos (fijas puntuales y dispersas o difusas) con las consideraciones sobre la estimación."},{"$f":"'CARRETERAS Y TÚNELES'!F10","v":"N/A"},{"$f":"'CARRETERAS Y TÚNELES'!G10","v":"Aplica"},{"$f":"'CARRETERAS Y TÚNELES'!H10","v":"N/A"},{"$f":"'CARRETERAS Y TÚNELES'!I10","v":"N/A"},{"$f":"'CARRETERAS Y TÚNELES'!J10","v":"Permanente"}]
[{"$f":"'CARRETERAS Y TÚNELES'!D11","v":0},{"$f":"'CARRETERAS Y TÚNELES'!B11","v":"AIRE"},{"$f":"'CARRETERAS Y TÚNELES'!E11","v":"Modelar la dispersión de contaminantes atmosféricos, al menos una vez al año o cada vez que se presenten cambios en los procesos y/o actividades que generan emisiones (por ejemplo, introducción de nuevas fuentes), en tanto el Ministerio de Ambiente y Desarrollo Sostenible adopte el Protocolo de Modelización de Contaminantes Atmosféricos, se deberán realizar bajo las siguientes condiciones:\n\na) Emplear un sistema de modelación actualizado avalado por la EPA que represente adecuadamente las condiciones de dispersión en el área de influencia del proyecto.\nb) Considerar las configuraciones recomendadas por el ente desarrollador para el sistema de modelación utilizado. \nc) Modelar como mínimo PM10, PM2,5 (relacionar demás contaminantes de interés según las fuentes de emisión del proyecto), de acuerdo con el Protocolo para el Monitoreo y Seguimiento de la Calidad del Aire del MAVDT del 2010 (adoptado por la Resolución 650 de 2010, y ajustado por la Resolución 2154 de 2010), Resolución 2254 del 2017 del MADS o aquella que la modifique, derogue o sustituya.\nd) Identificar los receptores de interés, usos del suelo, topografía, ventana de modelación y resolución de malla a emplear en la modelación.\ne) Efectuar un análisis de la información meteorológica obtenida de estaciones automáticas del IDEAM. Cuando esto no sea posible, la modelación se apoyará en información meteorológica obtenida de otras estaciones automáticas (anexando la justificación técnica de la escogencia de estaciones diferentes a las del IDEAM) o en su defecto a partir de información resultante de modelos meteorológicos de pronóstico para el año calendario inmediatamente anterior al estudio. Para las variables aplicables, tener en cuenta lo determinado en la guía de la EPA \"Meteorological Monitoring Guidance for Regulatory Modeling Applications - EPA 454/R 99 005\".\nf) Presentar los resultados de los escenarios a modelar (sin sistemas de control y con sistemas de control) para el año inmediatamente anterior a la presentación del Informe de Cumplimiento Ambiental - ICA.\ng) Presentar el informe de la modelación de la dispersión de contaminantes atmosféricos en los respectivos Informes de Cumplimiento Ambiental - ICA como mínimo con la siguiente información:\ni) Diagrama de flujo de los procesos que generan emisiones atmosféricas. \nii) Descripción del modelo empleado incluyendo los resultados de las concentraciones obtenidas para los receptores sensibles y gráficas de isopletas georreferenciadas, donde se muestre la ubicación de las fuentes de emisión y de los receptores.\niii) Datos de entrada de la modelación: descripción y ubicación de la región de impacto, identificación y ubicación georreferenciado de las fuentes de emisión y de los posibles receptores, archivo geográfico con la topografía de la región y tipo de uso del suelo, información y análisis de la meteorología  (archivos nativos p. ej .SAM, .UA, .PFL, .SFC y accesibles .csv, xls, .txt no protegidos) y de la calidad del aire en la región (en caso de no existir dicha información, utilizar la información de calidad de aire más reciente), análisis sobre potenciales receptores, contaminantes emitidos y descripción del método de cuantificación de las emisiones, que permitan la reproducción total del modelo. \niv) Reporte de los criterios, características del modelo, alcances y tamaño de mallas empleados para la modelación. Anexar los archivos de entrada y salida de los procesadores y pre procesadores empleados en la modelación, en los formatos originales de entrada y salida del modelo (archivos nativos p. ej. .ADI, .SOU, .ROU, .ADO, y accesibles .csv, xls, .txt no protegidos), de forma que se permita la reproducción total del modelo.\nv) Técnicas de validación de la modelación y la concentración de fondo tenidas en cuenta, así como de los resultados obtenidos. \nvi) Análisis, conclusiones y anexos."},{"$f":"'CARRETERAS Y TÚNELES'!F11","v":"N/A"},{"$f":"'CARRETERAS Y TÚNELES'!G11","v":"Aplica"},{"$f":"'CARRETERAS Y TÚNELES'!H11","v":"N/A"},{"$f":"'CARRETERAS Y TÚNELES'!I11","v":"N/A"},{"$f":"'CARRETERAS Y TÚNELES'!J11","v":"Permanente"}]
[{"$f":"'CARRETERAS Y TÚNELES'!D12","v":0},{"$f":"'CARRETERAS Y TÚNELES'!B12","v":"AIRE"},{"$f":"'CARRETERAS Y TÚNELES'!E12","v":"Realizar monitoreos de calidad del aire con los criterios establecidos para un (Sistema de Vigilancia de Calidad de Aire Industrial Fijo / Indicativo - SVCAI. Seleccionar el sistema de acuerdo con la complejidad del proyecto) según el Protocolo para el Monitoreo y Seguimiento de la Calidad del Aire del MAVDT del 2010 (adoptado por la Resolución 650 de 2010, y ajustado por la Resolución 2154 de 2010, o la norma que la modifique, derogue o sustituya), y entregar los respectivos soportes en los Informes de Cumplimiento Ambiental - ICA, teniendo en cuenta lo siguiente:\n\na) Documento donde se argumente la selección de la localización de las estaciones que conformen el Sistema de Vgilancia de Calidad de Aire, teniendo en cuenta los criterios establecidos en el Protocolo para el Monitoreo y Seguimiento de la Calidad del Aire del MAVDT (2010). Esta obligación se presentará en el primer Informe de Cumplimiento Ambiental - ICA.\nb) Información meteorológica: debe hacer referencia al año calendario inmediatamente anterior al estudio, la cual debe ser previamente validada de acuerdo a los estándares establecidos por la EPA, de igual forma se deberá entregar la información meteorológica de la campaña de monitoreo (Quality Assurance Handbook for Air Pollution Measurement Systems Volumen IV: Meteorological Measurement Versión 2.0 EPA-454/B-08-002). Anexar los archivos georreferenciados de acuerdo con el modelo de almacenamiento geográfico establecido en la Resolución 2182 de 2016 del MADS, o la que la modifique, derogue o sustituya.\nc) Reportes de laboratorio (que incluya datos diarios u horarios dependiendo de la tecnología de la estación de monitoreo - manual o automática).\nd) Comparación de las mediciones con los niveles máximos permisibles establecidos en la Resolución 2254 de 2017 del MADS, o aquella que la modifique, derogue o sustituya, y con la línea base presentada en el EIA para los contaminantes evaluados. Los contaminantes a registrar serán los establecidos en la Resolución  2254 de 2017 del MADS, o aquella que la modifique o sustituya, aplicables según la actividad industrial desarrollada y las fuentes de emisión identificadas. \ne) Informe de las acciones implementadas para garantizar el cumplimiento de los estándares en caso de sobrepasar los límites de inmisión para cada contaminante.\nf) Informe que incluya como mínimo los contenidos establecidos en el Protocolo para el Monitoreo y Seguimiento de la Calidad del Aire del MAVDT (2010) - Manual de operación, según el sistema de vigilancia de calidad del aire aplicable."},{"$f":"'CARRETERAS Y TÚNELES'!F12","v":"N/A"},{"$f":"'CARRETERAS Y TÚNELES'!G12","v":"Aplica"},{"$f":"'CARRETERAS Y TÚNELES'!H12","v":"N/A"},{"$f":"'CARRETERAS Y TÚNELES'!I12","v":"N/A"},{"$f":"'CARRETERAS Y TÚNELES'!J12","v":"Permanente"}]
[{"$f":"'CARRETERAS Y TÚNELES'!D13","v":0},{"$f":"'CARRETERAS Y TÚNELES'!B13","v":"AIRE"},{"$f":"'CARRETERAS Y TÚNELES'!E13","v":"De acuerdo con lo establecido en la Resolución 2254 del 2017 del MADS, para Sistemas de Vigilancia de la Calidad del Aire - SVCA que realicen monitoreos con una periodicidad permanente (continua en el tiempo durante la vida útil del proyecto) reportar al Subsistema de Información sobre Calidad de Aire - SISAIRE los datos validados resultantes de las mediciones de calidad de aire y variables meteorológicas. Tener en cuenta lo establecido en la Resolución 651 del 29 de marzo 2010 o aquella que la modifique, derogue o sustituya y presentar las evidencias del cargue a dicho sistema."},{"$f":"'CARRETERAS Y TÚNELES'!F13","v":"N/A"},{"$f":"'CARRETERAS Y TÚNELES'!G13","v":"Aplica"},{"$f":"'CARRETERAS Y TÚNELES'!H13","v":"N/A"},{"$f":"'CARRETERAS Y TÚNELES'!I13","v":"N/A"},{"$f":"'CARRETERAS Y TÚNELES'!J13","v":"Permanente"}]
[{"$f":"'CARRETERAS Y TÚNELES'!D14","v":0},{"$f":"'CARRETERAS Y TÚNELES'!B14","v":"AIRE"},{"$f":"'CARRETERAS Y TÚNELES'!E14","v":"Presentar el plan de riego asociado a la humectación de vías de acceso y zonas descubiertas sin pavimentar (internas del proyecto), el cual debe inlcuir lo siguiente:\n\na) Rutas y zonas por regar. \nb) Métodos de riego empleados, los cuales deberán garantizar la mayor área de humectación y el menor consumo de agua. \nc) Agua a emplear en las actividades de humectación, la cual deberá dar cumplimiento a lo establecido en la normatividad vigente, y las obligaciones establecidas sobre (Espacio para indicar los permisos/autorizaciones respectivas que se hayan autorizado al proyecto y que estén relacionados con el agua que será empleada para la humectación de vías: vertimientos al suelo, concesión de aguas, compra de agua, aguas lluvias, recirculación en suelo soporte de infraestructura, entre otras).\nd) En caso de emplear aditivos u otros materiales, deberan ser inocuos y no presentar problemas de compactación u otros impactos al suelo superficial, por infiltración o escorrentía ante eventuales precipitaciones. \ne) Indicadores asociados con las actividades de humectación en función del área regada, las cantidades de agua empleadas y la cantidad de material particulado mitigado.\nf) Presentar los soportes de implementación del plan en los respectivos Informes de Cumplimiento Ambiental - ICA, incluyendo: i) evidencias de la ejecución de las medidas con los volúmenes de agua empleados, su origen, métodos de riego empleados, áreas y vías en las cuales fue realizado y ii) análisis de la información meteorológica para el balance hídrico de evaporación-precipitación en los periodos de riego."},{"$f":"'CARRETERAS Y TÚNELES'!F14","v":"N/A"},{"$f":"'CARRETERAS Y TÚNELES'!G14","v":"Aplica"},{"$f":"'CARRETERAS Y TÚNELES'!H14","v":"N/A"},{"$f":"'CARRETERAS Y TÚNELES'!I14","v":"N/A"},{"$f":"'CARRETERAS Y TÚNELES'!J14","v":"Permanente"}]
[{"$f":"'CARRETERAS Y TÚNELES'!D15","v":0},{"$f":"'CARRETERAS Y TÚNELES'!B15","v":"CAMBIO CLIMÁTICO"},{"$f":"'CARRETERAS Y TÚNELES'!E15","v":"Presentar en el primer Informe de Cumplimiento Ambiental – ICA de la fase constructiva del proyecto (o en el siguiente Informe de Cumplimiento Ambiental – ICA, si es modificación de licencia) el plan integral de gestión de Cambio Climático del proyecto, contemplando como mínimo:\n\na) La cuantificación del alcance directo e indirecto (indirecto opcional) de las emisiones de gases efecto invernadero - GEI, como: dióxido de carbono (CO2), óxido nitroso (N2O), metano (CH4), hidrofluorocarbonos (HFC), perfluorocarbonos (PFC), Trifluoruro de nitrógeno (NF6) y Hexafluoruro de Azufre (SF6) en toneladas de CO2eq, de acuerdo con la Norma Técnica Colombiana NTC-ISO 14064-1: 2020 o aquella que la modifique o sustituya. En caso de que por la naturaleza del proyecto no se requiera de la estimación de alguno(s) de los gases, justificar técnicamente. Presentar los resultados en hoja de cálculo (excel editable), junto con su  respectivo análisis, la cual deberá contemplar como minimo: puntos de emisión ID, alcance, tipo de fuente generadora GEI, nombre fuente de emisión GEI, caracteristicas de la fuente de GEI, categoria IPCC equivalente, Nombre de la sustancia, método de determinación de la emisión, emision (carga emitida) determinada (kg/año), potencial de calentamiento global, emisión (tonelada de CO2e/año), tipo de verificación GEI. Realizar la actualización de la cuantificación de emisiones de GEI (de manera semestral / al finalizar la vida util del proyecto -si el proyecto tiene una duración inferior a 2 años-. Seleccionar la periodicidad de acuerdo con la duración del proyecto) y presentarla a través de los respectivos Informes de Cumplimiento Ambiental – ICA.\nb) Relación de acciones de mitigación y estimado de reducción de GEI en hoja de cálculo editable, contemplando como minimo: Nombre de la medida, objetivo, descripción de la medida y acciones a seguir, potencial de mitigación de la medida (toneladas de CO2 eq), indicador propuesto, fecha de inicio y fin de implementación y avance de implementación (%), entre otras. Adicionalmente, presentar (de manera semestral / al finalizar la vida util del proyecto -si el proyecto tiene una duración inferior a 2 años-. Seleccionar la periodicidad de acuerdo con la duración del proyecto) a través de los correspondientes Informes de Cumplimiento Ambiental - ICA el reporte del avance de las acciones en la hoja de cálculo editable y los soportes que evidencien el cumplimiento de las mismas por cada periodo.\nc) El análisis de vulnerabilidad al cambio climático, compuesto por la sensibilidad climática y la capacidad de adaptación, asi como el análisis de riesgo climático que incorpora la amenaza, sensibilidad climática, la capacidad adaptativa y los elementos expuestos de acuerdo con las directrices del IPCC.\nd) Relación de acciones de adaptación al cambio climático y la variabilidad climática, que contribuyan a la reducción del riesgo sobre los recursos naturales renovables o al ambiente. Se debe presentar en hoja de cálculo editable, contemplando como mínimo: Nombre de la medida, amenaza que atiende, objetivo, descripción de la medida y acciones a seguir, Dimensión de vulnerabilidad TCNCC, Indicador propuesto, fecha de inicio de implementación, fecha fin de implementación y avance implementación (%). Adicionalmente, presentar (de manera semestral / al finalizar la vida util del proyecto -si el proyecto tiene una duración inferior a 2 años-. Seleccionar la periodicidad de acuerdo con la duración del proyecto) a través de los respectivos Informes de Cumplimiento Ambiental - ICA el reporte del avance de las acciones en la hoja de cálculo editable y los soportes que evidencien el cumplimiento de las mismas por cada periodo."},{"$f":"'CARRETERAS Y TÚNELES'!F15","v":"N/A"},{"$f":"'CARRETERAS Y TÚNELES'!G15","v":"Aplica"},{"$f":"'CARRETERAS Y TÚNELES'!H15","v":"N/A"},{"$f":"'CARRETERAS Y TÚNELES'!I15","v":"N/A"},{"$f":"'CARRETERAS Y TÚNELES'!J15","v":"Permanente"}]
[{"$f":"'CARRETERAS Y TÚNELES'!D16","v":0},{"$f":"'CARRETERAS Y TÚNELES'!B16","v":"CAMBIO CLIMÁTICO"},{"$f":"'CARRETERAS Y TÚNELES'!E16","v":"Presentar en el primer Informe de Cumplimiento Ambiental – ICA de la fase constructiva del proyecto (o en el siguiente Informe de Cumplimiento Ambiental – ICA, si es modificación de licencia) el plan integral de gestión de Cambio Climático del proyecto, contemplando como mínimo:\n\na) La cuantificación del alcance directo e indirecto (indirecto opcional) de las emisiones de gases efecto invernadero - GEI, como: dióxido de carbono (CO2), óxido nitroso (N2O), metano (CH4), hidrofluorocarbonos (HFC), perfluorocarbonos (PFC), Trifluoruro de nitrógeno (NF6) y Hexafluoruro de Azufre (SF6) en toneladas de CO2eq, de acuerdo con la Norma Técnica Colombiana NTC-ISO 14064-1: 2020 o aquella que la modifique o sustituya. En caso de que por la naturaleza del proyecto no se requiera de la estimación de alguno(s) de los gases, justificar técnicamente. Presentar los resultados en hoja de cálculo (excel editable), junto con su  respectivo análisis, la cual deberá contemplar como minimo: puntos de emisión ID, alcance, tipo de fuente generadora GEI, nombre fuente de emisión GEI, caracteristicas de la fuente de GEI, categoria IPCC equivalente, Nombre de la sustancia, método de determinación de la emisión, emision (carga emitida) determinada (kg/año), potencial de calentamiento global, emisión (tonelada de CO2e/año), tipo de verificación GEI. Realizar la actualización de la cuantificación de emisiones de GEI (de manera semestral / al finalizar la vida util del proyecto -si el proyecto tiene una duración inferior a 2 años-. Seleccionar la periodicidad de acuerdo con la duración del proyecto) y presentarla a través de los respectivos Informes de Cumplimiento Ambiental – ICA.\nb) El análisis de vulnerabilidad al cambio climático, compuesto por la sensibilidad climática y la capacidad de adaptación, asi como el análisis de riesgo climático que incorpora la amenaza, sensibilidad climática, la capacidad adaptativa y los elementos expuestos de acuerdo con las directrices del IPCC.\nc) Relación de acciones de adaptación al cambio climático y la variabilidad climática, que contribuyan a la reducción del riesgo sobre los recursos naturales renovables o al ambiente. Se debe presentar en hoja de cálculo editable, contemplando como mínimo: Nombre de la medida, amenaza que atiende, objetivo, descripción de la medida y acciones a seguir, Dimensión de vulnerabilidad TCNCC, Indicador propuesto, fecha de inicio de implementación, fecha fin de implementación y avance implementación (%). Adicionalmente, presentar (de manera semestral / al finalizar la vida util del proyecto -si el proyecto tiene una duración inferior a 2 años-. Seleccionar la periodicidad de acuerdo con la duración del proyecto) a través de los respectivos Informes de Cumplimiento Ambiental - ICA el reporte del avance de las acciones en la hoja de cálculo editable y los soportes que evidencien el cumplimiento de las mismas por cada periodo."},{"$f":"'CARRETERAS Y TÚNELES'!F16","v":"N/A"},{"$f":"'CARRETERAS Y TÚNELES'!G16","v":"Aplica"},{"$f":"'CARRETERAS Y TÚNELES'!H16","v":"N/A"},{"$f":"'CARRETERAS Y TÚNELES'!I16","v":"N/A"},{"$f":"'CARRETERAS Y TÚNELES'!J16","v":"Permanente"}]
[{"$f":"'CARRETERAS Y TÚNELES'!D17","v":0},{"$f":"'CARRETERAS Y TÚNELES'!B17","v":"RUIDO"},{"$f":"'CARRETERAS Y TÚNELES'!E17","v":"Realizar los monitoreos de ruido ambiental y entregar los respectivos soportes en los Informes de Cumplimiento Ambiental - ICA, teniendo en cuenta lo siguiente:\n\na) Los monitoreos de ruido deben cumplir con los parámetros y procedimientos establecidos en la Resolución 0627 de 2006 del MAVDT y el estándar internacional ISO 1996 incluyendo el análisis de bajas frecuencias, o aquellas que la modifiquen, deroguen o sustituyan.\nb) Durante las etapas de construcción, operación y desmantelamiento, realizar monitoreos de ruido ambiental durante dos (2) días a la semana, garantizando que uno de estos días sea dominical, durante (relacionar la duranción del monitoreo de acuerdo con la nota 1). La periodicidad del monitoreo será semestral para la fase constructiva y de desmantelamiento y abandono y anual para la fase operativa. Los puntos de monitoreo deben tener una adecuada micro localización evitando obstáculos entre la fuente y el punto de muestreo. La ubicación de los equipos debe permitir en lo posible una relación señal ruido que permita la identificación de la fuente objeto de estudio sobre el ruido ambiente. \nc) Los puntos de monitoreo deberán coincidir con los puntos monitoreados en la línea base presentada en el EIA, y en caso de que se presenten nuevos potenciales receptores de interés, considerar puntos adicionales de monitoreo, los cuales se localizarán estratégicamente respecto a la ubicación de estos receptores.\nd) Los niveles de presión sonora de cada uno de los puntos de monitoreo, deben ser presentados con el nivel total y discriminados en bandas de tercios de octava para cada hora de medición.\ne) Los monitoreos deben caracterizar los periodos de operación más representativos dentro de cada periodo de reporte, en este sentido se debe considerar la medición de manera simultánea en todos los puntos a fin de tener una trazabilidad en el tiempo y espacio de cada escenario evaluado. Se deberá contar tantos equipos como puntos de muestreo para realizar las mediciones simultáneas y continuas durante todo el desarrollo del monitoreo.\nf) Los monitoreos de ruido deben aportar las correcciones de ruido asociadas al tipo de fuente, así como incertidumbre de medida de acuerdo con lo estipulado en la Resolución 0627 del MADS e ISO 1996 a fin de estimar los efectos que puedan generarse por la operación de la fuente objeto de estudio para todas y cada una de las etapas del proyecto.\ng) Presentar en los respectivos Informes de Cumplimiento Ambiental - ICA los informes de los monitoreos de ruido, incluyendo la información requerida en el Artículo 21 de la Resolución 0627 de 2006. Incluir en el informe la comparación de las mediciones con los estándares máximos permisibles establecidos en la Resolución 0627 de 2006 (o la que la modifique, derogue o sustituya), con la línea base presentada en el instrumento de manejo y control ambiental para ruido ambiental y con las mediciones de emisión de ruido para cada hora monitoreada.\nh) Georreferenciar en mapas temáticos los puntos de monitoreo sobre la información de uso actual de suelo y de los instrumentos de ordenamiento territorial del área de influencia con la respectiva justificación de la selección de los sectores de ruido establecidos en la Resolución 627 de 2006, cada que se actualicen los instrumentos de ordenamiento territorial y/o se incluyan nuevos puntos de monitoreo. Presentar esta información en los respectivos Informes de Cumplimiento Ambiental - ICA.\ni) Actualizar el inventario de potenciales receptores de interés (asentamientos poblacionales, viviendas, infraestructura social y ecosistemas estratégicos) del proyecto y presentarlo cuando se presenten cambios."},{"$f":"'CARRETERAS Y TÚNELES'!F17","v":"N/A"},{"$f":"'CARRETERAS Y TÚNELES'!G17","v":"Aplica"},{"$f":"'CARRETERAS Y TÚNELES'!H17","v":"N/A"},{"$f":"'CARRETERAS Y TÚNELES'!I17","v":"N/A"},{"$f":"'CARRETERAS Y TÚNELES'!J17","v":"Permanente"}]
[{"$f":"'CARRETERAS Y TÚNELES'!D18","v":0},{"$f":"'CARRETERAS Y TÚNELES'!B18","v":"RUIDO"},{"$f":"'CARRETERAS Y TÚNELES'!E18","v":"Realizar los monitoreos de emisión de ruido y entregar los respectivos soportes en los Informes de Cumplimiento Ambiental - ICA, teniendo en cuenta lo siguiente:\n\na) Seleccionar puntos en los límites industriales de la operación donde se identifique la mayor emisión de ruido para realizar los monitoreos de emisión.\nb) Cumplir con los parámetros y procedimientos establecidos en la Resolución 0627 de 2006 del MAVDT o aquellas que la modifiquen, deroguen o sustituyan, para lo cual deberá contemplarse monitoreos con las fuentes prendidas (y apagadas de ser posible).\nc)Realizar los monitoreos de emisión de ruido dentro de la campaña de monitoreo de ruido ambiental, en los periodos de operación más representativos en tiempo y lugar de la actividad, al menos durante 1 día.\nd) Georreferenciar en mapas temáticos los puntos de monitoreo sobre la información de uso actual de suelo y de los instrumentos de ordenamiento territorial del área de influencia con la respectiva justificación de la selección de los sectores de ruido establecidos en el Artículo 9 y su parágrafo primero de la Resolución 627 de 2006, cada que se actualicen los instrumentos de ordenamiento territorial y/o se incluyan nuevos puntos de monitoreo. Presentar esta información en los respectivos Informes de Cumplimiento Ambiental - ICA.\ne) Presentar en los respectivos Informes de Cumplimiento Ambiental - ICA los informes de los monitoreos de ruido, incluyendo la información requerida en el Artículo 21 de la Resolución 0627 de 2006. Incluir en el informe la comparación de las mediciones con los estándares máximos permisibles establecidos en la Resolución 0627 de 2006 (o la que la modifique, derogue o sustituya) y con los monitoreos de ruido ambiental."},{"$f":"'CARRETERAS Y TÚNELES'!F18","v":"N/A"},{"$f":"'CARRETERAS Y TÚNELES'!G18","v":"Aplica"},{"$f":"'CARRETERAS Y TÚNELES'!H18","v":"N/A"},{"$f":"'CARRETERAS Y TÚNELES'!I18","v":"N/A"},{"$f":"'CARRETERAS Y TÚNELES'!J18","v":"Permanente"}]
[{"$f":"'CARRETERAS Y TÚNELES'!D19","v":0},{"$f":"'CARRETERAS Y TÚNELES'!B19","v":"RUIDO"},{"$f":"'CARRETERAS Y TÚNELES'!E19","v":"Realizar los inventarios de fuentes de manera anual para la fase constructiva o cada vez que se presenten cambios en el inventario de fuentes generadoras de ruido y/o de potenciales receptores de interés a los inicialmente identificados,, dando cumplimiento a las siguientes condiciones y presentar los respectivos soportes en los Informes de Cumplimiento Ambiental - ICA:\n\na) Realizar un inventario de fuentes de emisión de ruido en el área del proyecto de tipo puntual, lineal o de área identificando ubicación, trazados internos, horas de operación por periodo de acuerdo con los horarios estipulados en el Artículo 2 de la resolución 627 de 2006 del MADS.\nb) Para las fuentes a las cuales no se les realice mediciones de caracterización de potencia bajo estándares internacionales, se debe aportar las respectivas fichas técnicas de todas y cada una de las fuentes identificadas, con i) la capacidad, ii) potencia, iii) dimensiones, iv) niveles de emisión de ruido a distancias conocidas, especificando la ponderación (p. ej. dB(A) o dB(Z)), v) potencia acústica de las fuentes preferiblemente con una resolución de 1/3 de octava. De no contar con dicha información, obtener información de fuentes secundarias, tales como base de datos, con el origen de la información, los niveles Lw y los valores que componen el espectro en frecuencia en 1/1 octava o 1/3 de octava; de ser posible y durante la etapa operativa se debe caracterizar dicho parámetro a la luz de un estándar internacional que permita la adecuada caracterización y evaluación de la emisión de la fuente.\nc) Para fuentes de tráfico, inventariar los tipos de vías previamente identificadas en el área de influencia y caracterizar el tráfico vehicular asociado, teniendo en cuenta las dinámicas o variaciones temporales del volumen del tráfico con una resolución de (ocho (8) horas / veinticuatro (24) horas continuas por día, en día hábil y festivo. Seleccionar de acuerdo con los horarios de construcción y operación aplicable al POA) incluyendo los periodos de mayor y menor flujo y clasificación del parque automotor que transite por las vías por peso, velocidad de diseño de las vías identificadas, identificación y características del punto de aforo (como mínimo ancho de calzada, número de carriles, pendiente), tipo de rodadura (pavimentada o destapada) u otras variables solicitadas por el método de modelación empleado.\nd) Georreferenciar el inventario de fuentes, vías y receptores y proyectarlo en mapas temáticos. De igual manera, adjuntar la información espacial asociada a estos en los anexos de los diferentes documentos o memorias técnicas. Así mismo, se deben presentar los archivos georreferenciados de acuerdo con el modelo de almacenamiento geográfico establecido en la Resolución 2182 de 2016 del MADS, y/o la que las modifiquen, deroguen o sustituyan.\ne) Incorporar los inventarios de ruido en los análisis de los monitoreos de ruido y los modelos de niveles de presión sonora."},{"$f":"'CARRETERAS Y TÚNELES'!F19","v":"N/A"},{"$f":"'CARRETERAS Y TÚNELES'!G19","v":"Aplica"},{"$f":"'CARRETERAS Y TÚNELES'!H19","v":"N/A"},{"$f":"'CARRETERAS Y TÚNELES'!I19","v":"N/A"},{"$f":"'CARRETERAS Y TÚNELES'!J19","v":"Permanente"}]
[{"$f":"'CARRETERAS Y TÚNELES'!D20","v":0},{"$f":"'CARRETERAS Y TÚNELES'!B20","v":"RUIDO"},{"$f":"'CARRETERAS Y TÚNELES'!E20","v":"Realizar la modelación de ruido de manera anual para la fase constructiva o cada vez que se presenten cambios en el inventario de fuentes generadoras de ruido y/o de potenciales receptores de interés a los inicialmente identificados, y presentar en los respectivos Informes de Cumplimiento Ambiental - ICA:\n\na) Cartografía detallada de la zona, que incluya: curvas de nivel y modelo digital de elevación de terreno que contengan las fuentes de interés y que abarquen hasta los receptores; la resolución debe ser representativa del terreno a una escala detallada en fuentes y receptores tomando como referencia lo establecido en la ISO9613 y la ISO17534, así mismo, presentar la distribución en plano (layout) del área que permita la identificación cartográfica de las fuentes o áreas de operación.\nb) Método de cálculo implementado según el modelo.\nc) Meteorología y condiciones de propagación del ruido (temperatura, velocidad, dirección del viento y presión atmosférica).\nd) Cálculo de niveles de ruido sobre los receptores previamente identificados en la caracterización y aporte de la fuente sobre el ruido ambiente en el dominio de simulación del proyecto.\ne) Los escenarios a simular deben considerar periodo diurno y nocturno. Detallar las suposiciones, alcances y limitaciones consideradas en la modelación.\nf) Análisis de resultados que permitan identificar los aportes sobre los receptores, tomando como referencia los estándares máximos permisibles establecidos en la Resolución 0627 de 2006, o aquella que la modifique, derogue o sustituya.\ng) Adjuntar los datos de entrada y salida del modelo, memorias de cálculo y demás soportes de la modelación como archivos nativos, shape file, DWG.\nh) En caso de existir una afectación sobre los receptores previamente identificados, proponer medidas o sistemas de control adecuadas según el caso y viabilidad de estas de acuerdo con la operación, y presentar: cálculos y descripción del procedimiento de obtención del sistema de control empleado, representación en mapas de ruido y sistemas de control propuesto, así como un monitoreo que evidencie la efectividad de la barrera tomando como referencia estándares internacionales."},{"$f":"'CARRETERAS Y TÚNELES'!F20","v":"N/A"},{"$f":"'CARRETERAS Y TÚNELES'!G20","v":"Aplica"},{"$f":"'CARRETERAS Y TÚNELES'!H20","v":"N/A"},{"$f":"'CARRETERAS Y TÚNELES'!I20","v":"N/A"},{"$f":"'CARRETERAS Y TÚNELES'!J20","v":"Permanente"}]
[{"$f":"'CARRETERAS Y TÚNELES'!D21","v":0},{"$f":"'CARRETERAS Y TÚNELES'!B21","v":"RUIDO"},{"$f":"'CARRETERAS Y TÚNELES'!E21","v":"Implementar las medidas de control y mitigación de ruido, y presentar en los Informes de Cumplimiento Ambiental - ICA los soportes que evidencien el cumplimiento de lo siguiente:\n\na) Los niveles de emisión de ruido deben compararse con los límites establecidos en la Resolución 0627 de 2006, o la que la modifique, derogue o sustituya, para aquellas fuentes de emisiones sonoras representativas, teniendo en cuenta para ello la trascendencia al uso de suelo de mayor restricción, asegurando que las medidas planteadas y adoptadas sean técnicamente viables. La Sociedad deberá demostrar que las emisiones sonoras no generan aportes adicionales sobre los niveles de ruido ambiental caracterizados en la línea base, en los receptores sensibles como viviendas y puntos de interés faunístico implementando, en caso necesario, medidas de control adecuadas.\nb) Describir las medidas asociadas a los sistemas de control implementadas sobre las fuentes de emisión de ruido relacionando su tipología (p. eje. pantalla, silenciador, encapsulamiento entre otros) y eficiencia asociada, dicha información debe estar acompañada y soportada por medio de documento técnico.\nc) Relacionar las prácticas encaminadas a la diminución de ruido desde y hacia el entorno identificando la fuente y el proceso empleado."},{"$f":"'CARRETERAS Y TÚNELES'!F21","v":"N/A"},{"$f":"'CARRETERAS Y TÚNELES'!G21","v":"Aplica"},{"$f":"'CARRETERAS Y TÚNELES'!H21","v":"N/A"},{"$f":"'CARRETERAS Y TÚNELES'!I21","v":"N/A"},{"$f":"'CARRETERAS Y TÚNELES'!J21","v":"Permanente"}]
[{"$f":"'CARRETERAS Y TÚNELES'!D22","v":0},{"$f":"'CARRETERAS Y TÚNELES'!B22","v":"VIBRACIONES"},{"$f":"'CARRETERAS Y TÚNELES'!E22","v":"Realizar monitoreo de vibraciones por efecto de las voladuras y tráfico pesado sobre las edificaciones que puedan ser afectadas por las actividades del proyecto, de acuerdo con el tipo de fuente / actividad y presentar los respectivos soportes en los Informes de Cumplimiento Ambiental - ICA, contemplando lo siguiente:\n\na) Los monitoreos de vibración sobre estructuras deben contemplar las recomendaciones en cuanto a equipos de medida y procedimientos de medición de los niveles: de velocidad pico de partícula e identificando la frecuencia máxima dominante establecidas en el estándar Alemán DIN 4150 - 1 y 3 - normativas de referencia (DIN 45669 - 1 y 2) o cualquier otro estándar con unidad de medida que evalúe las vibraciones. Los equipos de medición deben tener certificados de calibración vigente, como mínimo cada año o de acuerdo al periodo estipulado por el fabricante o la norma o estándar de referencia adoptado.\nb) Las mediciones deben estar orientadas a caracterizar la velocidad pico de partícula en mm/s (En adelante PPV) en 3 ejes de evaluación (x, y, z), en las frecuencias de análisis entre 1Hz y 315 Hz. Tanto las unidades en términos de desplazamiento, velocidad o aceleración (p.ej. PPV, VdB u otro), el perfil de frecuencias, y en general la configuración de los equipos, como la ubicación del sensor y el análisis de la evaluación de los cambios en la infraestructura, por ejemplo, pisos altos o bajos, deben cumplir con las especificaciones definidas según el método de medición seleccionado.\nc) Los resultados de las mediciones deben comparase con los límites criterio propuestos por el estándar adoptado de acuerdo al tipo de infraestructura evaluada.\nd) Para aquellos eventos en que los niveles establecidos por el estándar adoptado superen los límites para el tipo de infraestructura, se deberá reportar la fuente que lo causa y de manera objetiva los posible sistemas o medidas de mitigación de la vibración que lo genera. De igual manera, evaluar por medio de modelaciones de propagación de las ondas de vibración su incidencia sobre la infraestructura cercana y sobre los receptores."},{"$f":"'CARRETERAS Y TÚNELES'!F22","v":"N/A"},{"$f":"'CARRETERAS Y TÚNELES'!G22","v":"Aplica"},{"$f":"'CARRETERAS Y TÚNELES'!H22","v":"N/A"},{"$f":"'CARRETERAS Y TÚNELES'!I22","v":"N/A"},{"$f":"'CARRETERAS Y TÚNELES'!J22","v":"Permanente"}]
[{"$f":"'CARRETERAS Y TÚNELES'!D23","v":0},{"$f":"'CARRETERAS Y TÚNELES'!B23","v":"EXPLORACIÓN DE AGUAS SUBTERRÁNEAS"},{"$f":"'CARRETERAS Y TÚNELES'!E23","v":"Finalizada la perforación del pozo de exploración realizar una prueba de bombeo, la cual cumplirá con las siguientes condiciones:\n\na) Duración mínima de bombeo de 24 horas continuas o hasta alcanzar la estabilización del nivel piezométrico.\nb) Realizarse escalonada y a caudal constante, registrando niveles durante el bombeo y la recuperación, hasta alcanzar al menos el 90% del nivel estático.\nc) Para la caracterización hidráulica de los acuíferos incluir pozos de observación/piezómetros que capten de los mismos niveles acuíferos del pozo exploratorio. Para ello, construir al menos un pozo de observación /piezómetro para ese fin o emplear pozos aledaños existentes de los que se conozca el diseño y que estén dentro del radio de influencia del cono de abatimiento previsto para el pozo exploratorio. \nd) Medir los niveles estáticos y dinámicos tanto en el pozo bombeado como en el(los) pozo(s) de observación/piezómetro(s).\ne) La frecuencia de medición de niveles (abatimiento y recuperación) en el pozo de captación y pozo(s) de observación/piezómetro(s), debe garantizar alrededor de 10 observaciones por ciclo logarítmico del tiempo para elaborar la curva de abatimiento versus tiempo.\nf) Asegurar que el agua producto de la(s) prueba(s) de bombeo, se disponga en el suelo o en una fuente de agua superficial una vez terminada la prueba, garantizando las medidas adecuadas para su disposición, sin impactar el sistema receptor. Por ningún motivo, se podrá dar un uso diferente a esta agua."},{"$f":"'CARRETERAS Y TÚNELES'!F23","v":"N/A"},{"$f":"'CARRETERAS Y TÚNELES'!G23","v":"Aplica"},{"$f":"'CARRETERAS Y TÚNELES'!H23","v":"N/A"},{"$f":"'CARRETERAS Y TÚNELES'!I23","v":"N/A"},{"$f":"'CARRETERAS Y TÚNELES'!J23","v":"Temporal"}]
[{"$f":"'CARRETERAS Y TÚNELES'!D24","v":0},{"$f":"'CARRETERAS Y TÚNELES'!B24","v":"EXPLORACIÓN DE AGUAS SUBTERRÁNEAS"},{"$f":"'CARRETERAS Y TÚNELES'!E24","v":"Realizar la caracterización fisicoquímica y microbiológica del agua subterránea una vez finalice el bombeo, cumpliendo con las siguientes condiciones:\n\na) Medir las siguientes características físicas de el(los) pozo(s) de observación/piezómetro(s): profundidad, nivel topográfico y nivel piezométrico donde se toma la muestra.\nb) Medir los siguientes parámetros fisicoquímicos y microbiológicos: pH, conductividad eléctrica, temperatura, potencial rédox, oxígeno disuelto, sólidos disueltos totales, color, turbiedad, alcalinidad, dureza, aniones y cationes (Na+, K+, Mg++, Ca++, Fe total, SO4=, Cl-, NO3-, CO3=, HCO3-), coliformes totales, coliformes fecales y E. Coli. Presentar al término del permiso de exploración de aguas subterráneas, los reportes de laboratorio, las cadenas de custodia y el análisis de resultados de conformidad con el uso para el cual se vaya a destinar el recurso hídrico.\nc) Calcular y presentar el valor del error analítico (%) a partir de la sumatoria de aniones y cationes.  Solo podrán reportarse las caracterizaciones de muestras que tengan errores analíticos inferiores a ±10%. Presentar dichos cálculos al término del permiso de exploración de aguas subterráneas."},{"$f":"'CARRETERAS Y TÚNELES'!F24","v":"N/A"},{"$f":"'CARRETERAS Y TÚNELES'!G24","v":"Aplica"},{"$f":"'CARRETERAS Y TÚNELES'!H24","v":"N/A"},{"$f":"'CARRETERAS Y TÚNELES'!I24","v":"N/A"},{"$f":"'CARRETERAS Y TÚNELES'!J24","v":"Temporal"}]
[{"$f":"'CARRETERAS Y TÚNELES'!D25","v":0},{"$f":"'CARRETERAS Y TÚNELES'!B25","v":"EXPLORACIÓN DE AGUAS SUBTERRÁNEAS"},{"$f":"'CARRETERAS Y TÚNELES'!E25","v":"Presentar el informe final de exploración de agua subterránea en un plazo de sesenta (60) días hábiles al término del permiso de exploración de aguas subterráneas, de acuerdo con el artículo 2.2.3.2.16.10 del Decreto 1076 de 2015, el cual incluirá adicional a lo exigido en dicho numeral: \n\na) Registro eléctrico (resistividad, Gamma Ray y Potencial Espontáneo). \nb) Diseño definitivo de el(los) pozo(s): nivel topográfico, diámetro, materiales, longitud y ubicación de filtros y sellos hidráulicos.\nc) Informe de ejecución y resultados de las pruebas de bombeo, incluyendo: nivel estático, dinámico y caudal de la prueba, cálculo de abatimiento y cono de abatimiento, formatos de campo que den soporte a la información presentada, descripción de los pozos de observación empleados en la prueba de bombeo y memoria de cálculo de los parámetros hidrogeológicos que incluya: análisis diagnóstico de la prueba, ecuación del pozo, transmisividad, coeficiente de almacenamiento, conductividad hidráulica, caudal recomendado de explotación y rendimiento del pozo.\nd) Análisis hidrogeoquímico empleando métodos gráficos adecuados (Piper, Stiff, u otro), relaciones inter paramétricas y correlación de la química del agua con el conocimiento geológico, geoquímico e hidrogeológico.  \ne) \"Formato de Hoja de Vida de Pozo de Captación - Aguas Subterráneas\" actualizado.\nf) \"Formato de Hoja de Vida de Pozo de Observación/Piezómetro - Aguas Subterráneas\" actualizado."},{"$f":"'CARRETERAS Y TÚNELES'!F25","v":"N/A"},{"$f":"'CARRETERAS Y TÚNELES'!G25","v":"Aplica"},{"$f":"'CARRETERAS Y TÚNELES'!H25","v":"N/A"},{"$f":"'CARRETERAS Y TÚNELES'!I25","v":"N/A"},{"$f":"'CARRETERAS Y TÚNELES'!J25","v":"Temporal"}]
[{"$f":"'CARRETERAS Y TÚNELES'!D26","v":0},{"$f":"'CARRETERAS Y TÚNELES'!B26","v":"CONCESIÓN AGUAS SUBTERRÁNEAS"},{"$f":"'CARRETERAS Y TÚNELES'!E26","v":"Realizar un registro diario del caudal captado a través de la instalación de equipos de medición que se encuentren debidamente calibrados. La elección del medidor, calibración, instalación y mantenimiento de los equipos de medición debe cumplir con lo dispuesto en la NTC-ISO 4064 1-2-3: 2016, o aquellas que la modifiquen, deroguen o sustituyan. El registro consolidado se entregará conforme el modelo de almacenamiento geográfico establecido en la Resolución 2182 del 2016 del MADS, o aquella norma que la modifique, derogue o sustituya. Adicionalmente, entregar los registros de campo, dentro de los que se debe incluir un registro fotográfico mes vencido del caudal captado a través del medidor de flujo, y los certificados de calibración de los equipos de medición de caudal. "},{"$f":"'CARRETERAS Y TÚNELES'!F26","v":"N/A"},{"$f":"'CARRETERAS Y TÚNELES'!G26","v":"Aplica"},{"$f":"'CARRETERAS Y TÚNELES'!H26","v":"N/A"},{"$f":"'CARRETERAS Y TÚNELES'!I26","v":"N/A"},{"$f":"'CARRETERAS Y TÚNELES'!J26","v":"Permanente"}]
[{"$f":"'CARRETERAS Y TÚNELES'!D27","v":0},{"$f":"'CARRETERAS Y TÚNELES'!B27","v":"CONCESIÓN AGUAS SUBTERRÁNEAS"},{"$f":"'CARRETERAS Y TÚNELES'!E27","v":"Realizar una vez al mes mediciones del nivel estático y dinámico del pozo, así como la medición de parámetros in situ (pH, temperatura, conductividad eléctrica, oxígeno disuelto y sólidos disueltos totales), y presentar en los respectivos Informes de Cumplimiento Ambiental - ICA: \n\na) Base de datos con la información solicitada de manera acumulada, en hoja de cálculo, analizando la tendencia y comportamiento de los niveles y variables químicas in situ solicitadas.\nb) Registros de campo de la toma de datos, para el periodo reportado.\nc) Certificados de calibración del(los) equipo(s) de medición vigentes según la periodicidad que establezca el fabricante del equipo. "},{"$f":"'CARRETERAS Y TÚNELES'!F27","v":"N/A"},{"$f":"'CARRETERAS Y TÚNELES'!G27","v":"Aplica"},{"$f":"'CARRETERAS Y TÚNELES'!H27","v":"N/A"},{"$f":"'CARRETERAS Y TÚNELES'!I27","v":"N/A"},{"$f":"'CARRETERAS Y TÚNELES'!J27","v":"Permanente"}]
[{"$f":"'CARRETERAS Y TÚNELES'!D28","v":0},{"$f":"'CARRETERAS Y TÚNELES'!B28","v":"CONCESIÓN AGUAS SUBTERRÁNEAS"},{"$f":"'CARRETERAS Y TÚNELES'!E28","v":"Realizar dos monitoreos al año, uno en época de máximas y otro en época de mínimas precipitaciones en el pozo de observación/piezómetro. En caso de que por condiciones de variabilidad climática no sea posible realizar los monitoreos en dichas épocas, justificar en el correspondiente ICA su ejecución en épocas de transición. Por otro lado, en caso de que el pozo de observación/piezómetro no se haya construido dentro del permiso de exploración de aguas subterráneas debido a la existencia de pozos aledaños dentro de la misma cuenca subterránea que permitieron conocer las características hidráulicas del acuífero, realizarlos en el pozo de captación de agua subterránea autorizado, bajo las siguientes condiciones:\n\na) Medir como mínimo los siguientes parámetros fisicoquímicos y microbiológicos: pH, temperatura, potencial rédox, color, turbiedad, alcalinidad, dureza, conductividad eléctrica, oxígeno disuelto, sólidos disueltos totales, aniones y cationes (Na+, K+, Mg++, Ca++, Fe total, SO4=, Cl-, NO3-, CO3=, HCO3-), coliformes totales y fecales y E. Coli. Presentar en los Informes de Cumplimiento Ambiental - ICA, los reportes de laboratorio, que incluyan la descripción metodología de toma de muestras y preservación, y las cadenas de custodia.\nb) Calcular y presentar el valor del error analítico (%) a partir de la sumatoria de aniones y cationes. Solo podrán reportarse las caracterizaciones de muestras que tengan errores analíticos inferiores a ±10%. Presentar dichos cálculos en los Informes de Cumplimiento Ambiental - ICA."},{"$f":"'CARRETERAS Y TÚNELES'!F28","v":"N/A"},{"$f":"'CARRETERAS Y TÚNELES'!G28","v":"Aplica"},{"$f":"'CARRETERAS Y TÚNELES'!H28","v":"N/A"},{"$f":"'CARRETERAS Y TÚNELES'!I28","v":"N/A"},{"$f":"'CARRETERAS Y TÚNELES'!J28","v":"Permanente"}]
[{"$f":"'CARRETERAS Y TÚNELES'!D29","v":0},{"$f":"'CARRETERAS Y TÚNELES'!B29","v":"CONCESIÓN AGUAS SUBTERRÁNEAS"},{"$f":"'CARRETERAS Y TÚNELES'!E29","v":"Presentar los informes de los monitoreos de calidad de agua subterránea y de niveles piezométricos en los respectivos Informes de Cumplimiento Ambiental - ICA, los cuales contendrán como mínimo:\n\na) Análisis de calidad del agua y de niveles estáticos y dinámicos, los cuales se realizarán en una base temporal evaluando el comportamiento de cada variable a través del tiempo y comparándolo con los parámetros medidos en la línea base presentada.\nb) Análisis hidrogeoquímico empleando métodos gráficos adecuados (Piper, Stiff, u otro), relaciones inter paramétricas y correlación de la química del agua con el conocimiento geológico, geoquímico, hidrogeológico y su evolución temporal, identificando un posible cambio de fase hidrogeoquímica respecto a la identificada en la línea base.\nc) \"Formato de Hoja de Vida de Pozo de Captación - Aguas Subterráneas\" actualizado.\nd) \"Formato de Hoja de Vida de Pozo de Observación/Piezómetro - Aguas Subterráneas\" actualizado (si aplica)."},{"$f":"'CARRETERAS Y TÚNELES'!F29","v":"N/A"},{"$f":"'CARRETERAS Y TÚNELES'!G29","v":"Aplica"},{"$f":"'CARRETERAS Y TÚNELES'!H29","v":"N/A"},{"$f":"'CARRETERAS Y TÚNELES'!I29","v":"N/A"},{"$f":"'CARRETERAS Y TÚNELES'!J29","v":"Permanente"}]
[{"$f":"'CARRETERAS Y TÚNELES'!D30","v":0},{"$f":"'CARRETERAS Y TÚNELES'!B30","v":"CONCESIÓN AGUAS SUBTERRÁNEAS"},{"$f":"'CARRETERAS Y TÚNELES'!E30","v":"Instalar un aviso informativo de fácil visibilidad en el sitio de captación autorizado, incluyendo la información de la licencia ambiental respecto a la concesión de aguas subterráneas: número, fecha de la resolución que otorga la concesión de aguas, nombre del titular de la licencia, información de contacto, coordenadas del punto de captación y el caudal autorizado de captación."},{"$f":"'CARRETERAS Y TÚNELES'!F30","v":"N/A"},{"$f":"'CARRETERAS Y TÚNELES'!G30","v":"Aplica"},{"$f":"'CARRETERAS Y TÚNELES'!H30","v":"N/A"},{"$f":"'CARRETERAS Y TÚNELES'!I30","v":"N/A"},{"$f":"'CARRETERAS Y TÚNELES'!J30","v":"Permanente"}]
[{"$f":"'CARRETERAS Y TÚNELES'!D31","v":0},{"$f":"'CARRETERAS Y TÚNELES'!B31","v":"CONCESIÓN AGUAS SUBTERRÁNEAS"},{"$f":"'CARRETERAS Y TÚNELES'!E31","v":"Cuando finalice la captación de agua subterránea, clausurar los pozos de observación y de captación de acuerdo a los lineamientos establecidos en la NTC 5539:2007 y/o conforme a las actualizaciones que se hagan de esta. Presentar informe respectivo y reporte de esta novedad en el \"Formato de Hoja de Vida de Pozo de Captación - Aguas Subterráneas\" y en el \"Formato de Hoja de Vida de Pozo de Observación/Piezómetro - Aguas Subterráneas\", si aplica."},{"$f":"'CARRETERAS Y TÚNELES'!F31","v":"N/A"},{"$f":"'CARRETERAS Y TÚNELES'!G31","v":"N/A"},{"$f":"'CARRETERAS Y TÚNELES'!H31","v":"N/A"},{"$f":"'CARRETERAS Y TÚNELES'!I31","v":"N/A"},{"$f":"'CARRETERAS Y TÚNELES'!J31","v":"Temporal"}]
[{"$f":"'CARRETERAS Y TÚNELES'!D32","v":0},{"$f":"'CARRETERAS Y TÚNELES'!B32","v":"CONCESIÓN AGUAS SUBTERRÁNEAS"},{"$f":"'CARRETERAS Y TÚNELES'!E32","v":"Presentar en los Informes de Cumplimiento Ambiental - ICA, según el  periodo reportado, los soportes que evidencien el cumplimiento de las metas e indicadores establecidas en el Programa de Uso Eficiente y Ahorro de Agua - PUEAA reglamentado bajo la 2.2.3.2.1.1.5 del Decreto 1076 del 2015 (Resolución 1257 del 2018), o aquella que la modifique, derogue o sustituya."},{"$f":"'CARRETERAS Y TÚNELES'!F32","v":"N/A"},{"$f":"'CARRETERAS Y TÚNELES'!G32","v":"Aplica"},{"$f":"'CARRETERAS Y TÚNELES'!H32","v":"N/A"},{"$f":"'CARRETERAS Y TÚNELES'!I32","v":"N/A"},{"$f":"'CARRETERAS Y TÚNELES'!J32","v":"Permanente"}]
[{"$f":"'CARRETERAS Y TÚNELES'!D33","v":0},{"$f":"'CARRETERAS Y TÚNELES'!B33","v":"CONCESIÓN AGUAS SUPERFICIALES"},{"$f":"'CARRETERAS Y TÚNELES'!E33","v":"Realizar un registro diario del caudal captado para captaciones permanentes e intermitentes a través de la instalación de equipos de medición que se encuentren debidamente calibrados. La elección del medidor, calibración, instalación y mantenimiento de los equipos de medición debe cumplir con lo dispuesto en la NTC-ISO 4064 1-2-3: 2016, o aquellas que la modifiquen, deroguen o sustituyan. El registro consolidado se entregará en los respectivos Informes de Cumplimiento Ambiental - ICA de acuerdo con el modelo de almacenamiento geográfico establecido en la Resolución 2182 del 2016 del MADS, o aquella norma que la modifique, derogue o sustituya."},{"$f":"'CARRETERAS Y TÚNELES'!F33","v":"N/A"},{"$f":"'CARRETERAS Y TÚNELES'!G33","v":"Aplica"},{"$f":"'CARRETERAS Y TÚNELES'!H33","v":"N/A"},{"$f":"'CARRETERAS Y TÚNELES'!I33","v":"N/A"},{"$f":"'CARRETERAS Y TÚNELES'!J33","v":"Permanente"}]
[{"$f":"'CARRETERAS Y TÚNELES'!D34","v":0},{"$f":"'CARRETERAS Y TÚNELES'!B34","v":"CONCESIÓN AGUAS SUPERFICIALES"},{"$f":"'CARRETERAS Y TÚNELES'!E34","v":"Realizar mediciones de nivel y caudal del cuerpo de agua donde se realiza la captación bajo las siguientes condiciones:\n\na) Localizar una sección transversal estable en un punto inmediatamente aguas arriba del sitio de la captación, teniendo en cuenta que no haya aportes o extracciones significativas de caudal (naturales o antrópicas), siguiendo los lineamientos establecidos por el Protocolo para el Monitoreo y Seguimiento del Agua (IDEAM, 2007), o aquel que lo modifique, derogue o sustituya, para la medición de caudal e instalar allí un medidor de nivel en el que se establezca el nivel correspondiente al caudal ambiental. Presentar en los Informes de Cumplimiento Ambiental - ICA los métodos seleccionados para medición de caudal y nivel y su justificación, de acuerdo con los métodos establecidos en el Protocolo en mención.\nb) Realizar las mediciones de niveles de la siguiente manera: para captaciones permanentes, con una frecuencia semanal durante todo el año y para captaciones intermitentes, inmediatamente antes del inicio de la captación y durante el periodo de la captación (definir la frecuencia de acuerdo con el tiempo en que se vaya a realizar la captación). A partir de la curva de calibración, presentar el cálculo de los caudales correspondientes. Presentar la base de datos en los respectivos Informes de Cumplimiento Ambiental - ICA.\nc) Realizar la calibración de la curva nivel-caudal de la sección transversal del cuerpo de agua, siguiendo lo establecido en el Protocolo en mención, dos veces al año considerando épocas de máximas y mínimas precipitaciones, de acuerdo con la variación hidrológica presentada en el EIA. En caso de que por condiciones de variabilidad climática no sea posible realizar la calibración de la curva nivel-caudal en dichas épocas, justificar en el correspondiente ICA su ejecución en épocas de transición. De la misma manera, realizar una vez al año el levantamiento de la sección transversal donde se calibró la curva nivel-caudal, y en caso de que identifique un cambio significativo en la geometría de la sección transversal presentada históricamente, proyectar los ajustes necesarios de la curva. Presentar los respectivos soportes en los Informes de Cumplimiento Ambiental - ICA.\nd) Presentar en los Informes de Cumplimiento Ambiental - ICA el análisis de la información acumulada y su comparación con los caudales obtenidos en la línea base (caudales medios, mínimos, máximos mensuales multianuales y caudales ambientales)."},{"$f":"'CARRETERAS Y TÚNELES'!F34","v":"N/A"},{"$f":"'CARRETERAS Y TÚNELES'!G34","v":"Aplica"},{"$f":"'CARRETERAS Y TÚNELES'!H34","v":"N/A"},{"$f":"'CARRETERAS Y TÚNELES'!I34","v":"N/A"},{"$f":"'CARRETERAS Y TÚNELES'!J34","v":"Permanente"}]
[{"$f":"'CARRETERAS Y TÚNELES'!D35","v":0},{"$f":"'CARRETERAS Y TÚNELES'!B35","v":"CONCESIÓN AGUAS SUPERFICIALES"},{"$f":"'CARRETERAS Y TÚNELES'!E35","v":"Realizar monitoreos físico químicos del recurso hídrico mínimo dos veces al año en el cuerpo de agua donde se realiza la captación, considerando épocas de máximas y mínimas precipitaciones. En caso de que por condiciones de variabilidad climática no sea posible realizar los monitoreos en dichas épocas, justificar en el correspondiente ICA su ejecución en épocas de transición. Realizar dichos monitoreos siguiendo los lineamientos establecidos en la Guía para el Monitoreo de Vertimientos, Aguas Superficiales y Subterráneas del 2002 del IDEAM o cualquiera que lo modifique, derogue o sustituya, cumpliendo con las siguientes condiciones:\n\na) Tomar una muestra integrada en la sección transversal establecida de acuerdo con los lineamientos de la Guía en mención.\nb) Realizar los monitoreos aguas arriba y aguas abajo del punto de captación, teniendo en cuenta que no haya aportes o extracciones significativas de caudal (naturales o antrópicas) entre los puntos de medición y el punto de captación.\nc) Registrar en cada monitoreo calidad como mínimo los siguientes parámetros: temperatura, pH, conductividad, oxígeno disuelto, DBO(5), DQO, grasas y aceites, turbiedad, alcalinidad, dureza y coliformes totales y fecales. \nd) Presentar en los Informes de Cumplimiento Ambiental - ICA, los reportes de laboratorio, las cadenas de custodia y el análisis multitemporal de los resultados que refleje la tendencia de la calidad del medio afectado por la concesión y su comparación con la línea base presentada en el estudio de viabilidad ambiental.\ne) Registrar el estado del tiempo (nubosidad, temperatura del aire, velocidad del viento, humedad relativa, temperatura del punto de rocío) durante el monitoreo."},{"$f":"'CARRETERAS Y TÚNELES'!F35","v":"N/A"},{"$f":"'CARRETERAS Y TÚNELES'!G35","v":"Aplica"},{"$f":"'CARRETERAS Y TÚNELES'!H35","v":"N/A"},{"$f":"'CARRETERAS Y TÚNELES'!I35","v":"N/A"},{"$f":"'CARRETERAS Y TÚNELES'!J35","v":"Permanente"}]
[{"$f":"'CARRETERAS Y TÚNELES'!D36","v":0},{"$f":"'CARRETERAS Y TÚNELES'!B36","v":"CONCESIÓN AGUAS SUPERFICIALES"},{"$f":"'CARRETERAS Y TÚNELES'!E36","v":"Suspender las actividades de captación cuando el caudal aguas arriba del punto de captación sea igual o inferior al caudal ambiental (cuando el caudal ambiental del cuerpo de agua donde se realiza la captación no se encuentre reglamentado por la autoridad regional, este deberá calcularse de manera mensual y para la condición climatológica normal, húmeda y seca), e informar a la autoridad ambiental competente y a la ANLA, dentro de las 24 h posteriores a la situación y por los medios legalmente establecidos, sobre la suspensión de actividades. Para ello, el titular de la presente licencia ambiental, implementará un sistema que permita validar el nivel del caudal previo a la actividad de captación. Así mismo, informar a la autoridad ambiental competente y a la ANLA dentro de las 24 horas posteriores a la reactivación de la captación."},{"$f":"'CARRETERAS Y TÚNELES'!F36","v":"N/A"},{"$f":"'CARRETERAS Y TÚNELES'!G36","v":"Aplica"},{"$f":"'CARRETERAS Y TÚNELES'!H36","v":"N/A"},{"$f":"'CARRETERAS Y TÚNELES'!I36","v":"N/A"},{"$f":"'CARRETERAS Y TÚNELES'!J36","v":"Temporal"}]
[{"$f":"'CARRETERAS Y TÚNELES'!D37","v":0},{"$f":"'CARRETERAS Y TÚNELES'!B37","v":"CONCESIÓN AGUAS SUPERFICIALES"},{"$f":"'CARRETERAS Y TÚNELES'!E37","v":"Instalar un aviso informativo de fácil visibilidad en el lugar de acceso a los sitios de captación autorizados, el cual incluya la información de la licencia ambiental respecto a  la concesión de aguas: número y fecha de la resolución que otorga la concesión, titular de la licencia, información de contacto, nombre de la fuente hídrica, coordenadas del punto de captación autorizada en la resolución, caudal autorizado de captación y caudal ambiental de la fuente."},{"$f":"'CARRETERAS Y TÚNELES'!F37","v":"N/A"},{"$f":"'CARRETERAS Y TÚNELES'!G37","v":"Aplica"},{"$f":"'CARRETERAS Y TÚNELES'!H37","v":"N/A"},{"$f":"'CARRETERAS Y TÚNELES'!I37","v":"N/A"},{"$f":"'CARRETERAS Y TÚNELES'!J37","v":"Permanente"}]
[{"$f":"'CARRETERAS Y TÚNELES'!D38","v":0},{"$f":"'CARRETERAS Y TÚNELES'!B38","v":"CONCESIÓN AGUAS SUPERFICIALES"},{"$f":"'CARRETERAS Y TÚNELES'!E38","v":"Para la captación del recurso mediante motobomba adosada a carrotanque, se deberá tener en cuenta:\n\na) Ubicar los carrotanques empleados para realizar las captaciones fuera de la ronda de protección del cuerpo a captar.\nb) Las zonas donde se parqueen los vehículos deberán garantizar la estabilidad de los taludes de las márgenes del cuerpo de agua de donde se realice la captación. \nc) El sitio donde se parqueen los vehículos garantizarán condiciones de impermeabilización y sistema de control de fluidos ante eventuales fugas y derrames de los vehículos.\nd) El vehículo deberá contar con un sistema de micromedición para controlar el caudal captado.\ne) Las motobombas y vehículos transportadores del agua deberán contar con los mantenimientos preventivos. Presentar en los Informes de Cumplimiento Ambiental - ICA los respectivos soportes. \nf) Diligenciar las planillas en campo, que incluyan: placa de vehículo, fecha, hora de inicio y final de la captación y lectura inicial y final del sistema de medición de caudal. Presentar las planillas en los Informes de Cumplimiento Ambiental - ICA."},{"$f":"'CARRETERAS Y TÚNELES'!F38","v":"N/A"},{"$f":"'CARRETERAS Y TÚNELES'!G38","v":"Aplica"},{"$f":"'CARRETERAS Y TÚNELES'!H38","v":"N/A"},{"$f":"'CARRETERAS Y TÚNELES'!I38","v":"N/A"},{"$f":"'CARRETERAS Y TÚNELES'!J38","v":"Permanente"}]
[{"$f":"'CARRETERAS Y TÚNELES'!D39","v":0},{"$f":"'CARRETERAS Y TÚNELES'!B39","v":"CONCESIÓN AGUAS SUPERFICIALES"},{"$f":"'CARRETERAS Y TÚNELES'!E39","v":"Para captación del recurso mediante equipo de bombeo fijo, se deberá tener en cuenta:\n\na) Ubicar el equipo de bombeo fijo sobre una base impermeabilizada fuera de la ronda de protección del cuerpo a captar y/o zonificación de manejo, la cual debe contar con techo, cerramiento, equipos para atender posibles conatos de incendios, kits para atender derrames de combustible, canales perimetrales que descolen en un tanque de almacenamiento para su posterior retiro, tratamiento y disposición final como residuo peligroso.\nb) El equipo de bombeo, deberá contar con un sistema de micromedición para controlar el caudal captado.\nc) Las motobombas deberán contar con los mantenimientos preventivos. Presentar en los Informes de Cumplimiento Ambiental - ICA los respectivos soportes. "},{"$f":"'CARRETERAS Y TÚNELES'!F39","v":"N/A"},{"$f":"'CARRETERAS Y TÚNELES'!G39","v":"Aplica"},{"$f":"'CARRETERAS Y TÚNELES'!H39","v":"N/A"},{"$f":"'CARRETERAS Y TÚNELES'!I39","v":"N/A"},{"$f":"'CARRETERAS Y TÚNELES'!J39","v":"Permanente"}]
[{"$f":"'CARRETERAS Y TÚNELES'!D40","v":0},{"$f":"'CARRETERAS Y TÚNELES'!B40","v":"CONCESIÓN AGUAS SUPERFICIALES"},{"$f":"'CARRETERAS Y TÚNELES'!E40","v":"Presentar en los Informes de Cumplimiento Ambiental - ICA, según el  periodo reportado, los soportes que evidencien el cumplimiento de las metas e indicadores establecidas en el Programa de Uso Eficiente y Ahorro de Agua - PUEAA reglamentado bajo la 2.2.3.2.1.1.5 del Decreto 1076 del 2015 (Resolución 1257 del 2018), o aquella que la modifique, derogue o sustituya."},{"$f":"'CARRETERAS Y TÚNELES'!F40","v":"N/A"},{"$f":"'CARRETERAS Y TÚNELES'!G40","v":"Aplica"},{"$f":"'CARRETERAS Y TÚNELES'!H40","v":"N/A"},{"$f":"'CARRETERAS Y TÚNELES'!I40","v":"N/A"},{"$f":"'CARRETERAS Y TÚNELES'!J40","v":"Permanente"}]
[{"$f":"'CARRETERAS Y TÚNELES'!D41","v":0},{"$f":"'CARRETERAS Y TÚNELES'!B41","v":"OCUPACIÓN DE CAUCE"},{"$f":"'CARRETERAS Y TÚNELES'!E41","v":"Garantizar la protección de las áreas intervenidas para la ocupación, dando cumplimiento a lo siguiente:\n\na) Realizar las obras geotécnicas necesarias para la estabilización de taludes y reconformación morfológica de las márgenes de los cauces, sin afectar el caudal y la dinámica natural de las corrientes de agua.\nb) Hacer seguimiento detallado durante todo el proceso constructivo de las obras autorizadas, de las obras de protección geotécnica y del estado de las márgenes del cauce. Presentar en cada Informe de Cumplimiento Ambiental - ICA según el periodo reportado, las actividades realizadas, evidenciando su cumplimiento a través de un registro fotográfico que incluya las condiciones iniciales del mismo.\nc) Realizar labores de revegetalización de las áreas intervenidas con especies nativas de la región."},{"$f":"'CARRETERAS Y TÚNELES'!F41","v":"N/A"},{"$f":"'CARRETERAS Y TÚNELES'!G41","v":"Aplica"},{"$f":"'CARRETERAS Y TÚNELES'!H41","v":"N/A"},{"$f":"'CARRETERAS Y TÚNELES'!I41","v":"N/A"},{"$f":"'CARRETERAS Y TÚNELES'!J41","v":"Permanente"}]
[{"$f":"'CARRETERAS Y TÚNELES'!D42","v":0},{"$f":"'CARRETERAS Y TÚNELES'!B42","v":"OCUPACIÓN DE CAUCE"},{"$f":"'CARRETERAS Y TÚNELES'!E42","v":"Realizar monitoreos físico químicos de (el o los) cuerpo(s) de agua donde se realiza la ocupación de cauce, siguiendo los lineamientos establecidos en la Guía para el Monitoreo de Vertimientos, Aguas Superficiales y Subterráneas del 2002 del IDEAM, y bajo las siguientes condiciones: \n\na) Realizar un monitoreo de la calidad del agua la semana previa a la iniciación de las obras asociadas a la ocupación.\nb) Realizar un monitoreo de calidad de agua mensual cuando las obras de ocupación de cauce tengan una duración igual o mayor a un mes y un monitoreo de calidad de agua cuando las obras de ocupación de cauce tengan una duración menor a un mes.\nc) Realizar un monitoreo de la calidad del agua en el transcurso de la semana siguiente a la finalización de las obras asociadas a la ocupación.\nd) Para cada monitoreo de calidad del agua tomar una muestra integrada en la sección transversal, registrando en cada uno de ellos los siguientes parámetros: caudal, nivel de la lámina de agua, pH, temperatura, turbidez, conductividad, oxígeno disuelto, alcalinidad, grasas y aceites, sólidos suspendidos totales y sólidos sedimentables. \ne) Presentar en los Informes de Cumplimiento Ambiental - ICA, los reportes de laboratorio, las cadenas de custodia y análisis global de los resultados y de la tendencia de la calidad del medio afectado por las ocupaciones, comparándola con la línea base presentada.\nf) Realizar los monitoreos de calidad del agua y las mediciones de caudal en dos puntos: uno aguas arriba y el otro aguas abajo del sitio de ocupación, teniendo en cuenta que no haya aportes o extracciones significativas de caudal (naturales o antrópicas) entre el punto de medición y el punto de la ocupación.\ng) Registrar el estado del tiempo (nubosidad, temperatura del aire, velocidad del viento, humedad relativa, temperatura del punto de rocío) durante cada monitoreo de calidad del agua.\nh) En los casos en que el caudal asociado a la ocupación de cauce no sea suficiente para la toma y análisis de las muestras, justificar técnicamente y presentar evidencia fotográfica en los Informes de Cumplimiento Ambiental - ICA."},{"$f":"'CARRETERAS Y TÚNELES'!F42","v":"N/A"},{"$f":"'CARRETERAS Y TÚNELES'!G42","v":"Aplica"},{"$f":"'CARRETERAS Y TÚNELES'!H42","v":"N/A"},{"$f":"'CARRETERAS Y TÚNELES'!I42","v":"N/A"},{"$f":"'CARRETERAS Y TÚNELES'!J42","v":"Permanente"}]
[{"$f":"'CARRETERAS Y TÚNELES'!D43","v":0},{"$f":"'CARRETERAS Y TÚNELES'!B43","v":"OCUPACIÓN DE CAUCE"},{"$f":"'CARRETERAS Y TÚNELES'!E43","v":"Presentar en los Informes de Cumplimiento Ambiental - ICA:\n\na) Un informe actualizado del análisis histórico de la dinámica fluvial de las corrientes asociadas a la ocupación finalizada la obra, y cada dos años durante la ejecución del proyecto (a partir de fotografías aéreas, sensores remotos u otra información secundaria de diferentes épocas), en caso en que la información secundaria no permita evidenciar la obra y las corrientes asociadas, se deberá emplear información primaria (batimetrías, imágenes lidar, etc.), que permita verificar los cambios respecto a la línea base en la morfología de las orillas del cuerpo de agua objeto de la ocupación. Presentar el análisis multitemporal de los resultados que refleje la tendencia del comportamiento de la morfología del cuerpo de agua objeto de la ocupación. En caso de que se evidencien cambios, el titular de la licencia ambiental formulará y ejecutará las correspondientes medidas para el mejoramiento y/o sustitución de la obra de ocupación de cauce. \nb) Un reporte del estado las obras asociadas a la ocupación de cauce (márgenes, taludes, revegetalización, entre otros) y de las actividades ejecutadas que garanticen el normal flujo del agua a través de la obra de ocupación, con su respectivo registro fotográfico."},{"$f":"'CARRETERAS Y TÚNELES'!F43","v":"N/A"},{"$f":"'CARRETERAS Y TÚNELES'!G43","v":"Aplica"},{"$f":"'CARRETERAS Y TÚNELES'!H43","v":"N/A"},{"$f":"'CARRETERAS Y TÚNELES'!I43","v":"N/A"},{"$f":"'CARRETERAS Y TÚNELES'!J43","v":"Permanente"}]
[{"$f":"'CARRETERAS Y TÚNELES'!#REF!","v":{"$error":"#REF!"}},{"$f":"'CARRETERAS Y TÚNELES'!#REF!","v":{"$error":"#REF!"}},{"$f":"'CARRETERAS Y TÚNELES'!#REF!","v":{"$error":"#REF!"}},{"$f":"'CARRETERAS Y TÚNELES'!#REF!","v":{"$error":"#REF!"}},{"$f":"'CARRETERAS Y TÚNELES'!#REF!","v":{"$error":"#REF!"}},{"$f":"'CARRETERAS Y TÚNELES'!#REF!","v":{"$error":"#REF!"}},{"$f":"'CARRETERAS Y TÚNELES'!#REF!","v":{"$error":"#REF!"}},{"$f":"'CARRETERAS Y TÚNELES'!#REF!","v":{"$error":"#REF!"}}]
[{"$f":"'CARRETERAS Y TÚNELES'!D44","v":0},{"$f":"'CARRETERAS Y TÚNELES'!B44","v":"VERTIMIENTO EN AGUA SUPERFICIAL"},{"$f":"'CARRETERAS Y TÚNELES'!E44","v":"Realizar mediciones de nivel y caudal del cuerpo de agua receptor del vertimiento siguiendo los lineamientos establecidos en el Protocolo para el Monitoreo y Seguimiento del Agua (IDEAM, 2007) o aquel que lo modifique, derogue o sustituya, y bajo las siguientes condiciones:\n\na) Localizar una sección transversal estable de acuerdo con los lineamientos establecidos en el Protocolo para la medición de caudal e instalar allí un medidor de nivel.\nb) Realizar las mediciones de caudal aguas arriba y aguas abajo del vertimiento con una frecuencia mensual durante el tiempo en el que se realice el vertimiento, teniendo en cuenta que no haya aportes o extracciones significativas de caudal (naturales o antrópicas) entre los puntos de medición y el punto de vertimiento. Presentar la base de datos en los respectivos Informes de Cumplimiento Ambiental - ICA.\nc) Realizar la calibración de la curva nivel-caudal de la sección transversal del cuerpo de agua, siguiendo lo establecido en el Protocolo en mención, dos veces al año considerando épocas de máximas y mínimas precipitaciones, de acuerdo con la variación hidrológica presentada en el EIA. En caso de que por condiciones de variabilidad climática no sea posible realizar la calibración de la curva nivel-caudal en dichas épocas, justificar en el correspondiente ICA su ejecución en épocas de transición. De la misma manera, realizar una vez al año el levantamiento de la sección transversal donde se calibró la curva nivel-caudal, y en caso de que identifique un cambio significativo en la geometría de la sección transversal presentada históricamente, proyectar los ajustes necesarios de la curva. Presentar los respectivos soportes en los Informes de Cumplimiento Ambiental - ICA."},{"$f":"'CARRETERAS Y TÚNELES'!F44","v":"N/A"},{"$f":"'CARRETERAS Y TÚNELES'!G44","v":"Aplica"},{"$f":"'CARRETERAS Y TÚNELES'!H44","v":"N/A"},{"$f":"'CARRETERAS Y TÚNELES'!I44","v":"N/A"},{"$f":"'CARRETERAS Y TÚNELES'!J44","v":"Permanente"}]
[{"$f":"'CARRETERAS Y TÚNELES'!D45","v":0},{"$f":"'CARRETERAS Y TÚNELES'!B45","v":"VERTIMIENTO EN AGUA SUPERFICIAL"},{"$f":"'CARRETERAS Y TÚNELES'!E45","v":"Cuando el permiso de vertimientos esté condicionado en ciertas épocas del año debido a las características del régimen de caudal, implementar un sistema de medición de caudales debidamente calibrado sobre la fuente hídrica receptora con frecuencia de medición diaria, con el fin de restringir el vertimiento de acuerdo con las condiciones hidrológicas autorizadas. "},{"$f":"'CARRETERAS Y TÚNELES'!F45","v":"N/A"},{"$f":"'CARRETERAS Y TÚNELES'!G45","v":"Aplica"},{"$f":"'CARRETERAS Y TÚNELES'!H45","v":"N/A"},{"$f":"'CARRETERAS Y TÚNELES'!I45","v":"N/A"},{"$f":"'CARRETERAS Y TÚNELES'!J45","v":"Permanente"}]
[{"$f":"'CARRETERAS Y TÚNELES'!D46","v":0},{"$f":"'CARRETERAS Y TÚNELES'!B46","v":"VERTIMIENTO EN AGUA SUPERFICIAL"},{"$f":"'CARRETERAS Y TÚNELES'!E46","v":"Suspender las actividades de vertimiento cuando se presente alguna de las siguientes situaciones:\n\na) La reparación y reinicio de los sistemas de tratamiento requieran más de tres (3) horas diarias (artículo 2.2.3.3.4.15 del Decreto 1076 de 2015).\nb) El caudal medido sobre la fuente receptora sea menor que el caudal ambiental (cuando el caudal ambiental del cuerpo de agua donde se realiza el vertimiento no se encuentre reglamentado por la autoridad regional, deberá tenerse en cuenta el calculado por el proyecto en el EIA). Para ello, el titular de la licencia ambiental, implementará un sistema que permita validar el nivel del caudal previo a la actividad del vertimiento. \n\nInformar a la autoridad ambiental regional y a la ANLA, dentro de las 24 h posteriores a la situación y por los medios legalmente establecidos, sobre la suspensión de actividades y/o la puesta en marcha del Plan de Gestión del Riesgo para el Manejo de Vertimientos. Así mismo, informar a la autoridad ambiental competente y a la ANLA dentro de las 24 horas posteriores a la reactivación del vertimiento."},{"$f":"'CARRETERAS Y TÚNELES'!F46","v":"N/A"},{"$f":"'CARRETERAS Y TÚNELES'!G46","v":"Aplica"},{"$f":"'CARRETERAS Y TÚNELES'!H46","v":"N/A"},{"$f":"'CARRETERAS Y TÚNELES'!I46","v":"N/A"},{"$f":"'CARRETERAS Y TÚNELES'!J46","v":"Permanente"}]
[{"$f":"'CARRETERAS Y TÚNELES'!D47","v":0},{"$f":"'CARRETERAS Y TÚNELES'!B47","v":"VERTIMIENTO EN AGUA SUPERFICIAL"},{"$f":"'CARRETERAS Y TÚNELES'!E47","v":"Realizar monitoreos de calidad del recurso hídrico dos veces al año en el cuerpo de agua donde se realiza el vertimiento, considerando épocas de máximas y mínimas precipitaciones. En caso de que por condiciones de variabilidad climática no sea posible realizar los monitoreos en dichas épocas, justificar en el correspondiente ICA su ejecución en épocas de transición. Dichos monitoreos se realizarán mediante la toma de muestras integradas en la sección transversal siguiendo los lineamientos establecidos en la Guía para el Monitoreo de Vertimientos, Aguas Superficiales y Subterráneas del 2002 del IDEAM, o cualquiera que la modifique, derogue o sustituya, dando cumplimiento a las siguientes condiciones:\n\na) Realizar una medición de nivel y caudal aguas arriba y aguas abajo del vertimiento de manera simultánea a la toma de muestras, teniendo en cuenta que no haya aportes o extracciones significativas de caudal (naturales o antrópicas) entre los puntos de medición y el punto de vertimiento. Presentar la base de datos en los respectivos Informes de Cumplimiento Ambiental - ICA.\nb) Realizar el monitoreo aguas arriba y aguas abajo siguiendo la masa de agua: 1) Aguas arriba del punto de vertimiento y 2) Aguas abajo del vertimiento, en un punto situado después de la distancia de mezcla completa estimada desde el sitio de la descarga. Estos puntos deberán coincidir con los definidos en la línea base ambiental.\nc) Registrar en cada monitoreo los parámetros establecidos en la Resolución 631 de 2015 o aquella que la modifique, derogue o sustituya. De igual manera, se deben contemplar los parámetros establecidos en los Planes de Ordenamiento y Manejo de Cuencas Hidrográficas - POMCAs y en los Planes de Ordenamiento del Recurso Hídrico - PORH. \nd) Monitorear las siguientes comunidades hidrobiológicas: perifiton, bentos y fauna íctica para cuerpos lóticos, y adicionalmente plancton y macrófitas para cuerpos lénticos. \ne) Registrar el estado del tiempo (nubosidad, temperatura del aire, velocidad del viento, humedad relativa, temperatura del punto de rocío) durante el monitoreo.\nf) Presentar en los Informes de Cumplimiento Ambiental - ICA, los reportes de laboratorio, las cadenas de custodia y el análisis de la tendencia de la calidad del medio afectado por el vertimiento, comparándola con la línea base presentada.\ng) Cuando entre el punto de monitoreo y el punto de vertimiento se presenten aportes o extracciones, estas se monitorearán y cuantificarán (calidad y cantidad). Presentar los respectivos soportes en los Informes de Cumplimiento Ambiental - ICA. "},{"$f":"'CARRETERAS Y TÚNELES'!F47","v":"N/A"},{"$f":"'CARRETERAS Y TÚNELES'!G47","v":"Aplica"},{"$f":"'CARRETERAS Y TÚNELES'!H47","v":"N/A"},{"$f":"'CARRETERAS Y TÚNELES'!I47","v":"N/A"},{"$f":"'CARRETERAS Y TÚNELES'!J47","v":"Permanente"}]
[{"$f":"'CARRETERAS Y TÚNELES'!D48","v":0},{"$f":"'CARRETERAS Y TÚNELES'!B48","v":"VERTIMIENTO EN AGUA SUPERFICIAL"},{"$f":"'CARRETERAS Y TÚNELES'!E48","v":"Realizar monitoreos de las aguas residuales (domésticas y no domésticas) a la salida del sistema de tratamiento, mediante un muestreo compuesto de 24 horas (o durante el tiempo en que se realice el vertimiento) con mediciones horarias, siguiendo lo establecido en la Guía para el Monitoreo de Vertimientos, Aguas Superficiales y Subterráneas del 2002 del IDEAM, o cualquiera que la modifique, derogue o sustituya, dando cumplimiento a las siguientes condiciones:\n\na) La periodicidad de la realización de los monitoreos de ARD y ARnD deberá ser cada dos meses. \nb) La fecha de realización del monitoreo del vertimiento debe coincidir con la fecha de realización del monitoreo de calidad del cuerpo receptor.\nc) Registrar en cada monitoreo del vertimiento los parámetros establecidos en la Resolución 631 de 2015 o aquella que la modifique, derogue o sustituya. \nd) Presentar en los Informes de Cumplimiento Ambiental - ICA, los reportes de laboratorio, las cadenas de custodia y el análisis de los resultados de los monitoreos, que incluya las correlaciones entre variaciones de proceso y variaciones en las mediciones, así como la comparación en los resultados con los límites establecidos en la normatividad mencionada."},{"$f":"'CARRETERAS Y TÚNELES'!F48","v":"N/A"},{"$f":"'CARRETERAS Y TÚNELES'!G48","v":"Aplica"},{"$f":"'CARRETERAS Y TÚNELES'!H48","v":"N/A"},{"$f":"'CARRETERAS Y TÚNELES'!I48","v":"N/A"},{"$f":"'CARRETERAS Y TÚNELES'!J48","v":"Permanente"}]
[{"$f":"'CARRETERAS Y TÚNELES'!D49","v":0},{"$f":"'CARRETERAS Y TÚNELES'!B49","v":"VERTIMIENTO EN AGUA SUPERFICIAL"},{"$f":"'CARRETERAS Y TÚNELES'!E49","v":"Presentar en los respectivos Informes de Cumplimiento Ambiental - ICA la validación del modelo de calidad del agua dos años después de iniciado el vertimiento, teniendo en cuenta las condiciones desarrolladas en ese periodo para los cuerpos de agua donde se autoriza el vertimiento, siguiendo lo establecido en la Guía Nacional de Modelación del Recurso Hídrico para Aguas Superficiales Continentales, adoptada por la Resolución 959 de 2018 del Ministerio de Ambiente y Desarrollo Sostenible, o aquella que la modifique, derogue o sustituya, dando cumplimiento a las siguientes condiciones:\n\na) Registrar en cada monitoreo los parámetros físicos, químicos, microbiológicos e hidrobiológicos establecidos en la Guía Nacional de Modelación del Recurso Hídrico para Aguas Superficiales Continentales. En caso de que por la naturaleza del proyecto, requiera de la exclusión de algún(nos) parámetros(s) justificar mediante balances de materia o de masa y/o con la realización de la respectiva caracterización que demuestre que estos no se encuentran presentes en sus aguas residuales.  Dentro de la justificación, puede hacer uso de la información de las hojas técnicas de las materias primas e insumos empleados en el proceso. \nb) Presentar en los Informes de Cumplimiento Ambiental - ICA, los reportes de laboratorio, las cadenas de custodia y el análisis de la tendencia de la calidad del medio afectado por el vertimiento, comparándola con la línea base presentada en el EIA.\nc) La fecha de realización de los monitoreos insumo para la actualización del modelo, debe coincidir con la fecha de realización de los monitoreos de calidad del cuerpo receptor y serán complemento de los parámetros monitoreados en el cuerpo de agua receptor.\nd) Realizar el monitoreo en tres puntos siguiendo la masa de agua: 1) Aguas arriba del punto de vertimiento, 2) Aguas abajo del vertimiento, en un punto situado después de la distancia de mezcla completa estimada desde el sitio de la descarga y 3) Al final del tramo seleccionado para modelación (la longitud del tramo de modelación debe ser la misma que la definida en el EIA).\n\nEn caso de que se presenten cambios en las fuentes de agua receptoras (régimen hidrológico, hidráulica, nuevos puntos de vertimientos, nuevos puntos de captación, etc.) se deberá validar el modelo y presentar a esta Autoridad en los respectivos Informes de Cumplimiento Ambiental - ICA."},{"$f":"'CARRETERAS Y TÚNELES'!F49","v":"N/A"},{"$f":"'CARRETERAS Y TÚNELES'!G49","v":"Aplica"},{"$f":"'CARRETERAS Y TÚNELES'!H49","v":"N/A"},{"$f":"'CARRETERAS Y TÚNELES'!I49","v":"N/A"},{"$f":"'CARRETERAS Y TÚNELES'!J49","v":"Permanente"}]
[{"$f":"'CARRETERAS Y TÚNELES'!D50","v":0},{"$f":"'CARRETERAS Y TÚNELES'!B50","v":"VERTIMIENTO EN AGUA SUPERFICIAL"},{"$f":"'CARRETERAS Y TÚNELES'!E50","v":"Presentar en los Informes de Cumplimiento Ambiental - ICA, los soportes que evidencien las actividades de mantenimiento preventivo o correctivo efectuadas al sistema de tratamiento de aguas residuales (minuta u hoja de vida del sistema de tratamiento e informes de disposición de lodos producto del mantenimiento), en cumplimiento del artículo 2.2.3.3.4.16 del Decreto 1076 de 2015, o aquel que lo modifique, derogue o sustituya."},{"$f":"'CARRETERAS Y TÚNELES'!F50","v":"N/A"},{"$f":"'CARRETERAS Y TÚNELES'!G50","v":"Aplica"},{"$f":"'CARRETERAS Y TÚNELES'!H50","v":"N/A"},{"$f":"'CARRETERAS Y TÚNELES'!I50","v":"N/A"},{"$f":"'CARRETERAS Y TÚNELES'!J50","v":"Permanente"}]
[{"$f":"'CARRETERAS Y TÚNELES'!D51","v":0},{"$f":"'CARRETERAS Y TÚNELES'!B51","v":"VERTIMIENTO EN AGUA SUPERFICIAL"},{"$f":"'CARRETERAS Y TÚNELES'!E51","v":"Instalar un aviso informativo de fácil visibilidad en el lugar del vertimiento autorizado, el cual incluya la información de la licencia ambiental respecto al permiso de vertimiento: número y fecha de la resolución que autoriza el permiso de vertimiento, titular de la licencia, información de contacto, nombre de la fuente hídrica, coordenadas del punto de vertimiento autorizado en la resolución, caudal del vertimiento autorizado (l/s) y caudal ambiental de la fuente."},{"$f":"'CARRETERAS Y TÚNELES'!F51","v":"N/A"},{"$f":"'CARRETERAS Y TÚNELES'!G51","v":"Aplica"},{"$f":"'CARRETERAS Y TÚNELES'!H51","v":"N/A"},{"$f":"'CARRETERAS Y TÚNELES'!I51","v":"N/A"},{"$f":"'CARRETERAS Y TÚNELES'!J51","v":"Permanente"}]
[{"$f":"'CARRETERAS Y TÚNELES'!D52","v":0},{"$f":"'CARRETERAS Y TÚNELES'!B52","v":"VERTIMIENTO EN SUELO"},{"$f":"'CARRETERAS Y TÚNELES'!E52","v":"Realizar la instalación de la red piezométrica para monitoreo de aguas subterráneas en la zona de riego/aspersión autorizada antes de la puesta en marcha del sistema de vertimiento en suelos, dando cumplimiento a lo siguiente:\n\na) Contemplar un número representativo de piezómetros, para lo cual presentará la justificación técnica del número de piezómetros a implementar en el Plan de Manejo Ambiental Específico.\nb) Localizarse aguas arriba y aguas abajo del área de vertimiento de acuerdo a la dirección del flujo local de las aguas subterráneas. \nc) Los pozos de observación/piezómetros se deberán nivelar topográficamente. \nd) Los pozos deberán  contar con un mecanismo de protección que impida el ingreso de sustancias en su interior."},{"$f":"'CARRETERAS Y TÚNELES'!F52","v":"N/A"},{"$f":"'CARRETERAS Y TÚNELES'!G52","v":"Aplica"},{"$f":"'CARRETERAS Y TÚNELES'!H52","v":"N/A"},{"$f":"'CARRETERAS Y TÚNELES'!I52","v":"N/A"},{"$f":"'CARRETERAS Y TÚNELES'!J52","v":"Temporal"}]
[{"$f":"'CARRETERAS Y TÚNELES'!D53","v":0},{"$f":"'CARRETERAS Y TÚNELES'!B53","v":"VERTIMIENTO EN SUELO"},{"$f":"'CARRETERAS Y TÚNELES'!E53","v":"Clausurar los pozos de observación/piezómetros, de acuerdo con los lineamientos establecidos en la NTC 5539:2007 -sección 4.10- y/o conforme a las actualizaciones que se hagan de esta, una vez se finalicen los vertimientos en suelos y se compruebe de manera previa mediante un monitoreo de calidad de aguas subterráneas con base en la caracterización en la línea base, que no existen impactos residuales por la ejecución del vertimiento. Presentar los soportes que evidencien la no afectación al recurso agua, el informe de las actividades de clausura y el reporte de esta novedad en el \"Formato de Hoja de Vida de Pozo de Observación/Piezómetro - Aguas Subterráneas\" en los respectivos Informes de Cumplimiento Ambiental - ICA."},{"$f":"'CARRETERAS Y TÚNELES'!F53","v":"N/A"},{"$f":"'CARRETERAS Y TÚNELES'!G53","v":"N/A"},{"$f":"'CARRETERAS Y TÚNELES'!H53","v":"N/A"},{"$f":"'CARRETERAS Y TÚNELES'!I53","v":"N/A"},{"$f":"'CARRETERAS Y TÚNELES'!J53","v":"Temporal"}]
[{"$f":"'CARRETERAS Y TÚNELES'!D54","v":0},{"$f":"'CARRETERAS Y TÚNELES'!B54","v":"VERTIMIENTO EN SUELO"},{"$f":"'CARRETERAS Y TÚNELES'!E54","v":"Para aguas residuales no domésticas - ARnD tratadas, realizar monitoreos fisicoquímicos y biológicos del suelo receptor, antes de iniciar el vertimiento y dos veces al año después de iniciado considerando épocas de máximas y mínimas precipitaciones. En caso de que por condiciones de variabilidad climática no sea posible realizar los monitoreos en dichas épocas, justificar en el correspondiente ICA su ejecución en épocas de transición. Dar cumplimiento a las siguientes condiciones:\n\na) Realizar la toma de muestras puntuales y análisis de parámetros fisicoquímicos y biológicos establecidos en el artículo 2.2.3.3.4.9 del Decreto 1076 de 2015, o aquel que lo modifique, derogue o sustituya, en cada área de disposición. \nb) Presentar en los Informes de Cumplimiento Ambiental - ICA, los reportes de laboratorio, las cadenas de custodia y el análisis de resultados de monitoreos en una base temporal para cada variable, empleando gráficas de tendencia de concentración versus tiempo (actualizar las gráficas con la información recolectada en cada muestreo); el análisis debe estar orientado a medir el cambio en las propiedades iniciales del suelo (línea base) por efectos del vertimiento en cada sitio de muestra analizada.\nc) Realizar la toma de muestras con base en los criterios definidos por las autoridades competentes. "},{"$f":"'CARRETERAS Y TÚNELES'!F54","v":"N/A"},{"$f":"'CARRETERAS Y TÚNELES'!G54","v":"Aplica"},{"$f":"'CARRETERAS Y TÚNELES'!H54","v":"N/A"},{"$f":"'CARRETERAS Y TÚNELES'!I54","v":"N/A"},{"$f":"'CARRETERAS Y TÚNELES'!J54","v":"Permanente"}]
[{"$f":"'CARRETERAS Y TÚNELES'!D55","v":0},{"$f":"'CARRETERAS Y TÚNELES'!B55","v":"VERTIMIENTO EN SUELO"},{"$f":"'CARRETERAS Y TÚNELES'!E55","v":"Para aguas residuales no domésticas - ARnD tratadas, realizar monitoreos fisicoquímicos y microbiológicos de las aguas subterráneas en cada uno de los pozos de observación/piezómetros instalados, antes de iniciar el vertimiento y dos veces al año después de iniciado en cada uno de los pozos de observación/piezómetros instalados, considerando épocas de máximas y mínimas precipitaciones. En caso de que por condiciones de variabilidad climática no sea posible realizar los monitoreos en dichas épocas, justificar en el correspondiente ICA su ejecución en épocas de transición. Dar cumplimiento a las siguientes condiciones:\n\na) Realizar la toma de muestras puntuales y análisis de parámetros fisicoquímicos y biológicos establecidos en el artículo 2.2.3.3.4.9 del Decreto 1076 de 2015, o aquel que lo modifique, derogue o sustituya, y de los iones y cationes (Na+, K+, Mg++, Ca++, Fe++, SO4=, Cl-, NO3-, CO3=, HCO3-). \nb) Calcular y presentar el valor del error analítico (%) a partir de la sumatoria de aniones y cationes.  Solo podrán reportarse las caracterizaciones de muestras que tengan errores analíticos inferiores a ±10%. Presentar dichos cálculos en los Informes de Cumplimiento Ambiental – ICA.\nc) Realizar la toma de muestras siguiendo la Guía para el Monitoreo de Vertimientos, Aguas Superficiales y Subterráneas del 2002 del IDEAM o aquella que lo modifique, derogue o sustituya.\nd) Llevar un registro del nivel freático de cada pozo de observación/piezómetro de la red instalada, con el fin de analizar la variación del nivel freático del área de vertimiento, comparándolo con el caudal vertido y el régimen de precipitación. Presentar los soportes en los Informes de Cumplimiento Ambiental – ICA.\t\ne) Presentar en los Informes de Cumplimiento Ambiental - ICA, los reportes de laboratorio, las cadenas de custodia y el análisis de resultados de monitoreos en una base temporal para cada variable, empleando gráficas de tendencia de concentración versus tiempo (actualizar las gráficas con la información recolectada en cada muestreo). En caso de que por acción del vertimiento se presente un cambio en las características del agua subterránea, el titular de la licencia ambiental suspenderá el vertimiento y propondrá las medidas a que haya lugar."},{"$f":"'CARRETERAS Y TÚNELES'!F55","v":"N/A"},{"$f":"'CARRETERAS Y TÚNELES'!G55","v":"Aplica"},{"$f":"'CARRETERAS Y TÚNELES'!H55","v":"N/A"},{"$f":"'CARRETERAS Y TÚNELES'!I55","v":"N/A"},{"$f":"'CARRETERAS Y TÚNELES'!J55","v":"Permanente"}]
[{"$f":"'CARRETERAS Y TÚNELES'!D56","v":0},{"$f":"'CARRETERAS Y TÚNELES'!B56","v":"VERTIMIENTO EN SUELO"},{"$f":"'CARRETERAS Y TÚNELES'!E56","v":"Para aguas residuales domésticas - ARD tratadas, realizar monitoreos fisicoquímicos y biológicos del suelo receptor, antes de iniciar el vertimiento y dos veces al año después de iniciado, considerando épocas de máximas y mínimas precipitaciones. En caso de que por condiciones de variabilidad climática no sea posible realizar los monitoreos en dichas épocas, justificar en el correspondiente ICA su ejecución en épocas de transición. Dar cumplimiento a las siguientes condiciones:\n\na) Realizar la toma de muestras puntuales y análisis de parámetros: textura (porcentaje de arena, limo y arcilla), densidad real, densidad aparente, materia orgánica, pH, cloruros, conductividad eléctrica, capacidad de intercambio catiónico, grasas y aceites, bario, cadmio, mercurio, bacterias totales y HTP, en cada área de disposición. \nb) Realizar la toma de muestras con base en los criterios definidos por las autoridades competentes. \nc) Presentar en los Informes de Cumplimiento Ambiental - ICA, los reportes de laboratorio, las cadenas de custodia y el análisis de resultados de monitoreos en una base temporal para cada variable, empleando gráficas de tendencia de concentración versus tiempo (actualizar las gráficas con la información recolectada en cada muestreo); el análisis estará orientado a medir el cambio en las propiedades iniciales del suelo (línea base) por efectos del vertimiento en cada sitio de muestra analizada, así como con los límites genéricos basados en riesgos (LGBR) de la EPA (https://www.epa.gov/risk/regional-screening-levels-rsls-generic-tables,  Niveles de Detección Regional (RSLs) - Niveles de Detección (TR = 1E-06 THQ = 1.0) - Tabla resumen - Suelo Industrial)."},{"$f":"'CARRETERAS Y TÚNELES'!F56","v":"N/A"},{"$f":"'CARRETERAS Y TÚNELES'!G56","v":"Aplica"},{"$f":"'CARRETERAS Y TÚNELES'!H56","v":"N/A"},{"$f":"'CARRETERAS Y TÚNELES'!I56","v":"N/A"},{"$f":"'CARRETERAS Y TÚNELES'!J56","v":"Permanente"}]
[{"$f":"'CARRETERAS Y TÚNELES'!D57","v":0},{"$f":"'CARRETERAS Y TÚNELES'!B57","v":"VERTIMIENTO EN SUELO"},{"$f":"'CARRETERAS Y TÚNELES'!E57","v":"Para aguas residuales domésticas - ARD tratadas, realizar monitoreos fisicoquímicos y microbiológicos de las aguas subterráneas en cada uno de los pozos de observación/piezómetros instalados, antes de iniciar el vertimiento y dos veces al año después de iniciado en cada uno de los pozos de observación/piezómetros instalados, considerando épocas de máximas y mínimas precipitaciones. En caso de que por condiciones de variabilidad climática no sea posible realizar los monitoreos en dichas épocas, justificar en el correspondiente ICA su ejecución en épocas de transición. Dar cumplimiento a las siguientes condiciones:\n \na) Realizar la toma de muestras puntuales y análisis de parámetros fisicoquímicos y biológicos establecidos en el artículo 2.2.3.3.4.9 del Decreto 1076 de 2015, o aquel que lo modifique, derogue o sustituya.  \nb) Calcular y presentar el valor del error analítico (%) a partir de la sumatoria de aniones y cationes.  Solo podrán reportarse las caracterizaciones de muestras que tengan errores analíticos inferiores a ±10%. Presentar dichos cálculos en los Informes de Cumplimiento Ambiental – ICA.\nc) Realizar la toma de muestras siguiendo la Guía para el Monitoreo de Vertimientos, Aguas Superficiales y Subterráneas del 2002 del IDEAM o aquella que lo modifique, derogue o sustituya. \nd) Llevar un registro del nivel freático de cada pozo de observación/piezómetro de la red instalada, con el fin de analizar la variación del nivel freático del área de vertimiento, teniendo en cuenta el caudal vertido y el régimen de precipitación. Presentar los soportes en los Informes de Cumplimiento Ambiental – ICA. \ne) Presentar en los Informes de Cumplimiento Ambiental - ICA, los reportes de laboratorio, las cadenas de custodia y el análisis de resultados de monitoreos en una base temporal para cada variable, empleando gráficas de tendencia de concentración versus tiempo (actualizar las gráficas con la información recolectada en cada muestreo). "},{"$f":"'CARRETERAS Y TÚNELES'!F57","v":"N/A"},{"$f":"'CARRETERAS Y TÚNELES'!G57","v":"Aplica"},{"$f":"'CARRETERAS Y TÚNELES'!H57","v":"N/A"},{"$f":"'CARRETERAS Y TÚNELES'!I57","v":"N/A"},{"$f":"'CARRETERAS Y TÚNELES'!J57","v":"Permanente"}]
[{"$f":"'CARRETERAS Y TÚNELES'!D58","v":0},{"$f":"'CARRETERAS Y TÚNELES'!B58","v":"VERTIMIENTO EN SUELO"},{"$f":"'CARRETERAS Y TÚNELES'!E58","v":"Realizar monitoreos de aguas residuales no domésticas - ARnD cada dos meses a la salida del sistema de tratamiento, mediante un muestreo compuesto de 24 horas (o durante el tiempo en que se realice el vertimiento) con mediciones horarias, dando cumplimiento a las siguientes condiciones:\n\na) Realizar el monitoreo del vertimiento de conformidad con lo establecido en la Guía para el Monitoreo de Vertimientos, Aguas Superficiales y Subterráneas del 2002 del IDEAM, o cualquiera que la modifique, derogue o sustituya.\nb) Registrar en cada monitoreo del vertimiento, los parámetros establecidos en los artículos 2.2.3.3.9.14. y 2.2.3.3.9.16. del Decreto 1076 de 2015, o aquel que lo modifique, derogue o sustituya. \nc) Presentar en los Informes de Cumplimiento Ambiental - ICA, los reportes de laboratorio, las cadenas de custodia y el análisis de los resultados de los monitoreos. "},{"$f":"'CARRETERAS Y TÚNELES'!F58","v":"N/A"},{"$f":"'CARRETERAS Y TÚNELES'!G58","v":"Aplica"},{"$f":"'CARRETERAS Y TÚNELES'!H58","v":"N/A"},{"$f":"'CARRETERAS Y TÚNELES'!I58","v":"N/A"},{"$f":"'CARRETERAS Y TÚNELES'!J58","v":"Permanente"}]
[{"$f":"'CARRETERAS Y TÚNELES'!D59","v":0},{"$f":"'CARRETERAS Y TÚNELES'!B59","v":"VERTIMIENTO EN SUELO"},{"$f":"'CARRETERAS Y TÚNELES'!E59","v":"Realizar monitoreos de las aguas residuales domésticas - ARD cada dos meses a la salida del sistema de tratamiento, mediante un muestreo compuesto de 24 horas (o durante el tiempo en que se realice el vertimiento) con mediciones horarias, dando cumplimiento a las siguientes condiciones:\n\na) Realizar el monitoreo del vertimiento de conformidad con lo establecido en la Guía para el Monitoreo de Vertimientos, Aguas Superficiales y Subterráneas del 2002 del IDEAM, o cualquiera que la modifique, derogue o sustituya.\nb) Realizar la toma de muestras puntuales y análisis de parámetros establecidos en la Resolución 699 del 06 de julio de 2021, o aquel que lo modifique, derogue o sustituya, en cada área de disposición. \nc) Presentar en los Informes de Cumplimiento Ambiental - ICA, los reportes de laboratorio, las cadenas de custodia y el análisis de los resultados de los monitoreos. "},{"$f":"'CARRETERAS Y TÚNELES'!F59","v":"N/A"},{"$f":"'CARRETERAS Y TÚNELES'!G59","v":"Aplica"},{"$f":"'CARRETERAS Y TÚNELES'!H59","v":"N/A"},{"$f":"'CARRETERAS Y TÚNELES'!I59","v":"N/A"},{"$f":"'CARRETERAS Y TÚNELES'!J59","v":"Permanente"}]
[{"$f":"'CARRETERAS Y TÚNELES'!D60","v":0},{"$f":"'CARRETERAS Y TÚNELES'!B60","v":"VERTIMIENTO EN SUELO"},{"$f":"'CARRETERAS Y TÚNELES'!E60","v":"Presentar en los respectivos Informes de Cumplimiento Ambiental - ICA la validación del modelo numérico del flujo y transporte de solutos en el suelo para aguas residuales no domésticas del que trata el artículo 2.2.3.3.4.9 del Decreto 1076 de 2015, o la norma que lo modifique, derogue o sustituya, dos años después de iniciado el vertimiento."},{"$f":"'CARRETERAS Y TÚNELES'!F60","v":"N/A"},{"$f":"'CARRETERAS Y TÚNELES'!G60","v":"Aplica"},{"$f":"'CARRETERAS Y TÚNELES'!H60","v":"N/A"},{"$f":"'CARRETERAS Y TÚNELES'!I60","v":"N/A"},{"$f":"'CARRETERAS Y TÚNELES'!J60","v":"Permanente"}]
[{"$f":"'CARRETERAS Y TÚNELES'!D61","v":0},{"$f":"'CARRETERAS Y TÚNELES'!B61","v":"VERTIMIENTO EN SUELO"},{"$f":"'CARRETERAS Y TÚNELES'!E61","v":"Mantener actualizado el \"Formato de Hoja de Vida de Pozo de Observación/Piezómetro - Aguas Subterráneas\" de cada pozo instalado, los cuales se presentarán en los respectivos Informes de Cumplimiento Ambiental - ICA."},{"$f":"'CARRETERAS Y TÚNELES'!F61","v":"N/A"},{"$f":"'CARRETERAS Y TÚNELES'!G61","v":"Aplica"},{"$f":"'CARRETERAS Y TÚNELES'!H61","v":"N/A"},{"$f":"'CARRETERAS Y TÚNELES'!I61","v":"N/A"},{"$f":"'CARRETERAS Y TÚNELES'!J61","v":"Permanente"}]
[{"$f":"'CARRETERAS Y TÚNELES'!D62","v":0},{"$f":"'CARRETERAS Y TÚNELES'!B62","v":"VERTIMIENTO EN SUELO"},{"$f":"'CARRETERAS Y TÚNELES'!E62","v":"No desarrollar las actividades de vertimiento cuando se presenten las situaciones de las que trata el artículo 2.2.3.3.4.15 del Decreto 1076 de 2015, e informar a la autoridad ambiental regional y a la ANLA, dentro de las 24 h posteriores a la situación y por los medios legalmente establecidos, sobre la suspensión de actividades y/o la puesta en marcha del Plan de Gestión del Riesgo para el Manejo de Vertimientos, cuando la reparación y reinicio de los sistemas de tratamiento requieran más de tres (3) horas diarias."},{"$f":"'CARRETERAS Y TÚNELES'!F62","v":"N/A"},{"$f":"'CARRETERAS Y TÚNELES'!G62","v":"Aplica"},{"$f":"'CARRETERAS Y TÚNELES'!H62","v":"N/A"},{"$f":"'CARRETERAS Y TÚNELES'!I62","v":"N/A"},{"$f":"'CARRETERAS Y TÚNELES'!J62","v":"Permanente"}]
[{"$f":"'CARRETERAS Y TÚNELES'!D63","v":0},{"$f":"'CARRETERAS Y TÚNELES'!B63","v":"VERTIMIENTO EN SUELO"},{"$f":"'CARRETERAS Y TÚNELES'!E63","v":"Presentar en los Informes de Cumplimiento Ambiental - ICA, los soportes que evidencien las actividades de mantenimiento preventivo o correctivo efectuadas al sistema de tratamiento de aguas residuales (minuta u hoja de vida del sistema de tratamiento e informe técnico del mantenimiento y de la disposición de lodos producto del mismo), en cumplimiento del artículo 2.2.3.3.4.16 del Decreto 1076 de 2015, o la norma que lo modifique, derogue o sustituya."},{"$f":"'CARRETERAS Y TÚNELES'!F63","v":"N/A"},{"$f":"'CARRETERAS Y TÚNELES'!G63","v":"Aplica"},{"$f":"'CARRETERAS Y TÚNELES'!H63","v":"N/A"},{"$f":"'CARRETERAS Y TÚNELES'!I63","v":"N/A"},{"$f":"'CARRETERAS Y TÚNELES'!J63","v":"Permanente"}]
[{"$f":"'CARRETERAS Y TÚNELES'!D64","v":0},{"$f":"'CARRETERAS Y TÚNELES'!B64","v":"VERTIMIENTO EN SUELO"},{"$f":"'CARRETERAS Y TÚNELES'!E64","v":"Instalar un aviso informativo de fácil visibilidad en el lugar del vertimiento autorizado, el cual incluya la información de la licencia ambiental respecto al permiso de vertimiento: número y fecha de la resolución que otorga el permiso de vertimiento, titular de la licencia, información de contacto, coordenadas del punto de vertimiento autorizado en la resolución y  caudal del vertimiento autorizado (l/s)."},{"$f":"'CARRETERAS Y TÚNELES'!F64","v":"N/A"},{"$f":"'CARRETERAS Y TÚNELES'!G64","v":"Aplica"},{"$f":"'CARRETERAS Y TÚNELES'!H64","v":"N/A"},{"$f":"'CARRETERAS Y TÚNELES'!I64","v":"N/A"},{"$f":"'CARRETERAS Y TÚNELES'!J64","v":"Permanente"}]
[{"$f":"'CARRETERAS Y TÚNELES'!D65","v":0},{"$f":"'CARRETERAS Y TÚNELES'!B65","v":"APROVECHAMIENTO FORESTAL"},{"$f":"'CARRETERAS Y TÚNELES'!E65","v":"Reportar en cada PMA especifico los volúmenes que efectivamente serán aprovechados mediante un inventario forestal al 100%, volúmenes que en todo caso no podrán superar los valores máximos autorizados en la presente licencia ambiental por tipo de cobertura vegetal. "},{"$f":"'CARRETERAS Y TÚNELES'!F65","v":"Aplica"},{"$f":"'CARRETERAS Y TÚNELES'!G65","v":"N/A"},{"$f":"'CARRETERAS Y TÚNELES'!H65","v":"N/A"},{"$f":"'CARRETERAS Y TÚNELES'!I65","v":"N/A"},{"$f":"'CARRETERAS Y TÚNELES'!J65","v":"Temporal"}]
[{"$f":"'CARRETERAS Y TÚNELES'!D66","v":0},{"$f":"'CARRETERAS Y TÚNELES'!B66","v":"APROVECHAMIENTO FORESTAL"},{"$f":"'CARRETERAS Y TÚNELES'!E66","v":"Reportar en los informes de cumplimiento ambiental - ICA - el inventario forestal e informe detallado del aprovechamiento forestal adelantado durante el periodo a ser reportado. Presentar la información documental conforme a los lineamientos establecidos en el Manual de Seguimiento Ambiental de Proyectos y bajo el modelo de almacenamiento geográfico adoptado en la Resolución 2182 del 23 de diciembre de 2016, o aquella que la modifique, derogue o sustituya. Detallar en cada informe volúmenes totales y comerciales de aprovechamiento forestal efectivamente removidos por tipo de obra y tipo de cobertura, volúmenes acumulados (Cuando el aprovechamiento forestal se reporta en varios ICA´s), individuos arbóreos aprovechados (nombre común, nombre científico y familia de la especie) con la respectiva ubicación en coordenadas planas con datum y origen, y el área de aprovechamiento (municipio, vereda, predio y polígono de aprovechamiento)."},{"$f":"'CARRETERAS Y TÚNELES'!F66","v":"N/A"},{"$f":"'CARRETERAS Y TÚNELES'!G66","v":"Aplica"},{"$f":"'CARRETERAS Y TÚNELES'!H66","v":"N/A"},{"$f":"'CARRETERAS Y TÚNELES'!I66","v":"N/A"},{"$f":"'CARRETERAS Y TÚNELES'!J66","v":"Permanente"}]
[{"$f":"'CARRETERAS Y TÚNELES'!D67","v":0},{"$f":"'CARRETERAS Y TÚNELES'!B67","v":"APROVECHAMIENTO FORESTAL"},{"$f":"'CARRETERAS Y TÚNELES'!E67","v":"Cuando se requiera de la remoción de árboles aislados en un volumen igual o menor a veinte metros cúbicos (20 m³) de conformidad con el articulo 2.2.1.1.9.6. del decreto 1076 de 2015, la sociedad XXX reportará las actividades adelantadas en el respectivo informe de cumplimiento ambiental y no podrá superar el volumen mencionado durante el desarrollo de todas las actividades contempladas en el proyecto."},{"$f":"'CARRETERAS Y TÚNELES'!F67","v":"N/A"},{"$f":"'CARRETERAS Y TÚNELES'!G67","v":"Aplica"},{"$f":"'CARRETERAS Y TÚNELES'!H67","v":"N/A"},{"$f":"'CARRETERAS Y TÚNELES'!I67","v":"N/A"},{"$f":"'CARRETERAS Y TÚNELES'!J67","v":"Temporal"}]
[{"$f":"'CARRETERAS Y TÚNELES'!D68","v":0},{"$f":"'CARRETERAS Y TÚNELES'!B68","v":"APROVECHAMIENTO FORESTAL"},{"$f":"'CARRETERAS Y TÚNELES'!E68","v":"Disponer los residuos vegetales resultantes de las actividades de aprovechamiento forestal (hojas, ramas, raíces) de tal forma que no se intervenga en la dinámica natural de ecosistemas estratégicos o drenajes naturales, dando cumplimiento a lo establecido en las medidas del Plan de Manejo Ambiental y documentando su implementación y georreferenciación en los Informes de Cumplimiento Ambiental - ICA respectivos."},{"$f":"'CARRETERAS Y TÚNELES'!F68","v":"N/A"},{"$f":"'CARRETERAS Y TÚNELES'!G68","v":"Aplica"},{"$f":"'CARRETERAS Y TÚNELES'!H68","v":"N/A"},{"$f":"'CARRETERAS Y TÚNELES'!I68","v":"N/A"},{"$f":"'CARRETERAS Y TÚNELES'!J68","v":"Temporal"}]
[{"$f":"'CARRETERAS Y TÚNELES'!D69","v":0},{"$f":"'CARRETERAS Y TÚNELES'!B69","v":"APROVECHAMIENTO FORESTAL"},{"$f":"'CARRETERAS Y TÚNELES'!E69","v":"No realizar quemas a cielo abierto de los productos, subproductos y/o residuos vegetales resultantes del aprovechamiento forestal."},{"$f":"'CARRETERAS Y TÚNELES'!F69","v":"N/A"},{"$f":"'CARRETERAS Y TÚNELES'!G69","v":"Aplica"},{"$f":"'CARRETERAS Y TÚNELES'!H69","v":"N/A"},{"$f":"'CARRETERAS Y TÚNELES'!I69","v":"N/A"},{"$f":"'CARRETERAS Y TÚNELES'!J69","v":"Permanente"}]
[{"$f":"'CARRETERAS Y TÚNELES'!D70","v":0},{"$f":"'CARRETERAS Y TÚNELES'!B70","v":"APROVECHAMIENTO FORESTAL"},{"$f":"'CARRETERAS Y TÚNELES'!E70","v":"Dar cumplimiento a lo establecido en las medidas de manejo aprobadas en el presente acto administrativo, tendientes a garantizar la protección y conservación, mediante las alternativas existentes para tal fin, de las especies endémicas o en alguna categoría de amenaza de acuerdo con la lista roja de la UICN, los libros rojos de los institutos de investigación Humboldt y SINCHI, la Resolución 1912 del 15 de septiembre de 2017 o aquellas que la modifiquen, deroguen o sustituyan, o que se encuentren en algún apéndice del CITES (Convenio sobre el comercio internacional de especies amenazadas). Documentar y presentar su implementación en los informes de cumplimiento ambiental - ICA-, incluyendo la respectiva georreferenciación y registro fotográfico."},{"$f":"'CARRETERAS Y TÚNELES'!F70","v":"N/A"},{"$f":"'CARRETERAS Y TÚNELES'!G70","v":"Aplica"},{"$f":"'CARRETERAS Y TÚNELES'!H70","v":"N/A"},{"$f":"'CARRETERAS Y TÚNELES'!I70","v":"N/A"},{"$f":"'CARRETERAS Y TÚNELES'!J70","v":"Permanente"}]
[{"$f":"'CARRETERAS Y TÚNELES'!D71","v":0},{"$f":"'CARRETERAS Y TÚNELES'!B71","v":"APROVECHAMIENTO FORESTAL"},{"$f":"'CARRETERAS Y TÚNELES'!E71","v":"Los productos obtenidos del aprovechamiento forestal no podrán ser comercializados y solo podrán ser utilizados en las actividades propias del proyecto y/o entregarse a titulo de donación, determinando de manera prevalente como titular al propietario del predio o a las comunidades, organizaciones sociales y/o autoridades territoriales del área de influencia. El destino de los productos (uso y/o donación) estará soportado mediante actas de donación o reportes de su uso en actividades del proyecto, según corresponda adjuntando registro fotográfico, los cuales serán incluidos  en los informes de cumplimiento ambiental - ICA- respectivos."},{"$f":"'CARRETERAS Y TÚNELES'!F71","v":"N/A"},{"$f":"'CARRETERAS Y TÚNELES'!G71","v":"Aplica"},{"$f":"'CARRETERAS Y TÚNELES'!H71","v":"N/A"},{"$f":"'CARRETERAS Y TÚNELES'!I71","v":"N/A"},{"$f":"'CARRETERAS Y TÚNELES'!J71","v":"Temporal"}]
[{"$f":"'CARRETERAS Y TÚNELES'!D72","v":0},{"$f":"'CARRETERAS Y TÚNELES'!B72","v":"RECOLECCIÓN DE ESPECÍMENES DE ESPECIES SILVESTRES DE LA\nBIODIVERSIDAD"},{"$f":"'CARRETERAS Y TÚNELES'!E72","v":"Presentar en el respectivo informe de cumplimiento ambiental - ICA - las actividades de recolección relacionadas con el permiso, incluyendo la relación del material recolectado, removido o extraído temporal o definitivamente del medio silvestre y la metodología implementada. Presentar la información documental conforme a los lineamientos establecidos en el Manual de Seguimiento Ambiental de Proyectos y bajo el modelo de almacenamiento geográfico adoptado en la Resolución 2182 del 23 de diciembre de 2016  o aquella norma que la modifiquen o sustituya."},{"$f":"'CARRETERAS Y TÚNELES'!F72","v":"N/A"},{"$f":"'CARRETERAS Y TÚNELES'!G72","v":"Aplica"},{"$f":"'CARRETERAS Y TÚNELES'!H72","v":"N/A"},{"$f":"'CARRETERAS Y TÚNELES'!I72","v":"N/A"},{"$f":"'CARRETERAS Y TÚNELES'!J72","v":"Permanente"}]
[{"$f":"'CARRETERAS Y TÚNELES'!D73","v":0},{"$f":"'CARRETERAS Y TÚNELES'!B73","v":"FAUNA"},{"$f":"'CARRETERAS Y TÚNELES'!E73","v":"Presentar un estudio ecológico de los sitios de reubicación y ahuyentamiento de fauna, en el primer Informe de Cumplimiento Ambiental - ICA de la fase constructiva para que sea objeto de análisis y aprobación, el cual incluya:\n\ni) Oferta de hábitat.\nii) Tipo de cobertura vegetal.\niii) Rutas de fuga, corredores biológicos, área y accesibilidad.\niv) Análisis de la capacidad de carga de los ecosistemas que recibirán las especies de fauna. Se podrán emplear especies focales a partir de los impactos generados por el proyecto. \nv) Plan de seguimiento y monitoreo que incluya acciones e indicadores que permitan corroborar la efectividad y pertinencia a nivel de individuos reubicados, poblaciones y hábitat.\nvi) Dichas áreas deberán encontrarse dentro del área de influencia del proyecto, en caso de que no sea posible, justificar las razones de la selección en sitios fuera de la misma."},{"$f":"'CARRETERAS Y TÚNELES'!F73","v":"N/A"},{"$f":"'CARRETERAS Y TÚNELES'!G73","v":"Aplica"},{"$f":"'CARRETERAS Y TÚNELES'!H73","v":"N/A"},{"$f":"'CARRETERAS Y TÚNELES'!I73","v":"N/A"},{"$f":"'CARRETERAS Y TÚNELES'!J73","v":"Temporal"}]
[{"$f":"'CARRETERAS Y TÚNELES'!D74","v":0},{"$f":"'CARRETERAS Y TÚNELES'!B74","v":"FAUNA"},{"$f":"'CARRETERAS Y TÚNELES'!E74","v":"Realizar actividades de ahuyentamiento, rescate y/o reubicación de los diferentes individuos de especies de fauna silvestre presentes en áreas intervenidas por el proyecto. Documentar la localización de los sitios de reubicación de fauna y actividades ejecutadas en cada Informe de Cumplimiento Ambiental - ICA, haciendo uso del modelo de almacenamiento geográfico establecido en la Resolución 2182 de 2016 del MADS, o aquella norma que la modifique o sustituya,  "},{"$f":"'CARRETERAS Y TÚNELES'!F74","v":"N/A"},{"$f":"'CARRETERAS Y TÚNELES'!G74","v":"Aplica"},{"$f":"'CARRETERAS Y TÚNELES'!H74","v":"N/A"},{"$f":"'CARRETERAS Y TÚNELES'!I74","v":"N/A"},{"$f":"'CARRETERAS Y TÚNELES'!J74","v":"Permanente"}]
[{"$f":"'CARRETERAS Y TÚNELES'!D75","v":0},{"$f":"'CARRETERAS Y TÚNELES'!B75","v":"FAUNA"},{"$f":"'CARRETERAS Y TÚNELES'!E75","v":"Realizar seguimiento a los grupos de fauna, con la periodicidad aprobada por esta Autoridad para el seguimiento y monitoreo descrito en el plan de compensación del medio biótico, en áreas en donde se adelanten actividades aprobadas en dicho plan, en cuanto a la composición, abundancia y estructura de los diferentes grupos taxonómicos, a partir de la implementación de metodologías y variables presentadas en el Estudio de Impacto Ambiental, considerando como mínimo las siguientes condiciones:\n\na) Establecer una red de monitoreo para los diferentes grupos taxonómicos referenciados en el EIA.\nb) Realizar análisis multitemporales y espaciales.\nc) Identificar posibles corredores de movilidad.\nd) Identificar posibles conflictos con las comunidades aledañas.\ne) Evaluar la pertinencia de complementar y/o modificar las medidas de manejo establecidas.\n\nReportar los resultados en los respectivos Informes de Cumplimiento Ambiental - ICA."},{"$f":"'CARRETERAS Y TÚNELES'!F75","v":"N/A"},{"$f":"'CARRETERAS Y TÚNELES'!G75","v":"Aplica"},{"$f":"'CARRETERAS Y TÚNELES'!H75","v":"Aplica"},{"$f":"'CARRETERAS Y TÚNELES'!I75","v":"N/A"},{"$f":"'CARRETERAS Y TÚNELES'!J75","v":"Permanente"}]
[{"$f":"'CARRETERAS Y TÚNELES'!D76","v":0},{"$f":"'CARRETERAS Y TÚNELES'!B76","v":"FAUNA"},{"$f":"'CARRETERAS Y TÚNELES'!E76","v":"Realizar seguimiento a los grupos de fauna del área de influencia del proyecto, con una frecuencia (definir la frecuencia de acuerdo con el criterio de los evaluadores para el proyecto), respecto a composición, abundancia y estructura de los diferentes grupos taxonómicos, a partir de las metodologías y variables presentadas en el Estudio de Impacto Ambiental EIA, considerando como mínimo las siguientes condiciones:\n\na) Establecer una red de monitoreo para los diferentes grupos taxonómicos referenciados en el EIA.\nb) Realizar análisis multitemporales y espaciales.\nc) Identificar posibles corredores de movilidad.\nd) Identificar posibles conflictos con las comunidades aledañas.\ne) Evaluar la pertinencia de complementar y/o modificar las medidas de manejo establecidas.\n\nReportar los resultados en los respectivos Informes de Cumplimiento Ambiental - ICA."},{"$f":"'CARRETERAS Y TÚNELES'!F76","v":"N/A"},{"$f":"'CARRETERAS Y TÚNELES'!G76","v":"Aplica"},{"$f":"'CARRETERAS Y TÚNELES'!H76","v":"N/A"},{"$f":"'CARRETERAS Y TÚNELES'!I76","v":"N/A"},{"$f":"'CARRETERAS Y TÚNELES'!J76","v":"Permanente"}]
[{"$f":"'CARRETERAS Y TÚNELES'!D77","v":0},{"$f":"'CARRETERAS Y TÚNELES'!B77","v":"FAUNA"},{"$f":"'CARRETERAS Y TÚNELES'!E77","v":"Incorporar en el Plan de Manejo Ambiental un sistema de pasos de fauna como una de las medidas de mitigación a los impactos de atropellamiento, mortalidad de fauna y efecto barrera para la dispersión, o su equivalente de acuerdo con el ejercicio de jerarquización de impactos ambientales. El sistema de pasos de fauna deberá ser objeto de diseño, construcción y mantenimiento con base en los análisis de conectividad funcional, las obras de drenaje adaptadas a la movilidad de las especies, estructuras disuasivas y de encauzamiento, y la cobertura vegetal existente asociada o por restaurar, y demás criterios contemplados en los lineamientos de Infraestructura Verde Vial para Colombia (MADS, FCDS & WWF, 2020), el documento \"Atropellamiento de fauna silvestre en Colombia. Guía para entender y diagnosticar este impacto\" (Jaramillo-Fayad et al. 2021) y otras fuentes que sirvan de orientación para el diseño de este tipo de estructuras. Dicha información, deberá ser presentada en el primer Informe de Cumplimiento Ambiental - ICA de la fase constructiva.\n\nParágrafo: Para las vías existentes que se encuentren dentro del área de influencia del proyecto y que vayan a ser empleadas por el proyecto, se deberá tener en cuenta para el diseño del sistema de pasos de fauna un análisis de puntos calientes - hotspot, para determinar la susceptibilidad frente a los impacto de atropellamiento, mortalidad de fauna y efecto barrera para la dispersión, o su equivalente de acuerdo con el ejercicio de jerarquización de impactos ambientales."},{"$f":"'CARRETERAS Y TÚNELES'!F77","v":"N/A"},{"$f":"'CARRETERAS Y TÚNELES'!G77","v":"Aplica"},{"$f":"'CARRETERAS Y TÚNELES'!H77","v":"N/A"},{"$f":"'CARRETERAS Y TÚNELES'!I77","v":"N/A"},{"$f":"'CARRETERAS Y TÚNELES'!J77","v":"Temporal"}]
[{"$f":"'CARRETERAS Y TÚNELES'!D78","v":0},{"$f":"'CARRETERAS Y TÚNELES'!B78","v":"FAUNA"},{"$f":"'CARRETERAS Y TÚNELES'!E78","v":"Realizar un seguimiento sistemático, estandarizado, representativo y adaptativo al cumplimiento y efectividad del sistema de pasos de fauna como medida de mitigación frente a los impactos de atropellamiento, mortalidad de fauna y efecto barrera para la dispersión, o su equivalente de acuerdo con el ejercicio de jerarquización de impactos ambientales, teniendo en cuenta los lineamientos de Infraestructura Verde Vial para Colombia (MADS, FCDS & WWF, 2020) y otras fuentes que sirvan de orientación para el monitoreo. Documentar las actividades de monitoreo en cada Informe de Cumplimiento Ambiental - ICA, haciendo uso del modelo de almacenamiento geográfico establecido en la Resolución 2182 de 2016 del MADS, o aquella norma que la modifique o sustituya.\n\nParágrafo: La efectividad de la medida se evaluará en función de dos aspectos, el primero relacionado directamente con el uso o no uso de los pasos de fauna y el segundo con la disminución en el atropellamiento o mortalidad de fauna sobre la vía, con el propósito de identificar la pertinencia de complementar y/o modificar la medida de manejo establecida."},{"$f":"'CARRETERAS Y TÚNELES'!F78","v":"N/A"},{"$f":"'CARRETERAS Y TÚNELES'!G78","v":"Aplica"},{"$f":"'CARRETERAS Y TÚNELES'!H78","v":"N/A"},{"$f":"'CARRETERAS Y TÚNELES'!I78","v":"N/A"},{"$f":"'CARRETERAS Y TÚNELES'!J78","v":"Permanente"}]
[{"$f":"'CARRETERAS Y TÚNELES'!D79","v":0},{"$f":"'CARRETERAS Y TÚNELES'!B79","v":"VEDAS"},{"$f":"'CARRETERAS Y TÚNELES'!E79","v":"Rescatar las especies vasculares en veda nacional bajo la Resolución 0213 de 1977 del INDERENA (orquídeas y bromelias) y garantizar un rescate y sobrevivencia porcentual por especie de conformidad con lo establecido en la siguiente tabla. Dichos porcentajes responden a características intrínsecas de cada especie (botánicas, fisiológicas, ecológicas, de distribución, grado de amenaza, endemismo y/o usos locales).\n\n[Incluir tabla de porcentajes por especies]\n\nEn los casos cuya determinación se haya realizado a nivel de familia, género o “confertus” y “affín”, se debe rescatar el 100% de los individuos, aplicando el principio de precaución, dadas las condiciones de riqueza, endemismo y amenaza de estos grupos taxonómicos en el país y el desconoccimiento de la identidad taxonómica de la especie registrada en el proyecto; por lo tanto, el porcentaje de sobrevivencia será diferencial, dado que depende principalmente de la capacidad de adaptación del género específico y de los requerimientos de hábitat puntuales, se debe garantizar una sobrevivencia del [establecer el porcentaje, entre el 70% y 80%]."},{"$f":"'CARRETERAS Y TÚNELES'!F79","v":"N/A"},{"$f":"'CARRETERAS Y TÚNELES'!G79","v":"Aplica"},{"$f":"'CARRETERAS Y TÚNELES'!H79","v":"N/A"},{"$f":"'CARRETERAS Y TÚNELES'!I79","v":"N/A"},{"$f":"'CARRETERAS Y TÚNELES'!J79","v":"Permanente"}]
[{"$f":"'CARRETERAS Y TÚNELES'!D80","v":0},{"$f":"'CARRETERAS Y TÚNELES'!B80","v":"VEDAS"},{"$f":"'CARRETERAS Y TÚNELES'!E80","v":"Reportar en los respectivos Informes de Cumplimiento Ambiental - ICA, las actividades de seguimiento de especies vasculares rescatadas bajo el “Modelo base de datos de rescate de especies vasculares en veda nacional y preferencia de forofitos”, disponible en el sitio web: https://www.anla.gov.co/01_anla/proyectos/nuevo-licenciamiento-ambiental/elaboracion-ica-y-control-y-seguimiento"},{"$f":"'CARRETERAS Y TÚNELES'!F80","v":"N/A"},{"$f":"'CARRETERAS Y TÚNELES'!G80","v":"Aplica"},{"$f":"'CARRETERAS Y TÚNELES'!H80","v":"N/A"},{"$f":"'CARRETERAS Y TÚNELES'!I80","v":"N/A"},{"$f":"'CARRETERAS Y TÚNELES'!J80","v":"Permanente"}]
[{"$f":"'CARRETERAS Y TÚNELES'!D81","v":0},{"$f":"'CARRETERAS Y TÚNELES'!B81","v":"VEDAS"},{"$f":"'CARRETERAS Y TÚNELES'!E81","v":"Reportar en los respectivos Informes de Cumplimiento Ambiental - ICA, las actividades de seguimiento de especies vasculares trasladadas y reubicadas bajo la \"Modelo base de datos consolidada de seguimiento, monitoreo y mantenimiento de especies vasculares trasladadas y reubicadas”, disponible en el sitio web: https://www.anla.gov.co/01_anla/proyectos/nuevo-licenciamiento-ambiental/elaboracion-ica-y-control-y-seguimiento"},{"$f":"'CARRETERAS Y TÚNELES'!F81","v":"N/A"},{"$f":"'CARRETERAS Y TÚNELES'!G81","v":"Aplica"},{"$f":"'CARRETERAS Y TÚNELES'!H81","v":"N/A"},{"$f":"'CARRETERAS Y TÚNELES'!I81","v":"N/A"},{"$f":"'CARRETERAS Y TÚNELES'!J81","v":"Permanente"}]
[{"$f":"'CARRETERAS Y TÚNELES'!D82","v":0},{"$f":"'CARRETERAS Y TÚNELES'!B82","v":"VEDAS"},{"$f":"'CARRETERAS Y TÚNELES'!E82","v":"Realizar el cálculo del área de retribución por afectación a especies no vasculares y líquenes en veda bajo el instrumento de “Cálculo del área de retribución por afectación a especies no vasculares y líquenes en veda y sus criterios de evaluación”, disponible en el sitio web: https://www.anla.gov.co/01_anla/proyectos/nuevo-licenciamiento-ambiental/elaboracion-ica-y-control-y-seguimiento Reportar dicha información en el respectivo Informe de Cumplimiento Ambiental - ICA para evaluación y aprobación de esta autoridad."},{"$f":"'CARRETERAS Y TÚNELES'!F82","v":"N/A"},{"$f":"'CARRETERAS Y TÚNELES'!G82","v":"Aplica"},{"$f":"'CARRETERAS Y TÚNELES'!H82","v":"N/A"},{"$f":"'CARRETERAS Y TÚNELES'!I82","v":"N/A"},{"$f":"'CARRETERAS Y TÚNELES'!J82","v":"Permanente"}]
[{"$f":"'CARRETERAS Y TÚNELES'!D83","v":0},{"$f":"'CARRETERAS Y TÚNELES'!B83","v":"CONSTRUCCIÓN Y/O ADECUACIÓN DE VÍAS DE APOYO AL PROYECTO"},{"$f":"'CARRETERAS Y TÚNELES'!E83","v":"Anexar, previo al inicio de la fase constructiva del proyecto mediante oficio radicado a esta Autoridad, las autorizaciones y/o permisos necesarios para realizar las obras de construcción y/o adecuación de las vías que servirán de apoyo al proyecto."},{"$f":"'CARRETERAS Y TÚNELES'!F83","v":"Aplica"},{"$f":"'CARRETERAS Y TÚNELES'!G83","v":"N/A"},{"$f":"'CARRETERAS Y TÚNELES'!H83","v":"N/A"},{"$f":"'CARRETERAS Y TÚNELES'!I83","v":"N/A"},{"$f":"'CARRETERAS Y TÚNELES'!J83","v":"Temporal"}]
[{"$f":"'CARRETERAS Y TÚNELES'!D84","v":0},{"$f":"'CARRETERAS Y TÚNELES'!B84","v":"CONSTRUCCIÓN Y/O ADECUACIÓN DE VÍAS DE APOYO AL PROYECTO"},{"$f":"'CARRETERAS Y TÚNELES'!E84","v":"Remitir en los Informes de Cumplimiento Ambiental - ICA, un informe en el que se especifique y reporten las actividades de construcción y/o adecuación realizadas sobre las vías que servirán de apoyo al proyecto, y sus zonas aledañas incluidas en el derecho de vía - DDV, para cada periodo reportado, incluyendo los soportes técnicos y registros fílmicos y/o fotográficos en los que se evidencie fecha y coordenadas. "},{"$f":"'CARRETERAS Y TÚNELES'!F84","v":"N/A"},{"$f":"'CARRETERAS Y TÚNELES'!G84","v":"Aplica"},{"$f":"'CARRETERAS Y TÚNELES'!H84","v":"N/A"},{"$f":"'CARRETERAS Y TÚNELES'!I84","v":"N/A"},{"$f":"'CARRETERAS Y TÚNELES'!J84","v":"Permanente"}]
[{"$f":"'CARRETERAS Y TÚNELES'!D85","v":0},{"$f":"'CARRETERAS Y TÚNELES'!B85","v":"CONSTRUCCIÓN Y/O ADECUACIÓN DE VÍAS DE APOYO AL PROYECTO"},{"$f":"'CARRETERAS Y TÚNELES'!E85","v":"Al finalizar la fase constructiva del proyecto, presentar en el respectivo Informe de Cumplimiento Ambiental - ICA, un informe que incluya el estado final de las vías que sirvieron de apoyo al proyecto, y sus zonas aledañas incluidas en el derecho de vía - DDV, garantizando que las mismas sean entregadas en iguales o mejores condiciones. Incluir en dicho informe un registro fílmico y/o fotográfico en el que se evidencie fecha y coordenadas. "},{"$f":"'CARRETERAS Y TÚNELES'!F85","v":"N/A"},{"$f":"'CARRETERAS Y TÚNELES'!G85","v":"Aplica"},{"$f":"'CARRETERAS Y TÚNELES'!H85","v":"N/A"},{"$f":"'CARRETERAS Y TÚNELES'!I85","v":"N/A"},{"$f":"'CARRETERAS Y TÚNELES'!J85","v":"Temporal"}]
[{"$f":"'CARRETERAS Y TÚNELES'!D86","v":0},{"$f":"'CARRETERAS Y TÚNELES'!B86","v":"CONSTRUCCIÓN DE TÚNELES LICENCIADOS"},{"$f":"'CARRETERAS Y TÚNELES'!E86","v":"Implementar acciones de tipo exploratorio como mínimo cada 20% de avance longitudinal en los frentes de excavación subterránea, con el fin de validar la condición (litológica- estructural) geológica y geotécnica del macizo objeto  de intervención. Reportar los resultados en cada porcentaje de avance a la ANLA a través del correo electrónico licencias@anla.gov.co."},{"$f":"'CARRETERAS Y TÚNELES'!F86","v":"N/A"},{"$f":"'CARRETERAS Y TÚNELES'!G86","v":"Aplica"},{"$f":"'CARRETERAS Y TÚNELES'!H86","v":"N/A"},{"$f":"'CARRETERAS Y TÚNELES'!I86","v":"N/A"},{"$f":"'CARRETERAS Y TÚNELES'!J86","v":"Permanente"}]
[{"$f":"'CARRETERAS Y TÚNELES'!D87","v":0},{"$f":"'CARRETERAS Y TÚNELES'!B87","v":"CONSTRUCCIÓN DE TÚNELES LICENCIADOS"},{"$f":"'CARRETERAS Y TÚNELES'!E87","v":"Implementar acciones de tipo exploratorio como mínimo cada 10 % de avance longitudinal en los frentes de excavación subterránea, con el fin de validar  la condición (litológica- estructural) geológica y geotécnica del macizo objeto  de intervención. Reportar los resultados en cada porcentaje de avance a la ANLA a través del correo electrónico licencias@anla.gov.co."},{"$f":"'CARRETERAS Y TÚNELES'!F87","v":"N/A"},{"$f":"'CARRETERAS Y TÚNELES'!G87","v":"Aplica"},{"$f":"'CARRETERAS Y TÚNELES'!H87","v":"N/A"},{"$f":"'CARRETERAS Y TÚNELES'!I87","v":"N/A"},{"$f":"'CARRETERAS Y TÚNELES'!J87","v":"Permanente"}]
[{"$f":"'CARRETERAS Y TÚNELES'!D88","v":0},{"$f":"'CARRETERAS Y TÚNELES'!B88","v":"CONSTRUCCIÓN DE TÚNELES LICENCIADOS"},{"$f":"'CARRETERAS Y TÚNELES'!E88","v":"Implementar acciones de tipo exploratorio como mínimo cada 5% de avance longitudinal en los frentes de excavación subterránea, con el fin de validar  la condición  (litológica- estructural) geológica y geotécnica del macizo objeto  de intervención. Reportar los resultados en cada porcentaje de avance a la ANLA a través del correo electrónico licencias@anla.gov.co."},{"$f":"'CARRETERAS Y TÚNELES'!F88","v":"N/A"},{"$f":"'CARRETERAS Y TÚNELES'!G88","v":"Aplica"},{"$f":"'CARRETERAS Y TÚNELES'!H88","v":"N/A"},{"$f":"'CARRETERAS Y TÚNELES'!I88","v":"N/A"},{"$f":"'CARRETERAS Y TÚNELES'!J88","v":"Permanente"}]
[{"$f":"'CARRETERAS Y TÚNELES'!D89","v":0},{"$f":"'CARRETERAS Y TÚNELES'!B89","v":"CONSTRUCCIÓN DE TÚNELES LICENCIADOS"},{"$f":"'CARRETERAS Y TÚNELES'!E89","v":"Verificar la condición tenso-deformacional en las unidades geológicas – geotécnicas identificadas en el frente de excavación, mínimo cada 20 % de avance longitudinal, con el fin de validar la efectividad de las medidas de estabilidad  propuestas que garanticen  la mitigación  del impacto sobre  el medio litosférico (macizo rocoso objeto de intervención). Reportar los resultados en cada porcentaje de avance a la ANLA a través del correo electrónico licencias@anla.gov.co."},{"$f":"'CARRETERAS Y TÚNELES'!F89","v":"N/A"},{"$f":"'CARRETERAS Y TÚNELES'!G89","v":"Aplica"},{"$f":"'CARRETERAS Y TÚNELES'!H89","v":"N/A"},{"$f":"'CARRETERAS Y TÚNELES'!I89","v":"N/A"},{"$f":"'CARRETERAS Y TÚNELES'!J89","v":"Permanente"}]
[{"$f":"'CARRETERAS Y TÚNELES'!D90","v":0},{"$f":"'CARRETERAS Y TÚNELES'!B90","v":"CONSTRUCCIÓN DE TÚNELES LICENCIADOS"},{"$f":"'CARRETERAS Y TÚNELES'!E90","v":"Verificar la condición tenso-deformacional en las unidades geológicas – geotécnicas identificadas en el frente de excavación, mínimo cada 10 % de avance longitudinal, con el fin validar la efectividad de las medidas de estabilidad  propuestas que garanticen  la mitigación  del impacto sobre  el medio litosférico (macizo rocoso objeto de intervención). Reportar los resultados en cada porcentaje de avance a la ANLA a través del correo electrónico licencias@anla.gov.co."},{"$f":"'CARRETERAS Y TÚNELES'!F90","v":"N/A"},{"$f":"'CARRETERAS Y TÚNELES'!G90","v":"Aplica"},{"$f":"'CARRETERAS Y TÚNELES'!H90","v":"N/A"},{"$f":"'CARRETERAS Y TÚNELES'!I90","v":"N/A"},{"$f":"'CARRETERAS Y TÚNELES'!J90","v":"Permanente"}]
[{"$f":"'CARRETERAS Y TÚNELES'!D91","v":0},{"$f":"'CARRETERAS Y TÚNELES'!B91","v":"CONSTRUCCIÓN DE TÚNELES LICENCIADOS"},{"$f":"'CARRETERAS Y TÚNELES'!E91","v":"Verificar la condición tenso-deformacional en las unidades geológicas – geotécnicas identificadas en el frente de excavación, mínimo cada 5 % de avance longitudinal, con el fin de validar la efectividad de las medidas de estabilidad  propuestas que garanticen  la mitigación  del impacto sobre  el medio litosférico (macizo rocoso objeto de intervención). Reportar los resultados cada porcentaje de avance a la ANLA a través del correo electrónico licencias@anla.gov.co."},{"$f":"'CARRETERAS Y TÚNELES'!F91","v":"N/A"},{"$f":"'CARRETERAS Y TÚNELES'!G91","v":"Aplica"},{"$f":"'CARRETERAS Y TÚNELES'!H91","v":"N/A"},{"$f":"'CARRETERAS Y TÚNELES'!I91","v":"N/A"},{"$f":"'CARRETERAS Y TÚNELES'!J91","v":"Permanente"}]
[{"$f":"'CARRETERAS Y TÚNELES'!D92","v":0},{"$f":"'CARRETERAS Y TÚNELES'!B92","v":"CONSTRUCCIÓN DE TÚNELES LICENCIADOS"},{"$f":"'CARRETERAS Y TÚNELES'!E92","v":"Analizar la condición de estabilidad geotécnica del talud (estática y pseudoestática) teniendo como referente el  estado de esfuerzos efectivos en  la ladera y  los procesos de  deformación (desplazamientos verticales u horizontales) presentes durante la  conformación de los portales de entrada y salida al 20%, 40% , 60%, 80% y 100%  de avance constructivo, con el fin de validar la efectividad de las medidas de estabilidad  propuestas que garanticen  la mitigación  del impacto sobre  el medio litosférico (Ladera).  Reportar los resultados en cada porcentaje de avance a la ANLA a través del correo electrónico licencias@anla.gov.co."},{"$f":"'CARRETERAS Y TÚNELES'!F92","v":"N/A"},{"$f":"'CARRETERAS Y TÚNELES'!G92","v":"Aplica"},{"$f":"'CARRETERAS Y TÚNELES'!H92","v":"N/A"},{"$f":"'CARRETERAS Y TÚNELES'!I92","v":"N/A"},{"$f":"'CARRETERAS Y TÚNELES'!J92","v":"Permanente"}]
[{"$f":"'CARRETERAS Y TÚNELES'!D93","v":0},{"$f":"'CARRETERAS Y TÚNELES'!B93","v":"CONSTRUCCIÓN DE TÚNELES LICENCIADOS"},{"$f":"'CARRETERAS Y TÚNELES'!E93","v":"Realizar monitoreos semanales a las variaciones  del nivel piezométrico presente en el sistema acuífero en el área de influencia del túnel definida a partir del modelo hidrogeológico numérico, en los diferentes puntos de interés hidrogeológico asociados a la red piezométrica autorizada en la licencia ambiental. Reportar los resultados mensualmente a la ANLA a través del correo electrónico licencias@anla.gov.co donde se debe incluir el análisis  de las variaciones acumuladas durante la construcción y los posibles impactos en el medio hidrosférico (superficial, subsuperficial y subterráneo)."},{"$f":"'CARRETERAS Y TÚNELES'!F93","v":"N/A"},{"$f":"'CARRETERAS Y TÚNELES'!G93","v":"Aplica"},{"$f":"'CARRETERAS Y TÚNELES'!H93","v":"N/A"},{"$f":"'CARRETERAS Y TÚNELES'!I93","v":"N/A"},{"$f":"'CARRETERAS Y TÚNELES'!J93","v":"Permanente"}]
[{"$f":"'CARRETERAS Y TÚNELES'!D94","v":0},{"$f":"'CARRETERAS Y TÚNELES'!B94","v":"CONSTRUCCIÓN DE TÚNELES LICENCIADOS"},{"$f":"'CARRETERAS Y TÚNELES'!E94","v":"Realizar mediciones de los caudales de infiltración por cada 10 m de avance de excavación, y reportar las medidas de control  de infiltraciones  implementadas de acuerdo al caudal identificado en el frente de obra. La suma de los caudales cada 10 m no debe superar el caudal total estimado en el modelo hidrogeológico numérico del túnel. En caso de superar el caudal total proyectado en el modelo numérico, suspender las obras  y reportar a la ANLA para establecer los posibles impactos adicionales y las medidas de manejo correspondientes. Reportar los resultados mensualmente  a la ANLA a través del correo electrónico licencias@anla.gov.co."},{"$f":"'CARRETERAS Y TÚNELES'!F94","v":"N/A"},{"$f":"'CARRETERAS Y TÚNELES'!G94","v":"Aplica"},{"$f":"'CARRETERAS Y TÚNELES'!H94","v":"N/A"},{"$f":"'CARRETERAS Y TÚNELES'!I94","v":"N/A"},{"$f":"'CARRETERAS Y TÚNELES'!J94","v":"Permanente"}]
[{"$f":"'CARRETERAS Y TÚNELES'!D95","v":0},{"$f":"'CARRETERAS Y TÚNELES'!B95","v":"CONSTRUCCIÓN DE TÚNELES LICENCIADOS"},{"$f":"'CARRETERAS Y TÚNELES'!E95","v":"Realizar monitoreos semanales a las variaciones  en los caudales de las fuentes hídricas localizadas dentro del  área de influencia del túnel definida a partir del modelo hidrogeológico numérico, teniendo en cuenta usos y usuarios. Reportar los resultados mensualmente  a la ANLA a través del correo electrónico licencias@anla.gov.co donde se debe incluir el análisis  de las variaciones acumuladas durante la construcción, los posibles impactos en el medio hidrosférico y  la implementación de las medidas de manejo ambiental correspondientes."},{"$f":"'CARRETERAS Y TÚNELES'!F95","v":"N/A"},{"$f":"'CARRETERAS Y TÚNELES'!G95","v":"Aplica"},{"$f":"'CARRETERAS Y TÚNELES'!H95","v":"N/A"},{"$f":"'CARRETERAS Y TÚNELES'!I95","v":"N/A"},{"$f":"'CARRETERAS Y TÚNELES'!J95","v":"Permanente"}]
[{"$f":"'CARRETERAS Y TÚNELES'!D96","v":0},{"$f":"'CARRETERAS Y TÚNELES'!B96","v":"CONSTRUCCIÓN DE TÚNELES LICENCIADOS"},{"$f":"'CARRETERAS Y TÚNELES'!E96","v":"Presentar las actas de seguimiento realizadas durante la etapa constructiva y comparar dicha información con las actas de vecindad levantadas antes del inicio de la construcción, con el fin de evidenciar las posibles afectaciones a la infraestructura (vial, de servicios públicos, viviendas, entre otros) por efecto de las detonaciones durante la excavación del túnel. Presentar los resultados en los respectivos Informes de Cumplimiento Ambiental - ICA."},{"$f":"'CARRETERAS Y TÚNELES'!F96","v":"N/A"},{"$f":"'CARRETERAS Y TÚNELES'!G96","v":"Aplica"},{"$f":"'CARRETERAS Y TÚNELES'!H96","v":"N/A"},{"$f":"'CARRETERAS Y TÚNELES'!I96","v":"N/A"},{"$f":"'CARRETERAS Y TÚNELES'!J96","v":"Temporal"}]
[{"$f":"'CARRETERAS Y TÚNELES'!D97","v":0},{"$f":"'CARRETERAS Y TÚNELES'!B97","v":"CONSTRUCCIÓN DE TÚNELES LICENCIADOS"},{"$f":"'CARRETERAS Y TÚNELES'!E97","v":"Presentar un reporte que incluya las posibles afectaciones al medio natural (nacederos, coberturas, fauna, laderas, entre otros) por efecto de las detonaciones durante la excavación del túnel. Presentar los resultados en los respectivos Informes de Cumplimiento Ambiental - ICA."},{"$f":"'CARRETERAS Y TÚNELES'!F97","v":"N/A"},{"$f":"'CARRETERAS Y TÚNELES'!G97","v":"Aplica"},{"$f":"'CARRETERAS Y TÚNELES'!H97","v":"N/A"},{"$f":"'CARRETERAS Y TÚNELES'!I97","v":"N/A"},{"$f":"'CARRETERAS Y TÚNELES'!J97","v":"Temporal"}]
[{"$f":"'CARRETERAS Y TÚNELES'!D98","v":0},{"$f":"'CARRETERAS Y TÚNELES'!B98","v":"CONSTRUCCIÓN DE TÚNELES LICENCIADOS"},{"$f":"'CARRETERAS Y TÚNELES'!E98","v":"Implementar una red de conducción provisional que permita el transporte eficiente en tramos extensos de las ARnD generadas de los frentes de obra del túnel, de igual manera, instalar un sistema de tratamiento que garantice los estándares normativos  en el efluente tratado para luego ser dispuesto hacia un cuerpo hídrico receptor o en un campo de infiltración, permiso que deberá ser previamente autorizado por esta Autoridad."},{"$f":"'CARRETERAS Y TÚNELES'!F98","v":"N/A"},{"$f":"'CARRETERAS Y TÚNELES'!G98","v":"Aplica"},{"$f":"'CARRETERAS Y TÚNELES'!H98","v":"N/A"},{"$f":"'CARRETERAS Y TÚNELES'!I98","v":"N/A"},{"$f":"'CARRETERAS Y TÚNELES'!J98","v":"Temporal"}]
[{"$f":"'CARRETERAS Y TÚNELES'!D99","v":0},{"$f":"'CARRETERAS Y TÚNELES'!B99","v":"CONSTRUCCIÓN DE TÚNELES LICENCIADOS"},{"$f":"'CARRETERAS Y TÚNELES'!E99","v":"Realizar la actualización del modelo hidrogeológico conceptual y matemático del túnel presentado en el EIA, como mínimo cada 20% de avance longitudinal en los frentes de excavación subterránea para túneles de longitud menor a 500 m, a través de la revisión y análisis de los posibles cambios que se pueden evidenciar durante la etapa constructiva con relación a las variables geológicas, hidrológicas e hidráulicas que conforman el sistema acuífero objeto de intervención del túnel, los cuales  aportan como datos de entrada al modelo hidrogeológico tanto a nivel conceptual como matemático: Aspecto geológico: variación en la información de unidades geológicas, fallas y datos estructurales; Aspecto hidrológico y climatológico: variación en la información del régimen hidrológico de las fuentes hídricas (lóticas , lénticas), variación en variables climatológicas de la zona  y por ende el  balance hidroclimático de la zona de estudio, variación en la condición de recarga, tránsito y descarga dentro del sistema hídrico y variación en la demanda del recurso hídrico dentro del área de influencia del túnel; y Aspecto hidráulico: variación en las condiciones piezométricas del sistema hídrico y variaciones en las condiciones hidráulicas en el medio litosférico (condiciones de permeabilidad, almacenamiento y transmisividad).\n\nRemitir a la ANLA el resultado del proceso de actualización, e incluir una revisión detallada de cada uno de los impactos presentados inicialmente en el EIA vs la condición actual, la revisión de la efectividad de las medidas de manejo ambiental, seguimiento y monitoreo y sus ajustes (si aplican) en protección del medio litoférico, hidrosférico y socioeconómico objeto de impacto por efecto de las obras subterráneas. Reportar los resultados conforme al porcentaje de avance del túnel a la ANLA a través del correo electrónico licencias@anla.gov.co e incluir el análisis de las variaciones acumuladas durante la construcción y los posibles impactos en el medio hidrosférico (superficial, subsuperficial y subterráneo). "},{"$f":"'CARRETERAS Y TÚNELES'!F99","v":"N/A"},{"$f":"'CARRETERAS Y TÚNELES'!G99","v":"Aplica"},{"$f":"'CARRETERAS Y TÚNELES'!H99","v":"N/A"},{"$f":"'CARRETERAS Y TÚNELES'!I99","v":"N/A"},{"$f":"'CARRETERAS Y TÚNELES'!J99","v":"Permanente"}]
[{"$f":"'CARRETERAS Y TÚNELES'!D100","v":0},{"$f":"'CARRETERAS Y TÚNELES'!B100","v":"CONSTRUCCIÓN DE TÚNELES LICENCIADOS"},{"$f":"'CARRETERAS Y TÚNELES'!E100","v":"Realizar la actualización del modelo hidrogeológico conceptual y matemático del túnel presentado en el EIA, como mínimo cada 10% de avance longitudinal en los frentes de excavación subterránea para túneles de longitud entre 500 m y 1.000 m, a través de la revisión y análisis de los posibles cambios que se pueden evidenciar durante la etapa constructiva con relación a las variables geológicas, hidrológicas e hidráulicas que conforman el sistema acuífero objeto de intervención del túnel, los cuales  aportan como datos de entrada al modelo hidrogeológico tanto a nivel conceptual como matemático: Aspecto geológico: variación en la información de unidades geológicas, fallas y datos estructurales; Aspecto hidrológico y climatológico: variación en la información del régimen hidrológico de las fuentes hídricas (lóticas , lénticas), variación en variables climatológicas de la zona  y por ende el  balance hidroclimático de la zona de estudio, variación en la condición de recarga, tránsito y descarga dentro del sistema hídrico y variación en la demanda del recurso hídrico dentro del área de influencia del túnel; y Aspecto hidráulico: variación en las condiciones piezométricas del sistema hídrico y variaciones en las condiciones hidráulicas en el medio litosférico (Condiciones de Permeabilidad, almacenamiento y transmisividad).\n\nRemitir a la ANLA el resultado del proceso de actualización, e incluir una revisión detallada de cada uno de los impactos presentados inicialmente en el EIA vs la condición actual, la revisión de la efectividad de las medidas de manejo ambiental, seguimiento y monitoreo y sus ajustes (si aplican) en protección del medio litoférico, hidrosférico y socioeconómico  objeto de impacto por efecto de las obras subterráneas. Reportar los resultados conforme al porcentaje de avance del túnel a la ANLA a través del correo electrónico licencias@anla.gov.co e incluir el análisis de las variaciones acumuladas durante la construcción y los posibles impactos en el medio hidrosférico (superficial, subsuperficial y subterráneo). "},{"$f":"'CARRETERAS Y TÚNELES'!F100","v":"N/A"},{"$f":"'CARRETERAS Y TÚNELES'!G100","v":"Aplica"},{"$f":"'CARRETERAS Y TÚNELES'!H100","v":"N/A"},{"$f":"'CARRETERAS Y TÚNELES'!I100","v":"N/A"},{"$f":"'CARRETERAS Y TÚNELES'!J100","v":"Permanente"}]
[{"$f":"'CARRETERAS Y TÚNELES'!D101","v":0},{"$f":"'CARRETERAS Y TÚNELES'!B101","v":"CONSTRUCCIÓN DE TÚNELES LICENCIADOS"},{"$f":"'CARRETERAS Y TÚNELES'!E101","v":"Realizar la actualización del modelo hidrogeológico conceptual y matemático del túnel presentado en el EIA, como mínimo cada 5% de avance longitudinal en los frentes de excavación subterránea para túneles de longitud mayor a 1.000 m, a través de la revisión y análisis de los posibles cambios que se pueden evidenciar durante la etapa constructiva con relación a las variables geológicas, hidrológicas e hidráulicas que conforman el sistema acuífero objeto de intervención del túnel, los cuales  aportan como datos de entrada al modelo hidrogeológico tanto a nivel conceptual como matemático: Aspecto geológico: variación en la información de unidades geológicas, fallas y datos estructurales; Aspecto hidrológico y climatológico: variación en la información del régimen hidrológico de las fuentes hídricas (lóticas , lénticas), variación en variables climatológicas de la zona  y por ende el  balance hidroclimático de la zona de estudio, variación en la condición de recarga, tránsito y descarga dentro del sistema hídrico y variación en la demanda del recurso hídrico dentro del área de influencia del túnel; y Aspecto hidráulico: variación en las condiciones piezométricas del sistema hídrico y variaciones en las condiciones hidráulicas en el medio litosférico (Condiciones de Permeabilidad, almacenamiento y transmisividad).\n\nRemitir a la ANLA el resultado del proceso de actualización, e incluir una revisión detallada de cada uno de los impactos presentados inicialmente en el EIA vs la condición actual, la revisión de la efectividad de las medidas de manejo ambiental, seguimiento y monitoreo y sus ajustes (si aplican) en protección del medio litoférico, hidrosférico y socioeconómico  objeto de impacto por efecto de las obras subterráneas. Reportar los resultados conforme al porcentaje de avance del túnel a la ANLA a través del correo electrónico licencias@anla.gov.co e incluir el análisis de las variaciones acumuladas durante la construcción y los posibles impactos en el medio hidrosférico (superficial, subsuperficial y subterráneo). "},{"$f":"'CARRETERAS Y TÚNELES'!F101","v":"N/A"},{"$f":"'CARRETERAS Y TÚNELES'!G101","v":"Aplica"},{"$f":"'CARRETERAS Y TÚNELES'!H101","v":"N/A"},{"$f":"'CARRETERAS Y TÚNELES'!I101","v":"N/A"},{"$f":"'CARRETERAS Y TÚNELES'!J101","v":"Permanente"}]
[{"$f":"'CARRETERAS Y TÚNELES'!D102","v":0},{"$f":"'CARRETERAS Y TÚNELES'!B102","v":"MATERIALES DE CONSTRUCCIÓN"},{"$f":"'CARRETERAS Y TÚNELES'!E102","v":"Para el desarrollo de las actividades del proyecto, realizar la adquisición de materiales de construcción con terceros que cuenten con los correspondientes permisos o autorizaciones ante la autoridad minera y ambiental competente, y reportar en los respectivos Informes de Cumplimiento Ambiental - ICA lo siguiente:\n\na)  Copias de los títulos mineros y licencias y/o permisos ambientales vigentes para el periodo reportado de las empresas proveedoras de materiales de construcción utilizados durante el periodo. En caso de cambio de proveedores diferentes a los reportados en el EIA y/o modificación o renovación de las licencias y/o permisos ambientales de las empresas proveedoras, presentar los soportes correspondientes.\nb) Las certificaciones/facturas de compra de material en las que se discrimine la fuente u origen, tipo de material, cantidad adquirida (expresada en unidades de volumen o masa) y fecha o periodo de compra.\nc) Reporte en el que se evidencie el uso/destino del material, discriminando las cantidades (unidades de volumen o masa)."},{"$f":"'CARRETERAS Y TÚNELES'!F102","v":"N/A"},{"$f":"'CARRETERAS Y TÚNELES'!G102","v":"Aplica"},{"$f":"'CARRETERAS Y TÚNELES'!H102","v":"N/A"},{"$f":"'CARRETERAS Y TÚNELES'!I102","v":"N/A"},{"$f":"'CARRETERAS Y TÚNELES'!J102","v":"Permanente"}]
[{"$f":"'CARRETERAS Y TÚNELES'!D103","v":0},{"$f":"'CARRETERAS Y TÚNELES'!B103","v":"ALMACENAMIENTO DE COMBUSTIBLES Y PRODUCTOS QUÍMICOS"},{"$f":"'CARRETERAS Y TÚNELES'!E103","v":"Instalar en los sitios donde se almacene, manipule y/o utilice crudo, aceites, combustibles, productos químicos, residuos aceitosos u otro material potencialmente contaminante, los elementos y/o la infraestructura necesaria que garantice la contención en caso de derrames y la no contaminación del suelo, de acuerdo al Título 6, Parte 2, Libro 2 del Decreto 1076 de 2015 y demás normativa vigente en la materia, tales como:\n\na) Diques de contención con base y muros impermeabilizados que permitan contener como mínimo el 110% del volumen almacenado.\nb) Sistema de cunetas perimetrales, que descolen en cajas de inspección o tanques ciegos para su contención, recolección y posterior tratamiento como residuo peligroso.\nc) Condiciones óptimas o sistemas que permitan la ventilación e iluminación.\nd) Sistemas de prevención y control de incendios.\ne) Kit antiderrames.\nf) Señalización.\ng) Hojas de seguridad de los productos químicos almacenados con la matriz de compatibilidad."},{"$f":"'CARRETERAS Y TÚNELES'!F103","v":"N/A"},{"$f":"'CARRETERAS Y TÚNELES'!G103","v":"Aplica"},{"$f":"'CARRETERAS Y TÚNELES'!H103","v":"N/A"},{"$f":"'CARRETERAS Y TÚNELES'!I103","v":"N/A"},{"$f":"'CARRETERAS Y TÚNELES'!J103","v":"Permanente"}]
[{"$f":"'CARRETERAS Y TÚNELES'!D104","v":0},{"$f":"'CARRETERAS Y TÚNELES'!B104","v":"ALMACENAMIENTO DE MATERIALES DE CONSTRUCCIÓN"},{"$f":"'CARRETERAS Y TÚNELES'!E104","v":"El almacenamiento de materiales de construcción cumplirá con las siguientes condiciones:\n\na) Ubicarse en áreas aptas de acuerdo con la zonificación de manejo ambiental establecida para el proyecto.\nb) Ubicarse en una zona libre, plana en lo posible y de fácil acceso.\nc) Realizar el descapote del área previo al almacenamiento del material.\nd) Implementar medidas de retención de sedimentos en la zona de acopio, que garanticen la no afectación de los cuerpos hídricos cercanos.\ne) Todo material de construcción acopiado a cielo abierto dentro de los frentes de obra y que no pueda ser utilizado durante la jornada laboral, será cubierto y señalizado."},{"$f":"'CARRETERAS Y TÚNELES'!F104","v":"N/A"},{"$f":"'CARRETERAS Y TÚNELES'!G104","v":"Aplica"},{"$f":"'CARRETERAS Y TÚNELES'!H104","v":"N/A"},{"$f":"'CARRETERAS Y TÚNELES'!I104","v":"N/A"},{"$f":"'CARRETERAS Y TÚNELES'!J104","v":"Permanente"}]
[{"$f":"'CARRETERAS Y TÚNELES'!D105","v":0},{"$f":"'CARRETERAS Y TÚNELES'!B105","v":"AGUAS DE ESCORRENTÍA"},{"$f":"'CARRETERAS Y TÚNELES'!E105","v":"Implementar sistemas de control y manejo de escorrentía dando cumplimiento a lo siguiente:\n\na) Contar con una pendiente que favorezca su conducción a los sistemas de control y manejo de escorrentía, de tal forma que la escorrentía fluya libremente hacia ellas.\nb) De acuerdo con las características de pendiente y tipo de sistemas de control y manejo, debera contar con disipadores de energía o cualquier otro sistema, que garantice que el agua lluvia llegue a una baja velocidad, evitando la generación de erosión en los terrenos contiguos.\nc) El agua lluvia recogida a través de dicho sistema deberá pasar por un sistema de remoción de sólidos antes de ser entregada al medio natural y podrá contar con tratamientos adicionales, dependiendo de las características del medio por el cual se transporte.\nd) Presentar los soportes de la construcción de estos sistemas y del mantenimiento rutinario a través de los respectivos Informes de Cumplimiento Ambiental - ICA."},{"$f":"'CARRETERAS Y TÚNELES'!F105","v":"N/A"},{"$f":"'CARRETERAS Y TÚNELES'!G105","v":"Aplica"},{"$f":"'CARRETERAS Y TÚNELES'!H105","v":"N/A"},{"$f":"'CARRETERAS Y TÚNELES'!I105","v":"N/A"},{"$f":"'CARRETERAS Y TÚNELES'!J105","v":"Permanente"}]
[{"$f":"'CARRETERAS Y TÚNELES'!D106","v":0},{"$f":"'CARRETERAS Y TÚNELES'!B106","v":"COMPRA DE AGUA"},{"$f":"'CARRETERAS Y TÚNELES'!E106","v":"Desarrollar la actividad de compra de agua (uso industrial y/o consumo humano) con terceros debidamente autorizados, y presentar en los Informes de Cumplimiento Ambiental - ICA:\n\na) Copia de los permisos y/o autorizaciones ambientales vigentes de los proveedores de agua.\nb) Documento que soporte el tipo de uso del agua suministrada por el proveedor, el cual debe estar expedido por la autoridad ambiental competente.\nc) Facturas de compra del agua y/o copia de contratos de suministro de agua, que incluyan como mínimo: nombre y NIT del tercero, volúmenes de agua suministrados (uso industrial y/o consumo humano) y fecha/ periodo de compra, por cada periodo reportado.\nd) Actividades en las que fue empleada el agua en el proyecto, según el periodo reportado."},{"$f":"'CARRETERAS Y TÚNELES'!F106","v":"N/A"},{"$f":"'CARRETERAS Y TÚNELES'!G106","v":"Aplica"},{"$f":"'CARRETERAS Y TÚNELES'!H106","v":"N/A"},{"$f":"'CARRETERAS Y TÚNELES'!I106","v":"N/A"},{"$f":"'CARRETERAS Y TÚNELES'!J106","v":"Permanente"}]
[{"$f":"'CARRETERAS Y TÚNELES'!D107","v":0},{"$f":"'CARRETERAS Y TÚNELES'!B107","v":"ENTREGA DE AGUAS RESIDUALES A TERCEROS"},{"$f":"'CARRETERAS Y TÚNELES'!E107","v":"Realizar la entrega de agua residual doméstica y no doméstica (no incluye las de producción) a un gestor externo autorizado, y presentar en los respectivos Informes de Cumplimiento Ambiental - ICA:\n\na) Certificados de recolección y transporte emitido por la empresa respectiva, que indiquen: nombre de empresa que recolectó y transportó las aguas residuales, fechas de entrega, volúmenes de entrega, tipo de agua residual, sitio de recolección y destino de las aguas. \nb) Actas de recibo, tratamiento y disposición final de las aguas residuales, que incluya: empresa que entrega, fecha, volumen, origen y tipo de agua residual.\nc) Copia de los permisos y/o licencias vigentes de las respectivas empresas que prestarán el servicio de recolección, transporte y disposición final de las aguas residuales."},{"$f":"'CARRETERAS Y TÚNELES'!F107","v":"N/A"},{"$f":"'CARRETERAS Y TÚNELES'!G107","v":"Aplica"},{"$f":"'CARRETERAS Y TÚNELES'!H107","v":"N/A"},{"$f":"'CARRETERAS Y TÚNELES'!I107","v":"N/A"},{"$f":"'CARRETERAS Y TÚNELES'!J107","v":"Permanente"}]
[{"$f":"'CARRETERAS Y TÚNELES'!D108","v":0},{"$f":"'CARRETERAS Y TÚNELES'!B108","v":"RECIRCULACIÓN DE AGUA RESIDUAL"},{"$f":"'CARRETERAS Y TÚNELES'!E108","v":"Realizar la recirculación de las aguas residuales generadas en el proyecto, dando cumplimiento a las siguientes condiciones:\n\na) Para el seguimiento y control de la recirculación del agua residual en suelos de soporte de infraestructura por parte de la Autoridad Ambiental, el titular de la licencia ambiental deberá dar cumplimiento a lo dispuesto en el artículo 3 de la Resolución 1256 de 2021 de Minambiente, o aquella que la modifique, derogue o sustituya, y presentar los respectivos soportes en los Informes de Cumplimiento Ambiental - ICA.\nb) Realizar monitoreos cada dos meses del agua residual para uso industrial (específicamente para riego de vías y/o jardines) que será objeto de recirculación, registrando los siguientes parámetros: conductividad, SAAM, grasas y aceites, fenoles totales, hidrocarburos totales, cianuro libre, cloruros, fluoruros, sulfatos, mercurio, sodio, antimonio, cloro total residual y nitratos. La exclusión de uno o más parámetros deberá solicitarse ante esta Autoridad y estar sustentada con el empleo de balances de materia y la caracterización de las aguas residuales. La recirculación de agua residual con uso industrial para el uso mencionado, no se podrá realizar en áreas pavimentadas o dentro de la ronda de protección a cuerpos de agua.\nc) Presentar en los respectivos Informes de Cumplimiento Ambiental - ICA los reportes de laboratorio, las cadenas de custodia y el análisis de la tendencia de los resultados.\nd) Presentar el reporte mensual de las cantidades de agua que son objeto de recirculación, discriminando el origen y uso dado, en los Informes de Cumplimiento Ambiental - ICA."},{"$f":"'CARRETERAS Y TÚNELES'!F108","v":"N/A"},{"$f":"'CARRETERAS Y TÚNELES'!G108","v":"Aplica"},{"$f":"'CARRETERAS Y TÚNELES'!H108","v":"N/A"},{"$f":"'CARRETERAS Y TÚNELES'!I108","v":"N/A"},{"$f":"'CARRETERAS Y TÚNELES'!J108","v":"Permanente"}]
[{"$f":"'CARRETERAS Y TÚNELES'!D109","v":0},{"$f":"'CARRETERAS Y TÚNELES'!B109","v":"REÚSO DE AGUAS RESIDUALES POR PARTE DE USUARIO RECEPTOR"},{"$f":"'CARRETERAS Y TÚNELES'!E109","v":"Realizar la entrega de las aguas residuales para reúso de conformidad con lo dispuesto en la Resolución 1256 de 2021 expedida por el MADS o aquella que la modifique, derogue o sustituya, y presentar en los Informes de Cumplimiento Ambiental – ICA:\n\na) Reporte diario de las cantidades de agua residual entregada al usuario receptor.\nb) Reporte de los resultados del monitoreo realizado al agua residual para uso agrícola por parte del usuario receptor, de acuerdo con lo establecido en el artículo 5 de la Resolución 1256 de 2021. La exclusión de uno o más parámetros deberá solicitarse ante esta Autoridad y estar sustentada con el empleo de balances de materia y la caracterización de las aguas residuales, la cual debe ser efectuada por el usuario receptor. \nc) Soportes en los que se evidencie el uso del agua por parte del usuario receptor.\nd) Concesión de aguas por parte del usuario receptor. Cuando la concesión de aguas del usuario receptor se haya vencido o la licencia ambiental se haya modificado en términos de este permiso (cuando este incluya la concesión de aguas), el titular de la licencia ambiental presentará una copia de la renovación del permiso o modificación de licencia ambiental por parte del receptor."},{"$f":"'CARRETERAS Y TÚNELES'!F109","v":"N/A"},{"$f":"'CARRETERAS Y TÚNELES'!G109","v":"Aplica"},{"$f":"'CARRETERAS Y TÚNELES'!H109","v":"N/A"},{"$f":"'CARRETERAS Y TÚNELES'!I109","v":"N/A"},{"$f":"'CARRETERAS Y TÚNELES'!J109","v":"Permanente"}]
[{"$f":"'CARRETERAS Y TÚNELES'!D110","v":0},{"$f":"'CARRETERAS Y TÚNELES'!B110","v":"GESTIÓN INTEGRAL DE AGUAS"},{"$f":"'CARRETERAS Y TÚNELES'!E110","v":"Llevar un registro (base de datos) mensual y acumulado de los volúmenes y caudales de las aguas gestionadas [Espacio para indicar el permiso respectivo: vertimientos, concesión de aguas, y/o la actividad autorizada: compra de agua, reúso, entrega de aguas residuales para reúso, entrega de aguas residuales a terceros], lo cual se soportará mediante un balance de masa, en términos de volumen, que se presentará en cada Informe de Cumplimiento Ambiental - ICA, según el periodo reportado."},{"$f":"'CARRETERAS Y TÚNELES'!F110","v":"N/A"},{"$f":"'CARRETERAS Y TÚNELES'!G110","v":"Aplica"},{"$f":"'CARRETERAS Y TÚNELES'!H110","v":"N/A"},{"$f":"'CARRETERAS Y TÚNELES'!I110","v":"N/A"},{"$f":"'CARRETERAS Y TÚNELES'!J110","v":"Permanente"}]
[{"$f":"'CARRETERAS Y TÚNELES'!D111","v":0},{"$f":"'CARRETERAS Y TÚNELES'!B111","v":"RESIDUOS"},{"$f":"'CARRETERAS Y TÚNELES'!E111","v":"Llevar un registro (base de datos) mensual acumulada de la cantidad de residuos sólidos convencionales (aprovechables y no aprovechables), residuos peligrosos (sólidos y líquidos), residuos posconsumo y residuos de construcción y demolición (RCD) generados, aprovechados, tratados y/o dispuestos, que indique como mínimo: tipo de residuo, cantidad de residuos generados, cantidad de residuos aprovechados, tratados y/o dispuestos por parte de terceros o del titular de la licencia, tipo de aprovechamiento, tratamiento y disposición. Presentar dicho registro, en los respectivos Informes de Cumplimiento Ambiental - ICA a través del formato \"Plantilla de Seguimiento a la Gestión de Residuos\"."},{"$f":"'CARRETERAS Y TÚNELES'!F111","v":"N/A"},{"$f":"'CARRETERAS Y TÚNELES'!G111","v":"Aplica"},{"$f":"'CARRETERAS Y TÚNELES'!H111","v":"N/A"},{"$f":"'CARRETERAS Y TÚNELES'!I111","v":"N/A"},{"$f":"'CARRETERAS Y TÚNELES'!J111","v":"Permanente"}]
[{"$f":"'CARRETERAS Y TÚNELES'!D112","v":0},{"$f":"'CARRETERAS Y TÚNELES'!B112","v":"RESIDUOS"},{"$f":"'CARRETERAS Y TÚNELES'!E112","v":"Contar con sitios de almacenamiento temporal de residuos sólidos convencionales (aprovechables y no aprovechables) y de residuos peligrosos (líquidos y sólidos) en facilidades centrales, en cumplimiento del Decreto 1077 de 2015 (Compila Decreto 2981 de 2013 del Ministerio de Vivienda, Ciudad y Territorio) y del Reglamento Técnico del Sector de Agua Potable y Saneamiento Básico - RAS, los cuales deberán ser independientes y contar con:\n\na) Base impermeabilizada para evitar una posible contaminación del suelo.\nb) Cubierta para evitar el contacto con el agua.\nc) Sistema de diques y cunetas perimetrales para los residuos líquidos.\nd) Condiciones óptimas o sistemas que permitan la ventilación e iluminación.\ne) Sistemas de prevención y control de incendios.\nf) Kit antiderrames (para el almacenamiento de residuos líquidos peligrosos)\ng) Señalización.\nh) Los recipientes empleados para el almacenamiento de los residuos deberán ser identificados por tipo de residuo y permitir su fácil limpieza."},{"$f":"'CARRETERAS Y TÚNELES'!F112","v":"N/A"},{"$f":"'CARRETERAS Y TÚNELES'!G112","v":"Aplica"},{"$f":"'CARRETERAS Y TÚNELES'!H112","v":"N/A"},{"$f":"'CARRETERAS Y TÚNELES'!I112","v":"N/A"},{"$f":"'CARRETERAS Y TÚNELES'!J112","v":"Permanente"}]
[{"$f":"'CARRETERAS Y TÚNELES'!D113","v":0},{"$f":"'CARRETERAS Y TÚNELES'!B113","v":"RESIDUOS"},{"$f":"'CARRETERAS Y TÚNELES'!E113","v":"Realizar el manejo de residuos sólidos convencionales (aprovechables y no aprovechables) a través de terceros debidamente autorizados para su transporte, almacenamiento, aprovechamiento, tratamiento y/o disposición final, y presentar en los respectivos Informes de Cumplimiento Ambiental – ICA:\n\na) Copia de las autorizaciones, permisos y/o licencias de las respectivas empresas encargadas de la gestión de los residuos.\nb) Actas de entrega para el transporte, almacenamiento, aprovechamiento, tratamiento y/o disposición final, que indiquen: nombre de empresa, fecha de entrega, sitio de entrega, tipo de residuos, cantidad, tratamiento y/o aprovechamiento a implementar (para el caso de residuos aprovechables).\nc) Relacionar los volúmenes generados de residuos tanto aprovechables como no aprovechables en en el registro (base de datos) solicitada por esta Autoridad."},{"$f":"'CARRETERAS Y TÚNELES'!F113","v":"N/A"},{"$f":"'CARRETERAS Y TÚNELES'!G113","v":"Aplica"},{"$f":"'CARRETERAS Y TÚNELES'!H113","v":"N/A"},{"$f":"'CARRETERAS Y TÚNELES'!I113","v":"N/A"},{"$f":"'CARRETERAS Y TÚNELES'!J113","v":"Permanente"}]
[{"$f":"'CARRETERAS Y TÚNELES'!D114","v":0},{"$f":"'CARRETERAS Y TÚNELES'!B114","v":"RESIDUOS"},{"$f":"'CARRETERAS Y TÚNELES'!E114","v":"Los residuos orgánicos provenientes de alimentos no podrán ser entregados a la comunidad para su aprovechamiento."},{"$f":"'CARRETERAS Y TÚNELES'!F114","v":"N/A"},{"$f":"'CARRETERAS Y TÚNELES'!G114","v":"Aplica"},{"$f":"'CARRETERAS Y TÚNELES'!H114","v":"N/A"},{"$f":"'CARRETERAS Y TÚNELES'!I114","v":"N/A"},{"$f":"'CARRETERAS Y TÚNELES'!J114","v":"Permanente"}]
[{"$f":"'CARRETERAS Y TÚNELES'!D115","v":0},{"$f":"'CARRETERAS Y TÚNELES'!B115","v":"RESIDUOS"},{"$f":"'CARRETERAS Y TÚNELES'!E115","v":"Integrar la gestión de los residuos posconsumo, como: pilas y/o acumuladores, bombillas, llantas usadas, computadores y/o periféricos, baterías plomo ácido, fármacos o medicamentos vencidos, envases y empaques y demás residuos posconsumo considerados por la normativa actual vigente, a las corrientes posconsumo reglamentadas y presentar en los respectivos Informes de Cumplimiento Ambiental – ICA los certificados de entrega de estos residuos al Plan de Gestión de Devolución de Productos Posconsumo y/o al Sistema de Recolección Selectiva y Gestión Ambiental de Residuos aprobados por esta Autoridad, indicando por cada periodo reportado:\n\na) El volumen y/o peso de residuos posconsumo entregados, discriminando tipo de residuo y el manejo que se le otorgará por parte del Plan de Gestión de Devolución de Productos Posconsumo y/o Sistema de Recolección Selectiva y Gestión Ambiental de Residuos a los residuos posconsumo entregados.\nb) Relacionar los volúmenes generados, aprovechados, tratados y/o dispuestos en el registro (base de datos) solicitada por esta Autoridad."},{"$f":"'CARRETERAS Y TÚNELES'!F115","v":"N/A"},{"$f":"'CARRETERAS Y TÚNELES'!G115","v":"Aplica"},{"$f":"'CARRETERAS Y TÚNELES'!H115","v":"N/A"},{"$f":"'CARRETERAS Y TÚNELES'!I115","v":"N/A"},{"$f":"'CARRETERAS Y TÚNELES'!J115","v":"Permanente"}]
[{"$f":"'CARRETERAS Y TÚNELES'!D116","v":0},{"$f":"'CARRETERAS Y TÚNELES'!B116","v":"RESIDUOS"},{"$f":"'CARRETERAS Y TÚNELES'!E116","v":"Realizar el manejo de residuos peligrosos (líquidos y sólidos) a través de terceros debidamente autorizados para su transporte, almacenamiento, aprovechamiento, tratamiento y/o disposición final, y presentar en los respectivos Informes de Cumplimiento Ambiental – ICA:\n\na) Copia de las autorizaciones, permisos y/o licencias de las respectivas empresas encargadas de la gestión de los residuos.\nb) Actas de entrega para el transporte, almacenamiento, aprovechamiento, tratamiento y/o disposición final, que indiquen: nombre de empresa, fecha de entrega, sitio de entrega, tipo de residuos y cantidad.\nc) Certificados de tratamiento, aprovechamiento y/o disposición final, que indiquen: nombre de empresa que gestionó los residuos, nombre de empresa que entregó los residuos, fechas de recepción y gestión de residuos, tipo de residuo, cantidad, tipo de tratamiento realizado  y/o alternativa de disposición final y sitio donde se gestionó el residuo.\nd) Relacionar los volúmenes generados, aprovechados, tratados y/o dispuestos en el registro (base de datos) solicitada por esta Autoridad."},{"$f":"'CARRETERAS Y TÚNELES'!F116","v":"N/A"},{"$f":"'CARRETERAS Y TÚNELES'!G116","v":"Aplica"},{"$f":"'CARRETERAS Y TÚNELES'!H116","v":"N/A"},{"$f":"'CARRETERAS Y TÚNELES'!I116","v":"N/A"},{"$f":"'CARRETERAS Y TÚNELES'!J116","v":"Permanente"}]
[{"$f":"'CARRETERAS Y TÚNELES'!D117","v":0},{"$f":"'CARRETERAS Y TÚNELES'!B117","v":"RESIDUOS"},{"$f":"'CARRETERAS Y TÚNELES'!E117","v":"Para cantidades iguales o superiores a 10 kg/mes de residuos sólidos peligrosos, dar cumplimiento a lo establecido en la Resolución 1362 del 2007 del Ministerio de Ambiente, Vivienda y Desarrollo Territorial, o aquella que la modifique, derogue o sustituya, por la cual se establecen los requisitos y el procedimiento para el Registro de Generadores de Residuos o Desechos Peligrosos, a que hacen referencia los artículos 2.2.6.1.6.1 y 2.2.6.1.6.2 del Decreto 1076 de 2015. "},{"$f":"'CARRETERAS Y TÚNELES'!F117","v":"N/A"},{"$f":"'CARRETERAS Y TÚNELES'!G117","v":"Aplica"},{"$f":"'CARRETERAS Y TÚNELES'!H117","v":"N/A"},{"$f":"'CARRETERAS Y TÚNELES'!I117","v":"N/A"},{"$f":"'CARRETERAS Y TÚNELES'!J117","v":"Permanente"}]
[{"$f":"'CARRETERAS Y TÚNELES'!D118","v":0},{"$f":"'CARRETERAS Y TÚNELES'!B118","v":"RESIDUOS"},{"$f":"'CARRETERAS Y TÚNELES'!E118","v":"De conformidad con el establecido en el artículo 2.2.6.1.3.1. del Título 6, Parte 2, Libro 2 del Decreto 1076 de 2015 o aquella que la modifique, derogue o sustituya, no se podrá realizar el almacenamiento temporal de residuos peligrosos por más de doce (12) meses; en los casos debidamente sustentados y justificados, se podrá solicitar ante esta autoridad, una extensión de dicho periodo. "},{"$f":"'CARRETERAS Y TÚNELES'!F118","v":"N/A"},{"$f":"'CARRETERAS Y TÚNELES'!G118","v":"Aplica"},{"$f":"'CARRETERAS Y TÚNELES'!H118","v":"N/A"},{"$f":"'CARRETERAS Y TÚNELES'!I118","v":"N/A"},{"$f":"'CARRETERAS Y TÚNELES'!J118","v":"Permanente"}]
[{"$f":"'CARRETERAS Y TÚNELES'!D119","v":0},{"$f":"'CARRETERAS Y TÚNELES'!B119","v":"RESIDUOS"},{"$f":"'CARRETERAS Y TÚNELES'!E119","v":"Presentar la gestión de los residuos hospitalarios y similares generados en el proyecto en los Informes de Cumplimiento Ambiental - ICA, dando cumplimiento a las siguientes condiciones:\n\na) Copia de las autorizaciones, permisos y/o licencias de las respectivas empresas encargadas de la gestión de los residuos.\nb) Actas de entrega para el transporte, almacenamiento, aprovechamiento, tratamiento y/o disposición final, que indiquen: nombre de empresa, fecha de entrega, sitio de entrega, tipo de residuos y cantidad.\nc) Certificados de tratamiento, aprovechamiento y/o disposición final, que indiquen: nombre de empresa que gestionó los residuos, nombre de empresa que entregó los residuos, fechas de recepción y gestión de residuos, tipo de residuo, cantidad, tipo de tratamiento realizado  y/o alternativa de disposición final y sitio donde se gestionó el residuo.\nd) Almacenarse de acuerdo al código de colores y las características y condiciones específicas establecidas en el Manual de Procedimientos para la Gestión Integral de Residuos Hospitalarios y Similares, adoptado por la Resolución 1164 de 2002 del Ministerio de Ambiente y Ministerio de Salud, o aquella que la modifique, derogue o sustituya.\ne) Relacionar los volúmenes generados, tratados y/o dispuestos en el registro (base de datos) solicitada por esta Autoridad."},{"$f":"'CARRETERAS Y TÚNELES'!F119","v":"N/A"},{"$f":"'CARRETERAS Y TÚNELES'!G119","v":"Aplica"},{"$f":"'CARRETERAS Y TÚNELES'!H119","v":"N/A"},{"$f":"'CARRETERAS Y TÚNELES'!I119","v":"N/A"},{"$f":"'CARRETERAS Y TÚNELES'!J119","v":"Permanente"}]
[{"$f":"'CARRETERAS Y TÚNELES'!D120","v":0},{"$f":"'CARRETERAS Y TÚNELES'!B120","v":"RESIDUOS"},{"$f":"'CARRETERAS Y TÚNELES'!E120","v":"Dar cumplimiento al parágrafo del artículo 19 de la Resolución 472 de 2017 del Ministerio de Ambiente y Desarrollo Sostenible (modificada por la Resolución 1257 del 2021), o aquella otra que la modifique, derogue o sustituya, en lo relacionado con las metas de aprovechamiento (reutilización, tratamiento y reciclaje) de residuos de construcción y demolición – RCD  para proyectos, obras o actividades sujetos a licenciamiento ambiental, y presentar en los respectivos Informes de Cumplimiento Ambiental - ICA:\n\na) Reporte en el que se indique: porcentaje de material aprovechado, respecto del total utilizado en la obra, tipo de material aprovechado, volumen de material aprovechado, sectores de donde proviene el material, actividades/sectores en los que fue aprovechado, periodo en los que fue realizado."},{"$f":"'CARRETERAS Y TÚNELES'!F120","v":"N/A"},{"$f":"'CARRETERAS Y TÚNELES'!G120","v":"Aplica"},{"$f":"'CARRETERAS Y TÚNELES'!H120","v":"N/A"},{"$f":"'CARRETERAS Y TÚNELES'!I120","v":"N/A"},{"$f":"'CARRETERAS Y TÚNELES'!J120","v":"Permanente"}]
[{"$f":"'CARRETERAS Y TÚNELES'!D121","v":0},{"$f":"'CARRETERAS Y TÚNELES'!B121","v":"RESIDUOS"},{"$f":"'CARRETERAS Y TÚNELES'!E121","v":"Disponer los residuos de construcción y demolición – RCD no susceptibles de aprovechamiento de acuerdo con lo establecido en la Resolución 472 de 2017 del Ministerio de Ambiente y Desarrollo Sostenible (modificada por la Resolución 1257 del 2021), o aquella otra que la modifique o sustituya, en los sitios de disposición final de RCD legalmente autorizados, para lo cual el titular del proyecto entregará en los respectivos Informes de Cumplimiento Ambiental – ICA:\n\na) Copia de las autorizaciones, permisos y/o licencias del sitio de disposición final de RCD.\nb) Actas de entrega, que indiquen: nombre de empresa, fecha de entrega, sitio de entrega, tipo de residuo y cantidad.\nc) Certificados de disposición final, que indiquen: nombre de empresa que gestionó los residuos, nombre de empresa que entregó los residuos, fechas de recepción y gestión de residuos, tipo de residuo, cantidad y sitio donde se gestionó el residuo.\nd) Relacionar los volúmenes de RCD generados, aprovechados, tratados y/o dispuestos por tipo de residuo en el registro (base de datos) solicitada por esta Autoridad."},{"$f":"'CARRETERAS Y TÚNELES'!F121","v":"N/A"},{"$f":"'CARRETERAS Y TÚNELES'!G121","v":"Aplica"},{"$f":"'CARRETERAS Y TÚNELES'!H121","v":"N/A"},{"$f":"'CARRETERAS Y TÚNELES'!I121","v":"N/A"},{"$f":"'CARRETERAS Y TÚNELES'!J121","v":"Permanente"}]
[{"$f":"'CARRETERAS Y TÚNELES'!D122","v":0},{"$f":"'CARRETERAS Y TÚNELES'!B122","v":"ZONAS DE DISPOSICIÓN DE MATERIAL SOBRANTE DE EXCAVACIONES"},{"$f":"'CARRETERAS Y TÚNELES'!E122","v":"Dar cumplimiento a las siguientes condiciones relacionadas con el manejo de las ZODMEs:\n\na) Implementar sistemas de manejo de aguas de escorrentía y sistemas de control de sólidos a la salida de los drenajes del depósito, de tal manera que no se vean afectados cuerpos de aguas, estabilidad del relleno y/o los predios vecinos.\nb) No se podrá disponer en las ZODMEs residuos sólidos convencionales y peligrosos, tales como: orgánicos, chatarra, madera, papel, lodos, combustibles, entre otros no autorizados.\nc) Realizar la compactación y cubrimiento del material mientras se realice la disposición del mismo.\nd) Presentar en los Informes de Cumplimiento Ambiental – ICA el avance para el respectivo periodo reportado según el modelo de almacenamiento de datos geográficos establecido en la Resolución 2182 de 2016 expedida por el MADS, o aquella que la modifique o sustituya.\ne) Presentar el origen, volúmenes y tipo de material dispuesto a la fecha de corte de los Informes de Cumplimiento Ambiental – ICA, discriminando el volumen acumulado y dispuesto en el periodo.\nf) Realizar monitoreos [definir la frecuencia, la cual estará en función de la estabilidad del terreno de acuerdo; validar con el estudio geotécnico que presente el proyecto] a través de levantamientos altimétricos y planimétricos de la zona del depósito, a fin de verificar la conformación del relleno. Presentar los resultados de los monitoreos en los Informes de Cumplimiento Ambiental – ICA. \ng) Implementar sistemas de medición de la estabilidad del lleno para identificar oportunamente una posible falla debida al asentamiento generado en el relleno al finalizar la conformación del mismo. Presentar los soportes correspondientes en los Informes de Cumplimiento Ambiental – ICA.\nh) Al finalizar el lleno de la ZODME realizar su revegetalización con especies nativas, o aquella otra actividad pactada con los propietarios de los predios de acuerdo con el uso final que se le vaya a dar al área, cuando estas se encuentren localizadas en predios privados. El titular de la licencia ambiental acreditará documentalmente a la ANLA a través del respecto Informe de Cumplimiento Ambiental - ICA la conformación final de la ZODME.\ni) Luego de la etapa de clausura de la ZODME y mientras el proyecto esté en construcción, continuar con el mantenimiento rutinario de los sistemas de manejo de aguas de escorrentía, sólidos y revegetalización establecidos en la misma, en caso de que esta última aplique. De lo anterior, presentar las actividades adelantadas con registro fotográfico en el respectivo Informe de Cumplimiento Ambiental ICA del periodo reportado."},{"$f":"'CARRETERAS Y TÚNELES'!F122","v":"N/A"},{"$f":"'CARRETERAS Y TÚNELES'!G122","v":"Aplica"},{"$f":"'CARRETERAS Y TÚNELES'!H122","v":"N/A"},{"$f":"'CARRETERAS Y TÚNELES'!I122","v":"N/A"},{"$f":"'CARRETERAS Y TÚNELES'!J122","v":"Permanente"}]
[{"$f":"'CARRETERAS Y TÚNELES'!D123","v":0},{"$f":"'CARRETERAS Y TÚNELES'!B123","v":"DESMANTELAMIENTO Y ABANDONO"},{"$f":"'CARRETERAS Y TÚNELES'!E123","v":"Presentar mediante oficio dirigido a la Subdirección de Seguimiento de Licencias Ambientales por lo menos con tres (3) meses de anticipación al inicio del desmantelamiento y abandono del proyecto, el estudio del que trata el artículo 2.2.2.3.9.2 del Decreto 1076 del 2015, o la norma que lo modifique y/o sustituya."},{"$f":"'CARRETERAS Y TÚNELES'!F123","v":"N/A"},{"$f":"'CARRETERAS Y TÚNELES'!G123","v":"Aplica"},{"$f":"'CARRETERAS Y TÚNELES'!H123","v":"N/A"},{"$f":"'CARRETERAS Y TÚNELES'!I123","v":"N/A"},{"$f":"'CARRETERAS Y TÚNELES'!J123","v":"Temporal"}]
[{"$f":"'CARRETERAS Y TÚNELES'!D124","v":0},{"$f":"'CARRETERAS Y TÚNELES'!B124","v":"DESMANTELAMIENTO Y ABANDONO"},{"$f":"'CARRETERAS Y TÚNELES'!E124","v":"Al finalizar la fase constructiva, realizar el desmonte y cierre de las instalaciones temporales como campamentos, plantas de triturado, concreto, mezcla asfáltica, fuentes de material y demás áreas utilizadas para la construcción del proyecto, así como el retiro de los equipos de construcción, materiales sobrantes y escombros. Documentar y reportar las medidas y acciones implementadas en los Informes de Cumplimiento Ambiental - ICA."},{"$f":"'CARRETERAS Y TÚNELES'!F124","v":"N/A"},{"$f":"'CARRETERAS Y TÚNELES'!G124","v":"Aplica"},{"$f":"'CARRETERAS Y TÚNELES'!H124","v":"N/A"},{"$f":"'CARRETERAS Y TÚNELES'!I124","v":"N/A"},{"$f":"'CARRETERAS Y TÚNELES'!J124","v":"Temporal"}]
[{"$f":"'CARRETERAS Y TÚNELES'!D125","v":0},{"$f":"'CARRETERAS Y TÚNELES'!B125","v":"COMPENSACIONES DEL MEDIO BIÓTICO"},{"$f":"'CARRETERAS Y TÚNELES'!E125","v":"En ningún caso las actividades de compensación podrán generar impactos adicionales a los ya identificados por el proyecto; en este sentido, para la implementación de las actividades de compensación no se podrá hacer uso y/o aprovechamiento de recursos naturales adicionales a los ya aprobados para las actividades en el presente acto administrativo."},{"$f":"'CARRETERAS Y TÚNELES'!F125","v":"N/A"},{"$f":"'CARRETERAS Y TÚNELES'!G125","v":"Aplica"},{"$f":"'CARRETERAS Y TÚNELES'!H125","v":"Aplica"},{"$f":"'CARRETERAS Y TÚNELES'!I125","v":"N/A"},{"$f":"'CARRETERAS Y TÚNELES'!J125","v":"Permanente"}]
[{"$f":"'CARRETERAS Y TÚNELES'!D126","v":0},{"$f":"'CARRETERAS Y TÚNELES'!B126","v":"COMPENSACIONES DEL MEDIO BIÓTICO"},{"$f":"'CARRETERAS Y TÚNELES'!E126","v":"Dar inicio a las actividades de compensación en un periodo máximo de 6 meses una vez iniciada la actividad que da origen al impacto y a la respectiva compensación, incluyendo las consideraciones de adicionalidad y/u obligaciones específicas del acto administrativo, de conformidad con el articulo 3 de la Resolución 256 del 22 de febrero de 2018, o aquella norma que la modifique, derogue o sustituya, e informar a esta autoridad mediante oficio dirigido a la Subdirección de Seguimiento de Licencias Ambientales el inicio de las actividades de compensación."},{"$f":"'CARRETERAS Y TÚNELES'!F126","v":"N/A"},{"$f":"'CARRETERAS Y TÚNELES'!G126","v":"Aplica"},{"$f":"'CARRETERAS Y TÚNELES'!H126","v":"N/A"},{"$f":"'CARRETERAS Y TÚNELES'!I126","v":"N/A"},{"$f":"'CARRETERAS Y TÚNELES'!J126","v":"Temporal"}]
[{"$f":"'CARRETERAS Y TÚNELES'!D127","v":0},{"$f":"'CARRETERAS Y TÚNELES'!B127","v":"COMPENSACIONES DEL MEDIO BIÓTICO"},{"$f":"'CARRETERAS Y TÚNELES'!E127","v":"Parágrafo 1: El cumplimiento de objetivos y obligaciones asociadas a las formas agrupadas de implementación de los planes de compensación del medio biótico e inversión forzosa de no menos del 1% a las que se refiere el Manual de Compensaciones del Componente Biótico y el Articulo  2.2.9.3.1.12. del Decreto 1076 de 2015, o aquella norma que la modifique, derogue o sustituya, se presentarán de manera independiente en los Informes de Cumplimiento Ambiental de cada proyecto y de cada obligación correspondiente, bajo el modelo de almacenamiento geográfico establecido en la Resolución 2182 de 2016 del MADS, o la que la modifique, derogue o sustituya."},{"$f":"'CARRETERAS Y TÚNELES'!F127","v":" -"},{"$f":"'CARRETERAS Y TÚNELES'!G127","v":" -"},{"$f":"'CARRETERAS Y TÚNELES'!H127","v":" -"},{"$f":"'CARRETERAS Y TÚNELES'!I127","v":" -"},{"$f":"'CARRETERAS Y TÚNELES'!J127","v":" -"}]
[{"$f":"'CARRETERAS Y TÚNELES'!D128","v":0},{"$f":"'CARRETERAS Y TÚNELES'!B128","v":"COMPENSACIONES DEL MEDIO BIÓTICO"},{"$f":"'CARRETERAS Y TÚNELES'!E128","v":"Parágrafo 2: No se deberán presentar superposiciones entre las áreas destinadas para el cumplimiento de las obligaciones de compensación o de inversión forzosa de no menos del 1%, así como tampoco con áreas destinadas al cumplimiento de obligaciones impuestas a cualquier otro expediente, máxime cuando se trate de la misma actividad propuesta para el cumplimiento de la obligación."},{"$f":"'CARRETERAS Y TÚNELES'!F128","v":" -"},{"$f":"'CARRETERAS Y TÚNELES'!G128","v":" -"},{"$f":"'CARRETERAS Y TÚNELES'!H128","v":" -"},{"$f":"'CARRETERAS Y TÚNELES'!I128","v":" -"},{"$f":"'CARRETERAS Y TÚNELES'!J128","v":" -"}]
[{"$f":"'CARRETERAS Y TÚNELES'!D129","v":0},{"$f":"'CARRETERAS Y TÚNELES'!B129","v":"COMPENSACIONES DEL MEDIO BIÓTICO"},{"$f":"'CARRETERAS Y TÚNELES'!E129","v":"Entregar mediante oficio dirigido a la Subdirección de Seguimiento de Licencias Ambientales - SSLA, el cronograma con las fechas de presentación de las áreas definitivas de compensación a esta Autoridad para su aprobación, previo al inicio de las actividades que generan el impacto, contemplando la condición del inicio de la implementación de las acciones de compensación en un máximo de seis meses después del inicio de las actividades que generan el impacto. Cualquier modificación deberá ser informada y autorizada por la autoridad, quien se pronunciará sobre la pertinencia de las modificaciones solicitadas."},{"$f":"'CARRETERAS Y TÚNELES'!F129","v":"N/A"},{"$f":"'CARRETERAS Y TÚNELES'!G129","v":"Aplica"},{"$f":"'CARRETERAS Y TÚNELES'!H129","v":"N/A"},{"$f":"'CARRETERAS Y TÚNELES'!I129","v":"N/A"},{"$f":"'CARRETERAS Y TÚNELES'!J129","v":"Puntual"}]
[{"$f":"'CARRETERAS Y TÚNELES'!D130","v":0},{"$f":"'CARRETERAS Y TÚNELES'!B130","v":"COMPENSACIONES DEL MEDIO BIÓTICO"},{"$f":"'CARRETERAS Y TÚNELES'!E130","v":"En caso de identificar que, una vez finalizada la actividad que genera la compensación, se incurre en una compensación de menor o mayor área a la aprobada mediante el presente acto administrativo, el titular de la licencia informará a esta autoridad los ajustes al plan de compensación para que en el marco del seguimiento ambiental sea objeto de análisis y aprobación."},{"$f":"'CARRETERAS Y TÚNELES'!F130","v":"N/A"},{"$f":"'CARRETERAS Y TÚNELES'!G130","v":"Aplica"},{"$f":"'CARRETERAS Y TÚNELES'!H130","v":"Aplica"},{"$f":"'CARRETERAS Y TÚNELES'!I130","v":"N/A"},{"$f":"'CARRETERAS Y TÚNELES'!J130","v":"Permanente"}]
[{"$f":"'CARRETERAS Y TÚNELES'!D131","v":0},{"$f":"'CARRETERAS Y TÚNELES'!B131","v":"COMPENSACIONES DEL MEDIO BIÓTICO"},{"$f":"'CARRETERAS Y TÚNELES'!E131","v":"Las áreas definitivas para el desarrollo de las actividades aprobadas de compensación deberán estar inmersas en las áreas preliminares aprobadas mediante el presente acto administrativo, en caso contrario, deberán ser debidamente justificadas garantizando la adicionalidad y las mismas condiciones de modo, tiempo y lugar que fueron objeto de aprobación, con el fin de ser presentadas a esta autoridad para que en el marco del seguimiento ambiental sea objeto de análisis y aprobación de conformidad con lo dispuesto en el articulo 4 de la resolución 256 del 22 de febrero de 2018 o aquella norma que la modifique, derogue o sustituya."},{"$f":"'CARRETERAS Y TÚNELES'!F131","v":"N/A"},{"$f":"'CARRETERAS Y TÚNELES'!G131","v":"Aplica"},{"$f":"'CARRETERAS Y TÚNELES'!H131","v":"Aplica"},{"$f":"'CARRETERAS Y TÚNELES'!I131","v":"N/A"},{"$f":"'CARRETERAS Y TÚNELES'!J131","v":"Permanente"}]
[{"$f":"'CARRETERAS Y TÚNELES'!D132","v":0},{"$f":"'CARRETERAS Y TÚNELES'!B132","v":"COMPENSACIONES DEL MEDIO BIÓTICO"},{"$f":"'CARRETERAS Y TÚNELES'!E132","v":"En caso de cambio en las acciones, sitios, modos, mecanismos y/o formas de compensación aprobadas, presentarlos a esta autoridad para que en el marco del seguimiento ambiental sea objeto de análisis y aprobación, de conformidad con lo dispuesto en el articulo 4 de la resolución 256 del 22 de febrero de 2018 o aquella norma que la modifique, derogue o sustituya."},{"$f":"'CARRETERAS Y TÚNELES'!F132","v":"N/A"},{"$f":"'CARRETERAS Y TÚNELES'!G132","v":"Aplica"},{"$f":"'CARRETERAS Y TÚNELES'!H132","v":"Aplica"},{"$f":"'CARRETERAS Y TÚNELES'!I132","v":"N/A"},{"$f":"'CARRETERAS Y TÚNELES'!J132","v":"Permanente"}]
[{"$f":"'CARRETERAS Y TÚNELES'!D133","v":0},{"$f":"'CARRETERAS Y TÚNELES'!B133","v":"COMPENSACIONES DEL MEDIO BIÓTICO"},{"$f":"'CARRETERAS Y TÚNELES'!E133","v":"El titular de la licencia ambiental, deberá presentar en los respectivos Informes de Cumplimiento Ambiental - ICA, un informe de avance, el cual debe contener como mínimo: \n\na) Comparación de la caracterización detallada de los polígonos elegidos para llevar a cabo las acciones de compensación del medio biótico, respecto a los resultados obtenidos durante el seguimiento y monitoreo propuesto, para cada uno de los indicadores y realizar el análisis de efectividad respectivo, así como la propuesta de ajuste en caso de resultados desfavorables. \nb) Información geográfica del área compensada a la fecha de presentación del informe de avance, incluyendo la respectiva discriminación por acción de compensación, y porcentaje de avance con respecto al área total a compensar. \nc) Estado de los ecosistemas del área de compensación propuestas para las acciones de restauración, preservación y/o uso sostenible, las cuales deberán ser coherentes con las necesidades del territorio frente a procesos de conservación y restauración ecológica, así como los instrumentos de planificación y ordenamiento territorial.\nd) Descripción de las actividades ejecutadas, que incluya los soportes y registro fotográfico que evidencien cada una de las actividades propuestas en la fase de implementación, seguimiento y monitoreo para las acciones aprobadas.\ne) Porcentaje de avance de acuerdo al cronograma.\n\nParágrafo: La compensación se dará por cumplida una vez se logre el cumplimiento de los objetivos y metas propuestos por la sociedad en términos ecológicos, biológicos y/o ecosistémicos. "},{"$f":"'CARRETERAS Y TÚNELES'!F133","v":"N/A"},{"$f":"'CARRETERAS Y TÚNELES'!G133","v":"Aplica"},{"$f":"'CARRETERAS Y TÚNELES'!H133","v":"Aplica"},{"$f":"'CARRETERAS Y TÚNELES'!I133","v":"N/A"},{"$f":"'CARRETERAS Y TÚNELES'!J133","v":"Permanente"}]
[{"$f":"'CARRETERAS Y TÚNELES'!D134","v":0},{"$f":"'CARRETERAS Y TÚNELES'!B134","v":"COMPENSACIONES DEL MEDIO BIÓTICO"},{"$f":"'CARRETERAS Y TÚNELES'!E134","v":"El titular de la licencia ambiental evidenciará y cuantificará la no pérdida neta de biodiversidad de la que trata el \"Manual de compensaciones del componente biótico\", utilizando como ecosistema de referencia las áreas de afectación que generan las obligaciones de compensación, para lo cual deberá presentar en el primer Informe de Cumplimiento Ambiental - ICA de la fase constructiva, con base en los datos de línea base del estudio de impacto ambiental: \n\na) El cálculo de los indicadores contenidos en el documento \"Indicadores de impacto para el seguimiento de las obligaciones de compensación y planes de inversión del 1%\" para los ecosistemas de referencia. \nb) Las metas actualizadas del plan de compensación en términos de composición, estructura y función de las acciones a implementar, de acuerdo con los resultados de los atributos ecológicos obtenidos de la aplicación de los indicadores en los ecosistemas de referencia.\n\nEn los siguientes Informes de Cumplimiento Ambiental - ICA se deberá presentar el cálculo de los indicadores de impacto para las áreas de compensación, con el fin de establecer el cumplimiento de las metas en términos de la efectividad de las medidas de compensación asociadas a la no pérdida neta de biodiversidad. \n\nParágrafo: En caso de cambios en las áreas u acciones de compensación, las metas deberán ser actualizadas de acuerdo con el resultados de los indicadores de impacto para la composición, estructura y función de los ecosistemas de referencia."},{"$f":"'CARRETERAS Y TÚNELES'!F134","v":"N/A"},{"$f":"'CARRETERAS Y TÚNELES'!G134","v":"Aplica"},{"$f":"'CARRETERAS Y TÚNELES'!H134","v":"Aplica"},{"$f":"'CARRETERAS Y TÚNELES'!I134","v":"N/A"},{"$f":"'CARRETERAS Y TÚNELES'!J134","v":"Permanente"}]
[{"$f":"'CARRETERAS Y TÚNELES'!D135","v":0},{"$f":"'CARRETERAS Y TÚNELES'!B135","v":"COMPENSACIONES DEL MEDIO BIÓTICO"},{"$f":"'CARRETERAS Y TÚNELES'!E135","v":"Al titular de la licencia en ningún caso le será posible atribuir el cumplimiento de los objetivos de compensación a un tercero."},{"$f":"'CARRETERAS Y TÚNELES'!F135","v":"N/A"},{"$f":"'CARRETERAS Y TÚNELES'!G135","v":"Aplica"},{"$f":"'CARRETERAS Y TÚNELES'!H135","v":"Aplica"},{"$f":"'CARRETERAS Y TÚNELES'!I135","v":"N/A"},{"$f":"'CARRETERAS Y TÚNELES'!J135","v":"Permanente"}]
[{"$f":"'CARRETERAS Y TÚNELES'!D136","v":0},{"$f":"'CARRETERAS Y TÚNELES'!B136","v":"INVERSIÓN DEL 1%"},{"$f":"'CARRETERAS Y TÚNELES'!E136","v":"Informar a la ANLA por medio de oficio dirigido a la Subdirección de Seguimiento de Licencias Ambientales, la fecha de finalización de las actividades de construcción y montaje del proyecto."},{"$f":"'CARRETERAS Y TÚNELES'!F136","v":"N/A"},{"$f":"'CARRETERAS Y TÚNELES'!G136","v":"Aplica"},{"$f":"'CARRETERAS Y TÚNELES'!H136","v":"N/A"},{"$f":"'CARRETERAS Y TÚNELES'!I136","v":"N/A"},{"$f":"'CARRETERAS Y TÚNELES'!J136","v":"Temporal"}]
[{"$f":"'CARRETERAS Y TÚNELES'!D137","v":0},{"$f":"'CARRETERAS Y TÚNELES'!B137","v":"INVERSIÓN DEL 1%"},{"$f":"'CARRETERAS Y TÚNELES'!E137","v":"Presentar e iniciar la ejecución del Plan de inversión detallado con la liquidación de las inversiones efectivamente realizadas en pesos colombianos y debidamente discriminada en términos contables, certificada por contador, revisor fiscal o representante legal, conforme al articulo 321 de la ley 1955 del 2019, o la ley que la modifique, derogue o sustituya, y las acciones específicas de destinación de los recursos en el marco de las líneas generales y ámbito geográfico aprobado dentro de los seis (6) meses siguientes a la finalización de las actividades de construcción y montaje del proyecto. Como parte integral de este plan, presentar el anexo geográfico con la información detallada en los términos y condiciones que exige el Modelo de Almacenamiento Geográfico adoptado a través de la Resolución 2182 de 2016 del Ministerio de Ambiente y Desarrollo Sostenible, o la que la modifique, derogue o sustituya."},{"$f":"'CARRETERAS Y TÚNELES'!F137","v":"N/A"},{"$f":"'CARRETERAS Y TÚNELES'!G137","v":"N/A"},{"$f":"'CARRETERAS Y TÚNELES'!H137","v":"Aplica"},{"$f":"'CARRETERAS Y TÚNELES'!I137","v":"N/A"},{"$f":"'CARRETERAS Y TÚNELES'!J137","v":"Temporal"}]
[{"$f":"'CARRETERAS Y TÚNELES'!D138","v":0},{"$f":"'CARRETERAS Y TÚNELES'!B138","v":"INVERSIÓN DEL 1%"},{"$f":"'CARRETERAS Y TÚNELES'!E138","v":"Parágrafo: El cumplimiento de objetivos y obligaciones asociadas a las formas agrupadas de implementación de los planes de compensación del medio biótico e inversión de no menos del 1% a las que se refiere el Manual de Compensaciones del Componente Biótico y el Articulo  2.2.9.3.1.12. del Decreto 1076 de 2015, o aquella norma que la modifique, derogue o sustituya, se presentarán de manera independiente en los Informes de Cumplimiento Ambiental de cada proyecto y de cada obligación correspondiente, bajo el modelo de almacenamiento geográfico establecido en la Resolución 2182 de 2016 del MADS, o la que la modifique, derogue o sustituya."},{"$f":"'CARRETERAS Y TÚNELES'!F138","v":" -"},{"$f":"'CARRETERAS Y TÚNELES'!G138","v":" -"},{"$f":"'CARRETERAS Y TÚNELES'!H138","v":" -"},{"$f":"'CARRETERAS Y TÚNELES'!I138","v":" -"},{"$f":"'CARRETERAS Y TÚNELES'!J138","v":" -"}]
[{"$f":"'CARRETERAS Y TÚNELES'!D139","v":0},{"$f":"'CARRETERAS Y TÚNELES'!B139","v":"INVERSIÓN DEL 1%"},{"$f":"'CARRETERAS Y TÚNELES'!E139","v":"Presentar por medio de oficio dirigido a la Subdirección de Seguimiento de Licencias Ambientales de esta autoridad, la actualización del valor de la liquidación de la inversión en relación con los valores no ejecutados con corte a 31 de diciembre de cada año fiscal, de acuerdo con la fórmula señalada en el parágrafo 1 del artículo 321 de la ley 1955 del 25 de mayo de 2019, con plazo máximo de 31 de marzo del año siguiente."},{"$f":"'CARRETERAS Y TÚNELES'!F139","v":"N/A"},{"$f":"'CARRETERAS Y TÚNELES'!G139","v":"Aplica"},{"$f":"'CARRETERAS Y TÚNELES'!H139","v":"Aplica"},{"$f":"'CARRETERAS Y TÚNELES'!I139","v":"N/A"},{"$f":"'CARRETERAS Y TÚNELES'!J139","v":"Permanente"}]
[{"$f":"'CARRETERAS Y TÚNELES'!D140","v":0},{"$f":"'CARRETERAS Y TÚNELES'!B140","v":"INVERSIÓN DEL 1%"},{"$f":"'CARRETERAS Y TÚNELES'!E140","v":"Dar cumplimiento al Plan de Inversión del 1% de conformidad con el cronograma propuesto y presentar los respectivos soportes de las actividades ejecutadas en los Informes de Cumplimiento Ambiental - ICA y en el modelo de almacenamiento geográfico establecido en la Resolución 2182 de 2016 del MADS, o la que la modifique, derogue o sustituya."},{"$f":"'CARRETERAS Y TÚNELES'!F140","v":"N/A"},{"$f":"'CARRETERAS Y TÚNELES'!G140","v":"Aplica"},{"$f":"'CARRETERAS Y TÚNELES'!H140","v":"Aplica"},{"$f":"'CARRETERAS Y TÚNELES'!I140","v":"N/A"},{"$f":"'CARRETERAS Y TÚNELES'!J140","v":"Permanente"}]
[{"$f":"'CARRETERAS Y TÚNELES'!D141","v":0},{"$f":"'CARRETERAS Y TÚNELES'!B141","v":"PLAN DE GESTIÓN DEL RIESGO"},{"$f":"'CARRETERAS Y TÚNELES'!E141","v":"Presentar en los Informes de Cumplimiento Ambiental – ICA, la revisión y/o complemento del Plan de Contingencia siguiendo los lineamientos descritos en el Decreto 1081 del 2015 adicionado por el Decreto 2157 de 2017 en el Artículo 2.3.1.5.2.1.1, Numeral 3.1.2, Literal f y el Decreto 1076 de 2015 en el Artículo 2.2.2.3.5.1, Numeral 9 y el Artículo 2.2.2.3.9.3 o aquellos que los modifiquen o sustituyan y en caso de no presentarse un ajuste en el documento, indicar las razones por las cuales no se realiza:\n\na. Ante nuevas exigencias o cambios en la legislación nacional referente al plan de contingencia, en los plazos establecidos en las mismas.\nb. Cuando se introduzcan cambios en los procesos que aumenten la probabilidad de ocurrencia de una contingencia ambiental y/o consecuencia de la materialización del riesgo.  \nc. Ante cambios en las valoraciones de los escenarios de riesgo presentes en el proyecto.\nd. Ante la ocurrencia de una contingencia que evidencie la necesidad de ajuste del plan.\ne. Ante evidencias producto del proceso de seguimiento y control efectuado por la Autoridad Ambiental Competente."},{"$f":"'CARRETERAS Y TÚNELES'!F141","v":"N/A"},{"$f":"'CARRETERAS Y TÚNELES'!G141","v":"Aplica"},{"$f":"'CARRETERAS Y TÚNELES'!H141","v":"N/A"},{"$f":"'CARRETERAS Y TÚNELES'!I141","v":"N/A"},{"$f":"'CARRETERAS Y TÚNELES'!J141","v":"Permanente"}]
[{"$f":"'CARRETERAS Y TÚNELES'!D142","v":0},{"$f":"'CARRETERAS Y TÚNELES'!B142","v":"PLAN DE GESTIÓN DEL RIESGO"},{"$f":"'CARRETERAS Y TÚNELES'!E142","v":"Reportar los eventos de contingencia a través de la plataforma VITAL de conformidad con lo establecido en el artículo 2do de la Resolución 1767 de 2016 o aquellos que los modifiquen o sustituyan, ya sea que los eventos sean generados del proyecto hacia el medio o del medio hacia el proyecto, presentando en cada uno de los avances (reportes parciales, de recuperación ambiental y final, según corresponda) las medidas, monitoreos, protocolos y/o acciones ejecutadas en el marco de la atención."},{"$f":"'CARRETERAS Y TÚNELES'!F142","v":"N/A"},{"$f":"'CARRETERAS Y TÚNELES'!G142","v":"Aplica"},{"$f":"'CARRETERAS Y TÚNELES'!H142","v":"N/A"},{"$f":"'CARRETERAS Y TÚNELES'!I142","v":"N/A"},{"$f":"'CARRETERAS Y TÚNELES'!J142","v":"Temporal"}]
[{"$f":"'CARRETERAS Y TÚNELES'!D143","v":0},{"$f":"'CARRETERAS Y TÚNELES'!B143","v":"PLAN DE GESTIÓN DEL RIESGO"},{"$f":"'CARRETERAS Y TÚNELES'!E143","v":"Presentar en los Informes de Cumplimiento Ambiental – ICA, los resultados, el análisis y conclusiones de los monitoreos del riesgo asociados al seguimiento de los eventos de origen natural, socio natural y operacional, en donde se involucren los parámetros y frecuencia definidos, asi como la articulación con entidades oficiales (SGC, IDEAM, entre otros) y de acuerdo con los resultados, complementar la valoración del riesgo, según corresponda. En caso de no presentar resultados de los monitoreos del riesgo, remitir las razones de la no ejecución y soportarlo con las evidencias correspondientes a través de oficios, informes, actas, registros fotográficos, entre otros."},{"$f":"'CARRETERAS Y TÚNELES'!F143","v":"N/A"},{"$f":"'CARRETERAS Y TÚNELES'!G143","v":"Aplica"},{"$f":"'CARRETERAS Y TÚNELES'!H143","v":"N/A"},{"$f":"'CARRETERAS Y TÚNELES'!I143","v":"N/A"},{"$f":"'CARRETERAS Y TÚNELES'!J143","v":"Permanente"}]
[{"$f":"'CARRETERAS Y TÚNELES'!D144","v":0},{"$f":"'CARRETERAS Y TÚNELES'!B144","v":"PLAN DE GESTIÓN DEL RIESGO"},{"$f":"'CARRETERAS Y TÚNELES'!E144","v":"Implementar las medidas de monitoreo asociado a las actividades de atención y seguimiento de los eventos de contingencia que sean necesarias, con el objeto de identificar cambios o afectaciones sobre los medios abiótico, biótico y socioeconómico. "},{"$f":"'CARRETERAS Y TÚNELES'!F144","v":"N/A"},{"$f":"'CARRETERAS Y TÚNELES'!G144","v":"Aplica"},{"$f":"'CARRETERAS Y TÚNELES'!H144","v":"N/A"},{"$f":"'CARRETERAS Y TÚNELES'!I144","v":"N/A"},{"$f":"'CARRETERAS Y TÚNELES'!J144","v":"Temporal"}]
[{"$f":"'CARRETERAS Y TÚNELES'!D145","v":0},{"$f":"'CARRETERAS Y TÚNELES'!B145","v":"PLAN DE GESTIÓN DEL RIESGO"},{"$f":"'CARRETERAS Y TÚNELES'!E145","v":"Presentar en los Informes de Cumplimiento Ambiental – ICA, los soportes de la ejecución de las actividades definidas para las intervenciones correctivas y prospectivas de las medidas de reducción del riesgo. En caso de no presentarse, remitir las razones de la no ejecución y soportarlo con evidencias correspondientes a través de informes, cronogramas, actas, registros fotográficos, entre otros. "},{"$f":"'CARRETERAS Y TÚNELES'!F145","v":"N/A"},{"$f":"'CARRETERAS Y TÚNELES'!G145","v":"Aplica"},{"$f":"'CARRETERAS Y TÚNELES'!H145","v":"N/A"},{"$f":"'CARRETERAS Y TÚNELES'!I145","v":"N/A"},{"$f":"'CARRETERAS Y TÚNELES'!J145","v":"Permanente"}]
[{"$f":"'CARRETERAS Y TÚNELES'!D146","v":0},{"$f":"'CARRETERAS Y TÚNELES'!B146","v":"PLAN DE GESTIÓN DEL RIESGO"},{"$f":"'CARRETERAS Y TÚNELES'!E146","v":"Presentar en los Informes de Cumplimiento Ambiental – ICA, los soportes de las capacitaciones dirigidas al personal del proyecto y las divulgaciones, socializaciones, simulaciones y simulacros sobre el plan de contingencia involucrando las entidades de los Consejos Municipales de Gestión de Riesgo de Desastres (CMGRD) y los Consejos Departamentales de Gestión de Riesgo de Desastres (CDGRD) y las comunidades del área de influencia, según corresponda. En caso de no presentarse algunos de los convocados, remitir las razones de la no ejecución y soportarlo con las evidencias correspondientes a través de oficios, informes, actas, registros fotográficos, entre otros."},{"$f":"'CARRETERAS Y TÚNELES'!F146","v":"N/A"},{"$f":"'CARRETERAS Y TÚNELES'!G146","v":"Aplica"},{"$f":"'CARRETERAS Y TÚNELES'!H146","v":"N/A"},{"$f":"'CARRETERAS Y TÚNELES'!I146","v":"N/A"},{"$f":"'CARRETERAS Y TÚNELES'!J146","v":"Permanente"}]
[{"$f":"'CARRETERAS Y TÚNELES'!D147","v":0},{"$f":"'CARRETERAS Y TÚNELES'!B147","v":"GESTIÓN SOCIAL"},{"$f":"'CARRETERAS Y TÚNELES'!E147","v":"El titular de la Licencia Ambiental comunicará a través de canales idóneos a las autoridades municipales, comunidades y demás grupos de interés presentes en el área de Influencia, una vez sea notificada la presente resolución: i) los datos del proyecto, obra  o actividad incluyendo el número de contrato, acto administrativo que otorga licencia para el desarrollo del proyecto especificando las actividades que autoriza, datos de contacto; ii) las entidades ​que ejercen funciones de control y seguimiento sobre el proyecto, obra o actividad y sus competencias, tanto en temas ambientales como como administrativos. Las evidencias del cumplimiento de esta obligación se presentarán en los Informes de Cumplimiento Ambiental - ICA."},{"$f":"'CARRETERAS Y TÚNELES'!F147","v":"N/A"},{"$f":"'CARRETERAS Y TÚNELES'!G147","v":"Aplica"},{"$f":"'CARRETERAS Y TÚNELES'!H147","v":"N/A"},{"$f":"'CARRETERAS Y TÚNELES'!I147","v":"N/A"},{"$f":"'CARRETERAS Y TÚNELES'!J147","v":"Permanente"}]
[{"$f":"'CARRETERAS Y TÚNELES'!D148","v":0},{"$f":"'CARRETERAS Y TÚNELES'!B148","v":"GESTIÓN SOCIAL"},{"$f":"'CARRETERAS Y TÚNELES'!E148","v":"Previo al inicio de actividades y de manera permanente, informar a todos sus contratistas y a todo el personal del proyecto sobre las obligaciones, prohibiciones y medidas de control de la presente resolución, el Estudio de Impacto Ambiental, el Plan de Manejo Ambiental y la normativa vigente, y exigir el estricto cumplimiento de las mismas. Presentar en los Informes de Cumplimiento Ambiental - ICA, los soportes que evidencien las actividades de información adelantadas, en los que deberá quedar explícito el contenido de la información brindada al personal del proyecto, y demás soportes correspondientes. Lo anterior sin perjuicio a lo establecido en la medidas de manejo ambiental del PMA aprobado."},{"$f":"'CARRETERAS Y TÚNELES'!F148","v":"N/A"},{"$f":"'CARRETERAS Y TÚNELES'!G148","v":"Aplica"},{"$f":"'CARRETERAS Y TÚNELES'!H148","v":"N/A"},{"$f":"'CARRETERAS Y TÚNELES'!I148","v":"N/A"},{"$f":"'CARRETERAS Y TÚNELES'!J148","v":"Permanente"}]
[{"$f":"'CARRETERAS Y TÚNELES'!D149","v":0},{"$f":"'CARRETERAS Y TÚNELES'!B149","v":"GESTIÓN SOCIAL"},{"$f":"'CARRETERAS Y TÚNELES'!E149","v":"Previo al inicio de cada una de las fases operativas del proyecto el titular de la licencia ambiental deberá realizar reuniones con cada una de las comunidades del área de influencia del proyecto, con el fin de dar a conocer la presente resolución, las obras que en ella se autorizan, los principales impactos, medidas de manejo y de seguimiento y monitoreo y resolver las dudas que se puedan presentar al respecto; de igual manera, se deberán realizar reuniones en los casos de autoridades locales y dignatarios de las JAC que asuman funciones en razón de períodos de cambio de administración. Las convocatorias a estas reuniones se deberán efectuar con suficiente antelación y realizarse de manera pública. Se deberá presentar a esta Autoridad mediante los respectivos Informes de Cumplimiento Ambiental - ICA, las constancias de recibido de las convocatorias y las copias de los soportes de estas reuniones en las que se evidencie el proceso, incluyendo listados de asistencia, temáticas desarrolladas, registro fílmico y/o fotográfico, entre otros."},{"$f":"'CARRETERAS Y TÚNELES'!F149","v":"N/A"},{"$f":"'CARRETERAS Y TÚNELES'!G149","v":"Aplica"},{"$f":"'CARRETERAS Y TÚNELES'!H149","v":"N/A"},{"$f":"'CARRETERAS Y TÚNELES'!I149","v":"N/A"},{"$f":"'CARRETERAS Y TÚNELES'!J149","v":"Permanente"}]
[{"$f":"'CARRETERAS Y TÚNELES'!D150","v":0},{"$f":"'CARRETERAS Y TÚNELES'!B150","v":"GESTIÓN SOCIAL"},{"$f":"'CARRETERAS Y TÚNELES'!E150","v":"Previo al inicio de las actividades del proyecto, el titular de la presente licencia ambiental deberá informar a las comunidades y autoridades del área de influencia del proyecto, los canales de recepción de PQRS. De lo anterior, se deberán entregar los respectivos soportes en el primer Informe de Cumplimiento Ambiental - ICA."},{"$f":"'CARRETERAS Y TÚNELES'!F150","v":"N/A"},{"$f":"'CARRETERAS Y TÚNELES'!G150","v":"Aplica"},{"$f":"'CARRETERAS Y TÚNELES'!H150","v":"N/A"},{"$f":"'CARRETERAS Y TÚNELES'!I150","v":"N/A"},{"$f":"'CARRETERAS Y TÚNELES'!J150","v":"Permanente"}]
[{"$f":"'CARRETERAS Y TÚNELES'!D151","v":0},{"$f":"'CARRETERAS Y TÚNELES'!B151","v":"GESTIÓN SOCIAL"},{"$f":"'CARRETERAS Y TÚNELES'!E151","v":"El titular de la presente licencia ambiental contará con un formato de recepción de PQRS y elaborará un informe donde se reporten las quejas e inquietudes presentadas, especificando: municipio, vereda, nombre o comunidad que la interpone, datos de contacto del peticionario, descripción del caso, a qué tipo de actividad está asociada respecto a la Licencia Ambiental, tipo de queja y zona(s) donde se concentra el mayor número de casos. Además, se georreferenciará el sitio o lugar en donde se reporta la PQRS. Presentar en los Informes de Cumplimiento Ambiental - ICA, este informe en formato de excel, o que sea compatible con Sistemas de Información Geográfica, así como los soportes que evidencien el registro, atención y seguimiento del caso."},{"$f":"'CARRETERAS Y TÚNELES'!F151","v":"N/A"},{"$f":"'CARRETERAS Y TÚNELES'!G151","v":"Aplica"},{"$f":"'CARRETERAS Y TÚNELES'!H151","v":"N/A"},{"$f":"'CARRETERAS Y TÚNELES'!I151","v":"N/A"},{"$f":"'CARRETERAS Y TÚNELES'!J151","v":"Permanente"}]
[{"$f":"'CARRETERAS Y TÚNELES'!D152","v":0},{"$f":"'CARRETERAS Y TÚNELES'!B152","v":"VALORACIÓN ECONÓMICA"},{"$f":"'CARRETERAS Y TÚNELES'!E152","v":"Presentar en cada ICA el seguimiento al análisis de internalización de los impactos ambientales reportando el estado de avance en los indicadores (eficiencia y eficacia) y la medida de manejo propuesta para dicho análisis."},{"$f":"'CARRETERAS Y TÚNELES'!F152","v":"N/A"},{"$f":"'CARRETERAS Y TÚNELES'!G152","v":"Aplica"},{"$f":"'CARRETERAS Y TÚNELES'!H152","v":"N/A"},{"$f":"'CARRETERAS Y TÚNELES'!I152","v":"N/A"},{"$f":"'CARRETERAS Y TÚNELES'!J152","v":"Permanente"}]
[{"$f":"'CARRETERAS Y TÚNELES'!D153","v":0},{"$f":"'CARRETERAS Y TÚNELES'!B153","v":"VALORACIÓN ECONÓMICA"},{"$f":"'CARRETERAS Y TÚNELES'!E153","v":"Presentar en los Informes de Cumplimiento Ambiental - ICA respectivos los ajustes del análisis costo / beneficio a partir de los requerimientos pendientes en el acto administrativo o en el caso de que se presenten modificaciones asociadas al proyecto, teniendo en cuenta los lineamientos del documento Criterios técnicos para el uso de herramientas económicas en los proyectos, obras o actividades objeto de licenciamiento ambiental."},{"$f":"'CARRETERAS Y TÚNELES'!F153","v":"N/A"},{"$f":"'CARRETERAS Y TÚNELES'!G153","v":"Aplica"},{"$f":"'CARRETERAS Y TÚNELES'!H153","v":"N/A"},{"$f":"'CARRETERAS Y TÚNELES'!I153","v":"N/A"},{"$f":"'CARRETERAS Y TÚNELES'!J153","v":"Permanente"}]
[{"$f":"'CARRETERAS Y TÚNELES'!D154","v":0},{"$f":"'CARRETERAS Y TÚNELES'!B154","v":"OBLIGACIONES GENERALES "},{"$f":"'CARRETERAS Y TÚNELES'!E154","v":"Reportar la información del resultado de los monitoreos del uso y aprovechamiento de los recursos naturales, de conformidad con las condiciones que se describen a continuación:\n\n1. La información geográfica y alfanumérica, cuya frecuencia de presentación y/o entrega se haya definido en el respectivo acto administrativo con una temporalidad superior a la diaria (semanal, quincenal, mensual, bimensual, semestral, etc.), deberá ser radicada a través del Portal de recepción de información - AGIL, el cual permitirá el almacenamiento directo en la Base de Datos Corporativa de acuerdo con el modelo de almacenamiento de datos geográficos establecido en la Resolución 2182 del 2016 de Minambiente o aquella que la modifique, derogue o sustituya.\n2. La información del resultado de los monitoreos, sobre el uso y aprovechamiento de recursos naturales, cuya frecuencia de presentación y/o entrega se haya definido en el respectivo acto administrativo con una temporalidad igual o menor a la diaria (diaria, horaria o minutal), deberá radicarse diariamente de forma consolidada a través de las plantillas de textos plano tipo .txt o .csv (disponibles en la página web de la entidad) por medio del correo electrónico licencias@anla.gov.co con copia a centromonitoreo@anla.gov.co, indicando el asunto del correo, conforme con la siguiente tabla:\n\n(Ver tabla en pestaña 3. Asuntos de radicación, la cual se debe copiar en este espacio)\n\n3. La información que requiera la transmisión continua de datos, cuya frecuencia esté definida en el respectivo acto administrativo en tiempo real o cuasi real, se reportará a través de VPN Site to Site, API REST, o según sea definido conforme con los lineamientos de la Oficina de Tecnologías de la Información - OTI de la Entidad y las posibilidades tecnológicas del titular de la Licencia Ambiental. \n\nParágrafo: La demás información generada por los proyectos deberá entregarse a través del instrumento de seguimiento ambiental habitual (Informe de Cumplimiento Ambiental - ICA) y el mecanismo de recepción disponible (Ventanilla Integral de Trámites Ambientales en Línea - VITAL). "},{"$f":"'CARRETERAS Y TÚNELES'!F154","v":"N/A"},{"$f":"'CARRETERAS Y TÚNELES'!G154","v":"Aplica"},{"$f":"'CARRETERAS Y TÚNELES'!H154","v":"N/A"},{"$f":"'CARRETERAS Y TÚNELES'!I154","v":"N/A"},{"$f":"'CARRETERAS Y TÚNELES'!J154","v":"Permanente"}]
[{"$f":"'CARRETERAS Y TÚNELES'!D155","v":0},{"$f":"'CARRETERAS Y TÚNELES'!B155","v":"OBLIGACIONES GENERALES "},{"$f":"'CARRETERAS Y TÚNELES'!E155","v":"Utilizar la codificación de la ANLA (campo \"ID ANLA\") asignada a los permisos de uso y aprovechamiento de recursos naturales y a las obligaciones impuestas en el presente acto administrativo para la presentación de la información asociada al seguimiento del proyecto."},{"$f":"'CARRETERAS Y TÚNELES'!F155","v":"N/A"},{"$f":"'CARRETERAS Y TÚNELES'!G155","v":"Aplica"},{"$f":"'CARRETERAS Y TÚNELES'!H155","v":"N/A"},{"$f":"'CARRETERAS Y TÚNELES'!I155","v":"N/A"},{"$f":"'CARRETERAS Y TÚNELES'!J155","v":"Permanente"}]
[{"$f":"'CARRETERAS Y TÚNELES'!D156","v":0},{"$f":"'CARRETERAS Y TÚNELES'!B156","v":"OBLIGACIONES GENERALES "},{"$f":"'CARRETERAS Y TÚNELES'!E156","v":"Presentar en el primer Informe de Cumplimiento Ambiental - ICA copia del documento donde conste la conformación del Departamento de Gestión Ambiental, que incluya funciones y responsabilidades asignadas, en cumplimiento al artículo 2.2.8.11.1.7. del Decreto 1076 de 2015, o aquella que la modifique, derogue o sustituya."},{"$f":"'CARRETERAS Y TÚNELES'!F156","v":"N/A"},{"$f":"'CARRETERAS Y TÚNELES'!G156","v":"Aplica"},{"$f":"'CARRETERAS Y TÚNELES'!H156","v":"N/A"},{"$f":"'CARRETERAS Y TÚNELES'!I156","v":"N/A"},{"$f":"'CARRETERAS Y TÚNELES'!J156","v":"Temporal"}]
[{"$f":"'CARRETERAS Y TÚNELES'!D157","v":0},{"$f":"'CARRETERAS Y TÚNELES'!B157","v":"OBLIGACIONES GENERALES "},{"$f":"'CARRETERAS Y TÚNELES'!E157","v":"El titular de la presente Licencia Ambiental solicitará a la ANLA la modificación de la licencia ambiental, previa a la ejecución de actividades que configuren alguna de las causales señaladas en el Artículo 2.2.2.3.7.1 del Decreto 1076 de 2015. "},{"$f":"'CARRETERAS Y TÚNELES'!F157","v":"N/A"},{"$f":"'CARRETERAS Y TÚNELES'!G157","v":"Aplica"},{"$f":"'CARRETERAS Y TÚNELES'!H157","v":"N/A"},{"$f":"'CARRETERAS Y TÚNELES'!I157","v":"N/A"},{"$f":"'CARRETERAS Y TÚNELES'!J157","v":"Permanente"}]
[{"$f":"'CARRETERAS Y TÚNELES'!D158","v":0},{"$f":"'CARRETERAS Y TÚNELES'!B158","v":"OBLIGACIONES GENERALES "},{"$f":"'CARRETERAS Y TÚNELES'!E158","v":"Informar a la ANLA, de manera previa a realizar las actividades consideradas como cambios menores o de ajuste normal dentro del giro ordinario, de conformidad con lo dispuesto en el Capítulo 6, Título 2 , Parte 2, Libro 2 del Decreto 1076 de 2015, o aquella norma que lo modifique o sustituya, actividades que serán objeto de seguimiento. En caso de que las actividades a ejecutar  no se incluyan en el mencionado Decreto, el titular de la licencia solicitará por escrito pronunciamiento de esta autoridad, sobre su viabilidad bajo la modalidad de cambio menor, concepto que se remitirá con destino al expediente."},{"$f":"'CARRETERAS Y TÚNELES'!F158","v":"N/A"},{"$f":"'CARRETERAS Y TÚNELES'!G158","v":"Aplica"},{"$f":"'CARRETERAS Y TÚNELES'!H158","v":"N/A"},{"$f":"'CARRETERAS Y TÚNELES'!I158","v":"N/A"},{"$f":"'CARRETERAS Y TÚNELES'!J158","v":"Permanente"}]
[{"$f":"'CARRETERAS Y TÚNELES'!D159","v":0},{"$f":"'CARRETERAS Y TÚNELES'!B159","v":"OBLIGACIONES GENERALES "},{"$f":"'CARRETERAS Y TÚNELES'!E159","v":"Una vez finalizados los trabajos propios de cada obra o actividad parcial, el titular de la presente licencia ambiental retirará y/o dispondrá todas las evidencias de los elementos y materiales sobrantes, en todas las áreas intervenidas por el proyecto, de manera que no se generen impactos ambientales adicionales, se altere el paisaje ni se contribuya al deterioro ambiental."},{"$f":"'CARRETERAS Y TÚNELES'!F159","v":"N/A"},{"$f":"'CARRETERAS Y TÚNELES'!G159","v":"Aplica"},{"$f":"'CARRETERAS Y TÚNELES'!H159","v":"N/A"},{"$f":"'CARRETERAS Y TÚNELES'!I159","v":"N/A"},{"$f":"'CARRETERAS Y TÚNELES'!J159","v":"Permanente"}]
[{"$f":"'CARRETERAS Y TÚNELES'!D160","v":0},{"$f":"'CARRETERAS Y TÚNELES'!B160","v":"OBLIGACIONES GENERALES "},{"$f":"'CARRETERAS Y TÚNELES'!E160","v":"Cumplir lo establecido en la Resolución 1083 de 1996, del hoy Ministerio de Ambiente y Desarrollo Sostenible, para las actividades listadas en su artículo 1°. Con tal fin, el titular de la licencia presentará en los Informes de Cumplimiento Ambiental -ICA- la siguiente información: \n\na) Localización de la actividad, obra o proyecto en la que se hizo uso de las fibras naturales. \nb) La fibra natural utilizada, el tipo de actividad en la que fue usada y la cantidad medida en Kg. \nc) Indicar el estado de integridad física y de funcionamiento de las obras con este tipo de fibras. \n\nParágrafo: El titular de la licencia ambiental justificará fundadamente, en el Informe de Cumplimiento Ambiental -ICA- correspondiente, las razones técnicas del por qué consideró inviable el uso de fibras naturales en esas actividades. (Uso de fibras naturales). "},{"$f":"'CARRETERAS Y TÚNELES'!F160","v":"N/A"},{"$f":"'CARRETERAS Y TÚNELES'!G160","v":"Aplica"},{"$f":"'CARRETERAS Y TÚNELES'!H160","v":"N/A"},{"$f":"'CARRETERAS Y TÚNELES'!I160","v":"N/A"},{"$f":"'CARRETERAS Y TÚNELES'!J160","v":"Permanente"}]
[{"$f":"'CARRETERAS Y TÚNELES'!D161","v":0},{"$f":"'CARRETERAS Y TÚNELES'!B161","v":"OBLIGACIONES GENERALES "},{"$f":"'CARRETERAS Y TÚNELES'!E161","v":"Dentro de los diez (10) días calendario previos al inicio de cada una de las fases del proyecto, el titular de la presente licencia ambiental informará a la ANLA, mediante oficio dirigido a la Subdirección de Seguimiento de Licencias Ambientales, y a las demás Autoridades Ambientales regionales y locales en la jurisdicción del proyecto, la fecha de inicio de actividades. En caso de que no se pueda dar inicio al proyecto en la fecha previamente informada, se notificará inmediatamente a esta Autoridad la justificación, así como la nueva fecha de inicio. Enviar a la ANLA copia de los oficios radicados ante las demás autoridades ambientales competentes."},{"$f":"'CARRETERAS Y TÚNELES'!F161","v":"N/A"},{"$f":"'CARRETERAS Y TÚNELES'!G161","v":"Aplica"},{"$f":"'CARRETERAS Y TÚNELES'!H161","v":"N/A"},{"$f":"'CARRETERAS Y TÚNELES'!I161","v":"N/A"},{"$f":"'CARRETERAS Y TÚNELES'!J161","v":"Permanente"}]
[{"$f":"'CARRETERAS Y TÚNELES'!D162","v":0},{"$f":"'CARRETERAS Y TÚNELES'!B162","v":"OBLIGACIONES GENERALES "},{"$f":"'CARRETERAS Y TÚNELES'!E162","v":"El titular de la presente licencia ambiental presentará los Informes de Cumplimiento Ambiental -ICA de manera [Espacio para definir periodicidad de ICA de cada fase del proyecto (trimestral, semestral o anual)] de acuerdo con lo establecido en el Manual de Seguimiento Ambiental de Proyectos y lo dispuesto en la Resolución 077 de 2019, modificada por la Resolución 0549 de 2020, o aquellas que las que las modifiquen, deroguen o sustituyan."},{"$f":"'CARRETERAS Y TÚNELES'!F162","v":"N/A"},{"$f":"'CARRETERAS Y TÚNELES'!G162","v":"Aplica"},{"$f":"'CARRETERAS Y TÚNELES'!H162","v":"N/A"},{"$f":"'CARRETERAS Y TÚNELES'!I162","v":"N/A"},{"$f":"'CARRETERAS Y TÚNELES'!J162","v":"Permanente"}]
[{"$f":"'CARRETERAS Y TÚNELES'!D163","v":0},{"$f":"'CARRETERAS Y TÚNELES'!B163","v":"OBLIGACIONES GENERALES "},{"$f":"'CARRETERAS Y TÚNELES'!E163","v":"Si durante la vigencia de esta licencia ambiental, se constata la presencia de comunidades étnicas, la existencia de territorios étnicos o se presentan estas dos condiciones en el área de influencia del proyecto, el titular de la licencia ambiental deberá dar aviso por escrito al Ministerio del Interior – Dirección de la Autoridad Nacional de Consulta Previa (con copia a la ANLA), para que en el marco de sus competencias, determine la procedencia del proceso de consulta previa de que trata el artículo 330 de la Constitución Política, de conformidad con el numeral 1 del artículo 16A del Decreto 2353 de 2019. "},{"$f":"'CARRETERAS Y TÚNELES'!F163","v":"N/A"},{"$f":"'CARRETERAS Y TÚNELES'!G163","v":"Aplica"},{"$f":"'CARRETERAS Y TÚNELES'!H163","v":"N/A"},{"$f":"'CARRETERAS Y TÚNELES'!I163","v":"N/A"},{"$f":"'CARRETERAS Y TÚNELES'!J163","v":"Permanente"}]
[{"$f":"'CARRETERAS Y TÚNELES'!D164","v":0},{"$f":"'CARRETERAS Y TÚNELES'!B164","v":"OBLIGACIONES GENERALES "},{"$f":"'CARRETERAS Y TÚNELES'!E164","v":"Realizar los monitoreos a través de laboratorios acreditados por el IDEAM, tanto para la toma de la muestra, como para el análisis de los parámetros monitoreados. Dichos laboratorios, deberán contar con las técnicas de medición que cuenten con los límites de detección de los diferentes parámetros que permitan verificar el cumplimiento normativo de los mismos. En caso de que no existan laboratorios nacionales acreditados para el análisis de algún(os) parámetro(s), los laboratorios acreditados por el IDEAM podrán enviar la muestra a un laboratorio internacional acreditado en su país de origen o por un estándar internacional, mientras se surte el proceso de acreditación en los laboratorios nacionales. Presentar los soportes de la acreditación de todos los laboratorios empleados para la realización de los monitoreos del proyecto en los Informes de Cumplimiento Ambiental - ICA."},{"$f":"'CARRETERAS Y TÚNELES'!F164","v":"N/A"},{"$f":"'CARRETERAS Y TÚNELES'!G164","v":"Aplica"},{"$f":"'CARRETERAS Y TÚNELES'!H164","v":"N/A"},{"$f":"'CARRETERAS Y TÚNELES'!I164","v":"N/A"},{"$f":"'CARRETERAS Y TÚNELES'!J164","v":"Permanente"}]
[{"$f":"'CARRETERAS Y TÚNELES'!D165","v":0},{"$f":"'CARRETERAS Y TÚNELES'!B165","v":"REQUISITOS DEL ACTO ADMINISTRATIVO"},{"$f":"'CARRETERAS Y TÚNELES'!E165","v":"Parágrafo: La intervención de áreas arqueológicas protegidas de sitios arqueológicos u otras categorías establecidas en la normativa que protege el patrimonio cultural de la Nación son de competencia exclusiva del Instituto Colombiano de Antropología e Historia -ICANH-. En consecuencia, la Licencia Ambiental no autoriza la intervención de dichas áreas."},{"$f":"'CARRETERAS Y TÚNELES'!F165","v":" -"},{"$f":"'CARRETERAS Y TÚNELES'!G165","v":" -"},{"$f":"'CARRETERAS Y TÚNELES'!H165","v":" -"},{"$f":"'CARRETERAS Y TÚNELES'!I165","v":" -"},{"$f":"'CARRETERAS Y TÚNELES'!J165","v":" -"}]
[{"$f":"'CARRETERAS Y TÚNELES'!D166","v":0},{"$f":"'CARRETERAS Y TÚNELES'!B166","v":"REQUISITOS DEL ACTO ADMINISTRATIVO"},{"$f":"'CARRETERAS Y TÚNELES'!E166","v":"Parágrafo: La Licencia Ambiental que se otorga, no confiere derechos reales sobre los bienes inmuebles que puedan intervenirse o afectarse en la ejecución del proyecto, obra o actividad. Lo anterior, sin perjuicio a lo dispuesto por la Ley 1448 de 2011 o aquella norma que la modifique, deroguen o sustituya, en lo relacionado con restitución de tierras."},{"$f":"'CARRETERAS Y TÚNELES'!F166","v":" -"},{"$f":"'CARRETERAS Y TÚNELES'!G166","v":" -"},{"$f":"'CARRETERAS Y TÚNELES'!H166","v":" -"},{"$f":"'CARRETERAS Y TÚNELES'!I166","v":" -"},{"$f":"'CARRETERAS Y TÚNELES'!J166","v":" -"}]
[{"$f":"'CARRETERAS Y TÚNELES'!D167","v":0},{"$f":"'CARRETERAS Y TÚNELES'!B167","v":"REQUISITOS DEL ACTO ADMINISTRATIVO"},{"$f":"'CARRETERAS Y TÚNELES'!E167","v":"Si dentro del área licenciada se evidencian sitios de interés arqueológico, se deberá dar aviso por escrito al Instituto Colombiano de Antropología e Historia -ICANH- (con copia a la ANLA), de conformidad con el numeral 1.4 del artículo 7 de la Ley 1185 de 2008, el Decreto 138 de 2019 y el numeral 1.6. del artículo 11 de la Ley 397 de 1997, modificado por el artículo 131 del Decreto 2106 de 2019, para lo de su competencia."},{"$f":"'CARRETERAS Y TÚNELES'!F167","v":" -"},{"$f":"'CARRETERAS Y TÚNELES'!G167","v":" -"},{"$f":"'CARRETERAS Y TÚNELES'!H167","v":" -"},{"$f":"'CARRETERAS Y TÚNELES'!I167","v":" -"},{"$f":"'CARRETERAS Y TÚNELES'!J167","v":" -"}]
[{"$f":"'CARRETERAS Y TÚNELES'!D168","v":0},{"$f":"'CARRETERAS Y TÚNELES'!B168","v":"REQUISITOS DEL ACTO ADMINISTRATIVO"},{"$f":"'CARRETERAS Y TÚNELES'!E168","v":"La ANLA hará control y seguimiento ambiental a la ejecución de proyectos, obras y actividades en los términos del artículo 2.2.2.3.9.1 del Decreto 1076 del 2015, y verificará el cumplimiento de la presente Resolución. "},{"$f":"'CARRETERAS Y TÚNELES'!F168","v":" -"},{"$f":"'CARRETERAS Y TÚNELES'!G168","v":" -"},{"$f":"'CARRETERAS Y TÚNELES'!H168","v":" -"},{"$f":"'CARRETERAS Y TÚNELES'!I168","v":" -"},{"$f":"'CARRETERAS Y TÚNELES'!J168","v":" -"}]
[{"$f":"'CARRETERAS Y TÚNELES'!D169","v":0},{"$f":"'CARRETERAS Y TÚNELES'!B169","v":"REQUISITOS DEL ACTO ADMINISTRATIVO"},{"$f":"'CARRETERAS Y TÚNELES'!E169","v":"Por la Autoridad Nacional de Licencias Ambientales - ANLA, notificar el presente acto administrativo al representante legal o apoderado, o a la persona autorizada por la sociedad XXXXX, de conformidad con los artículos 67 y siguientes del Código de Procedimiento Administrativo y de lo Contencioso Administrativo. \n\nParágrafo: El expediente queda a disposición para su consulta en medio físico o digital. "},{"$f":"'CARRETERAS Y TÚNELES'!F169","v":" -"},{"$f":"'CARRETERAS Y TÚNELES'!G169","v":" -"},{"$f":"'CARRETERAS Y TÚNELES'!H169","v":" -"},{"$f":"'CARRETERAS Y TÚNELES'!I169","v":" -"},{"$f":"'CARRETERAS Y TÚNELES'!J169","v":" -"}]
[{"$f":"'CARRETERAS Y TÚNELES'!D170","v":0},{"$f":"'CARRETERAS Y TÚNELES'!B170","v":"REQUISITOS DEL ACTO ADMINISTRATIVO"},{"$f":"'CARRETERAS Y TÚNELES'!E170","v":"Por la Autoridad Nacional de Licencias Ambientales - ANLA, notificar el presente acto administrativo a el/la señor(a) XXXXX en su condición de tercer(os) interviniente(s) reconocido(s) dentro de la presente actuación de ser el caso a través del representante legal o apoderado, o a la persona debidamente autorizada, de conformidad con el artículo 71 de la Ley 99 de 1993 y los artículos 67 y siguientes del Código de Procedimiento Administrativo y de lo Contencioso Administrativo. \n\nParágrafo: El expediente queda a disposición para su consulta en medio físico o digital. "},{"$f":"'CARRETERAS Y TÚNELES'!F170","v":" -"},{"$f":"'CARRETERAS Y TÚNELES'!G170","v":" -"},{"$f":"'CARRETERAS Y TÚNELES'!H170","v":" -"},{"$f":"'CARRETERAS Y TÚNELES'!I170","v":" -"},{"$f":"'CARRETERAS Y TÚNELES'!J170","v":" -"}]
[{"$f":"'CARRETERAS Y TÚNELES'!D171","v":0},{"$f":"'CARRETERAS Y TÚNELES'!B171","v":"REQUISITOS DEL ACTO ADMINISTRATIVO"},{"$f":"'CARRETERAS Y TÚNELES'!E171","v":"Por la Autoridad Nacional de Licencias Ambientales - ANLA, comunicar el presente acto administrativo a el/la señor(a) XXXXX en su condición de tercer(os) interviniente(s) reconocido(s) dentro de la presente actuación de ser el caso a través del representante legal o apoderado, o a la persona debidamente autorizada, de conformidad con el artículo 71 de la Ley 99 de 1993."},{"$f":"'CARRETERAS Y TÚNELES'!F171","v":" -"},{"$f":"'CARRETERAS Y TÚNELES'!G171","v":" -"},{"$f":"'CARRETERAS Y TÚNELES'!H171","v":" -"},{"$f":"'CARRETERAS Y TÚNELES'!I171","v":" -"},{"$f":"'CARRETERAS Y TÚNELES'!J171","v":" -"}]
[{"$f":"'CARRETERAS Y TÚNELES'!D172","v":0},{"$f":"'CARRETERAS Y TÚNELES'!B172","v":"REQUISITOS DEL ACTO ADMINISTRATIVO"},{"$f":"'CARRETERAS Y TÚNELES'!E172","v":"Por la Autoridad Nacional de Licencias Ambientales - ANLA, comunicar el contenido del presente acto administrativo a [Espacio para listar entidades que deban recibir copia de la presente resolución tales como: alcaldías municipales, autoridades ambientales de orden regional y/o local, gobernaciones, procuradurías delegadas para asuntos ambientales, personerías municipales, entre otros]. "},{"$f":"'CARRETERAS Y TÚNELES'!F172","v":" -"},{"$f":"'CARRETERAS Y TÚNELES'!G172","v":" -"},{"$f":"'CARRETERAS Y TÚNELES'!H172","v":" -"},{"$f":"'CARRETERAS Y TÚNELES'!I172","v":" -"},{"$f":"'CARRETERAS Y TÚNELES'!J172","v":" -"}]
[{"$f":"'CARRETERAS Y TÚNELES'!D173","v":0},{"$f":"'CARRETERAS Y TÚNELES'!B173","v":"REQUISITOS DEL ACTO ADMINISTRATIVO"},{"$f":"'CARRETERAS Y TÚNELES'!E173","v":"Por la Autoridad Nacional de Licencias Ambientales - ANLA publicar  la presente Resolución en la Gaceta Ambiental de esta Entidad, de conformidad con el artículo 71 de la Ley 99 de 1993. "},{"$f":"'CARRETERAS Y TÚNELES'!F173","v":" -"},{"$f":"'CARRETERAS Y TÚNELES'!G173","v":" -"},{"$f":"'CARRETERAS Y TÚNELES'!H173","v":" -"},{"$f":"'CARRETERAS Y TÚNELES'!I173","v":" -"},{"$f":"'CARRETERAS Y TÚNELES'!J173","v":" -"}]
[{"$f":"'CARRETERAS Y TÚNELES'!D174","v":0},{"$f":"'CARRETERAS Y TÚNELES'!B174","v":"REQUISITOS DEL ACTO ADMINISTRATIVO"},{"$f":"'CARRETERAS Y TÚNELES'!E174","v":"Contra el presente acto administrativo procede el recurso de reposición en los términos establecidos en los artículos 74 y siguientes del Código de Procedimiento Administrativo y de lo Contencioso Administrativo, o la norma que lo modifique, derogue o sustituya."},{"$f":"'CARRETERAS Y TÚNELES'!F174","v":" -"},{"$f":"'CARRETERAS Y TÚNELES'!G174","v":" -"},{"$f":"'CARRETERAS Y TÚNELES'!H174","v":" -"},{"$f":"'CARRETERAS Y TÚNELES'!I174","v":" -"},{"$f":"'CARRETERAS Y TÚNELES'!J174","v":" -"}]
[{"$f":"'CARRETERAS Y TÚNELES'!D175","v":0},{"$f":"'CARRETERAS Y TÚNELES'!B175","v":"REQUISITOS DEL ACTO ADMINISTRATIVO"},{"$f":"'CARRETERAS Y TÚNELES'!E175","v":"La presente Licencia Ambiental, se otorga por el tiempo de duración del proyecto que se autoriza en la presente resolución."},{"$f":"'CARRETERAS Y TÚNELES'!F175","v":" -"},{"$f":"'CARRETERAS Y TÚNELES'!G175","v":" -"},{"$f":"'CARRETERAS Y TÚNELES'!H175","v":" -"},{"$f":"'CARRETERAS Y TÚNELES'!I175","v":" -"},{"$f":"'CARRETERAS Y TÚNELES'!J175","v":" -"}]
[{"$f":"'CARRETERAS Y TÚNELES'!D176","v":0},{"$f":"'CARRETERAS Y TÚNELES'!B176","v":"REQUISITOS DEL ACTO ADMINISTRATIVO"},{"$f":"'CARRETERAS Y TÚNELES'!E176","v":"En el caso que, el titular de la licencia ambiental en el término de cinco (5) años contados a partir de la firmeza del presente acto administrativo, no haya dado inicio a la ejecución del proyecto, se procederá a dar aplicación a lo establecido en el artículo 2.2.2.3.8.7. Decreto 1076 de 2015, en relación con la declaratoria de pérdida de vigencia de la licencia ambiental. "},{"$f":"'CARRETERAS Y TÚNELES'!F176","v":" -"},{"$f":"'CARRETERAS Y TÚNELES'!G176","v":" -"},{"$f":"'CARRETERAS Y TÚNELES'!H176","v":" -"},{"$f":"'CARRETERAS Y TÚNELES'!I176","v":" -"},{"$f":"'CARRETERAS Y TÚNELES'!J176","v":" -"}]
[{"$f":"'CARRETERAS Y TÚNELES'!D177","v":0},{"$f":"'CARRETERAS Y TÚNELES'!B177","v":"REQUISITOS DEL ACTO ADMINISTRATIVO"},{"$f":"'CARRETERAS Y TÚNELES'!E177","v":"El incumplimiento de las obligaciones contenidas en el presente acto administrativo y en las normas ambientales vigentes dará lugar a la imposición y ejecución de las medidas preventivas y sanciones que sean aplicables según el caso, de conformidad con lo establecido en la Ley 1333 del 21 de julio de 2009, o la que modifique, derogue o sustituya."},{"$f":"'CARRETERAS Y TÚNELES'!F177","v":" -"},{"$f":"'CARRETERAS Y TÚNELES'!G177","v":" -"},{"$f":"'CARRETERAS Y TÚNELES'!H177","v":" -"},{"$f":"'CARRETERAS Y TÚNELES'!I177","v":" -"},{"$f":"'CARRETERAS Y TÚNELES'!J177","v":" -"}]
[{"$f":"'CARRETERAS Y TÚNELES'!D178","v":0},{"$f":"'CARRETERAS Y TÚNELES'!B178","v":"REQUISITOS DEL ACTO ADMINISTRATIVO"},{"$f":"'CARRETERAS Y TÚNELES'!E178","v":"En el seguimiento, la Autoridad Nacional de Licencias Ambientales -ANLA- podrá  conceder, por solicitud justificada del titular, nuevos plazos para el cumplimiento de obligaciones, sin que esto implique modificación de la Licencia Ambiental. La modificación del plazo siempre deberá estar técnica y jurídicamente sustentada, previa coordinación ante el Grupo de Actuaciones Sancionatorias ambientales de la Oficina Asesora Jurídica o la dependencia que haga sus veces."},{"$f":"'CARRETERAS Y TÚNELES'!F178","v":" -"},{"$f":"'CARRETERAS Y TÚNELES'!G178","v":" -"},{"$f":"'CARRETERAS Y TÚNELES'!H178","v":" -"},{"$f":"'CARRETERAS Y TÚNELES'!I178","v":" -"},{"$f":"'CARRETERAS Y TÚNELES'!J178","v":" -"}]
[{"$f":"'CARRETERAS Y TÚNELES'!D179","v":0},{"$f":"'CARRETERAS Y TÚNELES'!B179","v":"REQUISITOS DEL ACTO ADMINISTRATIVO"},{"$f":"'CARRETERAS Y TÚNELES'!E179","v":"En el evento en que el titular de la licencia ambiental entre en proceso de disolución o régimen de insolvencia o liquidación regulados por las normas vigentes, informará inmediatamente de esta situación a esta Autoridad, con fundamento, entre otros, en los artículos 8, 58, 79, 80, 81, 95 numeral 8 de la Constitución Política de 1991, en las Leyes 43 de 1990, 222 de 1995, 1333 de 2009, demás normas vigentes, y en la jurisprudencia aplicable. La sociedad deberá aprovisionar contablemente las obligaciones contingentes que se deriven de la existencia de un procedimiento ambiental sancionatorio conforme con el artículo 40 de la Ley 1333 de 2009 o la norma que la modifique, derogue o sustituya. "},{"$f":"'CARRETERAS Y TÚNELES'!F179","v":" -"},{"$f":"'CARRETERAS Y TÚNELES'!G179","v":" -"},{"$f":"'CARRETERAS Y TÚNELES'!H179","v":" -"},{"$f":"'CARRETERAS Y TÚNELES'!I179","v":" -"},{"$f":"'CARRETERAS Y TÚNELES'!J179","v":" -"}]

{"sheet":"Asuntos radicación","index":3,"n_rows":63,"n_cols":4,"rows_kept":63,"cut":false,"hidden":false,"merged":[[0,0,0,3],[25,0,27,0],[28,0,29,0],[31,0,32,0],[34,0,38,0],[7,3,9,3],[39,0,47,0],[54,0,55,0],[4,0,5,0],[7,0,9,0],[7,2,9,2],[20,0,21,0],[22,0,23,0]]}
["Asuntos de radicación relacionados con la Obligación General \"Estrategia de recepción de información de los resultados de los monitoreos del uso y aprovechamiento de los recursos naturales\":"]
[]
["ASPECTO","TIPO","ABREVIATURA","ASUNTO"]
["OCUPACION DE CAUCE","NA","OCA",{"$f":"C4&\"-LAM/LAVXXXX-XX-XXXX\"","v":"OCA-LAM/LAVXXXX-XX-XXXX"}]
["CAPTACIÓN","SUPERFICIAL","CSP",{"$f":"C5&\"-LAM/LAVXXXX-XX-XXXX\"","v":"CSP-LAM/LAVXXXX-XX-XXXX"}]
[null,"SUBTERRANEA","CSB","CSB-LAM/LAVXXXX-XX-XXXX"]
["PERMISO EXPLORACIÓN DE AGUA SUBTERRÁNEO","NA","ESB","ESB-LAM/LAVXXXX-XX-XXXX"]
["VERTIMIENTO","CUERPO AGUA","VER","VER-LAM/LAVXXXX-XX-XXXX"]
[null,"SUELO",null,"-LAM/LAVXXXX-XX-XXXX"]
[null,"INYECCIÓN",null,"-LAM/LAVXXXX-XX-XXXX"]
["GESTION DE RESIDUOS LIQUIDOS (RIEGO, VIA, ENTREGA A TERCERO)","NA","GRL","GRL-LAM/LAVXXXX-XX-XXXX"]
["GESTIÓN DE RESIDUOS SOLIDOS","NA","GIR","GIR-LAM/LAVXXXX-XX-XXXX"]
["MATERIALES DE CONSTRUCCIÓN","NA","AMC","AMC-LAM/LAVXXXX-XX-XXXX"]
["INFRAESTRUCTURA LINEAL","NA","INL","INL-LAM/LAVXXXX-XX-XXXX"]
["INFRAESTRUCTURA PUNTUAL","NA","INP","INP-LAM/LAVXXXX-XX-XXXX"]
["INFRAESTRUCTURA TIPO POLIGONO","NA","INA","INA-LAM/LAVXXXX-XX-XXXX"]
["ZONA DE PRESTAMO LATERAL","NA","ZPL","ZPL-LAM/LAVXXXX-XX-XXXX"]
["ZODME","NA","ZOD","ZOD-LAM/LAVXXXX-XX-XXXX"]
["AREA DE APROVECHAMIENTO FORESTAL","NA","AAF","AAF-LAM/LAVXXXX-XX-XXXX"]
["APROVECHAMIENTO POR INDIVIDUOS","NA","IND","IND-LAM/LAVXXXX-XX-XXXX"]
["FUENTE DE EMISIÓN AIRE","FIJA","FAF","FAF-LAM/LAVXXXX-XX-XXXX"]
[null,"DISPERSA","FAD","FAD-LAM/LAVXXXX-XX-XXXX"]
["FUENTE DE EMISIÓN DE OLORES","FIJA","FOF","FOF-LAM/LAVXXXX-XX-XXXX"]
[null,"DISPERSA","FOD","FOD-LAM/LAVXXXX-XX-XXXX"]
["FUENTE DE EMISIÓN DE RUIDO","NA","FER","FER-LAM/LAVXXXX-XX-XXXX"]
["MONITOREO DE AGUA","SUPERFICIAL","MSP","MSP-LAM/LAVXXXX-XX-XXXX"]
[null,"SUBTERRANEA","MSB","MSB-LAM/LAVXXXX-XX-XXXX"]
[null,"MARINO","MAM","MAM-LAM/LAVXXXX-XX-XXXX"]
["MONITOREO DE CALIDAD DE AIRE","CALIDAD DE AIRE","MCA","MCA-LAM/LAVXXXX-XX-XXXX"]
[null,"EMISIONES ATMOSFERICAS","MEA","MEA-LAM/LAVXXXX-XX-XXXX"]
["MONITOREO DE OLORES","NA","MEO","MEO-LAM/LAVXXXX-XX-XXXX"]
["MONITOREO DE RUIDO","RUIDO AMBIENTAL","MRA","MRA-LAM/LAVXXXX-XX-XXXX"]
[null,"EMISION DE RUIDO","MER","MER-LAM/LAVXXXX-XX-XXXX"]
["MONITOREO DE SUELO","NA","MSU","MSU-LAM/LAVXXXX-XX-XXXX"]
["MONITOREO FAUNA","MUESTREO","MUT","MUT-LAM/LAVXXXX-XX-XXXX"]
[null,"ATROPELLADA","ATR","ATR-LAM/LAVXXXX-XX-XXXX"]
[null,"AHUYENTADA","AHU","AHU-LAM/LAVXXXX-XX-XXXX"]
[null,"PASO DE FAUNA","MPF","MPF-LAM/LAVXXXX-XX-XXXX"]
[null,"RESCATADA","REC","REC-LAM/LAVXXXX-XX-XXXX"]
["MUESTREO FLORA","MUESTREO","MVG","MVG-LAM/LAVXXXX-XX-XXXX"]
[null,"INVENTARIO FORESTAL","INV","INV-LAM/LAVXXXX-XX-XXXX"]
[null,"REGENERACIÓN","REG","REG-LAM/LAVXXXX-XX-XXXX"]
[null,"FORÓFITO","FOR","FOR-LAM/LAVXXXX-XX-XXXX"]
[null,"REUBICADO","REU","REU-LAM/LAVXXXX-XX-XXXX"]
[null,"VASCULARES","MVS","MVS-LAM/LAVXXXX-XX-XXXX"]
[null,"NO VASCULARES","NVS","NVS-LAM/LAVXXXX-XX-XXXX"]
[null,"PARCELA PERMANENTE","PPF","PPF-LAM/LAVXXXX-XX-XXXX"]
[null,"LÍQUENES","LIQ","LIQ-LAM/LAVXXXX-XX-XXXX"]
["VEDA","NA","VDA","VDA-LAM/LAVXXXX-XX-XXXX"]
["MONITOREO PARAMETRO RESISTENCIA","NA","MPR","MPR-LAM/LAVXXXX-XX-XXXX"]
["MONITOREO VIBRACIONES","NA","MVB","MVB-LAM/LAVXXXX-XX-XXXX"]
["ESTACION METEOROLOGICA","NA","MET","MET-LAM/LAVXXXX-XX-XXXX"]
["MUESTREO OCEANOGRAFICO","NA","MCN","MCN-LAM/LAVXXXX-XX-XXXX"]
["MUESTREO FLORA MARINA","NA","FLM","FLM-LAM/LAVXXXX-XX-XXXX"]
["MONITOREO DE FAUNA MARINA","MUESTREO DE FAUNA MARINA","FAM","FAM-LAM/LAVXXXX-XX-XXXX"]
[null,"PUNTO DE OBSERVACIÓN DE FAUNA MARINA","PFM","PFM-LAM/LAVXXXX-XX-XXXX"]
["DRAGADO","NA","DRA","DRA-LAM/LAVXXXX-XX-XXXX"]
["DISPOSICIÓN DRAGADO","NA","DMD","DMD-LAM/LAVXXXX-XX-XXXX"]
["CARACTERIZACIÓN DE DRAGADO","NA","CRD","CRD-LAM/LAVXXXX-XX-XXXX"]
["INVERSION 1%","NA","IUP","IUP-LAM/LAVXXXX-XX-XXXX"]
["COMPENSACION BIODIVERSIDAD","NA","CPB","CPB-LAM/LAVXXXX-XX-XXXX"]
["OTRAS COMPENSACIONES","NA","COT","COT-LAM/LAVXXXX-XX-XXXX"]
["MONITOREO CAMPO ELECTROMAGNETICO","NA","MCE","MCE-LAM/LAVXXXX-XX-XXXX"]

{"sheet":"Temp","index":4,"n_rows":170,"n_cols":4,"rows_kept":170,"cut":false,"hidden":true,"merged":[[0,0,0,3]]}
["ANEXO - OBLIGACIONES MÍNIMAS PARA [COLOCAR NOMBRE DEL PROYECTO]"]
["COMPONENTE","Fase de construcción","Fase de operación y mantenimiento","Fase de desmantelamiento y abandono"]
[{"$f":"IF('CARRETERAS Y TÚNELES'!#REF!=\"SI\",'CARRETERAS Y TÚNELES'!#REF!,NA())","v":{"$error":"#REF!"}},{"$f":"IF('CARRETERAS Y TÚNELES'!#REF!=\"SI\",'CARRETERAS Y TÚNELES'!#REF!,NA())","v":{"$error":"#REF!"}},{"$f":"IF('CARRETERAS Y TÚNELES'!#REF!=\"SI\",'CARRETERAS Y TÚNELES'!#REF!,NA())","v":{"$error":"#REF!"}},{"$f":"IF('CARRETERAS Y TÚNELES'!#REF!=\"SI\",'OBLIGACIONES APLICABLES'!G3,NA())","v":{"$error":"#REF!"}}]
[{"$f":"IF('CARRETERAS Y TÚNELES'!#REF!=\"SI\",'CARRETERAS Y TÚNELES'!#REF!,NA())","v":{"$error":"#REF!"}},{"$f":"IF('CARRETERAS Y TÚNELES'!#REF!=\"SI\",'CARRETERAS Y TÚNELES'!#REF!,NA())","v":{"$error":"#REF!"}},{"$f":"IF('CARRETERAS Y TÚNELES'!#REF!=\"SI\",'OBLIGACIONES APLICABLES'!F4,NA())","v":{"$error":"#REF!"}},{"$f":"IF('CARRETERAS Y TÚNELES'!#REF!=\"SI\",'OBLIGACIONES APLICABLES'!G4,NA())","v":{"$error":"#REF!"}}]
[{"$f":"IF('CARRETERAS Y TÚNELES'!#REF!=\"SI\",'CARRETERAS Y TÚNELES'!#REF!,NA())","v":{"$error":"#REF!"}},{"$f":"IF('CARRETERAS Y TÚNELES'!#REF!=\"SI\",'CARRETERAS Y TÚNELES'!#REF!,NA())","v":{"$error":"#REF!"}},{"$f":"IF('CARRETERAS Y TÚNELES'!#REF!=\"SI\",'OBLIGACIONES APLICABLES'!F5,NA())","v":{"$error":"#REF!"}},{"$f":"IF('CARRETERAS Y TÚNELES'!#REF!=\"SI\",'OBLIGACIONES APLICABLES'!G5,NA())","v":{"$error":"#REF!"}}]
[{"$f":"IF('CARRETERAS Y TÚNELES'!#REF!=\"SI\",'CARRETERAS Y TÚNELES'!#REF!,NA())","v":{"$error":"#REF!"}},{"$f":"IF('CARRETERAS Y TÚNELES'!#REF!=\"SI\",'CARRETERAS Y TÚNELES'!#REF!,NA())","v":{"$error":"#REF!"}},{"$f":"IF('CARRETERAS Y TÚNELES'!#REF!=\"SI\",'OBLIGACIONES APLICABLES'!#REF!,NA())","v":{"$error":"#REF!"}},{"$f":"IF('CARRETERAS Y TÚNELES'!#REF!=\"SI\",'OBLIGACIONES APLICABLES'!#REF!,NA())","v":{"$error":"#REF!"}}]
[{"$f":"IF('CARRETERAS Y TÚNELES'!#REF!=\"SI\",'CARRETERAS Y TÚNELES'!#REF!,NA())","v":{"$error":"#REF!"}},{"$f":"IF('CARRETERAS Y TÚNELES'!#REF!=\"SI\",'CARRETERAS Y TÚNELES'!#REF!,NA())","v":{"$error":"#REF!"}},{"$f":"IF('CARRETERAS Y TÚNELES'!#REF!=\"SI\",'OBLIGACIONES APLICABLES'!#REF!,NA())","v":{"$error":"#REF!"}},{"$f":"IF('CARRETERAS Y TÚNELES'!#REF!=\"SI\",'OBLIGACIONES APLICABLES'!#REF!,NA())","v":{"$error":"#REF!"}}]
[{"$f":"IF('CARRETERAS Y TÚNELES'!#REF!=\"SI\",'CARRETERAS Y TÚNELES'!#REF!,NA())","v":{"$error":"#REF!"}},{"$f":"IF('CARRETERAS Y TÚNELES'!#REF!=\"SI\",'CARRETERAS Y TÚNELES'!#REF!,NA())","v":{"$error":"#REF!"}},{"$f":"IF('CARRETERAS Y TÚNELES'!#REF!=\"SI\",'OBLIGACIONES APLICABLES'!F6,NA())","v":{"$error":"#REF!"}},{"$f":"IF('CARRETERAS Y TÚNELES'!#REF!=\"SI\",'OBLIGACIONES APLICABLES'!G6,NA())","v":{"$error":"#REF!"}}]
[{"$f":"IF('CARRETERAS Y TÚNELES'!#REF!=\"SI\",'CARRETERAS Y TÚNELES'!#REF!,NA())","v":{"$error":"#REF!"}},{"$f":"IF('CARRETERAS Y TÚNELES'!#REF!=\"SI\",'CARRETERAS Y TÚNELES'!#REF!,NA())","v":{"$error":"#REF!"}},{"$f":"IF('CARRETERAS Y TÚNELES'!#REF!=\"SI\",'OBLIGACIONES APLICABLES'!F7,NA())","v":{"$error":"#REF!"}},{"$f":"IF('CARRETERAS Y TÚNELES'!#REF!=\"SI\",'OBLIGACIONES APLICABLES'!G7,NA())","v":{"$error":"#REF!"}}]
[{"$f":"IF('CARRETERAS Y TÚNELES'!#REF!=\"SI\",'CARRETERAS Y TÚNELES'!#REF!,NA())","v":{"$error":"#REF!"}},{"$f":"IF('CARRETERAS Y TÚNELES'!#REF!=\"SI\",'CARRETERAS Y TÚNELES'!#REF!,NA())","v":{"$error":"#REF!"}},{"$f":"IF('CARRETERAS Y TÚNELES'!#REF!=\"SI\",'OBLIGACIONES APLICABLES'!#REF!,NA())","v":{"$error":"#REF!"}},{"$f":"IF('CARRETERAS Y TÚNELES'!#REF!=\"SI\",'OBLIGACIONES APLICABLES'!#REF!,NA())","v":{"$error":"#REF!"}}]
[{"$f":"IF('CARRETERAS Y TÚNELES'!#REF!=\"SI\",'CARRETERAS Y TÚNELES'!#REF!,NA())","v":{"$error":"#REF!"}},{"$f":"IF('CARRETERAS Y TÚNELES'!#REF!=\"SI\",'CARRETERAS Y TÚNELES'!#REF!,NA())","v":{"$error":"#REF!"}},{"$f":"IF('CARRETERAS Y TÚNELES'!#REF!=\"SI\",'OBLIGACIONES APLICABLES'!#REF!,NA())","v":{"$error":"#REF!"}},{"$f":"IF('CARRETERAS Y TÚNELES'!#REF!=\"SI\",'OBLIGACIONES APLICABLES'!#REF!,NA())","v":{"$error":"#REF!"}}]
[{"$f":"IF('CARRETERAS Y TÚNELES'!#REF!=\"SI\",'CARRETERAS Y TÚNELES'!#REF!,NA())","v":{"$error":"#REF!"}},{"$f":"IF('CARRETERAS Y TÚNELES'!#REF!=\"SI\",'CARRETERAS Y TÚNELES'!#REF!,NA())","v":{"$error":"#REF!"}},{"$f":"IF('CARRETERAS Y TÚNELES'!#REF!=\"SI\",'OBLIGACIONES APLICABLES'!#REF!,NA())","v":{"$error":"#REF!"}},{"$f":"IF('CARRETERAS Y TÚNELES'!#REF!=\"SI\",'OBLIGACIONES APLICABLES'!#REF!,NA())","v":{"$error":"#REF!"}}]
[{"$f":"IF('CARRETERAS Y TÚNELES'!#REF!=\"SI\",'CARRETERAS Y TÚNELES'!#REF!,NA())","v":{"$error":"#REF!"}},{"$f":"IF('CARRETERAS Y TÚNELES'!#REF!=\"SI\",'CARRETERAS Y TÚNELES'!#REF!,NA())","v":{"$error":"#REF!"}},{"$f":"IF('CARRETERAS Y TÚNELES'!#REF!=\"SI\",'OBLIGACIONES APLICABLES'!#REF!,NA())","v":{"$error":"#REF!"}},{"$f":"IF('CARRETERAS Y TÚNELES'!#REF!=\"SI\",'OBLIGACIONES APLICABLES'!#REF!,NA())","v":{"$error":"#REF!"}}]
[{"$f":"IF('CARRETERAS Y TÚNELES'!#REF!=\"SI\",'CARRETERAS Y TÚNELES'!#REF!,NA())","v":{"$error":"#REF!"}},{"$f":"IF('CARRETERAS Y TÚNELES'!#REF!=\"SI\",'CARRETERAS Y TÚNELES'!#REF!,NA())","v":{"$error":"#REF!"}},{"$f":"IF('CARRETERAS Y TÚNELES'!#REF!=\"SI\",'OBLIGACIONES APLICABLES'!#REF!,NA())","v":{"$error":"#REF!"}},{"$f":"IF('CARRETERAS Y TÚNELES'!#REF!=\"SI\",'OBLIGACIONES APLICABLES'!#REF!,NA())","v":{"$error":"#REF!"}}]
[{"$f":"IF('CARRETERAS Y TÚNELES'!#REF!=\"SI\",'CARRETERAS Y TÚNELES'!#REF!,NA())","v":{"$error":"#REF!"}},{"$f":"IF('CARRETERAS Y TÚNELES'!#REF!=\"SI\",'CARRETERAS Y TÚNELES'!#REF!,NA())","v":{"$error":"#REF!"}},{"$f":"IF('CARRETERAS Y TÚNELES'!#REF!=\"SI\",'OBLIGACIONES APLICABLES'!#REF!,NA())","v":{"$error":"#REF!"}},{"$f":"IF('CARRETERAS Y TÚNELES'!#REF!=\"SI\",'OBLIGACIONES APLICABLES'!#REF!,NA())","v":{"$error":"#REF!"}}]
[{"$f":"IF('CARRETERAS Y TÚNELES'!#REF!=\"SI\",'CARRETERAS Y TÚNELES'!#REF!,NA())","v":{"$error":"#REF!"}},{"$f":"IF('CARRETERAS Y TÚNELES'!#REF!=\"SI\",'CARRETERAS Y TÚNELES'!#REF!,NA())","v":{"$error":"#REF!"}},{"$f":"IF('CARRETERAS Y TÚNELES'!#REF!=\"SI\",'OBLIGACIONES APLICABLES'!#REF!,NA())","v":{"$error":"#REF!"}},{"$f":"IF('CARRETERAS Y TÚNELES'!#REF!=\"SI\",'OBLIGACIONES APLICABLES'!#REF!,NA())","v":{"$error":"#REF!"}}]
[{"$f":"IF('CARRETERAS Y TÚNELES'!#REF!=\"SI\",'CARRETERAS Y TÚNELES'!#REF!,NA())","v":{"$error":"#REF!"}},{"$f":"IF('CARRETERAS Y TÚNELES'!#REF!=\"SI\",'CARRETERAS Y TÚNELES'!#REF!,NA())","v":{"$error":"#REF!"}},{"$f":"IF('CARRETERAS Y TÚNELES'!#REF!=\"SI\",'OBLIGACIONES APLICABLES'!#REF!,NA())","v":{"$error":"#REF!"}},{"$f":"IF('CARRETERAS Y TÚNELES'!#REF!=\"SI\",'OBLIGACIONES APLICABLES'!#REF!,NA())","v":{"$error":"#REF!"}}]
[{"$f":"IF('CARRETERAS Y TÚNELES'!#REF!=\"SI\",'CARRETERAS Y TÚNELES'!#REF!,NA())","v":{"$error":"#REF!"}},{"$f":"IF('CARRETERAS Y TÚNELES'!#REF!=\"SI\",'CARRETERAS Y TÚNELES'!#REF!,NA())","v":{"$error":"#REF!"}},{"$f":"IF('CARRETERAS Y TÚNELES'!#REF!=\"SI\",'OBLIGACIONES APLICABLES'!#REF!,NA())","v":{"$error":"#REF!"}},{"$f":"IF('CARRETERAS Y TÚNELES'!#REF!=\"SI\",'OBLIGACIONES APLICABLES'!#REF!,NA())","v":{"$error":"#REF!"}}]
[{"$f":"IF('CARRETERAS Y TÚNELES'!#REF!=\"SI\",'CARRETERAS Y TÚNELES'!#REF!,NA())","v":{"$error":"#REF!"}},{"$f":"IF('CARRETERAS Y TÚNELES'!#REF!=\"SI\",'CARRETERAS Y TÚNELES'!#REF!,NA())","v":{"$error":"#REF!"}},{"$f":"IF('CARRETERAS Y TÚNELES'!#REF!=\"SI\",'OBLIGACIONES APLICABLES'!F8,NA())","v":{"$error":"#REF!"}},{"$f":"IF('CARRETERAS Y TÚNELES'!#REF!=\"SI\",'OBLIGACIONES APLICABLES'!G8,NA())","v":{"$error":"#REF!"}}]
[{"$f":"IF('CARRETERAS Y TÚNELES'!#REF!=\"SI\",'CARRETERAS Y TÚNELES'!#REF!,NA())","v":{"$error":"#REF!"}},{"$f":"IF('CARRETERAS Y TÚNELES'!#REF!=\"SI\",'CARRETERAS Y TÚNELES'!#REF!,NA())","v":{"$error":"#REF!"}},{"$f":"IF('CARRETERAS Y TÚNELES'!#REF!=\"SI\",'OBLIGACIONES APLICABLES'!#REF!,NA())","v":{"$error":"#REF!"}},{"$f":"IF('CARRETERAS Y TÚNELES'!#REF!=\"SI\",'OBLIGACIONES APLICABLES'!#REF!,NA())","v":{"$error":"#REF!"}}]
[{"$f":"IF('CARRETERAS Y TÚNELES'!#REF!=\"SI\",'CARRETERAS Y TÚNELES'!#REF!,NA())","v":{"$error":"#REF!"}},{"$f":"IF('CARRETERAS Y TÚNELES'!#REF!=\"SI\",'CARRETERAS Y TÚNELES'!#REF!,NA())","v":{"$error":"#REF!"}},{"$f":"IF('CARRETERAS Y TÚNELES'!#REF!=\"SI\",'OBLIGACIONES APLICABLES'!F9,NA())","v":{"$error":"#REF!"}},{"$f":"IF('CARRETERAS Y TÚNELES'!#REF!=\"SI\",'OBLIGACIONES APLICABLES'!G9,NA())","v":{"$error":"#REF!"}}]
[{"$f":"IF('CARRETERAS Y TÚNELES'!#REF!=\"SI\",'CARRETERAS Y TÚNELES'!#REF!,NA())","v":{"$error":"#REF!"}},{"$f":"IF('CARRETERAS Y TÚNELES'!#REF!=\"SI\",'CARRETERAS Y TÚNELES'!#REF!,NA())","v":{"$error":"#REF!"}},{"$f":"IF('CARRETERAS Y TÚNELES'!#REF!=\"SI\",'OBLIGACIONES APLICABLES'!F10,NA())","v":{"$error":"#REF!"}},{"$f":"IF('CARRETERAS Y TÚNELES'!#REF!=\"SI\",'OBLIGACIONES APLICABLES'!G10,NA())","v":{"$error":"#REF!"}}]
[{"$f":"IF('CARRETERAS Y TÚNELES'!#REF!=\"SI\",'CARRETERAS Y TÚNELES'!#REF!,NA())","v":{"$error":"#REF!"}},{"$f":"IF('CARRETERAS Y TÚNELES'!#REF!=\"SI\",'CARRETERAS Y TÚNELES'!#REF!,NA())","v":{"$error":"#REF!"}},{"$f":"IF('CARRETERAS Y TÚNELES'!#REF!=\"SI\",'OBLIGACIONES APLICABLES'!F11,NA())","v":{"$error":"#REF!"}},{"$f":"IF('CARRETERAS Y TÚNELES'!#REF!=\"SI\",'OBLIGACIONES APLICABLES'!G11,NA())","v":{"$error":"#REF!"}}]
[{"$f":"IF('CARRETERAS Y TÚNELES'!#REF!=\"SI\",'CARRETERAS Y TÚNELES'!#REF!,NA())","v":{"$error":"#REF!"}},{"$f":"IF('CARRETERAS Y TÚNELES'!#REF!=\"SI\",'CARRETERAS Y TÚNELES'!#REF!,NA())","v":{"$error":"#REF!"}},{"$f":"IF('CARRETERAS Y TÚNELES'!#REF!=\"SI\",'OBLIGACIONES APLICABLES'!#REF!,NA())","v":{"$error":"#REF!"}},{"$f":"IF('CARRETERAS Y TÚNELES'!#REF!=\"SI\",'OBLIGACIONES APLICABLES'!#REF!,NA())","v":{"$error":"#REF!"}}]
[{"$f":"IF('CARRETERAS Y TÚNELES'!#REF!=\"SI\",'CARRETERAS Y TÚNELES'!#REF!,NA())","v":{"$error":"#REF!"}},{"$f":"IF('CARRETERAS Y TÚNELES'!#REF!=\"SI\",'CARRETERAS Y TÚNELES'!#REF!,NA())","v":{"$error":"#REF!"}},{"$f":"IF('CARRETERAS Y TÚNELES'!#REF!=\"SI\",'OBLIGACIONES APLICABLES'!F15,NA())","v":{"$error":"#REF!"}},{"$f":"IF('CARRETERAS Y TÚNELES'!#REF!=\"SI\",'OBLIGACIONES APLICABLES'!G15,NA())","v":{"$error":"#REF!"}}]
[{"$f":"IF('CARRETERAS Y TÚNELES'!#REF!=\"SI\",'CARRETERAS Y TÚNELES'!#REF!,NA())","v":{"$error":"#REF!"}},{"$f":"IF('CARRETERAS Y TÚNELES'!#REF!=\"SI\",'CARRETERAS Y TÚNELES'!#REF!,NA())","v":{"$error":"#REF!"}},{"$f":"IF('CARRETERAS Y TÚNELES'!#REF!=\"SI\",'OBLIGACIONES APLICABLES'!F16,NA())","v":{"$error":"#REF!"}},{"$f":"IF('CARRETERAS Y TÚNELES'!#REF!=\"SI\",'OBLIGACIONES APLICABLES'!G16,NA())","v":{"$error":"#REF!"}}]
[{"$f":"IF('CARRETERAS Y TÚNELES'!#REF!=\"SI\",'CARRETERAS Y TÚNELES'!#REF!,NA())","v":{"$error":"#REF!"}},{"$f":"IF('CARRETERAS Y TÚNELES'!#REF!=\"SI\",'CARRETERAS Y TÚNELES'!#REF!,NA())","v":{"$error":"#REF!"}},{"$f":"IF('CARRETERAS Y TÚNELES'!#REF!=\"SI\",'OBLIGACIONES APLICABLES'!#REF!,NA())","v":{"$error":"#REF!"}},{"$f":"IF('CARRETERAS Y TÚNELES'!#REF!=\"SI\",'OBLIGACIONES APLICABLES'!#REF!,NA())","v":{"$error":"#REF!"}}]
[{"$f":"IF('CARRETERAS Y TÚNELES'!#REF!=\"SI\",'CARRETERAS Y TÚNELES'!#REF!,NA())","v":{"$error":"#REF!"}},{"$f":"IF('CARRETERAS Y TÚNELES'!#REF!=\"SI\",'CARRETERAS Y TÚNELES'!#REF!,NA())","v":{"$error":"#REF!"}},{"$f":"IF('CARRETERAS Y TÚNELES'!#REF!=\"SI\",'OBLIGACIONES APLICABLES'!F17,NA())","v":{"$error":"#REF!"}},{"$f":"IF('CARRETERAS Y TÚNELES'!#REF!=\"SI\",'OBLIGACIONES APLICABLES'!G17,NA())","v":{"$error":"#REF!"}}]
[{"$f":"IF('CARRETERAS Y TÚNELES'!#REF!=\"SI\",'CARRETERAS Y TÚNELES'!#REF!,NA())","v":{"$error":"#REF!"}},{"$f":"IF('CARRETERAS Y TÚNELES'!#REF!=\"SI\",'CARRETERAS Y TÚNELES'!#REF!,NA())","v":{"$error":"#REF!"}},{"$f":"IF('CARRETERAS Y TÚNELES'!#REF!=\"SI\",'OBLIGACIONES APLICABLES'!F18,NA())","v":{"$error":"#REF!"}},{"$f":"IF('CARRETERAS Y TÚNELES'!#REF!=\"SI\",'OBLIGACIONES APLICABLES'!G18,NA())","v":{"$error":"#REF!"}}]
[{"$f":"IF('CARRETERAS Y TÚNELES'!#REF!=\"SI\",'CARRETERAS Y TÚNELES'!#REF!,NA())","v":{"$error":"#REF!"}},{"$f":"IF('CARRETERAS Y TÚNELES'!#REF!=\"SI\",'CARRETERAS Y TÚNELES'!#REF!,NA())","v":{"$error":"#REF!"}},{"$f":"IF('CARRETERAS Y TÚNELES'!#REF!=\"SI\",'OBLIGACIONES APLICABLES'!#REF!,NA())","v":{"$error":"#REF!"}},{"$f":"IF('CARRETERAS Y TÚNELES'!#REF!=\"SI\",'OBLIGACIONES APLICABLES'!#REF!,NA())","v":{"$error":"#REF!"}}]
[{"$f":"IF('CARRETERAS Y TÚNELES'!#REF!=\"SI\",'CARRETERAS Y TÚNELES'!#REF!,NA())","v":{"$error":"#REF!"}},{"$f":"IF('CARRETERAS Y TÚNELES'!#REF!=\"SI\",'CARRETERAS Y TÚNELES'!#REF!,NA())","v":{"$error":"#REF!"}},{"$f":"IF('CARRETERAS Y TÚNELES'!#REF!=\"SI\",'OBLIGACIONES APLICABLES'!F19,NA())","v":{"$error":"#REF!"}},{"$f":"IF('CARRETERAS Y TÚNELES'!#REF!=\"SI\",'OBLIGACIONES APLICABLES'!G19,NA())","v":{"$error":"#REF!"}}]
[{"$f":"IF('CARRETERAS Y TÚNELES'!#REF!=\"SI\",'CARRETERAS Y TÚNELES'!#REF!,NA())","v":{"$error":"#REF!"}},{"$f":"IF('CARRETERAS Y TÚNELES'!#REF!=\"SI\",'CARRETERAS Y TÚNELES'!#REF!,NA())","v":{"$error":"#REF!"}},{"$f":"IF('CARRETERAS Y TÚNELES'!#REF!=\"SI\",'OBLIGACIONES APLICABLES'!#REF!,NA())","v":{"$error":"#REF!"}},{"$f":"IF('CARRETERAS Y TÚNELES'!#REF!=\"SI\",'OBLIGACIONES APLICABLES'!#REF!,NA())","v":{"$error":"#REF!"}}]
[{"$f":"IF('CARRETERAS Y TÚNELES'!#REF!=\"SI\",'CARRETERAS Y TÚNELES'!#REF!,NA())","v":{"$error":"#REF!"}},{"$f":"IF('CARRETERAS Y TÚNELES'!#REF!=\"SI\",'CARRETERAS Y TÚNELES'!#REF!,NA())","v":{"$error":"#REF!"}},{"$f":"IF('CARRETERAS Y TÚNELES'!#REF!=\"SI\",'OBLIGACIONES APLICABLES'!F26,NA())","v":{"$error":"#REF!"}},{"$f":"IF('CARRETERAS Y TÚNELES'!#REF!=\"SI\",'OBLIGACIONES APLICABLES'!G26,NA())","v":{"$error":"#REF!"}}]
[{"$f":"IF('CARRETERAS Y TÚNELES'!#REF!=\"SI\",'CARRETERAS Y TÚNELES'!#REF!,NA())","v":{"$error":"#REF!"}},{"$f":"IF('CARRETERAS Y TÚNELES'!#REF!=\"SI\",'CARRETERAS Y TÚNELES'!#REF!,NA())","v":{"$error":"#REF!"}},{"$f":"IF('CARRETERAS Y TÚNELES'!#REF!=\"SI\",'OBLIGACIONES APLICABLES'!F27,NA())","v":{"$error":"#REF!"}},{"$f":"IF('CARRETERAS Y TÚNELES'!#REF!=\"SI\",'OBLIGACIONES APLICABLES'!G27,NA())","v":{"$error":"#REF!"}}]
[{"$f":"IF('CARRETERAS Y TÚNELES'!#REF!=\"SI\",'CARRETERAS Y TÚNELES'!#REF!,NA())","v":{"$error":"#REF!"}},{"$f":"IF('CARRETERAS Y TÚNELES'!#REF!=\"SI\",'CARRETERAS Y TÚNELES'!#REF!,NA())","v":{"$error":"#REF!"}},{"$f":"IF('CARRETERAS Y TÚNELES'!#REF!=\"SI\",'OBLIGACIONES APLICABLES'!F32,NA())","v":{"$error":"#REF!"}},{"$f":"IF('CARRETERAS Y TÚNELES'!#REF!=\"SI\",'OBLIGACIONES APLICABLES'!G32,NA())","v":{"$error":"#REF!"}}]
[{"$f":"IF('CARRETERAS Y TÚNELES'!#REF!=\"SI\",'CARRETERAS Y TÚNELES'!#REF!,NA())","v":{"$error":"#REF!"}},{"$f":"IF('CARRETERAS Y TÚNELES'!#REF!=\"SI\",'CARRETERAS Y TÚNELES'!#REF!,NA())","v":{"$error":"#REF!"}},{"$f":"IF('CARRETERAS Y TÚNELES'!#REF!=\"SI\",'OBLIGACIONES APLICABLES'!F34,NA())","v":{"$error":"#REF!"}},{"$f":"IF('CARRETERAS Y TÚNELES'!#REF!=\"SI\",'OBLIGACIONES APLICABLES'!G34,NA())","v":{"$error":"#REF!"}}]
[{"$f":"IF('CARRETERAS Y TÚNELES'!#REF!=\"SI\",'CARRETERAS Y TÚNELES'!#REF!,NA())","v":{"$error":"#REF!"}},{"$f":"IF('CARRETERAS Y TÚNELES'!#REF!=\"SI\",'CARRETERAS Y TÚNELES'!#REF!,NA())","v":{"$error":"#REF!"}},{"$f":"IF('CARRETERAS Y TÚNELES'!#REF!=\"SI\",'OBLIGACIONES APLICABLES'!F35,NA())","v":{"$error":"#REF!"}},{"$f":"IF('CARRETERAS Y TÚNELES'!#REF!=\"SI\",'OBLIGACIONES APLICABLES'!G35,NA())","v":{"$error":"#REF!"}}]
[{"$f":"IF('CARRETERAS Y TÚNELES'!#REF!=\"SI\",'CARRETERAS Y TÚNELES'!#REF!,NA())","v":{"$error":"#REF!"}},{"$f":"IF('CARRETERAS Y TÚNELES'!#REF!=\"SI\",'CARRETERAS Y TÚNELES'!#REF!,NA())","v":{"$error":"#REF!"}},{"$f":"IF('CARRETERAS Y TÚNELES'!#REF!=\"SI\",'OBLIGACIONES APLICABLES'!#REF!,NA())","v":{"$error":"#REF!"}},{"$f":"IF('CARRETERAS Y TÚNELES'!#REF!=\"SI\",'OBLIGACIONES APLICABLES'!#REF!,NA())","v":{"$error":"#REF!"}}]
[{"$f":"IF('CARRETERAS Y TÚNELES'!#REF!=\"SI\",'CARRETERAS Y TÚNELES'!#REF!,NA())","v":{"$error":"#REF!"}},{"$f":"IF('CARRETERAS Y TÚNELES'!#REF!=\"SI\",'CARRETERAS Y TÚNELES'!#REF!,NA())","v":{"$error":"#REF!"}},{"$f":"IF('CARRETERAS Y TÚNELES'!#REF!=\"SI\",'OBLIGACIONES APLICABLES'!F36,NA())","v":{"$error":"#REF!"}},{"$f":"IF('CARRETERAS Y TÚNELES'!#REF!=\"SI\",'OBLIGACIONES APLICABLES'!G36,NA())","v":{"$error":"#REF!"}}]
[{"$f":"IF('CARRETERAS Y TÚNELES'!#REF!=\"SI\",'CARRETERAS Y TÚNELES'!#REF!,NA())","v":{"$error":"#REF!"}},{"$f":"IF('CARRETERAS Y TÚNELES'!#REF!=\"SI\",'CARRETERAS Y TÚNELES'!#REF!,NA())","v":{"$error":"#REF!"}},{"$f":"IF('CARRETERAS Y TÚNELES'!#REF!=\"SI\",'OBLIGACIONES APLICABLES'!#REF!,NA())","v":{"$error":"#REF!"}},{"$f":"IF('CARRETERAS Y TÚNELES'!#REF!=\"SI\",'OBLIGACIONES APLICABLES'!#REF!,NA())","v":{"$error":"#REF!"}}]
[{"$f":"IF('CARRETERAS Y TÚNELES'!#REF!=\"SI\",'CARRETERAS Y TÚNELES'!#REF!,NA())","v":{"$error":"#REF!"}},{"$f":"IF('CARRETERAS Y TÚNELES'!#REF!=\"SI\",'CARRETERAS Y TÚNELES'!#REF!,NA())","v":{"$error":"#REF!"}},{"$f":"IF('CARRETERAS Y TÚNELES'!#REF!=\"SI\",'OBLIGACIONES APLICABLES'!F37,NA())","v":{"$error":"#REF!"}},{"$f":"IF('CARRETERAS Y TÚNELES'!#REF!=\"SI\",'OBLIGACIONES APLICABLES'!G37,NA())","v":{"$error":"#REF!"}}]
[{"$f":"IF('CARRETERAS Y TÚNELES'!D86=\"SI\",'CARRETERAS Y TÚNELES'!B86,NA())","v":{"$error":"#N/A"}},{"$f":"IF('CARRETERAS Y TÚNELES'!D86=\"SI\",'CARRETERAS Y TÚNELES'!#REF!,NA())","v":{"$error":"#N/A"}},{"$f":"IF('CARRETERAS Y TÚNELES'!#REF!=\"SI\",'OBLIGACIONES APLICABLES'!#REF!,NA())","v":{"$error":"#REF!"}},{"$f":"IF('CARRETERAS Y TÚNELES'!#REF!=\"SI\",'OBLIGACIONES APLICABLES'!#REF!,NA())","v":{"$error":"#REF!"}}]
[{"$f":"IF('CARRETERAS Y TÚNELES'!D87=\"SI\",'CARRETERAS Y TÚNELES'!B87,NA())","v":{"$error":"#N/A"}},{"$f":"IF('CARRETERAS Y TÚNELES'!D87=\"SI\",'CARRETERAS Y TÚNELES'!#REF!,NA())","v":{"$error":"#N/A"}},{"$f":"IF('CARRETERAS Y TÚNELES'!#REF!=\"SI\",'OBLIGACIONES APLICABLES'!F38,NA())","v":{"$error":"#REF!"}},{"$f":"IF('CARRETERAS Y TÚNELES'!#REF!=\"SI\",'OBLIGACIONES APLICABLES'!G38,NA())","v":{"$error":"#REF!"}}]
[{"$f":"IF('CARRETERAS Y TÚNELES'!D88=\"SI\",'CARRETERAS Y TÚNELES'!B88,NA())","v":{"$error":"#N/A"}},{"$f":"IF('CARRETERAS Y TÚNELES'!D88=\"SI\",'CARRETERAS Y TÚNELES'!#REF!,NA())","v":{"$error":"#N/A"}},{"$f":"IF('CARRETERAS Y TÚNELES'!#REF!=\"SI\",'OBLIGACIONES APLICABLES'!F39,NA())","v":{"$error":"#REF!"}},{"$f":"IF('CARRETERAS Y TÚNELES'!#REF!=\"SI\",'OBLIGACIONES APLICABLES'!G39,NA())","v":{"$error":"#REF!"}}]
[{"$f":"IF('CARRETERAS Y TÚNELES'!#REF!=\"SI\",'CARRETERAS Y TÚNELES'!#REF!,NA())","v":{"$error":"#REF!"}},{"$f":"IF('CARRETERAS Y TÚNELES'!#REF!=\"SI\",'CARRETERAS Y TÚNELES'!#REF!,NA())","v":{"$error":"#REF!"}},{"$f":"IF('CARRETERAS Y TÚNELES'!#REF!=\"SI\",'OBLIGACIONES APLICABLES'!F40,NA())","v":{"$error":"#REF!"}},{"$f":"IF('CARRETERAS Y TÚNELES'!#REF!=\"SI\",'OBLIGACIONES APLICABLES'!G40,NA())","v":{"$error":"#REF!"}}]
[{"$f":"IF('CARRETERAS Y TÚNELES'!D89=\"SI\",'CARRETERAS Y TÚNELES'!B89,NA())","v":{"$error":"#N/A"}},{"$f":"IF('CARRETERAS Y TÚNELES'!D89=\"SI\",'CARRETERAS Y TÚNELES'!#REF!,NA())","v":{"$error":"#N/A"}},{"$f":"IF('CARRETERAS Y TÚNELES'!#REF!=\"SI\",'OBLIGACIONES APLICABLES'!#REF!,NA())","v":{"$error":"#REF!"}},{"$f":"IF('CARRETERAS Y TÚNELES'!#REF!=\"SI\",'OBLIGACIONES APLICABLES'!#REF!,NA())","v":{"$error":"#REF!"}}]
[{"$f":"IF('CARRETERAS Y TÚNELES'!#REF!=\"SI\",'CARRETERAS Y TÚNELES'!#REF!,NA())","v":{"$error":"#REF!"}},{"$f":"IF('CARRETERAS Y TÚNELES'!#REF!=\"SI\",'CARRETERAS Y TÚNELES'!#REF!,NA())","v":{"$error":"#REF!"}},{"$f":"IF('CARRETERAS Y TÚNELES'!#REF!=\"SI\",'OBLIGACIONES APLICABLES'!F41,NA())","v":{"$error":"#REF!"}},{"$f":"IF('CARRETERAS Y TÚNELES'!#REF!=\"SI\",'OBLIGACIONES APLICABLES'!G41,NA())","v":{"$error":"#REF!"}}]
[{"$f":"IF('CARRETERAS Y TÚNELES'!#REF!=\"SI\",'CARRETERAS Y TÚNELES'!#REF!,NA())","v":{"$error":"#REF!"}},{"$f":"IF('CARRETERAS Y TÚNELES'!#REF!=\"SI\",'CARRETERAS Y TÚNELES'!#REF!,NA())","v":{"$error":"#REF!"}},{"$f":"IF('CARRETERAS Y TÚNELES'!#REF!=\"SI\",'OBLIGACIONES APLICABLES'!F42,NA())","v":{"$error":"#REF!"}},{"$f":"IF('CARRETERAS Y TÚNELES'!#REF!=\"SI\",'OBLIGACIONES APLICABLES'!G42,NA())","v":{"$error":"#REF!"}}]
[{"$f":"IF('CARRETERAS Y TÚNELES'!#REF!=\"SI\",'CARRETERAS Y TÚNELES'!#REF!,NA())","v":{"$error":"#REF!"}},{"$f":"IF('CARRETERAS Y TÚNELES'!#REF!=\"SI\",'CARRETERAS Y TÚNELES'!#REF!,NA())","v":{"$error":"#REF!"}},{"$f":"IF('CARRETERAS Y TÚNELES'!#REF!=\"SI\",'OBLIGACIONES APLICABLES'!#REF!,NA())","v":{"$error":"#REF!"}},{"$f":"IF('CARRETERAS Y TÚNELES'!#REF!=\"SI\",'OBLIGACIONES APLICABLES'!#REF!,NA())","v":{"$error":"#REF!"}}]
[{"$f":"IF('CARRETERAS Y TÚNELES'!#REF!=\"SI\",'CARRETERAS Y TÚNELES'!#REF!,NA())","v":{"$error":"#REF!"}},{"$f":"IF('CARRETERAS Y TÚNELES'!#REF!=\"SI\",'CARRETERAS Y TÚNELES'!#REF!,NA())","v":{"$error":"#REF!"}},{"$f":"IF('CARRETERAS Y TÚNELES'!#REF!=\"SI\",'OBLIGACIONES APLICABLES'!#REF!,NA())","v":{"$error":"#REF!"}},{"$f":"IF('CARRETERAS Y TÚNELES'!#REF!=\"SI\",'OBLIGACIONES APLICABLES'!#REF!,NA())","v":{"$error":"#REF!"}}]
[{"$f":"IF('CARRETERAS Y TÚNELES'!#REF!=\"SI\",'CARRETERAS Y TÚNELES'!#REF!,NA())","v":{"$error":"#REF!"}},{"$f":"IF('CARRETERAS Y TÚNELES'!#REF!=\"SI\",'CARRETERAS Y TÚNELES'!#REF!,NA())","v":{"$error":"#REF!"}},{"$f":"IF('CARRETERAS Y TÚNELES'!#REF!=\"SI\",'OBLIGACIONES APLICABLES'!#REF!,NA())","v":{"$error":"#REF!"}},{"$f":"IF('CARRETERAS Y TÚNELES'!#REF!=\"SI\",'OBLIGACIONES APLICABLES'!#REF!,NA())","v":{"$error":"#REF!"}}]
[{"$f":"IF('CARRETERAS Y TÚNELES'!#REF!=\"SI\",'CARRETERAS Y TÚNELES'!#REF!,NA())","v":{"$error":"#REF!"}},{"$f":"IF('CARRETERAS Y TÚNELES'!#REF!=\"SI\",'CARRETERAS Y TÚNELES'!#REF!,NA())","v":{"$error":"#REF!"}},{"$f":"IF('CARRETERAS Y TÚNELES'!#REF!=\"SI\",'OBLIGACIONES APLICABLES'!#REF!,NA())","v":{"$error":"#REF!"}},{"$f":"IF('CARRETERAS Y TÚNELES'!#REF!=\"SI\",'OBLIGACIONES APLICABLES'!#REF!,NA())","v":{"$error":"#REF!"}}]
[{"$f":"IF('CARRETERAS Y TÚNELES'!#REF!=\"SI\",'CARRETERAS Y TÚNELES'!#REF!,NA())","v":{"$error":"#REF!"}},{"$f":"IF('CARRETERAS Y TÚNELES'!#REF!=\"SI\",'CARRETERAS Y TÚNELES'!#REF!,NA())","v":{"$error":"#REF!"}},{"$f":"IF('CARRETERAS Y TÚNELES'!#REF!=\"SI\",'OBLIGACIONES APLICABLES'!F59,NA())","v":{"$error":"#REF!"}},{"$f":"IF('CARRETERAS Y TÚNELES'!#REF!=\"SI\",'OBLIGACIONES APLICABLES'!G59,NA())","v":{"$error":"#REF!"}}]
[{"$f":"IF('CARRETERAS Y TÚNELES'!#REF!=\"SI\",'CARRETERAS Y TÚNELES'!#REF!,NA())","v":{"$error":"#REF!"}},{"$f":"IF('CARRETERAS Y TÚNELES'!#REF!=\"SI\",'CARRETERAS Y TÚNELES'!#REF!,NA())","v":{"$error":"#REF!"}},{"$f":"IF('CARRETERAS Y TÚNELES'!#REF!=\"SI\",'OBLIGACIONES APLICABLES'!F61,NA())","v":{"$error":"#REF!"}},{"$f":"IF('CARRETERAS Y TÚNELES'!#REF!=\"SI\",'OBLIGACIONES APLICABLES'!G61,NA())","v":{"$error":"#REF!"}}]
[{"$f":"IF('CARRETERAS Y TÚNELES'!#REF!=\"SI\",'CARRETERAS Y TÚNELES'!#REF!,NA())","v":{"$error":"#REF!"}},{"$f":"IF('CARRETERAS Y TÚNELES'!#REF!=\"SI\",'CARRETERAS Y TÚNELES'!#REF!,NA())","v":{"$error":"#REF!"}},{"$f":"IF('CARRETERAS Y TÚNELES'!#REF!=\"SI\",'OBLIGACIONES APLICABLES'!#REF!,NA())","v":{"$error":"#REF!"}},{"$f":"IF('CARRETERAS Y TÚNELES'!#REF!=\"SI\",'OBLIGACIONES APLICABLES'!#REF!,NA())","v":{"$error":"#REF!"}}]
[{"$f":"IF('CARRETERAS Y TÚNELES'!#REF!=\"SI\",'CARRETERAS Y TÚNELES'!#REF!,NA())","v":{"$error":"#REF!"}},{"$f":"IF('CARRETERAS Y TÚNELES'!#REF!=\"SI\",'CARRETERAS Y TÚNELES'!#REF!,NA())","v":{"$error":"#REF!"}},{"$f":"IF('CARRETERAS Y TÚNELES'!#REF!=\"SI\",'OBLIGACIONES APLICABLES'!F62,NA())","v":{"$error":"#REF!"}},{"$f":"IF('CARRETERAS Y TÚNELES'!#REF!=\"SI\",'OBLIGACIONES APLICABLES'!G62,NA())","v":{"$error":"#REF!"}}]
[{"$f":"IF('CARRETERAS Y TÚNELES'!#REF!=\"SI\",'CARRETERAS Y TÚNELES'!#REF!,NA())","v":{"$error":"#REF!"}},{"$f":"IF('CARRETERAS Y TÚNELES'!#REF!=\"SI\",'CARRETERAS Y TÚNELES'!#REF!,NA())","v":{"$error":"#REF!"}},{"$f":"IF('CARRETERAS Y TÚNELES'!#REF!=\"SI\",'OBLIGACIONES APLICABLES'!F63,NA())","v":{"$error":"#REF!"}},{"$f":"IF('CARRETERAS Y TÚNELES'!#REF!=\"SI\",'OBLIGACIONES APLICABLES'!G63,NA())","v":{"$error":"#REF!"}}]
[{"$f":"IF('CARRETERAS Y TÚNELES'!#REF!=\"SI\",'CARRETERAS Y TÚNELES'!#REF!,NA())","v":{"$error":"#REF!"}},{"$f":"IF('CARRETERAS Y TÚNELES'!#REF!=\"SI\",'CARRETERAS Y TÚNELES'!#REF!,NA())","v":{"$error":"#REF!"}},{"$f":"IF('CARRETERAS Y TÚNELES'!#REF!=\"SI\",'OBLIGACIONES APLICABLES'!F64,NA())","v":{"$error":"#REF!"}},{"$f":"IF('CARRETERAS Y TÚNELES'!#REF!=\"SI\",'OBLIGACIONES APLICABLES'!G64,NA())","v":{"$error":"#REF!"}}]
[{"$f":"IF('CARRETERAS Y TÚNELES'!#REF!=\"SI\",'CARRETERAS Y TÚNELES'!#REF!,NA())","v":{"$error":"#REF!"}},{"$f":"IF('CARRETERAS Y TÚNELES'!#REF!=\"SI\",'CARRETERAS Y TÚNELES'!#REF!,NA())","v":{"$error":"#REF!"}},{"$f":"IF('CARRETERAS Y TÚNELES'!#REF!=\"SI\",'OBLIGACIONES APLICABLES'!#REF!,NA())","v":{"$error":"#REF!"}},{"$f":"IF('CARRETERAS Y TÚNELES'!#REF!=\"SI\",'OBLIGACIONES APLICABLES'!#REF!,NA())","v":{"$error":"#REF!"}}]
[{"$f":"IF('CARRETERAS Y TÚNELES'!#REF!=\"SI\",'CARRETERAS Y TÚNELES'!#REF!,NA())","v":{"$error":"#REF!"}},{"$f":"IF('CARRETERAS Y TÚNELES'!#REF!=\"SI\",'CARRETERAS Y TÚNELES'!#REF!,NA())","v":{"$error":"#REF!"}},{"$f":"IF('CARRETERAS Y TÚNELES'!#REF!=\"SI\",'OBLIGACIONES APLICABLES'!#REF!,NA())","v":{"$error":"#REF!"}},{"$f":"IF('CARRETERAS Y TÚNELES'!#REF!=\"SI\",'OBLIGACIONES APLICABLES'!#REF!,NA())","v":{"$error":"#REF!"}}]
[{"$f":"IF('CARRETERAS Y TÚNELES'!#REF!=\"SI\",'CARRETERAS Y TÚNELES'!#REF!,NA())","v":{"$error":"#REF!"}},{"$f":"IF('CARRETERAS Y TÚNELES'!#REF!=\"SI\",'CARRETERAS Y TÚNELES'!#REF!,NA())","v":{"$error":"#REF!"}},{"$f":"IF('CARRETERAS Y TÚNELES'!#REF!=\"SI\",'OBLIGACIONES APLICABLES'!F65,NA())","v":{"$error":"#REF!"}},{"$f":"IF('CARRETERAS Y TÚNELES'!#REF!=\"SI\",'OBLIGACIONES APLICABLES'!G65,NA())","v":{"$error":"#REF!"}}]
[{"$f":"IF('CARRETERAS Y TÚNELES'!#REF!=\"SI\",'CARRETERAS Y TÚNELES'!#REF!,NA())","v":{"$error":"#REF!"}},{"$f":"IF('CARRETERAS Y TÚNELES'!#REF!=\"SI\",'CARRETERAS Y TÚNELES'!#REF!,NA())","v":{"$error":"#REF!"}},{"$f":"IF('CARRETERAS Y TÚNELES'!#REF!=\"SI\",'OBLIGACIONES APLICABLES'!F66,NA())","v":{"$error":"#REF!"}},{"$f":"IF('CARRETERAS Y TÚNELES'!#REF!=\"SI\",'OBLIGACIONES APLICABLES'!G66,NA())","v":{"$error":"#REF!"}}]
[{"$f":"IF('CARRETERAS Y TÚNELES'!#REF!=\"SI\",'CARRETERAS Y TÚNELES'!#REF!,NA())","v":{"$error":"#REF!"}},{"$f":"IF('CARRETERAS Y TÚNELES'!#REF!=\"SI\",'CARRETERAS Y TÚNELES'!#REF!,NA())","v":{"$error":"#REF!"}},{"$f":"IF('CARRETERAS Y TÚNELES'!#REF!=\"SI\",'OBLIGACIONES APLICABLES'!F67,NA())","v":{"$error":"#REF!"}},{"$f":"IF('CARRETERAS Y TÚNELES'!#REF!=\"SI\",'OBLIGACIONES APLICABLES'!G67,NA())","v":{"$error":"#REF!"}}]
[{"$f":"IF('CARRETERAS Y TÚNELES'!#REF!=\"SI\",'CARRETERAS Y TÚNELES'!#REF!,NA())","v":{"$error":"#REF!"}},{"$f":"IF('CARRETERAS Y TÚNELES'!#REF!=\"SI\",'CARRETERAS Y TÚNELES'!#REF!,NA())","v":{"$error":"#REF!"}},{"$f":"IF('CARRETERAS Y TÚNELES'!#REF!=\"SI\",'OBLIGACIONES APLICABLES'!#REF!,NA())","v":{"$error":"#REF!"}},{"$f":"IF('CARRETERAS Y TÚNELES'!#REF!=\"SI\",'OBLIGACIONES APLICABLES'!#REF!,NA())","v":{"$error":"#REF!"}}]
[{"$f":"IF('CARRETERAS Y TÚNELES'!#REF!=\"SI\",'CARRETERAS Y TÚNELES'!#REF!,NA())","v":{"$error":"#REF!"}},{"$f":"IF('CARRETERAS Y TÚNELES'!#REF!=\"SI\",'CARRETERAS Y TÚNELES'!#REF!,NA())","v":{"$error":"#REF!"}},{"$f":"IF('CARRETERAS Y TÚNELES'!#REF!=\"SI\",'OBLIGACIONES APLICABLES'!#REF!,NA())","v":{"$error":"#REF!"}},{"$f":"IF('CARRETERAS Y TÚNELES'!#REF!=\"SI\",'OBLIGACIONES APLICABLES'!#REF!,NA())","v":{"$error":"#REF!"}}]
[{"$f":"IF('CARRETERAS Y TÚNELES'!#REF!=\"SI\",'CARRETERAS Y TÚNELES'!#REF!,NA())","v":{"$error":"#REF!"}},{"$f":"IF('CARRETERAS Y TÚNELES'!#REF!=\"SI\",'CARRETERAS Y TÚNELES'!#REF!,NA())","v":{"$error":"#REF!"}},{"$f":"IF('CARRETERAS Y TÚNELES'!#REF!=\"SI\",'OBLIGACIONES APLICABLES'!#REF!,NA())","v":{"$error":"#REF!"}},{"$f":"IF('CARRETERAS Y TÚNELES'!#REF!=\"SI\",'OBLIGACIONES APLICABLES'!#REF!,NA())","v":{"$error":"#REF!"}}]
[{"$f":"IF('CARRETERAS Y TÚNELES'!#REF!=\"SI\",'CARRETERAS Y TÚNELES'!#REF!,NA())","v":{"$error":"#REF!"}},{"$f":"IF('CARRETERAS Y TÚNELES'!#REF!=\"SI\",'CARRETERAS Y TÚNELES'!#REF!,NA())","v":{"$error":"#REF!"}},{"$f":"IF('CARRETERAS Y TÚNELES'!#REF!=\"SI\",'OBLIGACIONES APLICABLES'!#REF!,NA())","v":{"$error":"#REF!"}},{"$f":"IF('CARRETERAS Y TÚNELES'!#REF!=\"SI\",'OBLIGACIONES APLICABLES'!#REF!,NA())","v":{"$error":"#REF!"}}]
[{"$f":"IF('CARRETERAS Y TÚNELES'!#REF!=\"SI\",'CARRETERAS Y TÚNELES'!#REF!,NA())","v":{"$error":"#REF!"}},{"$f":"IF('CARRETERAS Y TÚNELES'!#REF!=\"SI\",'CARRETERAS Y TÚNELES'!#REF!,NA())","v":{"$error":"#REF!"}},{"$f":"IF('CARRETERAS Y TÚNELES'!#REF!=\"SI\",'OBLIGACIONES APLICABLES'!F68,NA())","v":{"$error":"#REF!"}},{"$f":"IF('CARRETERAS Y TÚNELES'!#REF!=\"SI\",'OBLIGACIONES APLICABLES'!G68,NA())","v":{"$error":"#REF!"}}]
[{"$f":"IF('CARRETERAS Y TÚNELES'!#REF!=\"SI\",'CARRETERAS Y TÚNELES'!#REF!,NA())","v":{"$error":"#REF!"}},{"$f":"IF('CARRETERAS Y TÚNELES'!#REF!=\"SI\",'CARRETERAS Y TÚNELES'!#REF!,NA())","v":{"$error":"#REF!"}},{"$f":"IF('CARRETERAS Y TÚNELES'!#REF!=\"SI\",'OBLIGACIONES APLICABLES'!F69,NA())","v":{"$error":"#REF!"}},{"$f":"IF('CARRETERAS Y TÚNELES'!#REF!=\"SI\",'OBLIGACIONES APLICABLES'!G69,NA())","v":{"$error":"#REF!"}}]
[{"$f":"IF('CARRETERAS Y TÚNELES'!#REF!=\"SI\",'CARRETERAS Y TÚNELES'!#REF!,NA())","v":{"$error":"#REF!"}},{"$f":"IF('CARRETERAS Y TÚNELES'!#REF!=\"SI\",'CARRETERAS Y TÚNELES'!#REF!,NA())","v":{"$error":"#REF!"}},{"$f":"IF('CARRETERAS Y TÚNELES'!#REF!=\"SI\",'OBLIGACIONES APLICABLES'!#REF!,NA())","v":{"$error":"#REF!"}},{"$f":"IF('CARRETERAS Y TÚNELES'!#REF!=\"SI\",'OBLIGACIONES APLICABLES'!#REF!,NA())","v":{"$error":"#REF!"}}]
[{"$f":"IF('CARRETERAS Y TÚNELES'!#REF!=\"SI\",'CARRETERAS Y TÚNELES'!#REF!,NA())","v":{"$error":"#REF!"}},{"$f":"IF('CARRETERAS Y TÚNELES'!#REF!=\"SI\",'CARRETERAS Y TÚNELES'!#REF!,NA())","v":{"$error":"#REF!"}},{"$f":"IF('CARRETERAS Y TÚNELES'!#REF!=\"SI\",'OBLIGACIONES APLICABLES'!F70,NA())","v":{"$error":"#REF!"}},{"$f":"IF('CARRETERAS Y TÚNELES'!#REF!=\"SI\",'OBLIGACIONES APLICABLES'!G70,NA())","v":{"$error":"#REF!"}}]
[{"$f":"IF('CARRETERAS Y TÚNELES'!#REF!=\"SI\",'CARRETERAS Y TÚNELES'!#REF!,NA())","v":{"$error":"#REF!"}},{"$f":"IF('CARRETERAS Y TÚNELES'!#REF!=\"SI\",'CARRETERAS Y TÚNELES'!#REF!,NA())","v":{"$error":"#REF!"}},{"$f":"IF('CARRETERAS Y TÚNELES'!#REF!=\"SI\",'OBLIGACIONES APLICABLES'!#REF!,NA())","v":{"$error":"#REF!"}},{"$f":"IF('CARRETERAS Y TÚNELES'!#REF!=\"SI\",'OBLIGACIONES APLICABLES'!#REF!,NA())","v":{"$error":"#REF!"}}]
[{"$f":"IF('CARRETERAS Y TÚNELES'!#REF!=\"SI\",'CARRETERAS Y TÚNELES'!#REF!,NA())","v":{"$error":"#REF!"}},{"$f":"IF('CARRETERAS Y TÚNELES'!#REF!=\"SI\",'CARRETERAS Y TÚNELES'!#REF!,NA())","v":{"$error":"#REF!"}},{"$f":"IF('CARRETERAS Y TÚNELES'!#REF!=\"SI\",'OBLIGACIONES APLICABLES'!#REF!,NA())","v":{"$error":"#REF!"}},{"$f":"IF('CARRETERAS Y TÚNELES'!#REF!=\"SI\",'OBLIGACIONES APLICABLES'!#REF!,NA())","v":{"$error":"#REF!"}}]
[{"$f":"IF('CARRETERAS Y TÚNELES'!#REF!=\"SI\",'CARRETERAS Y TÚNELES'!#REF!,NA())","v":{"$error":"#REF!"}},{"$f":"IF('CARRETERAS Y TÚNELES'!#REF!=\"SI\",'CARRETERAS Y TÚNELES'!#REF!,NA())","v":{"$error":"#REF!"}},{"$f":"IF('CARRETERAS Y TÚNELES'!#REF!=\"SI\",'OBLIGACIONES APLICABLES'!F71,NA())","v":{"$error":"#REF!"}},{"$f":"IF('CARRETERAS Y TÚNELES'!#REF!=\"SI\",'OBLIGACIONES APLICABLES'!G71,NA())","v":{"$error":"#REF!"}}]
[{"$f":"IF('CARRETERAS Y TÚNELES'!#REF!=\"SI\",'CARRETERAS Y TÚNELES'!#REF!,NA())","v":{"$error":"#REF!"}},{"$f":"IF('CARRETERAS Y TÚNELES'!#REF!=\"SI\",'CARRETERAS Y TÚNELES'!#REF!,NA())","v":{"$error":"#REF!"}},{"$f":"IF('CARRETERAS Y TÚNELES'!#REF!=\"SI\",'OBLIGACIONES APLICABLES'!#REF!,NA())","v":{"$error":"#REF!"}},{"$f":"IF('CARRETERAS Y TÚNELES'!#REF!=\"SI\",'OBLIGACIONES APLICABLES'!#REF!,NA())","v":{"$error":"#REF!"}}]
[{"$f":"IF('CARRETERAS Y TÚNELES'!#REF!=\"SI\",'CARRETERAS Y TÚNELES'!#REF!,NA())","v":{"$error":"#REF!"}},{"$f":"IF('CARRETERAS Y TÚNELES'!#REF!=\"SI\",'CARRETERAS Y TÚNELES'!#REF!,NA())","v":{"$error":"#REF!"}},{"$f":"IF('CARRETERAS Y TÚNELES'!#REF!=\"SI\",'OBLIGACIONES APLICABLES'!#REF!,NA())","v":{"$error":"#REF!"}},{"$f":"IF('CARRETERAS Y TÚNELES'!#REF!=\"SI\",'OBLIGACIONES APLICABLES'!#REF!,NA())","v":{"$error":"#REF!"}}]
[{"$f":"IF('CARRETERAS Y TÚNELES'!#REF!=\"SI\",'CARRETERAS Y TÚNELES'!#REF!,NA())","v":{"$error":"#REF!"}},{"$f":"IF('CARRETERAS Y TÚNELES'!#REF!=\"SI\",'CARRETERAS Y TÚNELES'!#REF!,NA())","v":{"$error":"#REF!"}},{"$f":"IF('CARRETERAS Y TÚNELES'!#REF!=\"SI\",'OBLIGACIONES APLICABLES'!#REF!,NA())","v":{"$error":"#REF!"}},{"$f":"IF('CARRETERAS Y TÚNELES'!#REF!=\"SI\",'OBLIGACIONES APLICABLES'!#REF!,NA())","v":{"$error":"#REF!"}}]
[{"$f":"IF('CARRETERAS Y TÚNELES'!#REF!=\"SI\",'CARRETERAS Y TÚNELES'!#REF!,NA())","v":{"$error":"#REF!"}},{"$f":"IF('CARRETERAS Y TÚNELES'!#REF!=\"SI\",'CARRETERAS Y TÚNELES'!#REF!,NA())","v":{"$error":"#REF!"}},{"$f":"IF('CARRETERAS Y TÚNELES'!#REF!=\"SI\",'OBLIGACIONES APLICABLES'!#REF!,NA())","v":{"$error":"#REF!"}},{"$f":"IF('CARRETERAS Y TÚNELES'!#REF!=\"SI\",'OBLIGACIONES APLICABLES'!#REF!,NA())","v":{"$error":"#REF!"}}]
[{"$f":"IF('CARRETERAS Y TÚNELES'!#REF!=\"SI\",'CARRETERAS Y TÚNELES'!#REF!,NA())","v":{"$error":"#REF!"}},{"$f":"IF('CARRETERAS Y TÚNELES'!#REF!=\"SI\",'CARRETERAS Y TÚNELES'!#REF!,NA())","v":{"$error":"#REF!"}},{"$f":"IF('CARRETERAS Y TÚNELES'!#REF!=\"SI\",'OBLIGACIONES APLICABLES'!#REF!,NA())","v":{"$error":"#REF!"}},{"$f":"IF('CARRETERAS Y TÚNELES'!#REF!=\"SI\",'OBLIGACIONES APLICABLES'!#REF!,NA())","v":{"$error":"#REF!"}}]
[{"$f":"IF('CARRETERAS Y TÚNELES'!#REF!=\"SI\",'CARRETERAS Y TÚNELES'!#REF!,NA())","v":{"$error":"#REF!"}},{"$f":"IF('CARRETERAS Y TÚNELES'!#REF!=\"SI\",'CARRETERAS Y TÚNELES'!#REF!,NA())","v":{"$error":"#REF!"}},{"$f":"IF('CARRETERAS Y TÚNELES'!#REF!=\"SI\",'OBLIGACIONES APLICABLES'!F73,NA())","v":{"$error":"#REF!"}},{"$f":"IF('CARRETERAS Y TÚNELES'!#REF!=\"SI\",'OBLIGACIONES APLICABLES'!G73,NA())","v":{"$error":"#REF!"}}]
[{"$f":"IF('CARRETERAS Y TÚNELES'!#REF!=\"SI\",'CARRETERAS Y TÚNELES'!#REF!,NA())","v":{"$error":"#REF!"}},{"$f":"IF('CARRETERAS Y TÚNELES'!#REF!=\"SI\",'CARRETERAS Y TÚNELES'!#REF!,NA())","v":{"$error":"#REF!"}},{"$f":"IF('CARRETERAS Y TÚNELES'!#REF!=\"SI\",'OBLIGACIONES APLICABLES'!#REF!,NA())","v":{"$error":"#REF!"}},{"$f":"IF('CARRETERAS Y TÚNELES'!#REF!=\"SI\",'OBLIGACIONES APLICABLES'!#REF!,NA())","v":{"$error":"#REF!"}}]
[{"$f":"IF('CARRETERAS Y TÚNELES'!#REF!=\"SI\",'CARRETERAS Y TÚNELES'!#REF!,NA())","v":{"$error":"#REF!"}},{"$f":"IF('CARRETERAS Y TÚNELES'!#REF!=\"SI\",'CARRETERAS Y TÚNELES'!#REF!,NA())","v":{"$error":"#REF!"}},{"$f":"IF('CARRETERAS Y TÚNELES'!#REF!=\"SI\",'OBLIGACIONES APLICABLES'!#REF!,NA())","v":{"$error":"#REF!"}},{"$f":"IF('CARRETERAS Y TÚNELES'!#REF!=\"SI\",'OBLIGACIONES APLICABLES'!#REF!,NA())","v":{"$error":"#REF!"}}]
[{"$f":"IF('CARRETERAS Y TÚNELES'!#REF!=\"SI\",'CARRETERAS Y TÚNELES'!#REF!,NA())","v":{"$error":"#REF!"}},{"$f":"IF('CARRETERAS Y TÚNELES'!#REF!=\"SI\",'CARRETERAS Y TÚNELES'!#REF!,NA())","v":{"$error":"#REF!"}},{"$f":"IF('CARRETERAS Y TÚNELES'!#REF!=\"SI\",'OBLIGACIONES APLICABLES'!#REF!,NA())","v":{"$error":"#REF!"}},{"$f":"IF('CARRETERAS Y TÚNELES'!#REF!=\"SI\",'OBLIGACIONES APLICABLES'!#REF!,NA())","v":{"$error":"#REF!"}}]
[{"$f":"IF('CARRETERAS Y TÚNELES'!#REF!=\"SI\",'CARRETERAS Y TÚNELES'!#REF!,NA())","v":{"$error":"#REF!"}},{"$f":"IF('CARRETERAS Y TÚNELES'!#REF!=\"SI\",'CARRETERAS Y TÚNELES'!#REF!,NA())","v":{"$error":"#REF!"}},{"$f":"IF('CARRETERAS Y TÚNELES'!#REF!=\"SI\",'OBLIGACIONES APLICABLES'!#REF!,NA())","v":{"$error":"#REF!"}},{"$f":"IF('CARRETERAS Y TÚNELES'!#REF!=\"SI\",'OBLIGACIONES APLICABLES'!#REF!,NA())","v":{"$error":"#REF!"}}]
[{"$f":"IF('CARRETERAS Y TÚNELES'!#REF!=\"SI\",'CARRETERAS Y TÚNELES'!#REF!,NA())","v":{"$error":"#REF!"}},{"$f":"IF('CARRETERAS Y TÚNELES'!#REF!=\"SI\",'CARRETERAS Y TÚNELES'!#REF!,NA())","v":{"$error":"#REF!"}},{"$f":"IF('CARRETERAS Y TÚNELES'!#REF!=\"SI\",'OBLIGACIONES APLICABLES'!#REF!,NA())","v":{"$error":"#REF!"}},{"$f":"IF('CARRETERAS Y TÚNELES'!#REF!=\"SI\",'OBLIGACIONES APLICABLES'!#REF!,NA())","v":{"$error":"#REF!"}}]
[{"$f":"IF('CARRETERAS Y TÚNELES'!#REF!=\"SI\",'CARRETERAS Y TÚNELES'!#REF!,NA())","v":{"$error":"#REF!"}},{"$f":"IF('CARRETERAS Y TÚNELES'!#REF!=\"SI\",'CARRETERAS Y TÚNELES'!#REF!,NA())","v":{"$error":"#REF!"}},{"$f":"IF('CARRETERAS Y TÚNELES'!#REF!=\"SI\",'OBLIGACIONES APLICABLES'!#REF!,NA())","v":{"$error":"#REF!"}},{"$f":"IF('CARRETERAS Y TÚNELES'!#REF!=\"SI\",'OBLIGACIONES APLICABLES'!#REF!,NA())","v":{"$error":"#REF!"}}]
[{"$f":"IF('CARRETERAS Y TÚNELES'!#REF!=\"SI\",'CARRETERAS Y TÚNELES'!#REF!,NA())","v":{"$error":"#REF!"}},{"$f":"IF('CARRETERAS Y TÚNELES'!#REF!=\"SI\",'CARRETERAS Y TÚNELES'!#REF!,NA())","v":{"$error":"#REF!"}},{"$f":"IF('CARRETERAS Y TÚNELES'!#REF!=\"SI\",'OBLIGACIONES APLICABLES'!#REF!,NA())","v":{"$error":"#REF!"}},{"$f":"IF('CARRETERAS Y TÚNELES'!#REF!=\"SI\",'OBLIGACIONES APLICABLES'!#REF!,NA())","v":{"$error":"#REF!"}}]
[{"$f":"IF('CARRETERAS Y TÚNELES'!#REF!=\"SI\",'CARRETERAS Y TÚNELES'!#REF!,NA())","v":{"$error":"#REF!"}},{"$f":"IF('CARRETERAS Y TÚNELES'!#REF!=\"SI\",'CARRETERAS Y TÚNELES'!#REF!,NA())","v":{"$error":"#REF!"}},{"$f":"IF('CARRETERAS Y TÚNELES'!#REF!=\"SI\",'OBLIGACIONES APLICABLES'!F81,NA())","v":{"$error":"#REF!"}},{"$f":"IF('CARRETERAS Y TÚNELES'!#REF!=\"SI\",'OBLIGACIONES APLICABLES'!G81,NA())","v":{"$error":"#REF!"}}]
[{"$f":"IF('CARRETERAS Y TÚNELES'!#REF!=\"SI\",'CARRETERAS Y TÚNELES'!#REF!,NA())","v":{"$error":"#REF!"}},{"$f":"IF('CARRETERAS Y TÚNELES'!#REF!=\"SI\",'CARRETERAS Y TÚNELES'!#REF!,NA())","v":{"$error":"#REF!"}},{"$f":"IF('CARRETERAS Y TÚNELES'!#REF!=\"SI\",'OBLIGACIONES APLICABLES'!F82,NA())","v":{"$error":"#REF!"}},{"$f":"IF('CARRETERAS Y TÚNELES'!#REF!=\"SI\",'OBLIGACIONES APLICABLES'!G82,NA())","v":{"$error":"#REF!"}}]
[{"$f":"IF('CARRETERAS Y TÚNELES'!#REF!=\"SI\",'CARRETERAS Y TÚNELES'!#REF!,NA())","v":{"$error":"#REF!"}},{"$f":"IF('CARRETERAS Y TÚNELES'!#REF!=\"SI\",'CARRETERAS Y TÚNELES'!#REF!,NA())","v":{"$error":"#REF!"}},{"$f":"IF('CARRETERAS Y TÚNELES'!#REF!=\"SI\",'OBLIGACIONES APLICABLES'!#REF!,NA())","v":{"$error":"#REF!"}},{"$f":"IF('CARRETERAS Y TÚNELES'!#REF!=\"SI\",'OBLIGACIONES APLICABLES'!#REF!,NA())","v":{"$error":"#REF!"}}]
[{"$f":"IF('CARRETERAS Y TÚNELES'!#REF!=\"SI\",'CARRETERAS Y TÚNELES'!#REF!,NA())","v":{"$error":"#REF!"}},{"$f":"IF('CARRETERAS Y TÚNELES'!#REF!=\"SI\",'CARRETERAS Y TÚNELES'!#REF!,NA())","v":{"$error":"#REF!"}},{"$f":"IF('CARRETERAS Y TÚNELES'!#REF!=\"SI\",'OBLIGACIONES APLICABLES'!F88,NA())","v":{"$error":"#REF!"}},{"$f":"IF('CARRETERAS Y TÚNELES'!#REF!=\"SI\",'OBLIGACIONES APLICABLES'!G88,NA())","v":{"$error":"#REF!"}}]
[{"$f":"IF('CARRETERAS Y TÚNELES'!#REF!=\"SI\",'CARRETERAS Y TÚNELES'!#REF!,NA())","v":{"$error":"#REF!"}},{"$f":"IF('CARRETERAS Y TÚNELES'!#REF!=\"SI\",'CARRETERAS Y TÚNELES'!#REF!,NA())","v":{"$error":"#REF!"}},{"$f":"IF('CARRETERAS Y TÚNELES'!#REF!=\"SI\",'OBLIGACIONES APLICABLES'!F89,NA())","v":{"$error":"#REF!"}},{"$f":"IF('CARRETERAS Y TÚNELES'!#REF!=\"SI\",'OBLIGACIONES APLICABLES'!G89,NA())","v":{"$error":"#REF!"}}]
[{"$f":"IF('CARRETERAS Y TÚNELES'!#REF!=\"SI\",'CARRETERAS Y TÚNELES'!#REF!,NA())","v":{"$error":"#REF!"}},{"$f":"IF('CARRETERAS Y TÚNELES'!#REF!=\"SI\",'CARRETERAS Y TÚNELES'!#REF!,NA())","v":{"$error":"#REF!"}},{"$f":"IF('CARRETERAS Y TÚNELES'!#REF!=\"SI\",'OBLIGACIONES APLICABLES'!F90,NA())","v":{"$error":"#REF!"}},{"$f":"IF('CARRETERAS Y TÚNELES'!#REF!=\"SI\",'OBLIGACIONES APLICABLES'!G90,NA())","v":{"$error":"#REF!"}}]
[{"$f":"IF('CARRETERAS Y TÚNELES'!#REF!=\"SI\",'CARRETERAS Y TÚNELES'!#REF!,NA())","v":{"$error":"#REF!"}},{"$f":"IF('CARRETERAS Y TÚNELES'!#REF!=\"SI\",'CARRETERAS Y TÚNELES'!#REF!,NA())","v":{"$error":"#REF!"}},{"$f":"IF('CARRETERAS Y TÚNELES'!#REF!=\"SI\",'OBLIGACIONES APLICABLES'!F91,NA())","v":{"$error":"#REF!"}},{"$f":"IF('CARRETERAS Y TÚNELES'!#REF!=\"SI\",'OBLIGACIONES APLICABLES'!G91,NA())","v":{"$error":"#REF!"}}]
[{"$f":"IF('CARRETERAS Y TÚNELES'!#REF!=\"SI\",'CARRETERAS Y TÚNELES'!#REF!,NA())","v":{"$error":"#REF!"}},{"$f":"IF('CARRETERAS Y TÚNELES'!#REF!=\"SI\",'CARRETERAS Y TÚNELES'!#REF!,NA())","v":{"$error":"#REF!"}},{"$f":"IF('CARRETERAS Y TÚNELES'!#REF!=\"SI\",'OBLIGACIONES APLICABLES'!F94,NA())","v":{"$error":"#REF!"}},{"$f":"IF('CARRETERAS Y TÚNELES'!#REF!=\"SI\",'OBLIGACIONES APLICABLES'!G94,NA())","v":{"$error":"#REF!"}}]
[{"$f":"IF('CARRETERAS Y TÚNELES'!#REF!=\"SI\",'CARRETERAS Y TÚNELES'!#REF!,NA())","v":{"$error":"#REF!"}},{"$f":"IF('CARRETERAS Y TÚNELES'!#REF!=\"SI\",'CARRETERAS Y TÚNELES'!#REF!,NA())","v":{"$error":"#REF!"}},{"$f":"IF('CARRETERAS Y TÚNELES'!#REF!=\"SI\",'OBLIGACIONES APLICABLES'!F95,NA())","v":{"$error":"#REF!"}},{"$f":"IF('CARRETERAS Y TÚNELES'!#REF!=\"SI\",'OBLIGACIONES APLICABLES'!G95,NA())","v":{"$error":"#REF!"}}]
[{"$f":"IF('CARRETERAS Y TÚNELES'!#REF!=\"SI\",'CARRETERAS Y TÚNELES'!#REF!,NA())","v":{"$error":"#REF!"}},{"$f":"IF('CARRETERAS Y TÚNELES'!#REF!=\"SI\",'CARRETERAS Y TÚNELES'!#REF!,NA())","v":{"$error":"#REF!"}},{"$f":"IF('CARRETERAS Y TÚNELES'!#REF!=\"SI\",'OBLIGACIONES APLICABLES'!F101,NA())","v":{"$error":"#REF!"}},{"$f":"IF('CARRETERAS Y TÚNELES'!#REF!=\"SI\",'OBLIGACIONES APLICABLES'!G101,NA())","v":{"$error":"#REF!"}}]
[{"$f":"IF('CARRETERAS Y TÚNELES'!#REF!=\"SI\",'CARRETERAS Y TÚNELES'!#REF!,NA())","v":{"$error":"#REF!"}},{"$f":"IF('CARRETERAS Y TÚNELES'!#REF!=\"SI\",'CARRETERAS Y TÚNELES'!#REF!,NA())","v":{"$error":"#REF!"}},{"$f":"IF('CARRETERAS Y TÚNELES'!#REF!=\"SI\",'OBLIGACIONES APLICABLES'!#REF!,NA())","v":{"$error":"#REF!"}},{"$f":"IF('CARRETERAS Y TÚNELES'!#REF!=\"SI\",'OBLIGACIONES APLICABLES'!#REF!,NA())","v":{"$error":"#REF!"}}]
[{"$f":"IF('CARRETERAS Y TÚNELES'!#REF!=\"SI\",'CARRETERAS Y TÚNELES'!#REF!,NA())","v":{"$error":"#REF!"}},{"$f":"IF('CARRETERAS Y TÚNELES'!#REF!=\"SI\",'CARRETERAS Y TÚNELES'!#REF!,NA())","v":{"$error":"#REF!"}},{"$f":"IF('CARRETERAS Y TÚNELES'!#REF!=\"SI\",'OBLIGACIONES APLICABLES'!#REF!,NA())","v":{"$error":"#REF!"}},{"$f":"IF('CARRETERAS Y TÚNELES'!#REF!=\"SI\",'OBLIGACIONES APLICABLES'!#REF!,NA())","v":{"$error":"#REF!"}}]
[{"$f":"IF('CARRETERAS Y TÚNELES'!#REF!=\"SI\",'CARRETERAS Y TÚNELES'!#REF!,NA())","v":{"$error":"#REF!"}},{"$f":"IF('CARRETERAS Y TÚNELES'!#REF!=\"SI\",'CARRETERAS Y TÚNELES'!#REF!,NA())","v":{"$error":"#REF!"}},{"$f":"IF('CARRETERAS Y TÚNELES'!#REF!=\"SI\",'OBLIGACIONES APLICABLES'!F102,NA())","v":{"$error":"#REF!"}},{"$f":"IF('CARRETERAS Y TÚNELES'!#REF!=\"SI\",'OBLIGACIONES APLICABLES'!G102,NA())","v":{"$error":"#REF!"}}]
[{"$f":"IF('CARRETERAS Y TÚNELES'!#REF!=\"SI\",'CARRETERAS Y TÚNELES'!#REF!,NA())","v":{"$error":"#REF!"}},{"$f":"IF('CARRETERAS Y TÚNELES'!#REF!=\"SI\",'CARRETERAS Y TÚNELES'!#REF!,NA())","v":{"$error":"#REF!"}},{"$f":"IF('CARRETERAS Y TÚNELES'!#REF!=\"SI\",'OBLIGACIONES APLICABLES'!F103,NA())","v":{"$error":"#REF!"}},{"$f":"IF('CARRETERAS Y TÚNELES'!#REF!=\"SI\",'OBLIGACIONES APLICABLES'!G103,NA())","v":{"$error":"#REF!"}}]
[{"$f":"IF('CARRETERAS Y TÚNELES'!#REF!=\"SI\",'CARRETERAS Y TÚNELES'!#REF!,NA())","v":{"$error":"#REF!"}},{"$f":"IF('CARRETERAS Y TÚNELES'!#REF!=\"SI\",'CARRETERAS Y TÚNELES'!#REF!,NA())","v":{"$error":"#REF!"}},{"$f":"IF('CARRETERAS Y TÚNELES'!#REF!=\"SI\",'OBLIGACIONES APLICABLES'!#REF!,NA())","v":{"$error":"#REF!"}},{"$f":"IF('CARRETERAS Y TÚNELES'!#REF!=\"SI\",'OBLIGACIONES APLICABLES'!#REF!,NA())","v":{"$error":"#REF!"}}]
[{"$f":"IF('CARRETERAS Y TÚNELES'!#REF!=\"SI\",'CARRETERAS Y TÚNELES'!#REF!,NA())","v":{"$error":"#REF!"}},{"$f":"IF('CARRETERAS Y TÚNELES'!#REF!=\"SI\",'CARRETERAS Y TÚNELES'!#REF!,NA())","v":{"$error":"#REF!"}},{"$f":"IF('CARRETERAS Y TÚNELES'!#REF!=\"SI\",'OBLIGACIONES APLICABLES'!F104,NA())","v":{"$error":"#REF!"}},{"$f":"IF('CARRETERAS Y TÚNELES'!#REF!=\"SI\",'OBLIGACIONES APLICABLES'!G104,NA())","v":{"$error":"#REF!"}}]
[{"$f":"IF('CARRETERAS Y TÚNELES'!#REF!=\"SI\",'CARRETERAS Y TÚNELES'!#REF!,NA())","v":{"$error":"#REF!"}},{"$f":"IF('CARRETERAS Y TÚNELES'!#REF!=\"SI\",'CARRETERAS Y TÚNELES'!#REF!,NA())","v":{"$error":"#REF!"}},{"$f":"IF('CARRETERAS Y TÚNELES'!#REF!=\"SI\",'OBLIGACIONES APLICABLES'!F105,NA())","v":{"$error":"#REF!"}},{"$f":"IF('CARRETERAS Y TÚNELES'!#REF!=\"SI\",'OBLIGACIONES APLICABLES'!G105,NA())","v":{"$error":"#REF!"}}]
[{"$f":"IF('CARRETERAS Y TÚNELES'!#REF!=\"SI\",'CARRETERAS Y TÚNELES'!#REF!,NA())","v":{"$error":"#REF!"}},{"$f":"IF('CARRETERAS Y TÚNELES'!#REF!=\"SI\",'CARRETERAS Y TÚNELES'!#REF!,NA())","v":{"$error":"#REF!"}},{"$f":"IF('CARRETERAS Y TÚNELES'!#REF!=\"SI\",'OBLIGACIONES APLICABLES'!F108,NA())","v":{"$error":"#REF!"}},{"$f":"IF('CARRETERAS Y TÚNELES'!#REF!=\"SI\",'OBLIGACIONES APLICABLES'!G108,NA())","v":{"$error":"#REF!"}}]
[{"$f":"IF('CARRETERAS Y TÚNELES'!#REF!=\"SI\",'CARRETERAS Y TÚNELES'!#REF!,NA())","v":{"$error":"#REF!"}},{"$f":"IF('CARRETERAS Y TÚNELES'!#REF!=\"SI\",'CARRETERAS Y TÚNELES'!#REF!,NA())","v":{"$error":"#REF!"}},{"$f":"IF('CARRETERAS Y TÚNELES'!#REF!=\"SI\",'OBLIGACIONES APLICABLES'!F109,NA())","v":{"$error":"#REF!"}},{"$f":"IF('CARRETERAS Y TÚNELES'!#REF!=\"SI\",'OBLIGACIONES APLICABLES'!G109,NA())","v":{"$error":"#REF!"}}]
[{"$f":"IF('CARRETERAS Y TÚNELES'!#REF!=\"SI\",'CARRETERAS Y TÚNELES'!#REF!,NA())","v":{"$error":"#REF!"}},{"$f":"IF('CARRETERAS Y TÚNELES'!#REF!=\"SI\",'CARRETERAS Y TÚNELES'!#REF!,NA())","v":{"$error":"#REF!"}},{"$f":"IF('CARRETERAS Y TÚNELES'!#REF!=\"SI\",'OBLIGACIONES APLICABLES'!F110,NA())","v":{"$error":"#REF!"}},{"$f":"IF('CARRETERAS Y TÚNELES'!#REF!=\"SI\",'OBLIGACIONES APLICABLES'!G110,NA())","v":{"$error":"#REF!"}}]
[{"$f":"IF('CARRETERAS Y TÚNELES'!#REF!=\"SI\",'CARRETERAS Y TÚNELES'!#REF!,NA())","v":{"$error":"#REF!"}},{"$f":"IF('CARRETERAS Y TÚNELES'!#REF!=\"SI\",'CARRETERAS Y TÚNELES'!#REF!,NA())","v":{"$error":"#REF!"}},{"$f":"IF('CARRETERAS Y TÚNELES'!#REF!=\"SI\",'OBLIGACIONES APLICABLES'!F111,NA())","v":{"$error":"#REF!"}},{"$f":"IF('CARRETERAS Y TÚNELES'!#REF!=\"SI\",'OBLIGACIONES APLICABLES'!G111,NA())","v":{"$error":"#REF!"}}]
[{"$f":"IF('CARRETERAS Y TÚNELES'!#REF!=\"SI\",'CARRETERAS Y TÚNELES'!#REF!,NA())","v":{"$error":"#REF!"}},{"$f":"IF('CARRETERAS Y TÚNELES'!#REF!=\"SI\",'CARRETERAS Y TÚNELES'!#REF!,NA())","v":{"$error":"#REF!"}},{"$f":"IF('CARRETERAS Y TÚNELES'!#REF!=\"SI\",'OBLIGACIONES APLICABLES'!F112,NA())","v":{"$error":"#REF!"}},{"$f":"IF('CARRETERAS Y TÚNELES'!#REF!=\"SI\",'OBLIGACIONES APLICABLES'!G112,NA())","v":{"$error":"#REF!"}}]
[{"$f":"IF('CARRETERAS Y TÚNELES'!#REF!=\"SI\",'CARRETERAS Y TÚNELES'!#REF!,NA())","v":{"$error":"#REF!"}},{"$f":"IF('CARRETERAS Y TÚNELES'!#REF!=\"SI\",'CARRETERAS Y TÚNELES'!#REF!,NA())","v":{"$error":"#REF!"}},{"$f":"IF('CARRETERAS Y TÚNELES'!#REF!=\"SI\",'OBLIGACIONES APLICABLES'!#REF!,NA())","v":{"$error":"#REF!"}},{"$f":"IF('CARRETERAS Y TÚNELES'!#REF!=\"SI\",'OBLIGACIONES APLICABLES'!#REF!,NA())","v":{"$error":"#REF!"}}]
[{"$f":"IF('CARRETERAS Y TÚNELES'!#REF!=\"SI\",'CARRETERAS Y TÚNELES'!#REF!,NA())","v":{"$error":"#REF!"}},{"$f":"IF('CARRETERAS Y TÚNELES'!#REF!=\"SI\",'CARRETERAS Y TÚNELES'!#REF!,NA())","v":{"$error":"#REF!"}},{"$f":"IF('CARRETERAS Y TÚNELES'!#REF!=\"SI\",'OBLIGACIONES APLICABLES'!#REF!,NA())","v":{"$error":"#REF!"}},{"$f":"IF('CARRETERAS Y TÚNELES'!#REF!=\"SI\",'OBLIGACIONES APLICABLES'!#REF!,NA())","v":{"$error":"#REF!"}}]
[{"$f":"IF('CARRETERAS Y TÚNELES'!#REF!=\"SI\",'CARRETERAS Y TÚNELES'!#REF!,NA())","v":{"$error":"#REF!"}},{"$f":"IF('CARRETERAS Y TÚNELES'!#REF!=\"SI\",'CARRETERAS Y TÚNELES'!#REF!,NA())","v":{"$error":"#REF!"}},{"$f":"IF('CARRETERAS Y TÚNELES'!#REF!=\"SI\",'OBLIGACIONES APLICABLES'!F113,NA())","v":{"$error":"#REF!"}},{"$f":"IF('CARRETERAS Y TÚNELES'!#REF!=\"SI\",'OBLIGACIONES APLICABLES'!G113,NA())","v":{"$error":"#REF!"}}]
[{"$f":"IF('CARRETERAS Y TÚNELES'!#REF!=\"SI\",'CARRETERAS Y TÚNELES'!#REF!,NA())","v":{"$error":"#REF!"}},{"$f":"IF('CARRETERAS Y TÚNELES'!#REF!=\"SI\",'CARRETERAS Y TÚNELES'!#REF!,NA())","v":{"$error":"#REF!"}},{"$f":"IF('CARRETERAS Y TÚNELES'!#REF!=\"SI\",'OBLIGACIONES APLICABLES'!#REF!,NA())","v":{"$error":"#REF!"}},{"$f":"IF('CARRETERAS Y TÚNELES'!#REF!=\"SI\",'OBLIGACIONES APLICABLES'!#REF!,NA())","v":{"$error":"#REF!"}}]
[{"$f":"IF('CARRETERAS Y TÚNELES'!#REF!=\"SI\",'CARRETERAS Y TÚNELES'!#REF!,NA())","v":{"$error":"#REF!"}},{"$f":"IF('CARRETERAS Y TÚNELES'!#REF!=\"SI\",'CARRETERAS Y TÚNELES'!#REF!,NA())","v":{"$error":"#REF!"}},{"$f":"IF('CARRETERAS Y TÚNELES'!#REF!=\"SI\",'OBLIGACIONES APLICABLES'!#REF!,NA())","v":{"$error":"#REF!"}},{"$f":"IF('CARRETERAS Y TÚNELES'!#REF!=\"SI\",'OBLIGACIONES APLICABLES'!#REF!,NA())","v":{"$error":"#REF!"}}]
[{"$f":"IF('CARRETERAS Y TÚNELES'!#REF!=\"SI\",'CARRETERAS Y TÚNELES'!#REF!,NA())","v":{"$error":"#REF!"}},{"$f":"IF('CARRETERAS Y TÚNELES'!#REF!=\"SI\",'CARRETERAS Y TÚNELES'!#REF!,NA())","v":{"$error":"#REF!"}},{"$f":"IF('CARRETERAS Y TÚNELES'!#REF!=\"SI\",'OBLIGACIONES APLICABLES'!#REF!,NA())","v":{"$error":"#REF!"}},{"$f":"IF('CARRETERAS Y TÚNELES'!#REF!=\"SI\",'OBLIGACIONES APLICABLES'!#REF!,NA())","v":{"$error":"#REF!"}}]
[{"$f":"IF('CARRETERAS Y TÚNELES'!#REF!=\"SI\",'CARRETERAS Y TÚNELES'!#REF!,NA())","v":{"$error":"#REF!"}},{"$f":"IF('CARRETERAS Y TÚNELES'!#REF!=\"SI\",'CARRETERAS Y TÚNELES'!#REF!,NA())","v":{"$error":"#REF!"}},{"$f":"IF('CARRETERAS Y TÚNELES'!#REF!=\"SI\",'OBLIGACIONES APLICABLES'!F116,NA())","v":{"$error":"#REF!"}},{"$f":"IF('CARRETERAS Y TÚNELES'!#REF!=\"SI\",'OBLIGACIONES APLICABLES'!G116,NA())","v":{"$error":"#REF!"}}]
[{"$f":"IF('CARRETERAS Y TÚNELES'!#REF!=\"SI\",'CARRETERAS Y TÚNELES'!#REF!,NA())","v":{"$error":"#REF!"}},{"$f":"IF('CARRETERAS Y TÚNELES'!#REF!=\"SI\",'CARRETERAS Y TÚNELES'!#REF!,NA())","v":{"$error":"#REF!"}},{"$f":"IF('CARRETERAS Y TÚNELES'!#REF!=\"SI\",'OBLIGACIONES APLICABLES'!#REF!,NA())","v":{"$error":"#REF!"}},{"$f":"IF('CARRETERAS Y TÚNELES'!#REF!=\"SI\",'OBLIGACIONES APLICABLES'!#REF!,NA())","v":{"$error":"#REF!"}}]
[{"$f":"IF('CARRETERAS Y TÚNELES'!#REF!=\"SI\",'CARRETERAS Y TÚNELES'!#REF!,NA())","v":{"$error":"#REF!"}},{"$f":"IF('CARRETERAS Y TÚNELES'!#REF!=\"SI\",'CARRETERAS Y TÚNELES'!#REF!,NA())","v":{"$error":"#REF!"}},{"$f":"IF('CARRETERAS Y TÚNELES'!#REF!=\"SI\",'OBLIGACIONES APLICABLES'!#REF!,NA())","v":{"$error":"#REF!"}},{"$f":"IF('CARRETERAS Y TÚNELES'!#REF!=\"SI\",'OBLIGACIONES APLICABLES'!#REF!,NA())","v":{"$error":"#REF!"}}]
[{"$f":"IF('CARRETERAS Y TÚNELES'!#REF!=\"SI\",'CARRETERAS Y TÚNELES'!#REF!,NA())","v":{"$error":"#REF!"}},{"$f":"IF('CARRETERAS Y TÚNELES'!#REF!=\"SI\",'CARRETERAS Y TÚNELES'!#REF!,NA())","v":{"$error":"#REF!"}},{"$f":"IF('CARRETERAS Y TÚNELES'!#REF!=\"SI\",'OBLIGACIONES APLICABLES'!F117,NA())","v":{"$error":"#REF!"}},{"$f":"IF('CARRETERAS Y TÚNELES'!#REF!=\"SI\",'OBLIGACIONES APLICABLES'!G117,NA())","v":{"$error":"#REF!"}}]
[{"$f":"IF('CARRETERAS Y TÚNELES'!#REF!=\"SI\",'CARRETERAS Y TÚNELES'!#REF!,NA())","v":{"$error":"#REF!"}},{"$f":"IF('CARRETERAS Y TÚNELES'!#REF!=\"SI\",'CARRETERAS Y TÚNELES'!#REF!,NA())","v":{"$error":"#REF!"}},{"$f":"IF('CARRETERAS Y TÚNELES'!#REF!=\"SI\",'OBLIGACIONES APLICABLES'!F118,NA())","v":{"$error":"#REF!"}},{"$f":"IF('CARRETERAS Y TÚNELES'!#REF!=\"SI\",'OBLIGACIONES APLICABLES'!G118,NA())","v":{"$error":"#REF!"}}]
[{"$f":"IF('CARRETERAS Y TÚNELES'!#REF!=\"SI\",'CARRETERAS Y TÚNELES'!#REF!,NA())","v":{"$error":"#REF!"}},{"$f":"IF('CARRETERAS Y TÚNELES'!#REF!=\"SI\",'CARRETERAS Y TÚNELES'!#REF!,NA())","v":{"$error":"#REF!"}},{"$f":"IF('CARRETERAS Y TÚNELES'!#REF!=\"SI\",'OBLIGACIONES APLICABLES'!F119,NA())","v":{"$error":"#REF!"}},{"$f":"IF('CARRETERAS Y TÚNELES'!#REF!=\"SI\",'OBLIGACIONES APLICABLES'!G119,NA())","v":{"$error":"#REF!"}}]
[{"$f":"IF('CARRETERAS Y TÚNELES'!#REF!=\"SI\",'CARRETERAS Y TÚNELES'!#REF!,NA())","v":{"$error":"#REF!"}},{"$f":"IF('CARRETERAS Y TÚNELES'!#REF!=\"SI\",'CARRETERAS Y TÚNELES'!#REF!,NA())","v":{"$error":"#REF!"}},{"$f":"IF('CARRETERAS Y TÚNELES'!#REF!=\"SI\",'OBLIGACIONES APLICABLES'!F121,NA())","v":{"$error":"#REF!"}},{"$f":"IF('CARRETERAS Y TÚNELES'!#REF!=\"SI\",'OBLIGACIONES APLICABLES'!G121,NA())","v":{"$error":"#REF!"}}]
[{"$f":"IF('CARRETERAS Y TÚNELES'!#REF!=\"SI\",'CARRETERAS Y TÚNELES'!#REF!,NA())","v":{"$error":"#REF!"}},{"$f":"IF('CARRETERAS Y TÚNELES'!#REF!=\"SI\",'CARRETERAS Y TÚNELES'!#REF!,NA())","v":{"$error":"#REF!"}},{"$f":"IF('CARRETERAS Y TÚNELES'!#REF!=\"SI\",'OBLIGACIONES APLICABLES'!#REF!,NA())","v":{"$error":"#REF!"}},{"$f":"IF('CARRETERAS Y TÚNELES'!#REF!=\"SI\",'OBLIGACIONES APLICABLES'!#REF!,NA())","v":{"$error":"#REF!"}}]
[{"$f":"IF('CARRETERAS Y TÚNELES'!#REF!=\"SI\",'CARRETERAS Y TÚNELES'!#REF!,NA())","v":{"$error":"#REF!"}},{"$f":"IF('CARRETERAS Y TÚNELES'!#REF!=\"SI\",'CARRETERAS Y TÚNELES'!#REF!,NA())","v":{"$error":"#REF!"}},{"$f":"IF('CARRETERAS Y TÚNELES'!#REF!=\"SI\",'OBLIGACIONES APLICABLES'!F122,NA())","v":{"$error":"#REF!"}},{"$f":"IF('CARRETERAS Y TÚNELES'!#REF!=\"SI\",'OBLIGACIONES APLICABLES'!G122,NA())","v":{"$error":"#REF!"}}]
[{"$f":"IF('CARRETERAS Y TÚNELES'!#REF!=\"SI\",'CARRETERAS Y TÚNELES'!#REF!,NA())","v":{"$error":"#REF!"}},{"$f":"IF('CARRETERAS Y TÚNELES'!#REF!=\"SI\",'CARRETERAS Y TÚNELES'!#REF!,NA())","v":{"$error":"#REF!"}},{"$f":"IF('CARRETERAS Y TÚNELES'!#REF!=\"SI\",'OBLIGACIONES APLICABLES'!#REF!,NA())","v":{"$error":"#REF!"}},{"$f":"IF('CARRETERAS Y TÚNELES'!#REF!=\"SI\",'OBLIGACIONES APLICABLES'!#REF!,NA())","v":{"$error":"#REF!"}}]
[{"$f":"IF('CARRETERAS Y TÚNELES'!#REF!=\"SI\",'CARRETERAS Y TÚNELES'!#REF!,NA())","v":{"$error":"#REF!"}},{"$f":"IF('CARRETERAS Y TÚNELES'!#REF!=\"SI\",'CARRETERAS Y TÚNELES'!#REF!,NA())","v":{"$error":"#REF!"}},{"$f":"IF('CARRETERAS Y TÚNELES'!#REF!=\"SI\",'OBLIGACIONES APLICABLES'!F123,NA())","v":{"$error":"#REF!"}},{"$f":"IF('CARRETERAS Y TÚNELES'!#REF!=\"SI\",'OBLIGACIONES APLICABLES'!G123,NA())","v":{"$error":"#REF!"}}]
[{"$f":"IF('CARRETERAS Y TÚNELES'!#REF!=\"SI\",'CARRETERAS Y TÚNELES'!#REF!,NA())","v":{"$error":"#REF!"}},{"$f":"IF('CARRETERAS Y TÚNELES'!#REF!=\"SI\",'CARRETERAS Y TÚNELES'!#REF!,NA())","v":{"$error":"#REF!"}},{"$f":"IF('CARRETERAS Y TÚNELES'!#REF!=\"SI\",'OBLIGACIONES APLICABLES'!F124,NA())","v":{"$error":"#REF!"}},{"$f":"IF('CARRETERAS Y TÚNELES'!#REF!=\"SI\",'OBLIGACIONES APLICABLES'!G124,NA())","v":{"$error":"#REF!"}}]
[{"$f":"IF('CARRETERAS Y TÚNELES'!#REF!=\"SI\",'CARRETERAS Y TÚNELES'!#REF!,NA())","v":{"$error":"#REF!"}},{"$f":"IF('CARRETERAS Y TÚNELES'!#REF!=\"SI\",'CARRETERAS Y TÚNELES'!#REF!,NA())","v":{"$error":"#REF!"}},{"$f":"IF('CARRETERAS Y TÚNELES'!#REF!=\"SI\",'OBLIGACIONES APLICABLES'!#REF!,NA())","v":{"$error":"#REF!"}},{"$f":"IF('CARRETERAS Y TÚNELES'!#REF!=\"SI\",'OBLIGACIONES APLICABLES'!#REF!,NA())","v":{"$error":"#REF!"}}]
[{"$f":"IF('CARRETERAS Y TÚNELES'!#REF!=\"SI\",'CARRETERAS Y TÚNELES'!#REF!,NA())","v":{"$error":"#REF!"}},{"$f":"IF('CARRETERAS Y TÚNELES'!#REF!=\"SI\",'CARRETERAS Y TÚNELES'!#REF!,NA())","v":{"$error":"#REF!"}},{"$f":"IF('CARRETERAS Y TÚNELES'!#REF!=\"SI\",'OBLIGACIONES APLICABLES'!F125,NA())","v":{"$error":"#REF!"}},{"$f":"IF('CARRETERAS Y TÚNELES'!#REF!=\"SI\",'OBLIGACIONES APLICABLES'!G125,NA())","v":{"$error":"#REF!"}}]
[{"$f":"IF('CARRETERAS Y TÚNELES'!#REF!=\"SI\",'CARRETERAS Y TÚNELES'!#REF!,NA())","v":{"$error":"#REF!"}},{"$f":"IF('CARRETERAS Y TÚNELES'!#REF!=\"SI\",'CARRETERAS Y TÚNELES'!#REF!,NA())","v":{"$error":"#REF!"}},{"$f":"IF('CARRETERAS Y TÚNELES'!#REF!=\"SI\",'OBLIGACIONES APLICABLES'!#REF!,NA())","v":{"$error":"#REF!"}},{"$f":"IF('CARRETERAS Y TÚNELES'!#REF!=\"SI\",'OBLIGACIONES APLICABLES'!#REF!,NA())","v":{"$error":"#REF!"}}]
[{"$f":"IF('CARRETERAS Y TÚNELES'!#REF!=\"SI\",'CARRETERAS Y TÚNELES'!#REF!,NA())","v":{"$error":"#REF!"}},{"$f":"IF('CARRETERAS Y TÚNELES'!#REF!=\"SI\",'CARRETERAS Y TÚNELES'!#REF!,NA())","v":{"$error":"#REF!"}},{"$f":"IF('CARRETERAS Y TÚNELES'!#REF!=\"SI\",'OBLIGACIONES APLICABLES'!#REF!,NA())","v":{"$error":"#REF!"}},{"$f":"IF('CARRETERAS Y TÚNELES'!#REF!=\"SI\",'OBLIGACIONES APLICABLES'!#REF!,NA())","v":{"$error":"#REF!"}}]
[{"$f":"IF('CARRETERAS Y TÚNELES'!#REF!=\"SI\",'CARRETERAS Y TÚNELES'!#REF!,NA())","v":{"$error":"#REF!"}},{"$f":"IF('CARRETERAS Y TÚNELES'!#REF!=\"SI\",'CARRETERAS Y TÚNELES'!#REF!,NA())","v":{"$error":"#REF!"}},{"$f":"IF('CARRETERAS Y TÚNELES'!#REF!=\"SI\",'OBLIGACIONES APLICABLES'!#REF!,NA())","v":{"$error":"#REF!"}},{"$f":"IF('CARRETERAS Y TÚNELES'!#REF!=\"SI\",'OBLIGACIONES APLICABLES'!#REF!,NA())","v":{"$error":"#REF!"}}]
[{"$f":"IF('CARRETERAS Y TÚNELES'!#REF!=\"SI\",'CARRETERAS Y TÚNELES'!#REF!,NA())","v":{"$error":"#REF!"}},{"$f":"IF('CARRETERAS Y TÚNELES'!#REF!=\"SI\",'CARRETERAS Y TÚNELES'!#REF!,NA())","v":{"$error":"#REF!"}},{"$f":"IF('CARRETERAS Y TÚNELES'!#REF!=\"SI\",'OBLIGACIONES APLICABLES'!#REF!,NA())","v":{"$error":"#REF!"}},{"$f":"IF('CARRETERAS Y TÚNELES'!#REF!=\"SI\",'OBLIGACIONES APLICABLES'!#REF!,NA())","v":{"$error":"#REF!"}}]
[{"$f":"IF('CARRETERAS Y TÚNELES'!#REF!=\"SI\",'CARRETERAS Y TÚNELES'!#REF!,NA())","v":{"$error":"#REF!"}},{"$f":"IF('CARRETERAS Y TÚNELES'!#REF!=\"SI\",'CARRETERAS Y TÚNELES'!#REF!,NA())","v":{"$error":"#REF!"}},{"$f":"IF('CARRETERAS Y TÚNELES'!#REF!=\"SI\",'OBLIGACIONES APLICABLES'!#REF!,NA())","v":{"$error":"#REF!"}},{"$f":"IF('CARRETERAS Y TÚNELES'!#REF!=\"SI\",'OBLIGACIONES APLICABLES'!#REF!,NA())","v":{"$error":"#REF!"}}]
[{"$f":"IF('CARRETERAS Y TÚNELES'!#REF!=\"SI\",'CARRETERAS Y TÚNELES'!#REF!,NA())","v":{"$error":"#REF!"}},{"$f":"IF('CARRETERAS Y TÚNELES'!#REF!=\"SI\",'CARRETERAS Y TÚNELES'!#REF!,NA())","v":{"$error":"#REF!"}},{"$f":"IF('CARRETERAS Y TÚNELES'!#REF!=\"SI\",'OBLIGACIONES APLICABLES'!#REF!,NA())","v":{"$error":"#REF!"}},{"$f":"IF('CARRETERAS Y TÚNELES'!#REF!=\"SI\",'OBLIGACIONES APLICABLES'!#REF!,NA())","v":{"$error":"#REF!"}}]
[{"$f":"IF('CARRETERAS Y TÚNELES'!#REF!=\"SI\",'CARRETERAS Y TÚNELES'!#REF!,NA())","v":{"$error":"#REF!"}},{"$f":"IF('CARRETERAS Y TÚNELES'!#REF!=\"SI\",'CARRETERAS Y TÚNELES'!#REF!,NA())","v":{"$error":"#REF!"}},{"$f":"IF('CARRETERAS Y TÚNELES'!#REF!=\"SI\",'OBLIGACIONES APLICABLES'!#REF!,NA())","v":{"$error":"#REF!"}},{"$f":"IF('CARRETERAS Y TÚNELES'!#REF!=\"SI\",'OBLIGACIONES APLICABLES'!#REF!,NA())","v":{"$error":"#REF!"}}]
[{"$f":"IF('CARRETERAS Y TÚNELES'!#REF!=\"SI\",'CARRETERAS Y TÚNELES'!#REF!,NA())","v":{"$error":"#REF!"}},{"$f":"IF('CARRETERAS Y TÚNELES'!#REF!=\"SI\",'CARRETERAS Y TÚNELES'!#REF!,NA())","v":{"$error":"#REF!"}},{"$f":"IF('CARRETERAS Y TÚNELES'!#REF!=\"SI\",'OBLIGACIONES APLICABLES'!#REF!,NA())","v":{"$error":"#REF!"}},{"$f":"IF('CARRETERAS Y TÚNELES'!#REF!=\"SI\",'OBLIGACIONES APLICABLES'!#REF!,NA())","v":{"$error":"#REF!"}}]
[{"$f":"IF('CARRETERAS Y TÚNELES'!#REF!=\"SI\",'CARRETERAS Y TÚNELES'!#REF!,NA())","v":{"$error":"#REF!"}},{"$f":"IF('CARRETERAS Y TÚNELES'!#REF!=\"SI\",'CARRETERAS Y TÚNELES'!#REF!,NA())","v":{"$error":"#REF!"}},{"$f":"IF('CARRETERAS Y TÚNELES'!#REF!=\"SI\",'OBLIGACIONES APLICABLES'!#REF!,NA())","v":{"$error":"#REF!"}},{"$f":"IF('CARRETERAS Y TÚNELES'!#REF!=\"SI\",'OBLIGACIONES APLICABLES'!#REF!,NA())","v":{"$error":"#REF!"}}]
[{"$f":"IF('CARRETERAS Y TÚNELES'!#REF!=\"SI\",'CARRETERAS Y TÚNELES'!#REF!,NA())","v":{"$error":"#REF!"}},{"$f":"IF('CARRETERAS Y TÚNELES'!#REF!=\"SI\",'CARRETERAS Y TÚNELES'!#REF!,NA())","v":{"$error":"#REF!"}},{"$f":"IF('CARRETERAS Y TÚNELES'!#REF!=\"SI\",'OBLIGACIONES APLICABLES'!#REF!,NA())","v":{"$error":"#REF!"}},{"$f":"IF('CARRETERAS Y TÚNELES'!#REF!=\"SI\",'OBLIGACIONES APLICABLES'!#REF!,NA())","v":{"$error":"#REF!"}}]
[{"$f":"IF('CARRETERAS Y TÚNELES'!#REF!=\"SI\",'CARRETERAS Y TÚNELES'!#REF!,NA())","v":{"$error":"#REF!"}},{"$f":"IF('CARRETERAS Y TÚNELES'!#REF!=\"SI\",'CARRETERAS Y TÚNELES'!#REF!,NA())","v":{"$error":"#REF!"}},{"$f":"IF('CARRETERAS Y TÚNELES'!#REF!=\"SI\",'OBLIGACIONES APLICABLES'!#REF!,NA())","v":{"$error":"#REF!"}},{"$f":"IF('CARRETERAS Y TÚNELES'!#REF!=\"SI\",'OBLIGACIONES APLICABLES'!#REF!,NA())","v":{"$error":"#REF!"}}]
[{"$f":"IF('CARRETERAS Y TÚNELES'!#REF!=\"SI\",'CARRETERAS Y TÚNELES'!#REF!,NA())","v":{"$error":"#REF!"}},{"$f":"IF('CARRETERAS Y TÚNELES'!#REF!=\"SI\",'CARRETERAS Y TÚNELES'!#REF!,NA())","v":{"$error":"#REF!"}},{"$f":"IF('CARRETERAS Y TÚNELES'!#REF!=\"SI\",'OBLIGACIONES APLICABLES'!F127,NA())","v":{"$error":"#REF!"}},{"$f":"IF('CARRETERAS Y TÚNELES'!#REF!=\"SI\",'OBLIGACIONES APLICABLES'!G127,NA())","v":{"$error":"#REF!"}}]
[{"$f":"IF('CARRETERAS Y TÚNELES'!#REF!=\"SI\",'CARRETERAS Y TÚNELES'!#REF!,NA())","v":{"$error":"#REF!"}},{"$f":"IF('CARRETERAS Y TÚNELES'!#REF!=\"SI\",'CARRETERAS Y TÚNELES'!#REF!,NA())","v":{"$error":"#REF!"}},{"$f":"IF('CARRETERAS Y TÚNELES'!#REF!=\"SI\",'OBLIGACIONES APLICABLES'!#REF!,NA())","v":{"$error":"#REF!"}},{"$f":"IF('CARRETERAS Y TÚNELES'!#REF!=\"SI\",'OBLIGACIONES APLICABLES'!#REF!,NA())","v":{"$error":"#REF!"}}]
[{"$f":"IF('CARRETERAS Y TÚNELES'!#REF!=\"SI\",'CARRETERAS Y TÚNELES'!#REF!,NA())","v":{"$error":"#REF!"}},{"$f":"IF('CARRETERAS Y TÚNELES'!#REF!=\"SI\",'CARRETERAS Y TÚNELES'!#REF!,NA())","v":{"$error":"#REF!"}},{"$f":"IF('CARRETERAS Y TÚNELES'!#REF!=\"SI\",'OBLIGACIONES APLICABLES'!F128,NA())","v":{"$error":"#REF!"}},{"$f":"IF('CARRETERAS Y TÚNELES'!#REF!=\"SI\",'OBLIGACIONES APLICABLES'!G128,NA())","v":{"$error":"#REF!"}}]
[{"$f":"IF('CARRETERAS Y TÚNELES'!#REF!=\"SI\",'CARRETERAS Y TÚNELES'!#REF!,NA())","v":{"$error":"#REF!"}},{"$f":"IF('CARRETERAS Y TÚNELES'!#REF!=\"SI\",'CARRETERAS Y TÚNELES'!#REF!,NA())","v":{"$error":"#REF!"}},{"$f":"IF('CARRETERAS Y TÚNELES'!#REF!=\"SI\",'OBLIGACIONES APLICABLES'!#REF!,NA())","v":{"$error":"#REF!"}},{"$f":"IF('CARRETERAS Y TÚNELES'!#REF!=\"SI\",'OBLIGACIONES APLICABLES'!#REF!,NA())","v":{"$error":"#REF!"}}]
[{"$f":"IF('CARRETERAS Y TÚNELES'!#REF!=\"SI\",'CARRETERAS Y TÚNELES'!#REF!,NA())","v":{"$error":"#REF!"}},{"$f":"IF('CARRETERAS Y TÚNELES'!#REF!=\"SI\",'CARRETERAS Y TÚNELES'!#REF!,NA())","v":{"$error":"#REF!"}},{"$f":"IF('CARRETERAS Y TÚNELES'!#REF!=\"SI\",'OBLIGACIONES APLICABLES'!F129,NA())","v":{"$error":"#REF!"}},{"$f":"IF('CARRETERAS Y TÚNELES'!#REF!=\"SI\",'OBLIGACIONES APLICABLES'!G129,NA())","v":{"$error":"#REF!"}}]
[{"$f":"IF('CARRETERAS Y TÚNELES'!#REF!=\"SI\",'CARRETERAS Y TÚNELES'!#REF!,NA())","v":{"$error":"#REF!"}},{"$f":"IF('CARRETERAS Y TÚNELES'!#REF!=\"SI\",'CARRETERAS Y TÚNELES'!#REF!,NA())","v":{"$error":"#REF!"}},{"$f":"IF('CARRETERAS Y TÚNELES'!#REF!=\"SI\",'OBLIGACIONES APLICABLES'!#REF!,NA())","v":{"$error":"#REF!"}},{"$f":"IF('CARRETERAS Y TÚNELES'!#REF!=\"SI\",'OBLIGACIONES APLICABLES'!#REF!,NA())","v":{"$error":"#REF!"}}]
[{"$f":"IF('CARRETERAS Y TÚNELES'!#REF!=\"SI\",'CARRETERAS Y TÚNELES'!#REF!,NA())","v":{"$error":"#REF!"}},{"$f":"IF('CARRETERAS Y TÚNELES'!#REF!=\"SI\",'CARRETERAS Y TÚNELES'!#REF!,NA())","v":{"$error":"#REF!"}},{"$f":"IF('CARRETERAS Y TÚNELES'!#REF!=\"SI\",'OBLIGACIONES APLICABLES'!F130,NA())","v":{"$error":"#REF!"}},{"$f":"IF('CARRETERAS Y TÚNELES'!#REF!=\"SI\",'OBLIGACIONES APLICABLES'!G130,NA())","v":{"$error":"#REF!"}}]
[{"$f":"IF('CARRETERAS Y TÚNELES'!#REF!=\"SI\",'CARRETERAS Y TÚNELES'!#REF!,NA())","v":{"$error":"#REF!"}},{"$f":"IF('CARRETERAS Y TÚNELES'!#REF!=\"SI\",'CARRETERAS Y TÚNELES'!#REF!,NA())","v":{"$error":"#REF!"}},{"$f":"IF('CARRETERAS Y TÚNELES'!#REF!=\"SI\",'OBLIGACIONES APLICABLES'!#REF!,NA())","v":{"$error":"#REF!"}},{"$f":"IF('CARRETERAS Y TÚNELES'!#REF!=\"SI\",'OBLIGACIONES APLICABLES'!#REF!,NA())","v":{"$error":"#REF!"}}]
[{"$f":"IF('CARRETERAS Y TÚNELES'!#REF!=\"SI\",'CARRETERAS Y TÚNELES'!#REF!,NA())","v":{"$error":"#REF!"}},{"$f":"IF('CARRETERAS Y TÚNELES'!#REF!=\"SI\",'CARRETERAS Y TÚNELES'!#REF!,NA())","v":{"$error":"#REF!"}},{"$f":"IF('CARRETERAS Y TÚNELES'!#REF!=\"SI\",'OBLIGACIONES APLICABLES'!#REF!,NA())","v":{"$error":"#REF!"}},{"$f":"IF('CARRETERAS Y TÚNELES'!#REF!=\"SI\",'OBLIGACIONES APLICABLES'!#REF!,NA())","v":{"$error":"#REF!"}}]
[{"$f":"IF('CARRETERAS Y TÚNELES'!#REF!=\"SI\",'CARRETERAS Y TÚNELES'!#REF!,NA())","v":{"$error":"#REF!"}},{"$f":"IF('CARRETERAS Y TÚNELES'!#REF!=\"SI\",'CARRETERAS Y TÚNELES'!#REF!,NA())","v":{"$error":"#REF!"}},{"$f":"IF('CARRETERAS Y TÚNELES'!#REF!=\"SI\",'OBLIGACIONES APLICABLES'!F131,NA())","v":{"$error":"#REF!"}},{"$f":"IF('CARRETERAS Y TÚNELES'!#REF!=\"SI\",'OBLIGACIONES APLICABLES'!G131,NA())","v":{"$error":"#REF!"}}]
[{"$f":"IF('CARRETERAS Y TÚNELES'!#REF!=\"SI\",'CARRETERAS Y TÚNELES'!#REF!,NA())","v":{"$error":"#REF!"}},{"$f":"IF('CARRETERAS Y TÚNELES'!#REF!=\"SI\",'CARRETERAS Y TÚNELES'!#REF!,NA())","v":{"$error":"#REF!"}},{"$f":"IF('CARRETERAS Y TÚNELES'!#REF!=\"SI\",'OBLIGACIONES APLICABLES'!F132,NA())","v":{"$error":"#REF!"}},{"$f":"IF('CARRETERAS Y TÚNELES'!#REF!=\"SI\",'OBLIGACIONES APLICABLES'!G132,NA())","v":{"$error":"#REF!"}}]
[{"$f":"IF('CARRETERAS Y TÚNELES'!#REF!=\"SI\",'CARRETERAS Y TÚNELES'!#REF!,NA())","v":{"$error":"#REF!"}},{"$f":"IF('CARRETERAS Y TÚNELES'!#REF!=\"SI\",'CARRETERAS Y TÚNELES'!#REF!,NA())","v":{"$error":"#REF!"}},{"$f":"IF('CARRETERAS Y TÚNELES'!#REF!=\"SI\",'OBLIGACIONES APLICABLES'!F133,NA())","v":{"$error":"#REF!"}},{"$f":"IF('CARRETERAS Y TÚNELES'!#REF!=\"SI\",'OBLIGACIONES APLICABLES'!G133,NA())","v":{"$error":"#REF!"}}]
[{"$f":"IF('CARRETERAS Y TÚNELES'!D122=\"SI\",'CARRETERAS Y TÚNELES'!B122,NA())","v":{"$error":"#N/A"}},{"$f":"IF('CARRETERAS Y TÚNELES'!D122=\"SI\",'CARRETERAS Y TÚNELES'!#REF!,NA())","v":{"$error":"#N/A"}},{"$f":"IF('CARRETERAS Y TÚNELES'!#REF!=\"SI\",'OBLIGACIONES APLICABLES'!F134,NA())","v":{"$error":"#REF!"}},{"$f":"IF('CARRETERAS Y TÚNELES'!#REF!=\"SI\",'OBLIGACIONES APLICABLES'!G134,NA())","v":{"$error":"#REF!"}}]
[{"$f":"IF('CARRETERAS Y TÚNELES'!#REF!=\"SI\",'CARRETERAS Y TÚNELES'!#REF!,NA())","v":{"$error":"#REF!"}},{"$f":"IF('CARRETERAS Y TÚNELES'!#REF!=\"SI\",'CARRETERAS Y TÚNELES'!#REF!,NA())","v":{"$error":"#REF!"}},{"$f":"IF('CARRETERAS Y TÚNELES'!#REF!=\"SI\",'OBLIGACIONES APLICABLES'!#REF!,NA())","v":{"$error":"#REF!"}},{"$f":"IF('CARRETERAS Y TÚNELES'!#REF!=\"SI\",'OBLIGACIONES APLICABLES'!#REF!,NA())","v":{"$error":"#REF!"}}]
[{"$f":"IF('CARRETERAS Y TÚNELES'!#REF!=\"SI\",'CARRETERAS Y TÚNELES'!#REF!,NA())","v":{"$error":"#REF!"}},{"$f":"IF('CARRETERAS Y TÚNELES'!#REF!=\"SI\",'CARRETERAS Y TÚNELES'!#REF!,NA())","v":{"$error":"#REF!"}},{"$f":"IF('CARRETERAS Y TÚNELES'!#REF!=\"SI\",'OBLIGACIONES APLICABLES'!#REF!,NA())","v":{"$error":"#REF!"}},{"$f":"IF('CARRETERAS Y TÚNELES'!#REF!=\"SI\",'OBLIGACIONES APLICABLES'!#REF!,NA())","v":{"$error":"#REF!"}}]
[{"$f":"IF('CARRETERAS Y TÚNELES'!#REF!=\"SI\",'CARRETERAS Y TÚNELES'!#REF!,NA())","v":{"$error":"#REF!"}},{"$f":"IF('CARRETERAS Y TÚNELES'!#REF!=\"SI\",'CARRETERAS Y TÚNELES'!#REF!,NA())","v":{"$error":"#REF!"}},{"$f":"IF('CARRETERAS Y TÚNELES'!#REF!=\"SI\",'OBLIGACIONES APLICABLES'!F135,NA())","v":{"$error":"#REF!"}},{"$f":"IF('CARRETERAS Y TÚNELES'!#REF!=\"SI\",'OBLIGACIONES APLICABLES'!G135,NA())","v":{"$error":"#REF!"}}]
[{"$f":"IF('CARRETERAS Y TÚNELES'!#REF!=\"SI\",'CARRETERAS Y TÚNELES'!#REF!,NA())","v":{"$error":"#REF!"}},{"$f":"IF('CARRETERAS Y TÚNELES'!#REF!=\"SI\",'CARRETERAS Y TÚNELES'!#REF!,NA())","v":{"$error":"#REF!"}},{"$f":"IF('CARRETERAS Y TÚNELES'!#REF!=\"SI\",'OBLIGACIONES APLICABLES'!#REF!,NA())","v":{"$error":"#REF!"}},{"$f":"IF('CARRETERAS Y TÚNELES'!#REF!=\"SI\",'OBLIGACIONES APLICABLES'!#REF!,NA())","v":{"$error":"#REF!"}}]
[{"$f":"IF('CARRETERAS Y TÚNELES'!#REF!=\"SI\",'CARRETERAS Y TÚNELES'!#REF!,NA())","v":{"$error":"#REF!"}},{"$f":"IF('CARRETERAS Y TÚNELES'!#REF!=\"SI\",'CARRETERAS Y TÚNELES'!#REF!,NA())","v":{"$error":"#REF!"}},{"$f":"IF('CARRETERAS Y TÚNELES'!#REF!=\"SI\",'OBLIGACIONES APLICABLES'!#REF!,NA())","v":{"$error":"#REF!"}},{"$f":"IF('CARRETERAS Y TÚNELES'!#REF!=\"SI\",'OBLIGACIONES APLICABLES'!#REF!,NA())","v":{"$error":"#REF!"}}]
[{"$f":"IF('CARRETERAS Y TÚNELES'!#REF!=\"SI\",'CARRETERAS Y TÚNELES'!#REF!,NA())","v":{"$error":"#REF!"}},{"$f":"IF('CARRETERAS Y TÚNELES'!#REF!=\"SI\",'CARRETERAS Y TÚNELES'!#REF!,NA())","v":{"$error":"#REF!"}},{"$f":"IF('CARRETERAS Y TÚNELES'!#REF!=\"SI\",'OBLIGACIONES APLICABLES'!F138,NA())","v":{"$error":"#REF!"}},{"$f":"IF('CARRETERAS Y TÚNELES'!#REF!=\"SI\",'OBLIGACIONES APLICABLES'!G138,NA())","v":{"$error":"#REF!"}}]
[{"$f":"IF('CARRETERAS Y TÚNELES'!#REF!=\"SI\",'CARRETERAS Y TÚNELES'!#REF!,NA())","v":{"$error":"#REF!"}},{"$f":"IF('CARRETERAS Y TÚNELES'!#REF!=\"SI\",'CARRETERAS Y TÚNELES'!#REF!,NA())","v":{"$error":"#REF!"}},{"$f":"IF('CARRETERAS Y TÚNELES'!#REF!=\"SI\",'OBLIGACIONES APLICABLES'!#REF!,NA())","v":{"$error":"#REF!"}},{"$f":"IF('CARRETERAS Y TÚNELES'!#REF!=\"SI\",'OBLIGACIONES APLICABLES'!#REF!,NA())","v":{"$error":"#REF!"}}]
[{"$f":"IF('CARRETERAS Y TÚNELES'!#REF!=\"SI\",'CARRETERAS Y TÚNELES'!#REF!,NA())","v":{"$error":"#REF!"}},{"$f":"IF('CARRETERAS Y TÚNELES'!#REF!=\"SI\",'CARRETERAS Y TÚNELES'!#REF!,NA())","v":{"$error":"#REF!"}},{"$f":"IF('CARRETERAS Y TÚNELES'!#REF!=\"SI\",'OBLIGACIONES APLICABLES'!#REF!,NA())","v":{"$error":"#REF!"}},{"$f":"IF('CARRETERAS Y TÚNELES'!#REF!=\"SI\",'OBLIGACIONES APLICABLES'!#REF!,NA())","v":{"$error":"#REF!"}}]
[{"$f":"IF('CARRETERAS Y TÚNELES'!#REF!=\"SI\",'CARRETERAS Y TÚNELES'!#REF!,NA())","v":{"$error":"#REF!"}},{"$f":"IF('CARRETERAS Y TÚNELES'!#REF!=\"SI\",'CARRETERAS Y TÚNELES'!#REF!,NA())","v":{"$error":"#REF!"}},{"$f":"IF('CARRETERAS Y TÚNELES'!#REF!=\"SI\",'OBLIGACIONES APLICABLES'!#REF!,NA())","v":{"$error":"#REF!"}},{"$f":"IF('CARRETERAS Y TÚNELES'!#REF!=\"SI\",'OBLIGACIONES APLICABLES'!#REF!,NA())","v":{"$error":"#REF!"}}]
[{"$f":"IF('CARRETERAS Y TÚNELES'!#REF!=\"SI\",'CARRETERAS Y TÚNELES'!#REF!,NA())","v":{"$error":"#REF!"}},{"$f":"IF('CARRETERAS Y TÚNELES'!#REF!=\"SI\",'CARRETERAS Y TÚNELES'!#REF!,NA())","v":{"$error":"#REF!"}},{"$f":"IF('CARRETERAS Y TÚNELES'!#REF!=\"SI\",'OBLIGACIONES APLICABLES'!#REF!,NA())","v":{"$error":"#REF!"}},{"$f":"IF('CARRETERAS Y TÚNELES'!#REF!=\"SI\",'OBLIGACIONES APLICABLES'!#REF!,NA())","v":{"$error":"#REF!"}}]
[{"$f":"IF('CARRETERAS Y TÚNELES'!#REF!=\"SI\",'CARRETERAS Y TÚNELES'!#REF!,NA())","v":{"$error":"#REF!"}},{"$f":"IF('CARRETERAS Y TÚNELES'!#REF!=\"SI\",'CARRETERAS Y TÚNELES'!#REF!,NA())","v":{"$error":"#REF!"}},{"$f":"IF('CARRETERAS Y TÚNELES'!#REF!=\"SI\",'OBLIGACIONES APLICABLES'!#REF!,NA())","v":{"$error":"#REF!"}},{"$f":"IF('CARRETERAS Y TÚNELES'!#REF!=\"SI\",'OBLIGACIONES APLICABLES'!#REF!,NA())","v":{"$error":"#REF!"}}]
[{"$f":"IF('CARRETERAS Y TÚNELES'!#REF!=\"SI\",'CARRETERAS Y TÚNELES'!#REF!,NA())","v":{"$error":"#REF!"}},{"$f":"IF('CARRETERAS Y TÚNELES'!#REF!=\"SI\",'CARRETERAS Y TÚNELES'!#REF!,NA())","v":{"$error":"#REF!"}},{"$f":"IF('CARRETERAS Y TÚNELES'!#REF!=\"SI\",'OBLIGACIONES APLICABLES'!#REF!,NA())","v":{"$error":"#REF!"}},{"$f":"IF('CARRETERAS Y TÚNELES'!#REF!=\"SI\",'OBLIGACIONES APLICABLES'!#REF!,NA())","v":{"$error":"#REF!"}}]
[{"$f":"IF('CARRETERAS Y TÚNELES'!#REF!=\"SI\",'CARRETERAS Y TÚNELES'!#REF!,NA())","v":{"$error":"#REF!"}},{"$f":"IF('CARRETERAS Y TÚNELES'!#REF!=\"SI\",'CARRETERAS Y TÚNELES'!#REF!,NA())","v":{"$error":"#REF!"}},{"$f":"IF('CARRETERAS Y TÚNELES'!#REF!=\"SI\",'OBLIGACIONES APLICABLES'!#REF!,NA())","v":{"$error":"#REF!"}},{"$f":"IF('CARRETERAS Y TÚNELES'!#REF!=\"SI\",'OBLIGACIONES APLICABLES'!#REF!,NA())","v":{"$error":"#REF!"}}]
[{"$f":"IF('CARRETERAS Y TÚNELES'!#REF!=\"SI\",'CARRETERAS Y TÚNELES'!#REF!,NA())","v":{"$error":"#REF!"}},{"$f":"IF('CARRETERAS Y TÚNELES'!#REF!=\"SI\",'CARRETERAS Y TÚNELES'!#REF!,NA())","v":{"$error":"#REF!"}},{"$f":"IF('CARRETERAS Y TÚNELES'!#REF!=\"SI\",'OBLIGACIONES APLICABLES'!#REF!,NA())","v":{"$error":"#REF!"}},{"$f":"IF('CARRETERAS Y TÚNELES'!#REF!=\"SI\",'OBLIGACIONES APLICABLES'!#REF!,NA())","v":{"$error":"#REF!"}}]
[{"$f":"IF('CARRETERAS Y TÚNELES'!#REF!=\"SI\",'CARRETERAS Y TÚNELES'!#REF!,NA())","v":{"$error":"#REF!"}},{"$f":"IF('CARRETERAS Y TÚNELES'!#REF!=\"SI\",'CARRETERAS Y TÚNELES'!#REF!,NA())","v":{"$error":"#REF!"}},{"$f":"IF('CARRETERAS Y TÚNELES'!#REF!=\"SI\",'OBLIGACIONES APLICABLES'!#REF!,NA())","v":{"$error":"#REF!"}},{"$f":"IF('CARRETERAS Y TÚNELES'!#REF!=\"SI\",'OBLIGACIONES APLICABLES'!#REF!,NA())","v":{"$error":"#REF!"}}]
[{"$f":"IF('CARRETERAS Y TÚNELES'!#REF!=\"SI\",'CARRETERAS Y TÚNELES'!#REF!,NA())","v":{"$error":"#REF!"}},{"$f":"IF('CARRETERAS Y TÚNELES'!#REF!=\"SI\",'CARRETERAS Y TÚNELES'!#REF!,NA())","v":{"$error":"#REF!"}},{"$f":"IF('CARRETERAS Y TÚNELES'!#REF!=\"SI\",'OBLIGACIONES APLICABLES'!#REF!,NA())","v":{"$error":"#REF!"}},{"$f":"IF('CARRETERAS Y TÚNELES'!#REF!=\"SI\",'OBLIGACIONES APLICABLES'!#REF!,NA())","v":{"$error":"#REF!"}}]
[{"$f":"IF('CARRETERAS Y TÚNELES'!#REF!=\"SI\",'CARRETERAS Y TÚNELES'!#REF!,NA())","v":{"$error":"#REF!"}},{"$f":"IF('CARRETERAS Y TÚNELES'!#REF!=\"SI\",'CARRETERAS Y TÚNELES'!#REF!,NA())","v":{"$error":"#REF!"}},{"$f":"IF('CARRETERAS Y TÚNELES'!#REF!=\"SI\",'OBLIGACIONES APLICABLES'!#REF!,NA())","v":{"$error":"#REF!"}},{"$f":"IF('CARRETERAS Y TÚNELES'!#REF!=\"SI\",'OBLIGACIONES APLICABLES'!#REF!,NA())","v":{"$error":"#REF!"}}]

{"sheet":"Hoja2","index":5,"n_rows":74,"n_cols":4,"rows_kept":74,"cut":false,"hidden":true,"merged":[]}
["COMPONENTE","Fase de construcción","Fase de operación y mantenimiento","Fase de desmantelamiento y abandono"]
[{"$f":"IFERROR(INDEX(Temp!A$3:A$170, SMALL(IF(ISERROR(Temp!A$3:A$170), \"\", ROW(Temp!A$3:A$170)-MIN(ROW(Temp!A$3:A$170))+1), ROW(1:1))),\"\")","v":""},{"$f":"IFERROR(INDEX(Temp!B$3:B$170, SMALL(IF(ISERROR(Temp!B$3:B$170), \"\", ROW(Temp!B$3:B$170)-MIN(ROW(Temp!B$3:B$170))+1), ROW(1:1))),\"\")","v":""},{"$f":"IFERROR(INDEX(Temp!C$3:C$170, SMALL(IF(ISERROR(Temp!C$3:C$170), \"\", ROW(Temp!C$3:C$170)-MIN(ROW(Temp!C$3:C$170))+1), ROW(1:1))),\"\")","v":""},{"$f":"IFERROR(INDEX(Temp!D$3:D$170, SMALL(IF(ISERROR(Temp!D$3:D$170), \"\", ROW(Temp!D$3:D$170)-MIN(ROW(Temp!D$3:D$170))+1), ROW(1:1))),\"\")","v":""}]
[{"$f":"IFERROR(INDEX(Temp!A$3:A$170, SMALL(IF(ISERROR(Temp!A$3:A$170), \"\", ROW(Temp!A$3:A$170)-MIN(ROW(Temp!A$3:A$170))+1), ROW(2:2))),\"\")","v":""},{"$f":"IFERROR(INDEX(Temp!B$3:B$170, SMALL(IF(ISERROR(Temp!B$3:B$170), \"\", ROW(Temp!B$3:B$170)-MIN(ROW(Temp!B$3:B$170))+1), ROW(2:2))),\"\")","v":""},{"$f":"IFERROR(INDEX(Temp!C$3:C$170, SMALL(IF(ISERROR(Temp!C$3:C$170), \"\", ROW(Temp!C$3:C$170)-MIN(ROW(Temp!C$3:C$170))+1), ROW(2:2))),\"\")","v":""},{"$f":"IFERROR(INDEX(Temp!D$3:D$170, SMALL(IF(ISERROR(Temp!D$3:D$170), \"\", ROW(Temp!D$3:D$170)-MIN(ROW(Temp!D$3:D$170))+1), ROW(2:2))),\"\")","v":""}]
[{"$f":"IFERROR(INDEX(Temp!A$3:A$170, SMALL(IF(ISERROR(Temp!A$3:A$170), \"\", ROW(Temp!A$3:A$170)-MIN(ROW(Temp!A$3:A$170))+1), ROW(3:3))),\"\")","v":""},{"$f":"IFERROR(INDEX(Temp!B$3:B$170, SMALL(IF(ISERROR(Temp!B$3:B$170), \"\", ROW(Temp!B$3:B$170)-MIN(ROW(Temp!B$3:B$170))+1), ROW(3:3))),\"\")","v":""},{"$f":"IFERROR(INDEX(Temp!C$3:C$170, SMALL(IF(ISERROR(Temp!C$3:C$170), \"\", ROW(Temp!C$3:C$170)-MIN(ROW(Temp!C$3:C$170))+1), ROW(3:3))),\"\")","v":""},{"$f":"IFERROR(INDEX(Temp!D$3:D$170, SMALL(IF(ISERROR(Temp!D$3:D$170), \"\", ROW(Temp!D$3:D$170)-MIN(ROW(Temp!D$3:D$170))+1), ROW(3:3))),\"\")","v":""}]
[{"$f":"IFERROR(INDEX(Temp!A$3:A$170, SMALL(IF(ISERROR(Temp!A$3:A$170), \"\", ROW(Temp!A$3:A$170)-MIN(ROW(Temp!A$3:A$170))+1), ROW(4:4))),\"\")","v":""},{"$f":"IFERROR(INDEX(Temp!B$3:B$170, SMALL(IF(ISERROR(Temp!B$3:B$170), \"\", ROW(Temp!B$3:B$170)-MIN(ROW(Temp!B$3:B$170))+1), ROW(4:4))),\"\")","v":""},{"$f":"IFERROR(INDEX(Temp!C$3:C$170, SMALL(IF(ISERROR(Temp!C$3:C$170), \"\", ROW(Temp!C$3:C$170)-MIN(ROW(Temp!C$3:C$170))+1), ROW(4:4))),\"\")","v":""},{"$f":"IFERROR(INDEX(Temp!D$3:D$170, SMALL(IF(ISERROR(Temp!D$3:D$170), \"\", ROW(Temp!D$3:D$170)-MIN(ROW(Temp!D$3:D$170))+1), ROW(4:4))),\"\")","v":""}]
[{"$f":"IFERROR(INDEX(Temp!A$3:A$170, SMALL(IF(ISERROR(Temp!A$3:A$170), \"\", ROW(Temp!A$3:A$170)-MIN(ROW(Temp!A$3:A$170))+1), ROW(5:5))),\"\")","v":""},{"$f":"IFERROR(INDEX(Temp!B$3:B$170, SMALL(IF(ISERROR(Temp!B$3:B$170), \"\", ROW(Temp!B$3:B$170)-MIN(ROW(Temp!B$3:B$170))+1), ROW(5:5))),\"\")","v":""},{"$f":"IFERROR(INDEX(Temp!C$3:C$170, SMALL(IF(ISERROR(Temp!C$3:C$170), \"\", ROW(Temp!C$3:C$170)-MIN(ROW(Temp!C$3:C$170))+1), ROW(5:5))),\"\")","v":""},{"$f":"IFERROR(INDEX(Temp!D$3:D$170, SMALL(IF(ISERROR(Temp!D$3:D$170), \"\", ROW(Temp!D$3:D$170)-MIN(ROW(Temp!D$3:D$170))+1), ROW(5:5))),\"\")","v":""}]
[{"$f":"IFERROR(INDEX(Temp!A$3:A$170, SMALL(IF(ISERROR(Temp!A$3:A$170), \"\", ROW(Temp!A$3:A$170)-MIN(ROW(Temp!A$3:A$170))+1), ROW(6:6))),\"\")","v":""},{"$f":"IFERROR(INDEX(Temp!B$3:B$170, SMALL(IF(ISERROR(Temp!B$3:B$170), \"\", ROW(Temp!B$3:B$170)-MIN(ROW(Temp!B$3:B$170))+1), ROW(6:6))),\"\")","v":""},{"$f":"IFERROR(INDEX(Temp!C$3:C$170, SMALL(IF(ISERROR(Temp!C$3:C$170), \"\", ROW(Temp!C$3:C$170)-MIN(ROW(Temp!C$3:C$170))+1), ROW(6:6))),\"\")","v":""},{"$f":"IFERROR(INDEX(Temp!D$3:D$170, SMALL(IF(ISERROR(Temp!D$3:D$170), \"\", ROW(Temp!D$3:D$170)-MIN(ROW(Temp!D$3:D$170))+1), ROW(6:6))),\"\")","v":""}]
[{"$f":"IFERROR(INDEX(Temp!A$3:A$170, SMALL(IF(ISERROR(Temp!A$3:A$170), \"\", ROW(Temp!A$3:A$170)-MIN(ROW(Temp!A$3:A$170))+1), ROW(7:7))),\"\")","v":""},{"$f":"IFERROR(INDEX(Temp!B$3:B$170, SMALL(IF(ISERROR(Temp!B$3:B$170), \"\", ROW(Temp!B$3:B$170)-MIN(ROW(Temp!B$3:B$170))+1), ROW(7:7))),\"\")","v":""},{"$f":"IFERROR(INDEX(Temp!C$3:C$170, SMALL(IF(ISERROR(Temp!C$3:C$170), \"\", ROW(Temp!C$3:C$170)-MIN(ROW(Temp!C$3:C$170))+1), ROW(7:7))),\"\")","v":""},{"$f":"IFERROR(INDEX(Temp!D$3:D$170, SMALL(IF(ISERROR(Temp!D$3:D$170), \"\", ROW(Temp!D$3:D$170)-MIN(ROW(Temp!D$3:D$170))+1), ROW(7:7))),\"\")","v":""}]
[{"$f":"IFERROR(INDEX(Temp!A$3:A$170, SMALL(IF(ISERROR(Temp!A$3:A$170), \"\", ROW(Temp!A$3:A$170)-MIN(ROW(Temp!A$3:A$170))+1), ROW(8:8))),\"\")","v":""},{"$f":"IFERROR(INDEX(Temp!B$3:B$170, SMALL(IF(ISERROR(Temp!B$3:B$170), \"\", ROW(Temp!B$3:B$170)-MIN(ROW(Temp!B$3:B$170))+1), ROW(8:8))),\"\")","v":""},{"$f":"IFERROR(INDEX(Temp!C$3:C$170, SMALL(IF(ISERROR(Temp!C$3:C$170), \"\", ROW(Temp!C$3:C$170)-MIN(ROW(Temp!C$3:C$170))+1), ROW(8:8))),\"\")","v":""},{"$f":"IFERROR(INDEX(Temp!D$3:D$170, SMALL(IF(ISERROR(Temp!D$3:D$170), \"\", ROW(Temp!D$3:D$170)-MIN(ROW(Temp!D$3:D$170))+1), ROW(8:8))),\"\")","v":""}]
[{"$f":"IFERROR(INDEX(Temp!A$3:A$170, SMALL(IF(ISERROR(Temp!A$3:A$170), \"\", ROW(Temp!A$3:A$170)-MIN(ROW(Temp!A$3:A$170))+1), ROW(9:9))),\"\")","v":""},{"$f":"IFERROR(INDEX(Temp!B$3:B$170, SMALL(IF(ISERROR(Temp!B$3:B$170), \"\", ROW(Temp!B$3:B$170)-MIN(ROW(Temp!B$3:B$170))+1), ROW(9:9))),\"\")","v":""},{"$f":"IFERROR(INDEX(Temp!C$3:C$170, SMALL(IF(ISERROR(Temp!C$3:C$170), \"\", ROW(Temp!C$3:C$170)-MIN(ROW(Temp!C$3:C$170))+1), ROW(9:9))),\"\")","v":""},{"$f":"IFERROR(INDEX(Temp!D$3:D$170, SMALL(IF(ISERROR(Temp!D$3:D$170), \"\", ROW(Temp!D$3:D$170)-MIN(ROW(Temp!D$3:D$170))+1), ROW(9:9))),\"\")","v":""}]
[{"$f":"IFERROR(INDEX(Temp!A$3:A$170, SMALL(IF(ISERROR(Temp!A$3:A$170), \"\", ROW(Temp!A$3:A$170)-MIN(ROW(Temp!A$3:A$170))+1), ROW(10:10))),\"\")","v":""},{"$f":"IFERROR(INDEX(Temp!B$3:B$170, SMALL(IF(ISERROR(Temp!B$3:B$170), \"\", ROW(Temp!B$3:B$170)-MIN(ROW(Temp!B$3:B$170))+1), ROW(10:10))),\"\")","v":""},{"$f":"IFERROR(INDEX(Temp!C$3:C$170, SMALL(IF(ISERROR(Temp!C$3:C$170), \"\", ROW(Temp!C$3:C$170)-MIN(ROW(Temp!C$3:C$170))+1), ROW(10:10))),\"\")","v":""},{"$f":"IFERROR(INDEX(Temp!D$3:D$170, SMALL(IF(ISERROR(Temp!D$3:D$170), \"\", ROW(Temp!D$3:D$170)-MIN(ROW(Temp!D$3:D$170))+1), ROW(10:10))),\"\")","v":""}]
[{"$f":"IFERROR(INDEX(Temp!A$3:A$170, SMALL(IF(ISERROR(Temp!A$3:A$170), \"\", ROW(Temp!A$3:A$170)-MIN(ROW(Temp!A$3:A$170))+1), ROW(11:11))),\"\")","v":""},{"$f":"IFERROR(INDEX(Temp!B$3:B$170, SMALL(IF(ISERROR(Temp!B$3:B$170), \"\", ROW(Temp!B$3:B$170)-MIN(ROW(Temp!B$3:B$170))+1), ROW(11:11))),\"\")","v":""},{"$f":"IFERROR(INDEX(Temp!C$3:C$170, SMALL(IF(ISERROR(Temp!C$3:C$170), \"\", ROW(Temp!C$3:C$170)-MIN(ROW(Temp!C$3:C$170))+1), ROW(11:11))),\"\")","v":""},{"$f":"IFERROR(INDEX(Temp!D$3:D$170, SMALL(IF(ISERROR(Temp!D$3:D$170), \"\", ROW(Temp!D$3:D$170)-MIN(ROW(Temp!D$3:D$170))+1), ROW(11:11))),\"\")","v":""}]
[{"$f":"IFERROR(INDEX(Temp!A$3:A$170, SMALL(IF(ISERROR(Temp!A$3:A$170), \"\", ROW(Temp!A$3:A$170)-MIN(ROW(Temp!A$3:A$170))+1), ROW(12:12))),\"\")","v":""},{"$f":"IFERROR(INDEX(Temp!B$3:B$170, SMALL(IF(ISERROR(Temp!B$3:B$170), \"\", ROW(Temp!B$3:B$170)-MIN(ROW(Temp!B$3:B$170))+1), ROW(12:12))),\"\")","v":""},{"$f":"IFERROR(INDEX(Temp!C$3:C$170, SMALL(IF(ISERROR(Temp!C$3:C$170), \"\", ROW(Temp!C$3:C$170)-MIN(ROW(Temp!C$3:C$170))+1), ROW(12:12))),\"\")","v":""},{"$f":"IFERROR(INDEX(Temp!D$3:D$170, SMALL(IF(ISERROR(Temp!D$3:D$170), \"\", ROW(Temp!D$3:D$170)-MIN(ROW(Temp!D$3:D$170))+1), ROW(12:12))),\"\")","v":""}]
[{"$f":"IFERROR(INDEX(Temp!A$3:A$170, SMALL(IF(ISERROR(Temp!A$3:A$170), \"\", ROW(Temp!A$3:A$170)-MIN(ROW(Temp!A$3:A$170))+1), ROW(13:13))),\"\")","v":""},{"$f":"IFERROR(INDEX(Temp!B$3:B$170, SMALL(IF(ISERROR(Temp!B$3:B$170), \"\", ROW(Temp!B$3:B$170)-MIN(ROW(Temp!B$3:B$170))+1), ROW(13:13))),\"\")","v":""},{"$f":"IFERROR(INDEX(Temp!C$3:C$170, SMALL(IF(ISERROR(Temp!C$3:C$170), \"\", ROW(Temp!C$3:C$170)-MIN(ROW(Temp!C$3:C$170))+1), ROW(13:13))),\"\")","v":""},{"$f":"IFERROR(INDEX(Temp!D$3:D$170, SMALL(IF(ISERROR(Temp!D$3:D$170), \"\", ROW(Temp!D$3:D$170)-MIN(ROW(Temp!D$3:D$170))+1), ROW(13:13))),\"\")","v":""}]
[{"$f":"IFERROR(INDEX(Temp!A$3:A$170, SMALL(IF(ISERROR(Temp!A$3:A$170), \"\", ROW(Temp!A$3:A$170)-MIN(ROW(Temp!A$3:A$170))+1), ROW(14:14))),\"\")","v":""},{"$f":"IFERROR(INDEX(Temp!B$3:B$170, SMALL(IF(ISERROR(Temp!B$3:B$170), \"\", ROW(Temp!B$3:B$170)-MIN(ROW(Temp!B$3:B$170))+1), ROW(14:14))),\"\")","v":""},{"$f":"IFERROR(INDEX(Temp!C$3:C$170, SMALL(IF(ISERROR(Temp!C$3:C$170), \"\", ROW(Temp!C$3:C$170)-MIN(ROW(Temp!C$3:C$170))+1), ROW(14:14))),\"\")","v":""},{"$f":"IFERROR(INDEX(Temp!D$3:D$170, SMALL(IF(ISERROR(Temp!D$3:D$170), \"\", ROW(Temp!D$3:D$170)-MIN(ROW(Temp!D$3:D$170))+1), ROW(14:14))),\"\")","v":""}]
[{"$f":"IFERROR(INDEX(Temp!A$3:A$170, SMALL(IF(ISERROR(Temp!A$3:A$170), \"\", ROW(Temp!A$3:A$170)-MIN(ROW(Temp!A$3:A$170))+1), ROW(15:15))),\"\")","v":""},{"$f":"IFERROR(INDEX(Temp!B$3:B$170, SMALL(IF(ISERROR(Temp!B$3:B$170), \"\", ROW(Temp!B$3:B$170)-MIN(ROW(Temp!B$3:B$170))+1), ROW(15:15))),\"\")","v":""},{"$f":"IFERROR(INDEX(Temp!C$3:C$170, SMALL(IF(ISERROR(Temp!C$3:C$170), \"\", ROW(Temp!C$3:C$170)-MIN(ROW(Temp!C$3:C$170))+1), ROW(15:15))),\"\")","v":""},{"$f":"IFERROR(INDEX(Temp!D$3:D$170, SMALL(IF(ISERROR(Temp!D$3:D$170), \"\", ROW(Temp!D$3:D$170)-MIN(ROW(Temp!D$3:D$170))+1), ROW(15:15))),\"\")","v":""}]
[{"$f":"IFERROR(INDEX(Temp!A$3:A$170, SMALL(IF(ISERROR(Temp!A$3:A$170), \"\", ROW(Temp!A$3:A$170)-MIN(ROW(Temp!A$3:A$170))+1), ROW(16:16))),\"\")","v":""},{"$f":"IFERROR(INDEX(Temp!B$3:B$170, SMALL(IF(ISERROR(Temp!B$3:B$170), \"\", ROW(Temp!B$3:B$170)-MIN(ROW(Temp!B$3:B$170))+1), ROW(16:16))),\"\")","v":""},{"$f":"IFERROR(INDEX(Temp!C$3:C$170, SMALL(IF(ISERROR(Temp!C$3:C$170), \"\", ROW(Temp!C$3:C$170)-MIN(ROW(Temp!C$3:C$170))+1), ROW(16:16))),\"\")","v":""},{"$f":"IFERROR(INDEX(Temp!D$3:D$170, SMALL(IF(ISERROR(Temp!D$3:D$170), \"\", ROW(Temp!D$3:D$170)-MIN(ROW(Temp!D$3:D$170))+1), ROW(16:16))),\"\")","v":""}]
[{"$f":"IFERROR(INDEX(Temp!A$3:A$170, SMALL(IF(ISERROR(Temp!A$3:A$170), \"\", ROW(Temp!A$3:A$170)-MIN(ROW(Temp!A$3:A$170))+1), ROW(17:17))),\"\")","v":""},{"$f":"IFERROR(INDEX(Temp!B$3:B$170, SMALL(IF(ISERROR(Temp!B$3:B$170), \"\", ROW(Temp!B$3:B$170)-MIN(ROW(Temp!B$3:B$170))+1), ROW(17:17))),\"\")","v":""},{"$f":"IFERROR(INDEX(Temp!C$3:C$170, SMALL(IF(ISERROR(Temp!C$3:C$170), \"\", ROW(Temp!C$3:C$170)-MIN(ROW(Temp!C$3:C$170))+1), ROW(17:17))),\"\")","v":""},{"$f":"IFERROR(INDEX(Temp!D$3:D$170, SMALL(IF(ISERROR(Temp!D$3:D$170), \"\", ROW(Temp!D$3:D$170)-MIN(ROW(Temp!D$3:D$170))+1), ROW(17:17))),\"\")","v":""}]
[{"$f":"IFERROR(INDEX(Temp!A$3:A$170, SMALL(IF(ISERROR(Temp!A$3:A$170), \"\", ROW(Temp!A$3:A$170)-MIN(ROW(Temp!A$3:A$170))+1), ROW(18:18))),\"\")","v":""},{"$f":"IFERROR(INDEX(Temp!B$3:B$170, SMALL(IF(ISERROR(Temp!B$3:B$170), \"\", ROW(Temp!B$3:B$170)-MIN(ROW(Temp!B$3:B$170))+1), ROW(18:18))),\"\")","v":""},{"$f":"IFERROR(INDEX(Temp!C$3:C$170, SMALL(IF(ISERROR(Temp!C$3:C$170), \"\", ROW(Temp!C$3:C$170)-MIN(ROW(Temp!C$3:C$170))+1), ROW(18:18))),\"\")","v":""},{"$f":"IFERROR(INDEX(Temp!D$3:D$170, SMALL(IF(ISERROR(Temp!D$3:D$170), \"\", ROW(Temp!D$3:D$170)-MIN(ROW(Temp!D$3:D$170))+1), ROW(18:18))),\"\")","v":""}]
[{"$f":"IFERROR(INDEX(Temp!A$3:A$170, SMALL(IF(ISERROR(Temp!A$3:A$170), \"\", ROW(Temp!A$3:A$170)-MIN(ROW(Temp!A$3:A$170))+1), ROW(19:19))),\"\")","v":""},{"$f":"IFERROR(INDEX(Temp!B$3:B$170, SMALL(IF(ISERROR(Temp!B$3:B$170), \"\", ROW(Temp!B$3:B$170)-MIN(ROW(Temp!B$3:B$170))+1), ROW(19:19))),\"\")","v":""},{"$f":"IFERROR(INDEX(Temp!C$3:C$170, SMALL(IF(ISERROR(Temp!C$3:C$170), \"\", ROW(Temp!C$3:C$170)-MIN(ROW(Temp!C$3:C$170))+1), ROW(19:19))),\"\")","v":""},{"$f":"IFERROR(INDEX(Temp!D$3:D$170, SMALL(IF(ISERROR(Temp!D$3:D$170), \"\", ROW(Temp!D$3:D$170)-MIN(ROW(Temp!D$3:D$170))+1), ROW(19:19))),\"\")","v":""}]
[{"$f":"IFERROR(INDEX(Temp!A$3:A$170, SMALL(IF(ISERROR(Temp!A$3:A$170), \"\", ROW(Temp!A$3:A$170)-MIN(ROW(Temp!A$3:A$170))+1), ROW(20:20))),\"\")","v":""},{"$f":"IFERROR(INDEX(Temp!B$3:B$170, SMALL(IF(ISERROR(Temp!B$3:B$170), \"\", ROW(Temp!B$3:B$170)-MIN(ROW(Temp!B$3:B$170))+1), ROW(20:20))),\"\")","v":""},{"$f":"IFERROR(INDEX(Temp!C$3:C$170, SMALL(IF(ISERROR(Temp!C$3:C$170), \"\", ROW(Temp!C$3:C$170)-MIN(ROW(Temp!C$3:C$170))+1), ROW(20:20))),\"\")","v":""},{"$f":"IFERROR(INDEX(Temp!D$3:D$170, SMALL(IF(ISERROR(Temp!D$3:D$170), \"\", ROW(Temp!D$3:D$170)-MIN(ROW(Temp!D$3:D$170))+1), ROW(20:20))),\"\")","v":""}]
[{"$f":"IFERROR(INDEX(Temp!A$3:A$170, SMALL(IF(ISERROR(Temp!A$3:A$170), \"\", ROW(Temp!A$3:A$170)-MIN(ROW(Temp!A$3:A$170))+1), ROW(21:21))),\"\")","v":""},{"$f":"IFERROR(INDEX(Temp!B$3:B$170, SMALL(IF(ISERROR(Temp!B$3:B$170), \"\", ROW(Temp!B$3:B$170)-MIN(ROW(Temp!B$3:B$170))+1), ROW(21:21))),\"\")","v":""},{"$f":"IFERROR(INDEX(Temp!C$3:C$170, SMALL(IF(ISERROR(Temp!C$3:C$170), \"\", ROW(Temp!C$3:C$170)-MIN(ROW(Temp!C$3:C$170))+1), ROW(21:21))),\"\")","v":""},{"$f":"IFERROR(INDEX(Temp!D$3:D$170, SMALL(IF(ISERROR(Temp!D$3:D$170), \"\", ROW(Temp!D$3:D$170)-MIN(ROW(Temp!D$3:D$170))+1), ROW(21:21))),\"\")","v":""}]
[{"$f":"IFERROR(INDEX(Temp!A$3:A$170, SMALL(IF(ISERROR(Temp!A$3:A$170), \"\", ROW(Temp!A$3:A$170)-MIN(ROW(Temp!A$3:A$170))+1), ROW(22:22))),\"\")","v":""},{"$f":"IFERROR(INDEX(Temp!B$3:B$170, SMALL(IF(ISERROR(Temp!B$3:B$170), \"\", ROW(Temp!B$3:B$170)-MIN(ROW(Temp!B$3:B$170))+1), ROW(22:22))),\"\")","v":""},{"$f":"IFERROR(INDEX(Temp!C$3:C$170, SMALL(IF(ISERROR(Temp!C$3:C$170), \"\", ROW(Temp!C$3:C$170)-MIN(ROW(Temp!C$3:C$170))+1), ROW(22:22))),\"\")","v":""},{"$f":"IFERROR(INDEX(Temp!D$3:D$170, SMALL(IF(ISERROR(Temp!D$3:D$170), \"\", ROW(Temp!D$3:D$170)-MIN(ROW(Temp!D$3:D$170))+1), ROW(22:22))),\"\")","v":""}]
[{"$f":"IFERROR(INDEX(Temp!A$3:A$170, SMALL(IF(ISERROR(Temp!A$3:A$170), \"\", ROW(Temp!A$3:A$170)-MIN(ROW(Temp!A$3:A$170))+1), ROW(23:23))),\"\")","v":""},{"$f":"IFERROR(INDEX(Temp!B$3:B$170, SMALL(IF(ISERROR(Temp!B$3:B$170), \"\", ROW(Temp!B$3:B$170)-MIN(ROW(Temp!B$3:B$170))+1), ROW(23:23))),\"\")","v":""},{"$f":"IFERROR(INDEX(Temp!C$3:C$170, SMALL(IF(ISERROR(Temp!C$3:C$170), \"\", ROW(Temp!C$3:C$170)-MIN(ROW(Temp!C$3:C$170))+1), ROW(23:23))),\"\")","v":""},{"$f":"IFERROR(INDEX(Temp!D$3:D$170, SMALL(IF(ISERROR(Temp!D$3:D$170), \"\", ROW(Temp!D$3:D$170)-MIN(ROW(Temp!D$3:D$170))+1), ROW(23:23))),\"\")","v":""}]
[{"$f":"IFERROR(INDEX(Temp!A$3:A$170, SMALL(IF(ISERROR(Temp!A$3:A$170), \"\", ROW(Temp!A$3:A$170)-MIN(ROW(Temp!A$3:A$170))+1), ROW(24:24))),\"\")","v":""},{"$f":"IFERROR(INDEX(Temp!B$3:B$170, SMALL(IF(ISERROR(Temp!B$3:B$170), \"\", ROW(Temp!B$3:B$170)-MIN(ROW(Temp!B$3:B$170))+1), ROW(24:24))),\"\")","v":""},{"$f":"IFERROR(INDEX(Temp!C$3:C$170, SMALL(IF(ISERROR(Temp!C$3:C$170), \"\", ROW(Temp!C$3:C$170)-MIN(ROW(Temp!C$3:C$170))+1), ROW(24:24))),\"\")","v":""},{"$f":"IFERROR(INDEX(Temp!D$3:D$170, SMALL(IF(ISERROR(Temp!D$3:D$170), \"\", ROW(Temp!D$3:D$170)-MIN(ROW(Temp!D$3:D$170))+1), ROW(24:24))),\"\")","v":""}]
[{"$f":"IFERROR(INDEX(Temp!A$3:A$170, SMALL(IF(ISERROR(Temp!A$3:A$170), \"\", ROW(Temp!A$3:A$170)-MIN(ROW(Temp!A$3:A$170))+1), ROW(25:25))),\"\")","v":""},{"$f":"IFERROR(INDEX(Temp!B$3:B$170, SMALL(IF(ISERROR(Temp!B$3:B$170), \"\", ROW(Temp!B$3:B$170)-MIN(ROW(Temp!B$3:B$170))+1), ROW(25:25))),\"\")","v":""},{"$f":"IFERROR(INDEX(Temp!C$3:C$170, SMALL(IF(ISERROR(Temp!C$3:C$170), \"\", ROW(Temp!C$3:C$170)-MIN(ROW(Temp!C$3:C$170))+1), ROW(25:25))),\"\")","v":""},{"$f":"IFERROR(INDEX(Temp!D$3:D$170, SMALL(IF(ISERROR(Temp!D$3:D$170), \"\", ROW(Temp!D$3:D$170)-MIN(ROW(Temp!D$3:D$170))+1), ROW(25:25))),\"\")","v":""}]
[{"$f":"IFERROR(INDEX(Temp!A$3:A$170, SMALL(IF(ISERROR(Temp!A$3:A$170), \"\", ROW(Temp!A$3:A$170)-MIN(ROW(Temp!A$3:A$170))+1), ROW(26:26))),\"\")","v":""},{"$f":"IFERROR(INDEX(Temp!B$3:B$170, SMALL(IF(ISERROR(Temp!B$3:B$170), \"\", ROW(Temp!B$3:B$170)-MIN(ROW(Temp!B$3:B$170))+1), ROW(26:26))),\"\")","v":""},{"$f":"IFERROR(INDEX(Temp!C$3:C$170, SMALL(IF(ISERROR(Temp!C$3:C$170), \"\", ROW(Temp!C$3:C$170)-MIN(ROW(Temp!C$3:C$170))+1), ROW(26:26))),\"\")","v":""},{"$f":"IFERROR(INDEX(Temp!D$3:D$170, SMALL(IF(ISERROR(Temp!D$3:D$170), \"\", ROW(Temp!D$3:D$170)-MIN(ROW(Temp!D$3:D$170))+1), ROW(26:26))),\"\")","v":""}]
[{"$f":"IFERROR(INDEX(Temp!A$3:A$170, SMALL(IF(ISERROR(Temp!A$3:A$170), \"\", ROW(Temp!A$3:A$170)-MIN(ROW(Temp!A$3:A$170))+1), ROW(27:27))),\"\")","v":""},{"$f":"IFERROR(INDEX(Temp!B$3:B$170, SMALL(IF(ISERROR(Temp!B$3:B$170), \"\", ROW(Temp!B$3:B$170)-MIN(ROW(Temp!B$3:B$170))+1), ROW(27:27))),\"\")","v":""},{"$f":"IFERROR(INDEX(Temp!C$3:C$170, SMALL(IF(ISERROR(Temp!C$3:C$170), \"\", ROW(Temp!C$3:C$170)-MIN(ROW(Temp!C$3:C$170))+1), ROW(27:27))),\"\")","v":""},{"$f":"IFERROR(INDEX(Temp!D$3:D$170, SMALL(IF(ISERROR(Temp!D$3:D$170), \"\", ROW(Temp!D$3:D$170)-MIN(ROW(Temp!D$3:D$170))+1), ROW(27:27))),\"\")","v":""}]
[{"$f":"IFERROR(INDEX(Temp!A$3:A$170, SMALL(IF(ISERROR(Temp!A$3:A$170), \"\", ROW(Temp!A$3:A$170)-MIN(ROW(Temp!A$3:A$170))+1), ROW(28:28))),\"\")","v":""},{"$f":"IFERROR(INDEX(Temp!B$3:B$170, SMALL(IF(ISERROR(Temp!B$3:B$170), \"\", ROW(Temp!B$3:B$170)-MIN(ROW(Temp!B$3:B$170))+1), ROW(28:28))),\"\")","v":""},{"$f":"IFERROR(INDEX(Temp!C$3:C$170, SMALL(IF(ISERROR(Temp!C$3:C$170), \"\", ROW(Temp!C$3:C$170)-MIN(ROW(Temp!C$3:C$170))+1), ROW(28:28))),\"\")","v":""},{"$f":"IFERROR(INDEX(Temp!D$3:D$170, SMALL(IF(ISERROR(Temp!D$3:D$170), \"\", ROW(Temp!D$3:D$170)-MIN(ROW(Temp!D$3:D$170))+1), ROW(28:28))),\"\")","v":""}]
[{"$f":"IFERROR(INDEX(Temp!A$3:A$170, SMALL(IF(ISERROR(Temp!A$3:A$170), \"\", ROW(Temp!A$3:A$170)-MIN(ROW(Temp!A$3:A$170))+1), ROW(29:29))),\"\")","v":""},{"$f":"IFERROR(INDEX(Temp!B$3:B$170, SMALL(IF(ISERROR(Temp!B$3:B$170), \"\", ROW(Temp!B$3:B$170)-MIN(ROW(Temp!B$3:B$170))+1), ROW(29:29))),\"\")","v":""},{"$f":"IFERROR(INDEX(Temp!C$3:C$170, SMALL(IF(ISERROR(Temp!C$3:C$170), \"\", ROW(Temp!C$3:C$170)-MIN(ROW(Temp!C$3:C$170))+1), ROW(29:29))),\"\")","v":""},{"$f":"IFERROR(INDEX(Temp!D$3:D$170, SMALL(IF(ISERROR(Temp!D$3:D$170), \"\", ROW(Temp!D$3:D$170)-MIN(ROW(Temp!D$3:D$170))+1), ROW(29:29))),\"\")","v":""}]
[{"$f":"IFERROR(INDEX(Temp!A$3:A$170, SMALL(IF(ISERROR(Temp!A$3:A$170), \"\", ROW(Temp!A$3:A$170)-MIN(ROW(Temp!A$3:A$170))+1), ROW(30:30))),\"\")","v":""},{"$f":"IFERROR(INDEX(Temp!B$3:B$170, SMALL(IF(ISERROR(Temp!B$3:B$170), \"\", ROW(Temp!B$3:B$170)-MIN(ROW(Temp!B$3:B$170))+1), ROW(30:30))),\"\")","v":""},{"$f":"IFERROR(INDEX(Temp!C$3:C$170, SMALL(IF(ISERROR(Temp!C$3:C$170), \"\", ROW(Temp!C$3:C$170)-MIN(ROW(Temp!C$3:C$170))+1), ROW(30:30))),\"\")","v":""},{"$f":"IFERROR(INDEX(Temp!D$3:D$170, SMALL(IF(ISERROR(Temp!D$3:D$170), \"\", ROW(Temp!D$3:D$170)-MIN(ROW(Temp!D$3:D$170))+1), ROW(30:30))),\"\")","v":""}]
[{"$f":"IFERROR(INDEX(Temp!A$3:A$170, SMALL(IF(ISERROR(Temp!A$3:A$170), \"\", ROW(Temp!A$3:A$170)-MIN(ROW(Temp!A$3:A$170))+1), ROW(31:31))),\"\")","v":""},{"$f":"IFERROR(INDEX(Temp!B$3:B$170, SMALL(IF(ISERROR(Temp!B$3:B$170), \"\", ROW(Temp!B$3:B$170)-MIN(ROW(Temp!B$3:B$170))+1), ROW(31:31))),\"\")","v":""},{"$f":"IFERROR(INDEX(Temp!C$3:C$170, SMALL(IF(ISERROR(Temp!C$3:C$170), \"\", ROW(Temp!C$3:C$170)-MIN(ROW(Temp!C$3:C$170))+1), ROW(31:31))),\"\")","v":""},{"$f":"IFERROR(INDEX(Temp!D$3:D$170, SMALL(IF(ISERROR(Temp!D$3:D$170), \"\", ROW(Temp!D$3:D$170)-MIN(ROW(Temp!D$3:D$170))+1), ROW(31:31))),\"\")","v":""}]
[{"$f":"IFERROR(INDEX(Temp!A$3:A$170, SMALL(IF(ISERROR(Temp!A$3:A$170), \"\", ROW(Temp!A$3:A$170)-MIN(ROW(Temp!A$3:A$170))+1), ROW(32:32))),\"\")","v":""},{"$f":"IFERROR(INDEX(Temp!B$3:B$170, SMALL(IF(ISERROR(Temp!B$3:B$170), \"\", ROW(Temp!B$3:B$170)-MIN(ROW(Temp!B$3:B$170))+1), ROW(32:32))),\"\")","v":""},{"$f":"IFERROR(INDEX(Temp!C$3:C$170, SMALL(IF(ISERROR(Temp!C$3:C$170), \"\", ROW(Temp!C$3:C$170)-MIN(ROW(Temp!C$3:C$170))+1), ROW(32:32))),\"\")","v":""},{"$f":"IFERROR(INDEX(Temp!D$3:D$170, SMALL(IF(ISERROR(Temp!D$3:D$170), \"\", ROW(Temp!D$3:D$170)-MIN(ROW(Temp!D$3:D$170))+1), ROW(32:32))),\"\")","v":""}]
[{"$f":"IFERROR(INDEX(Temp!A$3:A$170, SMALL(IF(ISERROR(Temp!A$3:A$170), \"\", ROW(Temp!A$3:A$170)-MIN(ROW(Temp!A$3:A$170))+1), ROW(33:33))),\"\")","v":""},{"$f":"IFERROR(INDEX(Temp!B$3:B$170, SMALL(IF(ISERROR(Temp!B$3:B$170), \"\", ROW(Temp!B$3:B$170)-MIN(ROW(Temp!B$3:B$170))+1), ROW(33:33))),\"\")","v":""},{"$f":"IFERROR(INDEX(Temp!C$3:C$170, SMALL(IF(ISERROR(Temp!C$3:C$170), \"\", ROW(Temp!C$3:C$170)-MIN(ROW(Temp!C$3:C$170))+1), ROW(33:33))),\"\")","v":""},{"$f":"IFERROR(INDEX(Temp!D$3:D$170, SMALL(IF(ISERROR(Temp!D$3:D$170), \"\", ROW(Temp!D$3:D$170)-MIN(ROW(Temp!D$3:D$170))+1), ROW(33:33))),\"\")","v":""}]
[{"$f":"IFERROR(INDEX(Temp!A$3:A$170, SMALL(IF(ISERROR(Temp!A$3:A$170), \"\", ROW(Temp!A$3:A$170)-MIN(ROW(Temp!A$3:A$170))+1), ROW(34:34))),\"\")","v":""},{"$f":"IFERROR(INDEX(Temp!B$3:B$170, SMALL(IF(ISERROR(Temp!B$3:B$170), \"\", ROW(Temp!B$3:B$170)-MIN(ROW(Temp!B$3:B$170))+1), ROW(34:34))),\"\")","v":""},{"$f":"IFERROR(INDEX(Temp!C$3:C$170, SMALL(IF(ISERROR(Temp!C$3:C$170), \"\", ROW(Temp!C$3:C$170)-MIN(ROW(Temp!C$3:C$170))+1), ROW(34:34))),\"\")","v":""},{"$f":"IFERROR(INDEX(Temp!D$3:D$170, SMALL(IF(ISERROR(Temp!D$3:D$170), \"\", ROW(Temp!D$3:D$170)-MIN(ROW(Temp!D$3:D$170))+1), ROW(34:34))),\"\")","v":""}]
[{"$f":"IFERROR(INDEX(Temp!A$3:A$170, SMALL(IF(ISERROR(Temp!A$3:A$170), \"\", ROW(Temp!A$3:A$170)-MIN(ROW(Temp!A$3:A$170))+1), ROW(35:35))),\"\")","v":""},{"$f":"IFERROR(INDEX(Temp!B$3:B$170, SMALL(IF(ISERROR(Temp!B$3:B$170), \"\", ROW(Temp!B$3:B$170)-MIN(ROW(Temp!B$3:B$170))+1), ROW(35:35))),\"\")","v":""},{"$f":"IFERROR(INDEX(Temp!C$3:C$170, SMALL(IF(ISERROR(Temp!C$3:C$170), \"\", ROW(Temp!C$3:C$170)-MIN(ROW(Temp!C$3:C$170))+1), ROW(35:35))),\"\")","v":""},{"$f":"IFERROR(INDEX(Temp!D$3:D$170, SMALL(IF(ISERROR(Temp!D$3:D$170), \"\", ROW(Temp!D$3:D$170)-MIN(ROW(Temp!D$3:D$170))+1), ROW(35:35))),\"\")","v":""}]
[{"$f":"IFERROR(INDEX(Temp!A$3:A$170, SMALL(IF(ISERROR(Temp!A$3:A$170), \"\", ROW(Temp!A$3:A$170)-MIN(ROW(Temp!A$3:A$170))+1), ROW(36:36))),\"\")","v":""},{"$f":"IFERROR(INDEX(Temp!B$3:B$170, SMALL(IF(ISERROR(Temp!B$3:B$170), \"\", ROW(Temp!B$3:B$170)-MIN(ROW(Temp!B$3:B$170))+1), ROW(36:36))),\"\")","v":""},{"$f":"IFERROR(INDEX(Temp!C$3:C$170, SMALL(IF(ISERROR(Temp!C$3:C$170), \"\", ROW(Temp!C$3:C$170)-MIN(ROW(Temp!C$3:C$170))+1), ROW(36:36))),\"\")","v":""},{"$f":"IFERROR(INDEX(Temp!D$3:D$170, SMALL(IF(ISERROR(Temp!D$3:D$170), \"\", ROW(Temp!D$3:D$170)-MIN(ROW(Temp!D$3:D$170))+1), ROW(36:36))),\"\")","v":""}]
[{"$f":"IFERROR(INDEX(Temp!A$3:A$170, SMALL(IF(ISERROR(Temp!A$3:A$170), \"\", ROW(Temp!A$3:A$170)-MIN(ROW(Temp!A$3:A$170))+1), ROW(37:37))),\"\")","v":""},{"$f":"IFERROR(INDEX(Temp!B$3:B$170, SMALL(IF(ISERROR(Temp!B$3:B$170), \"\", ROW(Temp!B$3:B$170)-MIN(ROW(Temp!B$3:B$170))+1), ROW(37:37))),\"\")","v":""},{"$f":"IFERROR(INDEX(Temp!C$3:C$170, SMALL(IF(ISERROR(Temp!C$3:C$170), \"\", ROW(Temp!C$3:C$170)-MIN(ROW(Temp!C$3:C$170))+1), ROW(37:37))),\"\")","v":""},{"$f":"IFERROR(INDEX(Temp!D$3:D$170, SMALL(IF(ISERROR(Temp!D$3:D$170), \"\", ROW(Temp!D$3:D$170)-MIN(ROW(Temp!D$3:D$170))+1), ROW(37:37))),\"\")","v":""}]
[{"$f":"IFERROR(INDEX(Temp!A$3:A$170, SMALL(IF(ISERROR(Temp!A$3:A$170), \"\", ROW(Temp!A$3:A$170)-MIN(ROW(Temp!A$3:A$170))+1), ROW(38:38))),\"\")","v":""},{"$f":"IFERROR(INDEX(Temp!B$3:B$170, SMALL(IF(ISERROR(Temp!B$3:B$170), \"\", ROW(Temp!B$3:B$170)-MIN(ROW(Temp!B$3:B$170))+1), ROW(38:38))),\"\")","v":""},{"$f":"IFERROR(INDEX(Temp!C$3:C$170, SMALL(IF(ISERROR(Temp!C$3:C$170), \"\", ROW(Temp!C$3:C$170)-MIN(ROW(Temp!C$3:C$170))+1), ROW(38:38))),\"\")","v":""},{"$f":"IFERROR(INDEX(Temp!D$3:D$170, SMALL(IF(ISERROR(Temp!D$3:D$170), \"\", ROW(Temp!D$3:D$170)-MIN(ROW(Temp!D$3:D$170))+1), ROW(38:38))),\"\")","v":""}]
[{"$f":"IFERROR(INDEX(Temp!A$3:A$170, SMALL(IF(ISERROR(Temp!A$3:A$170), \"\", ROW(Temp!A$3:A$170)-MIN(ROW(Temp!A$3:A$170))+1), ROW(39:39))),\"\")","v":""},{"$f":"IFERROR(INDEX(Temp!B$3:B$170, SMALL(IF(ISERROR(Temp!B$3:B$170), \"\", ROW(Temp!B$3:B$170)-MIN(ROW(Temp!B$3:B$170))+1), ROW(39:39))),\"\")","v":""},{"$f":"IFERROR(INDEX(Temp!C$3:C$170, SMALL(IF(ISERROR(Temp!C$3:C$170), \"\", ROW(Temp!C$3:C$170)-MIN(ROW(Temp!C$3:C$170))+1), ROW(39:39))),\"\")","v":""},{"$f":"IFERROR(INDEX(Temp!D$3:D$170, SMALL(IF(ISERROR(Temp!D$3:D$170), \"\", ROW(Temp!D$3:D$170)-MIN(ROW(Temp!D$3:D$170))+1), ROW(39:39))),\"\")","v":""}]
[{"$f":"IFERROR(INDEX(Temp!A$3:A$170, SMALL(IF(ISERROR(Temp!A$3:A$170), \"\", ROW(Temp!A$3:A$170)-MIN(ROW(Temp!A$3:A$170))+1), ROW(40:40))),\"\")","v":""},{"$f":"IFERROR(INDEX(Temp!B$3:B$170, SMALL(IF(ISERROR(Temp!B$3:B$170), \"\", ROW(Temp!B$3:B$170)-MIN(ROW(Temp!B$3:B$170))+1), ROW(40:40))),\"\")","v":""},{"$f":"IFERROR(INDEX(Temp!C$3:C$170, SMALL(IF(ISERROR(Temp!C$3:C$170), \"\", ROW(Temp!C$3:C$170)-MIN(ROW(Temp!C$3:C$170))+1), ROW(40:40))),\"\")","v":""},{"$f":"IFERROR(INDEX(Temp!D$3:D$170, SMALL(IF(ISERROR(Temp!D$3:D$170), \"\", ROW(Temp!D$3:D$170)-MIN(ROW(Temp!D$3:D$170))+1), ROW(40:40))),\"\")","v":""}]
[{"$f":"IFERROR(INDEX(Temp!A$3:A$170, SMALL(IF(ISERROR(Temp!A$3:A$170), \"\", ROW(Temp!A$3:A$170)-MIN(ROW(Temp!A$3:A$170))+1), ROW(41:41))),\"\")","v":""},{"$f":"IFERROR(INDEX(Temp!B$3:B$170, SMALL(IF(ISERROR(Temp!B$3:B$170), \"\", ROW(Temp!B$3:B$170)-MIN(ROW(Temp!B$3:B$170))+1), ROW(41:41))),\"\")","v":""},{"$f":"IFERROR(INDEX(Temp!C$3:C$170, SMALL(IF(ISERROR(Temp!C$3:C$170), \"\", ROW(Temp!C$3:C$170)-MIN(ROW(Temp!C$3:C$170))+1), ROW(41:41))),\"\")","v":""},{"$f":"IFERROR(INDEX(Temp!D$3:D$170, SMALL(IF(ISERROR(Temp!D$3:D$170), \"\", ROW(Temp!D$3:D$170)-MIN(ROW(Temp!D$3:D$170))+1), ROW(41:41))),\"\")","v":""}]
[{"$f":"IFERROR(INDEX(Temp!A$3:A$170, SMALL(IF(ISERROR(Temp!A$3:A$170), \"\", ROW(Temp!A$3:A$170)-MIN(ROW(Temp!A$3:A$170))+1), ROW(42:42))),\"\")","v":""},{"$f":"IFERROR(INDEX(Temp!B$3:B$170, SMALL(IF(ISERROR(Temp!B$3:B$170), \"\", ROW(Temp!B$3:B$170)-MIN(ROW(Temp!B$3:B$170))+1), ROW(42:42))),\"\")","v":""},{"$f":"IFERROR(INDEX(Temp!C$3:C$170, SMALL(IF(ISERROR(Temp!C$3:C$170), \"\", ROW(Temp!C$3:C$170)-MIN(ROW(Temp!C$3:C$170))+1), ROW(42:42))),\"\")","v":""},{"$f":"IFERROR(INDEX(Temp!D$3:D$170, SMALL(IF(ISERROR(Temp!D$3:D$170), \"\", ROW(Temp!D$3:D$170)-MIN(ROW(Temp!D$3:D$170))+1), ROW(42:42))),\"\")","v":""}]
[{"$f":"IFERROR(INDEX(Temp!A$3:A$170, SMALL(IF(ISERROR(Temp!A$3:A$170), \"\", ROW(Temp!A$3:A$170)-MIN(ROW(Temp!A$3:A$170))+1), ROW(43:43))),\"\")","v":""},{"$f":"IFERROR(INDEX(Temp!B$3:B$170, SMALL(IF(ISERROR(Temp!B$3:B$170), \"\", ROW(Temp!B$3:B$170)-MIN(ROW(Temp!B$3:B$170))+1), ROW(43:43))),\"\")","v":""},{"$f":"IFERROR(INDEX(Temp!C$3:C$170, SMALL(IF(ISERROR(Temp!C$3:C$170), \"\", ROW(Temp!C$3:C$170)-MIN(ROW(Temp!C$3:C$170))+1), ROW(43:43))),\"\")","v":""},{"$f":"IFERROR(INDEX(Temp!D$3:D$170, SMALL(IF(ISERROR(Temp!D$3:D$170), \"\", ROW(Temp!D$3:D$170)-MIN(ROW(Temp!D$3:D$170))+1), ROW(43:43))),\"\")","v":""}]
[{"$f":"IFERROR(INDEX(Temp!A$3:A$170, SMALL(IF(ISERROR(Temp!A$3:A$170), \"\", ROW(Temp!A$3:A$170)-MIN(ROW(Temp!A$3:A$170))+1), ROW(44:44))),\"\")","v":""},{"$f":"IFERROR(INDEX(Temp!B$3:B$170, SMALL(IF(ISERROR(Temp!B$3:B$170), \"\", ROW(Temp!B$3:B$170)-MIN(ROW(Temp!B$3:B$170))+1), ROW(44:44))),\"\")","v":""},{"$f":"IFERROR(INDEX(Temp!C$3:C$170, SMALL(IF(ISERROR(Temp!C$3:C$170), \"\", ROW(Temp!C$3:C$170)-MIN(ROW(Temp!C$3:C$170))+1), ROW(44:44))),\"\")","v":""},{"$f":"IFERROR(INDEX(Temp!D$3:D$170, SMALL(IF(ISERROR(Temp!D$3:D$170), \"\", ROW(Temp!D$3:D$170)-MIN(ROW(Temp!D$3:D$170))+1), ROW(44:44))),\"\")","v":""}]
[{"$f":"IFERROR(INDEX(Temp!A$3:A$170, SMALL(IF(ISERROR(Temp!A$3:A$170), \"\", ROW(Temp!A$3:A$170)-MIN(ROW(Temp!A$3:A$170))+1), ROW(45:45))),\"\")","v":""},{"$f":"IFERROR(INDEX(Temp!B$3:B$170, SMALL(IF(ISERROR(Temp!B$3:B$170), \"\", ROW(Temp!B$3:B$170)-MIN(ROW(Temp!B$3:B$170))+1), ROW(45:45))),\"\")","v":""},{"$f":"IFERROR(INDEX(Temp!C$3:C$170, SMALL(IF(ISERROR(Temp!C$3:C$170), \"\", ROW(Temp!C$3:C$170)-MIN(ROW(Temp!C$3:C$170))+1), ROW(45:45))),\"\")","v":""},{"$f":"IFERROR(INDEX(Temp!D$3:D$170, SMALL(IF(ISERROR(Temp!D$3:D$170), \"\", ROW(Temp!D$3:D$170)-MIN(ROW(Temp!D$3:D$170))+1), ROW(45:45))),\"\")","v":""}]
[{"$f":"IFERROR(INDEX(Temp!A$3:A$170, SMALL(IF(ISERROR(Temp!A$3:A$170), \"\", ROW(Temp!A$3:A$170)-MIN(ROW(Temp!A$3:A$170))+1), ROW(46:46))),\"\")","v":""},{"$f":"IFERROR(INDEX(Temp!B$3:B$170, SMALL(IF(ISERROR(Temp!B$3:B$170), \"\", ROW(Temp!B$3:B$170)-MIN(ROW(Temp!B$3:B$170))+1), ROW(46:46))),\"\")","v":""},{"$f":"IFERROR(INDEX(Temp!C$3:C$170, SMALL(IF(ISERROR(Temp!C$3:C$170), \"\", ROW(Temp!C$3:C$170)-MIN(ROW(Temp!C$3:C$170))+1), ROW(46:46))),\"\")","v":""},{"$f":"IFERROR(INDEX(Temp!D$3:D$170, SMALL(IF(ISERROR(Temp!D$3:D$170), \"\", ROW(Temp!D$3:D$170)-MIN(ROW(Temp!D$3:D$170))+1), ROW(46:46))),\"\")","v":""}]
[{"$f":"IFERROR(INDEX(Temp!A$3:A$170, SMALL(IF(ISERROR(Temp!A$3:A$170), \"\", ROW(Temp!A$3:A$170)-MIN(ROW(Temp!A$3:A$170))+1), ROW(47:47))),\"\")","v":""},{"$f":"IFERROR(INDEX(Temp!B$3:B$170, SMALL(IF(ISERROR(Temp!B$3:B$170), \"\", ROW(Temp!B$3:B$170)-MIN(ROW(Temp!B$3:B$170))+1), ROW(47:47))),\"\")","v":""},{"$f":"IFERROR(INDEX(Temp!C$3:C$170, SMALL(IF(ISERROR(Temp!C$3:C$170), \"\", ROW(Temp!C$3:C$170)-MIN(ROW(Temp!C$3:C$170))+1), ROW(47:47))),\"\")","v":""},{"$f":"IFERROR(INDEX(Temp!D$3:D$170, SMALL(IF(ISERROR(Temp!D$3:D$170), \"\", ROW(Temp!D$3:D$170)-MIN(ROW(Temp!D$3:D$170))+1), ROW(47:47))),\"\")","v":""}]
[{"$f":"IFERROR(INDEX(Temp!A$3:A$170, SMALL(IF(ISERROR(Temp!A$3:A$170), \"\", ROW(Temp!A$3:A$170)-MIN(ROW(Temp!A$3:A$170))+1), ROW(48:48))),\"\")","v":""},{"$f":"IFERROR(INDEX(Temp!B$3:B$170, SMALL(IF(ISERROR(Temp!B$3:B$170), \"\", ROW(Temp!B$3:B$170)-MIN(ROW(Temp!B$3:B$170))+1), ROW(48:48))),\"\")","v":""},{"$f":"IFERROR(INDEX(Temp!C$3:C$170, SMALL(IF(ISERROR(Temp!C$3:C$170), \"\", ROW(Temp!C$3:C$170)-MIN(ROW(Temp!C$3:C$170))+1), ROW(48:48))),\"\")","v":""},{"$f":"IFERROR(INDEX(Temp!D$3:D$170, SMALL(IF(ISERROR(Temp!D$3:D$170), \"\", ROW(Temp!D$3:D$170)-MIN(ROW(Temp!D$3:D$170))+1), ROW(48:48))),\"\")","v":""}]
[{"$f":"IFERROR(INDEX(Temp!A$3:A$170, SMALL(IF(ISERROR(Temp!A$3:A$170), \"\", ROW(Temp!A$3:A$170)-MIN(ROW(Temp!A$3:A$170))+1), ROW(49:49))),\"\")","v":""},{"$f":"IFERROR(INDEX(Temp!B$3:B$170, SMALL(IF(ISERROR(Temp!B$3:B$170), \"\", ROW(Temp!B$3:B$170)-MIN(ROW(Temp!B$3:B$170))+1), ROW(49:49))),\"\")","v":""},{"$f":"IFERROR(INDEX(Temp!C$3:C$170, SMALL(IF(ISERROR(Temp!C$3:C$170), \"\", ROW(Temp!C$3:C$170)-MIN(ROW(Temp!C$3:C$170))+1), ROW(49:49))),\"\")","v":""},{"$f":"IFERROR(INDEX(Temp!D$3:D$170, SMALL(IF(ISERROR(Temp!D$3:D$170), \"\", ROW(Temp!D$3:D$170)-MIN(ROW(Temp!D$3:D$170))+1), ROW(49:49))),\"\")","v":""}]
[{"$f":"IFERROR(INDEX(Temp!A$3:A$170, SMALL(IF(ISERROR(Temp!A$3:A$170), \"\", ROW(Temp!A$3:A$170)-MIN(ROW(Temp!A$3:A$170))+1), ROW(50:50))),\"\")","v":""},{"$f":"IFERROR(INDEX(Temp!B$3:B$170, SMALL(IF(ISERROR(Temp!B$3:B$170), \"\", ROW(Temp!B$3:B$170)-MIN(ROW(Temp!B$3:B$170))+1), ROW(50:50))),\"\")","v":""},{"$f":"IFERROR(INDEX(Temp!C$3:C$170, SMALL(IF(ISERROR(Temp!C$3:C$170), \"\", ROW(Temp!C$3:C$170)-MIN(ROW(Temp!C$3:C$170))+1), ROW(50:50))),\"\")","v":""},{"$f":"IFERROR(INDEX(Temp!D$3:D$170, SMALL(IF(ISERROR(Temp!D$3:D$170), \"\", ROW(Temp!D$3:D$170)-MIN(ROW(Temp!D$3:D$170))+1), ROW(50:50))),\"\")","v":""}]
[{"$f":"IFERROR(INDEX(Temp!A$3:A$170, SMALL(IF(ISERROR(Temp!A$3:A$170), \"\", ROW(Temp!A$3:A$170)-MIN(ROW(Temp!A$3:A$170))+1), ROW(51:51))),\"\")","v":""},{"$f":"IFERROR(INDEX(Temp!B$3:B$170, SMALL(IF(ISERROR(Temp!B$3:B$170), \"\", ROW(Temp!B$3:B$170)-MIN(ROW(Temp!B$3:B$170))+1), ROW(51:51))),\"\")","v":""},{"$f":"IFERROR(INDEX(Temp!C$3:C$170, SMALL(IF(ISERROR(Temp!C$3:C$170), \"\", ROW(Temp!C$3:C$170)-MIN(ROW(Temp!C$3:C$170))+1), ROW(51:51))),\"\")","v":""},{"$f":"IFERROR(INDEX(Temp!D$3:D$170, SMALL(IF(ISERROR(Temp!D$3:D$170), \"\", ROW(Temp!D$3:D$170)-MIN(ROW(Temp!D$3:D$170))+1), ROW(51:51))),\"\")","v":""}]
[{"$f":"IFERROR(INDEX(Temp!A$3:A$170, SMALL(IF(ISERROR(Temp!A$3:A$170), \"\", ROW(Temp!A$3:A$170)-MIN(ROW(Temp!A$3:A$170))+1), ROW(52:52))),\"\")","v":""},{"$f":"IFERROR(INDEX(Temp!B$3:B$170, SMALL(IF(ISERROR(Temp!B$3:B$170), \"\", ROW(Temp!B$3:B$170)-MIN(ROW(Temp!B$3:B$170))+1), ROW(52:52))),\"\")","v":""},{"$f":"IFERROR(INDEX(Temp!C$3:C$170, SMALL(IF(ISERROR(Temp!C$3:C$170), \"\", ROW(Temp!C$3:C$170)-MIN(ROW(Temp!C$3:C$170))+1), ROW(52:52))),\"\")","v":""},{"$f":"IFERROR(INDEX(Temp!D$3:D$170, SMALL(IF(ISERROR(Temp!D$3:D$170), \"\", ROW(Temp!D$3:D$170)-MIN(ROW(Temp!D$3:D$170))+1), ROW(52:52))),\"\")","v":""}]
[{"$f":"IFERROR(INDEX(Temp!A$3:A$170, SMALL(IF(ISERROR(Temp!A$3:A$170), \"\", ROW(Temp!A$3:A$170)-MIN(ROW(Temp!A$3:A$170))+1), ROW(53:53))),\"\")","v":""},{"$f":"IFERROR(INDEX(Temp!B$3:B$170, SMALL(IF(ISERROR(Temp!B$3:B$170), \"\", ROW(Temp!B$3:B$170)-MIN(ROW(Temp!B$3:B$170))+1), ROW(53:53))),\"\")","v":""},{"$f":"IFERROR(INDEX(Temp!C$3:C$170, SMALL(IF(ISERROR(Temp!C$3:C$170), \"\", ROW(Temp!C$3:C$170)-MIN(ROW(Temp!C$3:C$170))+1), ROW(53:53))),\"\")","v":""},{"$f":"IFERROR(INDEX(Temp!D$3:D$170, SMALL(IF(ISERROR(Temp!D$3:D$170), \"\", ROW(Temp!D$3:D$170)-MIN(ROW(Temp!D$3:D$170))+1), ROW(53:53))),\"\")","v":""}]
[{"$f":"IFERROR(INDEX(Temp!A$3:A$170, SMALL(IF(ISERROR(Temp!A$3:A$170), \"\", ROW(Temp!A$3:A$170)-MIN(ROW(Temp!A$3:A$170))+1), ROW(54:54))),\"\")","v":""},{"$f":"IFERROR(INDEX(Temp!B$3:B$170, SMALL(IF(ISERROR(Temp!B$3:B$170), \"\", ROW(Temp!B$3:B$170)-MIN(ROW(Temp!B$3:B$170))+1), ROW(54:54))),\"\")","v":""},{"$f":"IFERROR(INDEX(Temp!C$3:C$170, SMALL(IF(ISERROR(Temp!C$3:C$170), \"\", ROW(Temp!C$3:C$170)-MIN(ROW(Temp!C$3:C$170))+1), ROW(54:54))),\"\")","v":""},{"$f":"IFERROR(INDEX(Temp!D$3:D$170, SMALL(IF(ISERROR(Temp!D$3:D$170), \"\", ROW(Temp!D$3:D$170)-MIN(ROW(Temp!D$3:D$170))+1), ROW(54:54))),\"\")","v":""}]
[{"$f":"IFERROR(INDEX(Temp!A$3:A$170, SMALL(IF(ISERROR(Temp!A$3:A$170), \"\", ROW(Temp!A$3:A$170)-MIN(ROW(Temp!A$3:A$170))+1), ROW(55:55))),\"\")","v":""},{"$f":"IFERROR(INDEX(Temp!B$3:B$170, SMALL(IF(ISERROR(Temp!B$3:B$170), \"\", ROW(Temp!B$3:B$170)-MIN(ROW(Temp!B$3:B$170))+1), ROW(55:55))),\"\")","v":""},{"$f":"IFERROR(INDEX(Temp!C$3:C$170, SMALL(IF(ISERROR(Temp!C$3:C$170), \"\", ROW(Temp!C$3:C$170)-MIN(ROW(Temp!C$3:C$170))+1), ROW(55:55))),\"\")","v":""},{"$f":"IFERROR(INDEX(Temp!D$3:D$170, SMALL(IF(ISERROR(Temp!D$3:D$170), \"\", ROW(Temp!D$3:D$170)-MIN(ROW(Temp!D$3:D$170))+1), ROW(55:55))),\"\")","v":""}]
[{"$f":"IFERROR(INDEX(Temp!A$3:A$170, SMALL(IF(ISERROR(Temp!A$3:A$170), \"\", ROW(Temp!A$3:A$170)-MIN(ROW(Temp!A$3:A$170))+1), ROW(56:56))),\"\")","v":""},{"$f":"IFERROR(INDEX(Temp!B$3:B$170, SMALL(IF(ISERROR(Temp!B$3:B$170), \"\", ROW(Temp!B$3:B$170)-MIN(ROW(Temp!B$3:B$170))+1), ROW(56:56))),\"\")","v":""},{"$f":"IFERROR(INDEX(Temp!C$3:C$170, SMALL(IF(ISERROR(Temp!C$3:C$170), \"\", ROW(Temp!C$3:C$170)-MIN(ROW(Temp!C$3:C$170))+1), ROW(56:56))),\"\")","v":""},{"$f":"IFERROR(INDEX(Temp!D$3:D$170, SMALL(IF(ISERROR(Temp!D$3:D$170), \"\", ROW(Temp!D$3:D$170)-MIN(ROW(Temp!D$3:D$170))+1), ROW(56:56))),\"\")","v":""}]
[{"$f":"IFERROR(INDEX(Temp!A$3:A$170, SMALL(IF(ISERROR(Temp!A$3:A$170), \"\", ROW(Temp!A$3:A$170)-MIN(ROW(Temp!A$3:A$170))+1), ROW(57:57))),\"\")","v":""},{"$f":"IFERROR(INDEX(Temp!B$3:B$170, SMALL(IF(ISERROR(Temp!B$3:B$170), \"\", ROW(Temp!B$3:B$170)-MIN(ROW(Temp!B$3:B$170))+1), ROW(57:57))),\"\")","v":""},{"$f":"IFERROR(INDEX(Temp!C$3:C$170, SMALL(IF(ISERROR(Temp!C$3:C$170), \"\", ROW(Temp!C$3:C$170)-MIN(ROW(Temp!C$3:C$170))+1), ROW(57:57))),\"\")","v":""},{"$f":"IFERROR(INDEX(Temp!D$3:D$170, SMALL(IF(ISERROR(Temp!D$3:D$170), \"\", ROW(Temp!D$3:D$170)-MIN(ROW(Temp!D$3:D$170))+1), ROW(57:57))),\"\")","v":""}]
[{"$f":"IFERROR(INDEX(Temp!A$3:A$170, SMALL(IF(ISERROR(Temp!A$3:A$170), \"\", ROW(Temp!A$3:A$170)-MIN(ROW(Temp!A$3:A$170))+1), ROW(58:58))),\"\")","v":""},{"$f":"IFERROR(INDEX(Temp!B$3:B$170, SMALL(IF(ISERROR(Temp!B$3:B$170), \"\", ROW(Temp!B$3:B$170)-MIN(ROW(Temp!B$3:B$170))+1), ROW(58:58))),\"\")","v":""},{"$f":"IFERROR(INDEX(Temp!C$3:C$170, SMALL(IF(ISERROR(Temp!C$3:C$170), \"\", ROW(Temp!C$3:C$170)-MIN(ROW(Temp!C$3:C$170))+1), ROW(58:58))),\"\")","v":""},{"$f":"IFERROR(INDEX(Temp!D$3:D$170, SMALL(IF(ISERROR(Temp!D$3:D$170), \"\", ROW(Temp!D$3:D$170)-MIN(ROW(Temp!D$3:D$170))+1), ROW(58:58))),\"\")","v":""}]
[{"$f":"IFERROR(INDEX(Temp!A$3:A$170, SMALL(IF(ISERROR(Temp!A$3:A$170), \"\", ROW(Temp!A$3:A$170)-MIN(ROW(Temp!A$3:A$170))+1), ROW(59:59))),\"\")","v":""},{"$f":"IFERROR(INDEX(Temp!B$3:B$170, SMALL(IF(ISERROR(Temp!B$3:B$170), \"\", ROW(Temp!B$3:B$170)-MIN(ROW(Temp!B$3:B$170))+1), ROW(59:59))),\"\")","v":""},{"$f":"IFERROR(INDEX(Temp!C$3:C$170, SMALL(IF(ISERROR(Temp!C$3:C$170), \"\", ROW(Temp!C$3:C$170)-MIN(ROW(Temp!C$3:C$170))+1), ROW(59:59))),\"\")","v":""},{"$f":"IFERROR(INDEX(Temp!D$3:D$170, SMALL(IF(ISERROR(Temp!D$3:D$170), \"\", ROW(Temp!D$3:D$170)-MIN(ROW(Temp!D$3:D$170))+1), ROW(59:59))),\"\")","v":""}]
[{"$f":"IFERROR(INDEX(Temp!A$3:A$170, SMALL(IF(ISERROR(Temp!A$3:A$170), \"\", ROW(Temp!A$3:A$170)-MIN(ROW(Temp!A$3:A$170))+1), ROW(60:60))),\"\")","v":""},{"$f":"IFERROR(INDEX(Temp!B$3:B$170, SMALL(IF(ISERROR(Temp!B$3:B$170), \"\", ROW(Temp!B$3:B$170)-MIN(ROW(Temp!B$3:B$170))+1), ROW(60:60))),\"\")","v":""},{"$f":"IFERROR(INDEX(Temp!C$3:C$170, SMALL(IF(ISERROR(Temp!C$3:C$170), \"\", ROW(Temp!C$3:C$170)-MIN(ROW(Temp!C$3:C$170))+1), ROW(60:60))),\"\")","v":""},{"$f":"IFERROR(INDEX(Temp!D$3:D$170, SMALL(IF(ISERROR(Temp!D$3:D$170), \"\", ROW(Temp!D$3:D$170)-MIN(ROW(Temp!D$3:D$170))+1), ROW(60:60))),\"\")","v":""}]
[{"$f":"IFERROR(INDEX(Temp!A$3:A$170, SMALL(IF(ISERROR(Temp!A$3:A$170), \"\", ROW(Temp!A$3:A$170)-MIN(ROW(Temp!A$3:A$170))+1), ROW(61:61))),\"\")","v":""},{"$f":"IFERROR(INDEX(Temp!B$3:B$170, SMALL(IF(ISERROR(Temp!B$3:B$170), \"\", ROW(Temp!B$3:B$170)-MIN(ROW(Temp!B$3:B$170))+1), ROW(61:61))),\"\")","v":""},{"$f":"IFERROR(INDEX(Temp!C$3:C$170, SMALL(IF(ISERROR(Temp!C$3:C$170), \"\", ROW(Temp!C$3:C$170)-MIN(ROW(Temp!C$3:C$170))+1), ROW(61:61))),\"\")","v":""},{"$f":"IFERROR(INDEX(Temp!D$3:D$170, SMALL(IF(ISERROR(Temp!D$3:D$170), \"\", ROW(Temp!D$3:D$170)-MIN(ROW(Temp!D$3:D$170))+1), ROW(61:61))),\"\")","v":""}]
[{"$f":"IFERROR(INDEX(Temp!A$3:A$170, SMALL(IF(ISERROR(Temp!A$3:A$170), \"\", ROW(Temp!A$3:A$170)-MIN(ROW(Temp!A$3:A$170))+1), ROW(62:62))),\"\")","v":""},{"$f":"IFERROR(INDEX(Temp!B$3:B$170, SMALL(IF(ISERROR(Temp!B$3:B$170), \"\", ROW(Temp!B$3:B$170)-MIN(ROW(Temp!B$3:B$170))+1), ROW(62:62))),\"\")","v":""},{"$f":"IFERROR(INDEX(Temp!C$3:C$170, SMALL(IF(ISERROR(Temp!C$3:C$170), \"\", ROW(Temp!C$3:C$170)-MIN(ROW(Temp!C$3:C$170))+1), ROW(62:62))),\"\")","v":""},{"$f":"IFERROR(INDEX(Temp!D$3:D$170, SMALL(IF(ISERROR(Temp!D$3:D$170), \"\", ROW(Temp!D$3:D$170)-MIN(ROW(Temp!D$3:D$170))+1), ROW(62:62))),\"\")","v":""}]
[{"$f":"IFERROR(INDEX(Temp!A$3:A$170, SMALL(IF(ISERROR(Temp!A$3:A$170), \"\", ROW(Temp!A$3:A$170)-MIN(ROW(Temp!A$3:A$170))+1), ROW(63:63))),\"\")","v":""},{"$f":"IFERROR(INDEX(Temp!B$3:B$170, SMALL(IF(ISERROR(Temp!B$3:B$170), \"\", ROW(Temp!B$3:B$170)-MIN(ROW(Temp!B$3:B$170))+1), ROW(63:63))),\"\")","v":""},{"$f":"IFERROR(INDEX(Temp!C$3:C$170, SMALL(IF(ISERROR(Temp!C$3:C$170), \"\", ROW(Temp!C$3:C$170)-MIN(ROW(Temp!C$3:C$170))+1), ROW(63:63))),\"\")","v":""},{"$f":"IFERROR(INDEX(Temp!D$3:D$170, SMALL(IF(ISERROR(Temp!D$3:D$170), \"\", ROW(Temp!D$3:D$170)-MIN(ROW(Temp!D$3:D$170))+1), ROW(63:63))),\"\")","v":""}]
[{"$f":"IFERROR(INDEX(Temp!A$3:A$170, SMALL(IF(ISERROR(Temp!A$3:A$170), \"\", ROW(Temp!A$3:A$170)-MIN(ROW(Temp!A$3:A$170))+1), ROW(64:64))),\"\")","v":""},{"$f":"IFERROR(INDEX(Temp!B$3:B$170, SMALL(IF(ISERROR(Temp!B$3:B$170), \"\", ROW(Temp!B$3:B$170)-MIN(ROW(Temp!B$3:B$170))+1), ROW(64:64))),\"\")","v":""},{"$f":"IFERROR(INDEX(Temp!C$3:C$170, SMALL(IF(ISERROR(Temp!C$3:C$170), \"\", ROW(Temp!C$3:C$170)-MIN(ROW(Temp!C$3:C$170))+1), ROW(64:64))),\"\")","v":""},{"$f":"IFERROR(INDEX(Temp!D$3:D$170, SMALL(IF(ISERROR(Temp!D$3:D$170), \"\", ROW(Temp!D$3:D$170)-MIN(ROW(Temp!D$3:D$170))+1), ROW(64:64))),\"\")","v":""}]
[{"$f":"IFERROR(INDEX(Temp!A$3:A$170, SMALL(IF(ISERROR(Temp!A$3:A$170), \"\", ROW(Temp!A$3:A$170)-MIN(ROW(Temp!A$3:A$170))+1), ROW(65:65))),\"\")","v":""},{"$f":"IFERROR(INDEX(Temp!B$3:B$170, SMALL(IF(ISERROR(Temp!B$3:B$170), \"\", ROW(Temp!B$3:B$170)-MIN(ROW(Temp!B$3:B$170))+1), ROW(65:65))),\"\")","v":""},{"$f":"IFERROR(INDEX(Temp!C$3:C$170, SMALL(IF(ISERROR(Temp!C$3:C$170), \"\", ROW(Temp!C$3:C$170)-MIN(ROW(Temp!C$3:C$170))+1), ROW(65:65))),\"\")","v":""},{"$f":"IFERROR(INDEX(Temp!D$3:D$170, SMALL(IF(ISERROR(Temp!D$3:D$170), \"\", ROW(Temp!D$3:D$170)-MIN(ROW(Temp!D$3:D$170))+1), ROW(65:65))),\"\")","v":""}]
[{"$f":"IFERROR(INDEX(Temp!A$3:A$170, SMALL(IF(ISERROR(Temp!A$3:A$170), \"\", ROW(Temp!A$3:A$170)-MIN(ROW(Temp!A$3:A$170))+1), ROW(66:66))),\"\")","v":""},{"$f":"IFERROR(INDEX(Temp!B$3:B$170, SMALL(IF(ISERROR(Temp!B$3:B$170), \"\", ROW(Temp!B$3:B$170)-MIN(ROW(Temp!B$3:B$170))+1), ROW(66:66))),\"\")","v":""},{"$f":"IFERROR(INDEX(Temp!C$3:C$170, SMALL(IF(ISERROR(Temp!C$3:C$170), \"\", ROW(Temp!C$3:C$170)-MIN(ROW(Temp!C$3:C$170))+1), ROW(66:66))),\"\")","v":""},{"$f":"IFERROR(INDEX(Temp!D$3:D$170, SMALL(IF(ISERROR(Temp!D$3:D$170), \"\", ROW(Temp!D$3:D$170)-MIN(ROW(Temp!D$3:D$170))+1), ROW(66:66))),\"\")","v":""}]
[{"$f":"IFERROR(INDEX(Temp!A$3:A$170, SMALL(IF(ISERROR(Temp!A$3:A$170), \"\", ROW(Temp!A$3:A$170)-MIN(ROW(Temp!A$3:A$170))+1), ROW(67:67))),\"\")","v":""},{"$f":"IFERROR(INDEX(Temp!B$3:B$170, SMALL(IF(ISERROR(Temp!B$3:B$170), \"\", ROW(Temp!B$3:B$170)-MIN(ROW(Temp!B$3:B$170))+1), ROW(67:67))),\"\")","v":""},{"$f":"IFERROR(INDEX(Temp!C$3:C$170, SMALL(IF(ISERROR(Temp!C$3:C$170), \"\", ROW(Temp!C$3:C$170)-MIN(ROW(Temp!C$3:C$170))+1), ROW(67:67))),\"\")","v":""},{"$f":"IFERROR(INDEX(Temp!D$3:D$170, SMALL(IF(ISERROR(Temp!D$3:D$170), \"\", ROW(Temp!D$3:D$170)-MIN(ROW(Temp!D$3:D$170))+1), ROW(67:67))),\"\")","v":""}]
[{"$f":"IFERROR(INDEX(Temp!A$3:A$170, SMALL(IF(ISERROR(Temp!A$3:A$170), \"\", ROW(Temp!A$3:A$170)-MIN(ROW(Temp!A$3:A$170))+1), ROW(68:68))),\"\")","v":""},{"$f":"IFERROR(INDEX(Temp!B$3:B$170, SMALL(IF(ISERROR(Temp!B$3:B$170), \"\", ROW(Temp!B$3:B$170)-MIN(ROW(Temp!B$3:B$170))+1), ROW(68:68))),\"\")","v":""},{"$f":"IFERROR(INDEX(Temp!C$3:C$170, SMALL(IF(ISERROR(Temp!C$3:C$170), \"\", ROW(Temp!C$3:C$170)-MIN(ROW(Temp!C$3:C$170))+1), ROW(68:68))),\"\")","v":""},{"$f":"IFERROR(INDEX(Temp!D$3:D$170, SMALL(IF(ISERROR(Temp!D$3:D$170), \"\", ROW(Temp!D$3:D$170)-MIN(ROW(Temp!D$3:D$170))+1), ROW(68:68))),\"\")","v":""}]
[{"$f":"IFERROR(INDEX(Temp!A$3:A$170, SMALL(IF(ISERROR(Temp!A$3:A$170), \"\", ROW(Temp!A$3:A$170)-MIN(ROW(Temp!A$3:A$170))+1), ROW(69:69))),\"\")","v":""},{"$f":"IFERROR(INDEX(Temp!B$3:B$170, SMALL(IF(ISERROR(Temp!B$3:B$170), \"\", ROW(Temp!B$3:B$170)-MIN(ROW(Temp!B$3:B$170))+1), ROW(69:69))),\"\")","v":""},{"$f":"IFERROR(INDEX(Temp!C$3:C$170, SMALL(IF(ISERROR(Temp!C$3:C$170), \"\", ROW(Temp!C$3:C$170)-MIN(ROW(Temp!C$3:C$170))+1), ROW(69:69))),\"\")","v":""},{"$f":"IFERROR(INDEX(Temp!D$3:D$170, SMALL(IF(ISERROR(Temp!D$3:D$170), \"\", ROW(Temp!D$3:D$170)-MIN(ROW(Temp!D$3:D$170))+1), ROW(69:69))),\"\")","v":""}]
[{"$f":"IFERROR(INDEX(Temp!A$3:A$170, SMALL(IF(ISERROR(Temp!A$3:A$170), \"\", ROW(Temp!A$3:A$170)-MIN(ROW(Temp!A$3:A$170))+1), ROW(70:70))),\"\")","v":""},{"$f":"IFERROR(INDEX(Temp!B$3:B$170, SMALL(IF(ISERROR(Temp!B$3:B$170), \"\", ROW(Temp!B$3:B$170)-MIN(ROW(Temp!B$3:B$170))+1), ROW(70:70))),\"\")","v":""},{"$f":"IFERROR(INDEX(Temp!C$3:C$170, SMALL(IF(ISERROR(Temp!C$3:C$170), \"\", ROW(Temp!C$3:C$170)-MIN(ROW(Temp!C$3:C$170))+1), ROW(70:70))),\"\")","v":""},{"$f":"IFERROR(INDEX(Temp!D$3:D$170, SMALL(IF(ISERROR(Temp!D$3:D$170), \"\", ROW(Temp!D$3:D$170)-MIN(ROW(Temp!D$3:D$170))+1), ROW(70:70))),\"\")","v":""}]
[{"$f":"IFERROR(INDEX(Temp!A$3:A$170, SMALL(IF(ISERROR(Temp!A$3:A$170), \"\", ROW(Temp!A$3:A$170)-MIN(ROW(Temp!A$3:A$170))+1), ROW(71:71))),\"\")","v":""},{"$f":"IFERROR(INDEX(Temp!B$3:B$170, SMALL(IF(ISERROR(Temp!B$3:B$170), \"\", ROW(Temp!B$3:B$170)-MIN(ROW(Temp!B$3:B$170))+1), ROW(71:71))),\"\")","v":""},{"$f":"IFERROR(INDEX(Temp!C$3:C$170, SMALL(IF(ISERROR(Temp!C$3:C$170), \"\", ROW(Temp!C$3:C$170)-MIN(ROW(Temp!C$3:C$170))+1), ROW(71:71))),\"\")","v":""},{"$f":"IFERROR(INDEX(Temp!D$3:D$170, SMALL(IF(ISERROR(Temp!D$3:D$170), \"\", ROW(Temp!D$3:D$170)-MIN(ROW(Temp!D$3:D$170))+1), ROW(71:71))),\"\")","v":""}]
[{"$f":"IFERROR(INDEX(Temp!A$3:A$170, SMALL(IF(ISERROR(Temp!A$3:A$170), \"\", ROW(Temp!A$3:A$170)-MIN(ROW(Temp!A$3:A$170))+1), ROW(72:72))),\"\")","v":""},{"$f":"IFERROR(INDEX(Temp!B$3:B$170, SMALL(IF(ISERROR(Temp!B$3:B$170), \"\", ROW(Temp!B$3:B$170)-MIN(ROW(Temp!B$3:B$170))+1), ROW(72:72))),\"\")","v":""},{"$f":"IFERROR(INDEX(Temp!C$3:C$170, SMALL(IF(ISERROR(Temp!C$3:C$170), \"\", ROW(Temp!C$3:C$170)-MIN(ROW(Temp!C$3:C$170))+1), ROW(72:72))),\"\")","v":""},{"$f":"IFERROR(INDEX(Temp!D$3:D$170, SMALL(IF(ISERROR(Temp!D$3:D$170), \"\", ROW(Temp!D$3:D$170)-MIN(ROW(Temp!D$3:D$170))+1), ROW(72:72))),\"\")","v":""}]
[{"$f":"IFERROR(INDEX(Temp!A$3:A$170, SMALL(IF(ISERROR(Temp!A$3:A$170), \"\", ROW(Temp!A$3:A$170)-MIN(ROW(Temp!A$3:A$170))+1), ROW(73:73))),\"\")","v":""},{"$f":"IFERROR(INDEX(Temp!B$3:B$170, SMALL(IF(ISERROR(Temp!B$3:B$170), \"\", ROW(Temp!B$3:B$170)-MIN(ROW(Temp!B$3:B$170))+1), ROW(73:73))),\"\")","v":""},{"$f":"IFERROR(INDEX(Temp!C$3:C$170, SMALL(IF(ISERROR(Temp!C$3:C$170), \"\", ROW(Temp!C$3:C$170)-MIN(ROW(Temp!C$3:C$170))+1), ROW(73:73))),\"\")","v":""},{"$f":"IFERROR(INDEX(Temp!D$3:D$170, SMALL(IF(ISERROR(Temp!D$3:D$170), \"\", ROW(Temp!D$3:D$170)-MIN(ROW(Temp!D$3:D$170))+1), ROW(73:73))),\"\")","v":""}]