{"text_format":"1","workbook":"xlsx","n_sheets":3,"sheets":["Plantilla Oficios","Temp","Hoja2"],"not_rendered":{"charts":0,"images":0,"macros":1,"external_links":0,"defined_names":1,"comments":0,"pivot_tables":0},"unopened":[],"bounds":{"document_bytes":16777216,"sheet_cells":100000,"rows_first":2000,"rows_last":500,"rows_between":2000,"halvings":0,"cell_chars":16384,"cell_head_chars":4096},"cells_cut":0,"cells_raw":0,"read":"whole","date_system":"1900"}

{"sheet":"Plantilla Oficios","index":0,"n_rows":33,"n_cols":2,"rows_kept":33,"cut":false,"hidden":false,"merged":[[1,1,31,6],[32,1,62,6]]}
[]
[null,"\n\n[Ciudad, fecha]\n\n\n\n\nSeñores,\n[NOMBRE DE LA AUTORIDAD AMBIENTAL A LA CUAL DIRIGE EL OFICIO]\n[Subdirección u Oficina]\nBogotá D.C.\n\n\n\nAsunto: Fecha de inicio de actividades asociadas al proyecto denominado [nombre del proyecto]. Expediente [nombre del expediente]\n\nRespetados señores,\n\nPor medio de la presente informamos que el día [dd/mm/aaaa] se dará inicio a la fase [construcción, operación y mantenimiento o desmantelamiento y abandono] del proyecto denominado [nombre del proyecto] licenciado mediante la Resolución [número] del [dd/mm/aaaa] a la sociedad [nombre del titular del proyecto] identificada con NIT [número].\n\n\n\n\nCordialmente,\n\n\n\n\n[NOMBRE DEL REPRESENTANTE LEGAL]\nRepresentante Legal\n[Nombre de la empresa]\n\n"]
[]
[]
[]
[]
[]
[]
[]
[]
[]
[]
[]
[]
[]
[]
[]
[]
[]
[]
[]
[]
[]
[]
[]
[]
[]
[]
[]
[]
[]
[]
[null,"\n\n[Ciudad, fecha]\n\n\n\n\nSeñores,\n[AUTORIDAD NACIONAL DE LICENCIAS AMBIENTALES]\n[Subdirección de Evaluación y Seguimiento]\nBogotá D.C.\n\n\n\nAsunto: Fecha de finalización de las actividades de construcción y montaje asociadas al proyecto denominado [nombre del proyecto]. Expediente [nombre del expediente]\n\nRespetados señores,\n\nPor medio de la presente informamos que el día [dd/mm/aaaa] se finalizarán las actividades de construcción y montaje del proyecto denominado [nombre del proyecto] licenciado mediante la Resolución [número] del [dd/mm/aaaa] a la sociedad [nombre del titular del proyecto] identificada con NIT [número].\n\n\n\n\nCordialmente,\n\n\n\n\n[NOMBRE DEL REPRESENTANTE LEGAL]\nRepresentante Legal\n[Nombre de la empresa]\n\n"]

{"sheet":"Temp","index":1,"n_rows":170,"n_cols":4,"rows_kept":170,"cut":false,"hidden":true,"merged":[[0,0,0,3]]}
["ANEXO - OBLIGACIONES MÍNIMAS PARA [COLOCAR NOMBRE DEL PROYECTO]"]
["COMPONENTE","Fase de construcción","Fase de operación y mantenimiento","Fase de desmantelamiento y abandono"]
[{"$f":"IF(#REF!=\"SI\",#REF!,NA())","v":{"$error":"#REF!"}},{"$f":"IF(#REF!=\"SI\",#REF!,NA())","v":{"$error":"#REF!"}},{"$f":"IF(#REF!=\"SI\",#REF!,NA())","v":{"$error":"#REF!"}},{"$f":"IF(#REF!=\"SI\",#REF!,NA())","v":{"$error":"#REF!"}}]
[{"$f":"IF(#REF!=\"SI\",#REF!,NA())","v":{"$error":"#REF!"}},{"$f":"IF(#REF!=\"SI\",#REF!,NA())","v":{"$error":"#REF!"}},{"$f":"IF(#REF!=\"SI\",#REF!,NA())","v":{"$error":"#REF!"}},{"$f":"IF(#REF!=\"SI\",#REF!,NA())","v":{"$error":"#REF!"}}]
[{"$f":"IF(#REF!=\"SI\",#REF!,NA())","v":{"$error":"#REF!"}},{"$f":"IF(#REF!=\"SI\",#REF!,NA())","v":{"$error":"#REF!"}},{"$f":"IF(#REF!=\"SI\",#REF!,NA())","v":{"$error":"#REF!"}},{"$f":"IF(#REF!=\"SI\",#REF!,NA())","v":{"$error":"#REF!"}}]
[{"$f":"IF(#REF!=\"SI\",#REF!,NA())","v":{"$error":"#REF!"}},{"$f":"IF(#REF!=\"SI\",#REF!,NA())","v":{"$error":"#REF!"}},{"$f":"IF(#REF!=\"SI\",#REF!,NA())","v":{"$error":"#REF!"}},{"$f":"IF(#REF!=\"SI\",#REF!,NA())","v":{"$error":"#REF!"}}]
[{"$f":"IF(#REF!=\"SI\",#REF!,NA())","v":{"$error":"#REF!"}},{"$f":"IF(#REF!=\"SI\",#REF!,NA())","v":{"$error":"#REF!"}},{"$f":"IF(#REF!=\"SI\",#REF!,NA())","v":{"$error":"#REF!"}},{"$f":"IF(#REF!=\"SI\",#REF!,NA())","v":{"$error":"#REF!"}}]
[{"$f":"IF(#REF!=\"SI\",#REF!,NA())","v":{"$error":"#REF!"}},{"$f":"IF(#REF!=\"SI\",#REF!,NA())","v":{"$error":"#REF!"}},{"$f":"IF(#REF!=\"SI\",#REF!,NA())","v":{"$error":"#REF!"}},{"$f":"IF(#REF!=\"SI\",#REF!,NA())","v":{"$error":"#REF!"}}]
[{"$f":"IF(#REF!=\"SI\",#REF!,NA())","v":{"$error":"#REF!"}},{"$f":"IF(#REF!=\"SI\",#REF!,NA())","v":{"$error":"#REF!"}},{"$f":"IF(#REF!=\"SI\",#REF!,NA())","v":{"$error":"#REF!"}},{"$f":"IF(#REF!=\"SI\",#REF!,NA())","v":{"$error":"#REF!"}}]
[{"$f":"IF(#REF!=\"SI\",#REF!,NA())","v":{"$error":"#REF!"}},{"$f":"IF(#REF!=\"SI\",#REF!,NA())","v":{"$error":"#REF!"}},{"$f":"IF(#REF!=\"SI\",#REF!,NA())","v":{"$error":"#REF!"}},{"$f":"IF(#REF!=\"SI\",#REF!,NA())","v":{"$error":"#REF!"}}]
[{"$f":"IF(#REF!=\"SI\",#REF!,NA())","v":{"$error":"#REF!"}},{"$f":"IF(#REF!=\"SI\",#REF!,NA())","v":{"$error":"#REF!"}},{"$f":"IF(#REF!=\"SI\",#REF!,NA())","v":{"$error":"#REF!"}},{"$f":"IF(#REF!=\"SI\",#REF!,NA())","v":{"$error":"#REF!"}}]
[{"$f":"IF(#REF!=\"SI\",#REF!,NA())","v":{"$error":"#REF!"}},{"$f":"IF(#REF!=\"SI\",#REF!,NA())","v":{"$error":"#REF!"}},{"$f":"IF(#REF!=\"SI\",#REF!,NA())","v":{"$error":"#REF!"}},{"$f":"IF(#REF!=\"SI\",#REF!,NA())","v":{"$error":"#REF!"}}]
[{"$f":"IF(#REF!=\"SI\",#REF!,NA())","v":{"$error":"#REF!"}},{"$f":"IF(#REF!=\"SI\",#REF!,NA())","v":{"$error":"#REF!"}},{"$f":"IF(#REF!=\"SI\",#REF!,NA())","v":{"$error":"#REF!"}},{"$f":"IF(#REF!=\"SI\",#REF!,NA())","v":{"$error":"#REF!"}}]
[{"$f":"IF(#REF!=\"SI\",#REF!,NA())","v":{"$error":"#REF!"}},{"$f":"IF(#REF!=\"SI\",#REF!,NA())","v":{"$error":"#REF!"}},{"$f":"IF(#REF!=\"SI\",#REF!,NA())","v":{"$error":"#REF!"}},{"$f":"IF(#REF!=\"SI\",#REF!,NA())","v":{"$error":"#REF!"}}]
[{"$f":"IF(#REF!=\"SI\",#REF!,NA())","v":{"$error":"#REF!"}},{"$f":"IF(#REF!=\"SI\",#REF!,NA())","v":{"$error":"#REF!"}},{"$f":"IF(#REF!=\"SI\",#REF!,NA())","v":{"$error":"#REF!"}},{"$f":"IF(#REF!=\"SI\",#REF!,NA())","v":{"$error":"#REF!"}}]
[{"$f":"IF(#REF!=\"SI\",#REF!,NA())","v":{"$error":"#REF!"}},{"$f":"IF(#REF!=\"SI\",#REF!,NA())","v":{"$error":"#REF!"}},{"$f":"IF(#REF!=\"SI\",#REF!,NA())","v":{"$error":"#REF!"}},{"$f":"IF(#REF!=\"SI\",#REF!,NA())","v":{"$error":"#REF!"}}]
[{"$f":"IF(#REF!=\"SI\",#REF!,NA())","v":{"$error":"#REF!"}},{"$f":"IF(#REF!=\"SI\",#REF!,NA())","v":{"$error":"#REF!"}},{"$f":"IF(#REF!=\"SI\",#REF!,NA())","v":{"$error":"#REF!"}},{"$f":"IF(#REF!=\"SI\",#REF!,NA())","v":{"$error":"#REF!"}}]
[{"$f":"IF(#REF!=\"SI\",#REF!,NA())","v":{"$error":"#REF!"}},{"$f":"IF(#REF!=\"SI\",#REF!,NA())","v":{"$error":"#REF!"}},{"$f":"IF(#REF!=\"SI\",#REF!,NA())","v":{"$error":"#REF!"}},{"$f":"IF(#REF!=\"SI\",#REF!,NA())","v":{"$error":"#REF!"}}]
[{"$f":"IF(#REF!=\"SI\",#REF!,NA())","v":{"$error":"#REF!"}},{"$f":"IF(#REF!=\"SI\",#REF!,NA())","v":{"$error":"#REF!"}},{"$f":"IF(#REF!=\"SI\",#REF!,NA())","v":{"$error":"#REF!"}},{"$f":"IF(#REF!=\"SI\",#REF!,NA())","v":{"$error":"#REF!"}}]
[{"$f":"IF(#REF!=\"SI\",#REF!,NA())","v":{"$error":"#REF!"}},{"$f":"IF(#REF!=\"SI\",#REF!,NA())","v":{"$error":"#REF!"}},{"$f":"IF(#REF!=\"SI\",#REF!,NA())","v":{"$error":"#REF!"}},{"$f":"IF(#REF!=\"SI\",#REF!,NA())","v":{"$error":"#REF!"}}]
[{"$f":"IF(#REF!=\"SI\",#REF!,NA())","v":{"$error":"#REF!"}},{"$f":"IF(#REF!=\"SI\",#REF!,NA())","v":{"$error":"#REF!"}},{"$f":"IF(#REF!=\"SI\",#REF!,NA())","v":{"$error":"#REF!"}},{"$f":"IF(#REF!=\"SI\",#REF!,NA())","v":{"$error":"#REF!"}}]
[{"$f":"IF(#REF!=\"SI\",#REF!,NA())","v":{"$error":"#REF!"}},{"$f":"IF(#REF!=\"SI\",#REF!,NA())","v":{"$error":"#REF!"}},{"$f":"IF(#REF!=\"SI\",#REF!,NA())","v":{"$error":"#REF!"}},{"$f":"IF(#REF!=\"SI\",#REF!,NA())","v":{"$error":"#REF!"}}]
[{"$f":"IF(#REF!=\"SI\",#REF!,NA())","v":{"$error":"#REF!"}},{"$f":"IF(#REF!=\"SI\",#REF!,NA())","v":{"$error":"#REF!"}},{"$f":"IF(#REF!=\"SI\",#REF!,NA())","v":{"$error":"#REF!"}},{"$f":"IF(#REF!=\"SI\",#REF!,NA())","v":{"$error":"#REF!"}}]
[{"$f":"IF(#REF!=\"SI\",#REF!,NA())","v":{"$error":"#REF!"}},{"$f":"IF(#REF!=\"SI\",#REF!,NA())","v":{"$error":"#REF!"}},{"$f":"IF(#REF!=\"SI\",#REF!,NA())","v":{"$error":"#REF!"}},{"$f":"IF(#REF!=\"SI\",#REF!,NA())","v":{"$error":"#REF!"}}]
[{"$f":"IF(#REF!=\"SI\",#REF!,NA())","v":{"$error":"#REF!"}},{"$f":"IF(#REF!=\"SI\",#REF!,NA())","v":{"$error":"#REF!"}},{"$f":"IF(#REF!=\"SI\",#REF!,NA())","v":{"$error":"#REF!"}},{"$f":"IF(#REF!=\"SI\",#REF!,NA())","v":{"$error":"#REF!"}}]
[{"$f":"IF(#REF!=\"SI\",#REF!,NA())","v":{"$error":"#REF!"}},{"$f":"IF(#REF!=\"SI\",#REF!,NA())","v":{"$error":"#REF!"}},{"$f":"IF(#REF!=\"SI\",#REF!,NA())","v":{"$error":"#REF!"}},{"$f":"IF(#REF!=\"SI\",#REF!,NA())","v":{"$error":"#REF!"}}]
[{"$f":"IF(#REF!=\"SI\",#REF!,NA())","v":{"$error":"#REF!"}},{"$f":"IF(#REF!=\"SI\",#REF!,NA())","v":{"$error":"#REF!"}},{"$f":"IF(#REF!=\"SI\",#REF!,NA())","v":{"$error":"#REF!"}},{"$f":"IF(#REF!=\"SI\",#REF!,NA())","v":{"$error":"#REF!"}}]
[{"$f":"IF(#REF!=\"SI\",#REF!,NA())","v":{"$error":"#REF!"}},{"$f":"IF(#REF!=\"SI\",#REF!,NA())","v":{"$error":"#REF!"}},{"$f":"IF(#REF!=\"SI\",#REF!,NA())","v":{"$error":"#REF!"}},{"$f":"IF(#REF!=\"SI\",#REF!,NA())","v":{"$error":"#REF!"}}]
[{"$f":"IF(#REF!=\"SI\",#REF!,NA())","v":{"$error":"#REF!"}},{"$f":"IF(#REF!=\"SI\",#REF!,NA())","v":{"$error":"#REF!"}},{"$f":"IF(#REF!=\"SI\",#REF!,NA())","v":{"$error":"#REF!"}},{"$f":"IF(#REF!=\"SI\",#REF!,NA())","v":{"$error":"#REF!"}}]
[{"$f":"IF(#REF!=\"SI\",#REF!,NA())","v":{"$error":"#REF!"}},{"$f":"IF(#REF!=\"SI\",#REF!,NA())","v":{"$error":"#REF!"}},{"$f":"IF(#REF!=\"SI\",#REF!,NA())","v":{"$error":"#REF!"}},{"$f":"IF(#REF!=\"SI\",#REF!,NA())","v":{"$error":"#REF!"}}]
[{"$f":"IF(#REF!=\"SI\",#REF!,NA())","v":{"$error":"#REF!"}},{"$f":"IF(#REF!=\"SI\",#REF!,NA())","v":{"$error":"#REF!"}},{"$f":"IF(#REF!=\"SI\",#REF!,NA())","v":{"$error":"#REF!"}},{"$f":"IF(#REF!=\"SI\",#REF!,NA())","v":{"$error":"#REF!"}}]
[{"$f":"IF(#REF!=\"SI\",#REF!,NA())","v":{"$error":"#REF!"}},{"$f":"IF(#REF!=\"SI\",#REF!,NA())","v":{"$error":"#REF!"}},{"$f":"IF(#REF!=\"SI\",#REF!,NA())","v":{"$error":"#REF!"}},{"$f":"IF(#REF!=\"SI\",#REF!,NA())","v":{"$error":"#REF!"}}]
[{"$f":"IF(#REF!=\"SI\",#REF!,NA())","v":{"$error":"#REF!"}},{"$f":"IF(#REF!=\"SI\",#REF!,NA())","v":{"$error":"#REF!"}},{"$f":"IF(#REF!=\"SI\",#REF!,NA())","v":{"$error":"#REF!"}},{"$f":"IF(#REF!=\"SI\",#REF!,NA())","v":{"$error":"#REF!"}}]
[{"$f":"IF(#REF!=\"SI\",#REF!,NA())","v":{"$error":"#REF!"}},{"$f":"IF(#REF!=\"SI\",#REF!,NA())","v":{"$error":"#REF!"}},{"$f":"IF(#REF!=\"SI\",#REF!,NA())","v":{"$error":"#REF!"}},{"$f":"IF(#REF!=\"SI\",#REF!,NA())","v":{"$error":"#REF!"}}]
[{"$f":"IF(#REF!=\"SI\",#REF!,NA())","v":{"$error":"#REF!"}},{"$f":"IF(#REF!=\"SI\",#REF!,NA())","v":{"$error":"#REF!"}},{"$f":"IF(#REF!=\"SI\",#REF!,NA())","v":{"$error":"#REF!"}},{"$f":"IF(#REF!=\"SI\",#REF!,NA())","v":{"$error":"#REF!"}}]
[{"$f":"IF(#REF!=\"SI\",#REF!,NA())","v":{"$error":"#REF!"}},{"$f":"IF(#REF!=\"SI\",#REF!,NA())","v":{"$error":"#REF!"}},{"$f":"IF(#REF!=\"SI\",#REF!,NA())","v":{"$error":"#REF!"}},{"$f":"IF(#REF!=\"SI\",#REF!,NA())","v":{"$error":"#REF!"}}]
[{"$f":"IF(#REF!=\"SI\",#REF!,NA())","v":{"$error":"#REF!"}},{"$f":"IF(#REF!=\"SI\",#REF!,NA())","v":{"$error":"#REF!"}},{"$f":"IF(#REF!=\"SI\",#REF!,NA())","v":{"$error":"#REF!"}},{"$f":"IF(#REF!=\"SI\",#REF!,NA())","v":{"$error":"#REF!"}}]
[{"$f":"IF(#REF!=\"SI\",#REF!,NA())","v":{"$error":"#REF!"}},{"$f":"IF(#REF!=\"SI\",#REF!,NA())","v":{"$error":"#REF!"}},{"$f":"IF(#REF!=\"SI\",#REF!,NA())","v":{"$error":"#REF!"}},{"$f":"IF(#REF!=\"SI\",#REF!,NA())","v":{"$error":"#REF!"}}]
[{"$f":"IF(#REF!=\"SI\",#REF!,NA())","v":{"$error":"#REF!"}},{"$f":"IF(#REF!=\"SI\",#REF!,NA())","v":{"$error":"#REF!"}},{"$f":"IF(#REF!=\"SI\",#REF!,NA())","v":{"$error":"#REF!"}},{"$f":"IF(#REF!=\"SI\",#REF!,NA())","v":{"$error":"#REF!"}}]
[{"$f":"IF(#REF!=\"SI\",#REF!,NA())","v":{"$error":"#REF!"}},{"$f":"IF(#REF!=\"SI\",#REF!,NA())","v":{"$error":"#REF!"}},{"$f":"IF(#REF!=\"SI\",#REF!,NA())","v":{"$error":"#REF!"}},{"$f":"IF(#REF!=\"SI\",#REF!,NA())","v":{"$error":"#REF!"}}]
[{"$f":"IF(#REF!=\"SI\",#REF!,NA())","v":{"$error":"#REF!"}},{"$f":"IF(#REF!=\"SI\",#REF!,NA())","v":{"$error":"#REF!"}},{"$f":"IF(#REF!=\"SI\",#REF!,NA())","v":{"$error":"#REF!"}},{"$f":"IF(#REF!=\"SI\",#REF!,NA())","v":{"$error":"#REF!"}}]
[{"$f":"IF(#REF!=\"SI\",#REF!,NA())","v":{"$error":"#REF!"}},{"$f":"IF(#REF!=\"SI\",#REF!,NA())","v":{"$error":"#REF!"}},{"$f":"IF(#REF!=\"SI\",#REF!,NA())","v":{"$error":"#REF!"}},{"$f":"IF(#REF!=\"SI\",#REF!,NA())","v":{"$error":"#REF!"}}]
[{"$f":"IF(#REF!=\"SI\",#REF!,NA())","v":{"$error":"#REF!"}},{"$f":"IF(#REF!=\"SI\",#REF!,NA())","v":{"$error":"#REF!"}},{"$f":"IF(#REF!=\"SI\",#REF!,NA())","v":{"$error":"#REF!"}},{"$f":"IF(#REF!=\"SI\",#REF!,NA())","v":{"$error":"#REF!"}}]
[{"$f":"IF(#REF!=\"SI\",#REF!,NA())","v":{"$error":"#REF!"}},{"$f":"IF(#REF!=\"SI\",#REF!,NA())","v":{"$error":"#REF!"}},{"$f":"IF(#REF!=\"SI\",#REF!,NA())","v":{"$error":"#REF!"}},{"$f":"IF(#REF!=\"SI\",#REF!,NA())","v":{"$error":"#REF!"}}]
[{"$f":"IF(#REF!=\"SI\",#REF!,NA())","v":{"$error":"#REF!"}},{"$f":"IF(#REF!=\"SI\",#REF!,NA())","v":{"$error":"#REF!"}},{"$f":"IF(#REF!=\"SI\",#REF!,NA())","v":{"$error":"#REF!"}},{"$f":"IF(#REF!=\"SI\",#REF!,NA())","v":{"$error":"#REF!"}}]
[{"$f":"IF(#REF!=\"SI\",#REF!,NA())","v":{"$error":"#REF!"}},{"$f":"IF(#REF!=\"SI\",#REF!,NA())","v":{"$error":"#REF!"}},{"$f":"IF(#REF!=\"SI\",#REF!,NA())","v":{"$error":"#REF!"}},{"$f":"IF(#REF!=\"SI\",#REF!,NA())","v":{"$error":"#REF!"}}]
[{"$f":"IF(#REF!=\"SI\",#REF!,NA())","v":{"$error":"#REF!"}},{"$f":"IF(#REF!=\"SI\",#REF!,NA())","v":{"$error":"#REF!"}},{"$f":"IF(#REF!=\"SI\",#REF!,NA())","v":{"$error":"#REF!"}},{"$f":"IF(#REF!=\"SI\",#REF!,NA())","v":{"$error":"#REF!"}}]
[{"$f":"IF(#REF!=\"SI\",#REF!,NA())","v":{"$error":"#REF!"}},{"$f":"IF(#REF!=\"SI\",#REF!,NA())","v":{"$error":"#REF!"}},{"$f":"IF(#REF!=\"SI\",#REF!,NA())","v":{"$error":"#REF!"}},{"$f":"IF(#REF!=\"SI\",#REF!,NA())","v":{"$error":"#REF!"}}]
[{"$f":"IF(#REF!=\"SI\",#REF!,NA())","v":{"$error":"#REF!"}},{"$f":"IF(#REF!=\"SI\",#REF!,NA())","v":{"$error":"#REF!"}},{"$f":"IF(#REF!=\"SI\",#REF!,NA())","v":{"$error":"#REF!"}},{"$f":"IF(#REF!=\"SI\",#REF!,NA())","v":{"$error":"#REF!"}}]
[{"$f":"IF(#REF!=\"SI\",#REF!,NA())","v":{"$error":"#REF!"}},{"$f":"IF(#REF!=\"SI\",#REF!,NA())","v":{"$error":"#REF!"}},{"$f":"IF(#REF!=\"SI\",#REF!,NA())","v":{"$error":"#REF!"}},{"$f":"IF(#REF!=\"SI\",#REF!,NA())","v":{"$error":"#REF!"}}]
[{"$f":"IF(#REF!=\"SI\",#REF!,NA())","v":{"$error":"#REF!"}},{"$f":"IF(#REF!=\"SI\",#REF!,NA())","v":{"$error":"#REF!"}},{"$f":"IF(#REF!=\"SI\",#REF!,NA())","v":{"$error":"#REF!"}},{"$f":"IF(#REF!=\"SI\",#REF!,NA())","v":{"$error":"#REF!"}}]
[{"$f":"IF(#REF!=\"SI\",#REF!,NA())","v":{"$error":"#REF!"}},{"$f":"IF(#REF!=\"SI\",#REF!,NA())","v":{"$error":"#REF!"}},{"$f":"IF(#REF!=\"SI\",#REF!,NA())","v":{"$error":"#REF!"}},{"$f":"IF(#REF!=\"SI\",#REF!,NA())","v":{"$error":"#REF!"}}]
[{"$f":"IF(#REF!=\"SI\",#REF!,NA())","v":{"$error":"#REF!"}},{"$f":"IF(#REF!=\"SI\",#REF!,NA())","v":{"$error":"#REF!"}},{"$f":"IF(#REF!=\"SI\",#REF!,NA())","v":{"$error":"#REF!"}},{"$f":"IF(#REF!=\"SI\",#REF!,NA())","v":{"$error":"#REF!"}}]
[{"$f":"IF(#REF!=\"SI\",#REF!,NA())","v":{"$error":"#REF!"}},{"$f":"IF(#REF!=\"SI\",#REF!,NA())","v":{"$error":"#REF!"}},{"$f":"IF(#REF!=\"SI\",#REF!,NA())","v":{"$error":"#REF!"}},{"$f":"IF(#REF!=\"SI\",#REF!,NA())","v":{"$error":"#REF!"}}]
[{"$f":"IF(#REF!=\"SI\",#REF!,NA())","v":{"$error":"#REF!"}},{"$f":"IF(#REF!=\"SI\",#REF!,NA())","v":{"$error":"#REF!"}},{"$f":"IF(#REF!=\"SI\",#REF!,NA())","v":{"$error":"#REF!"}},{"$f":"IF(#REF!=\"SI\",#REF!,NA())","v":{"$error":"#REF!"}}]
[{"$f":"IF(#REF!=\"SI\",#REF!,NA())","v":{"$error":"#REF!"}},{"$f":"IF(#REF!=\"SI\",#REF!,NA())","v":{"$error":"#REF!"}},{"$f":"IF(#REF!=\"SI\",#REF!,NA())","v":{"$error":"#REF!"}},{"$f":"IF(#REF!=\"SI\",#REF!,NA())","v":{"$error":"#REF!"}}]
[{"$f":"IF(#REF!=\"SI\",#REF!,NA())","v":{"$error":"#REF!"}},{"$f":"IF(#REF!=\"SI\",#REF!,NA())","v":{"$error":"#REF!"}},{"$f":"IF(#REF!=\"SI\",#REF!,NA())","v":{"$error":"#REF!"}},{"$f":"IF(#REF!=\"SI\",#REF!,NA())","v":{"$error":"#REF!"}}]
[{"$f":"IF(#REF!=\"SI\",#REF!,NA())","v":{"$error":"#REF!"}},{"$f":"IF(#REF!=\"SI\",#REF!,NA())","v":{"$error":"#REF!"}},{"$f":"IF(#REF!=\"SI\",#REF!,NA())","v":{"$error":"#REF!"}},{"$f":"IF(#REF!=\"SI\",#REF!,NA())","v":{"$error":"#REF!"}}]
[{"$f":"IF(#REF!=\"SI\",#REF!,NA())","v":{"$error":"#REF!"}},{"$f":"IF(#REF!=\"SI\",#REF!,NA())","v":{"$error":"#REF!"}},{"$f":"IF(#REF!=\"SI\",#REF!,NA())","v":{"$error":"#REF!"}},{"$f":"IF(#REF!=\"SI\",#REF!,NA())","v":{"$error":"#REF!"}}]
[{"$f":"IF(#REF!=\"SI\",#REF!,NA())","v":{"$error":"#REF!"}},{"$f":"IF(#REF!=\"SI\",#REF!,NA())","v":{"$error":"#REF!"}},{"$f":"IF(#REF!=\"SI\",#REF!,NA())","v":{"$error":"#REF!"}},{"$f":"IF(#REF!=\"SI\",#REF!,NA())","v":{"$error":"#REF!"}}]
[{"$f":"IF(#REF!=\"SI\",#REF!,NA())","v":{"$error":"#REF!"}},{"$f":"IF(#REF!=\"SI\",#REF!,NA())","v":{"$error":"#REF!"}},{"$f":"IF(#REF!=\"SI\",#REF!,NA())","v":{"$error":"#REF!"}},{"$f":"IF(#REF!=\"SI\",#REF!,NA())","v":{"$error":"#REF!"}}]
[{"$f":"IF(#REF!=\"SI\",#REF!,NA())","v":{"$error":"#REF!"}},{"$f":"IF(#REF!=\"SI\",#REF!,NA())","v":{"$error":"#REF!"}},{"$f":"IF(#REF!=\"SI\",#REF!,NA())","v":{"$error":"#REF!"}},{"$f":"IF(#REF!=\"SI\",#REF!,NA())","v":{"$error":"#REF!"}}]
[{"$f":"IF(#REF!=\"SI\",#REF!,NA())","v":{"$error":"#REF!"}},{"$f":"IF(#REF!=\"SI\",#REF!,NA())","v":{"$error":"#REF!"}},{"$f":"IF(#REF!=\"SI\",#REF!,NA())","v":{"$error":"#REF!"}},{"$f":"IF(#REF!=\"SI\",#REF!,NA())","v":{"$error":"#REF!"}}]
[{"$f":"IF(#REF!=\"SI\",#REF!,NA())","v":{"$error":"#REF!"}},{"$f":"IF(#REF!=\"SI\",#REF!,NA())","v":{"$error":"#REF!"}},{"$f":"IF(#REF!=\"SI\",#REF!,NA())","v":{"$error":"#REF!"}},{"$f":"IF(#REF!=\"SI\",#REF!,NA())","v":{"$error":"#REF!"}}]
[{"$f":"IF(#REF!=\"SI\",#REF!,NA())","v":{"$error":"#REF!"}},{"$f":"IF(#REF!=\"SI\",#REF!,NA())","v":{"$error":"#REF!"}},{"$f":"IF(#REF!=\"SI\",#REF!,NA())","v":{"$error":"#REF!"}},{"$f":"IF(#REF!=\"SI\",#REF!,NA())","v":{"$error":"#REF!"}}]
[{"$f":"IF(#REF!=\"SI\",#REF!,NA())","v":{"$error":"#REF!"}},{"$f":"IF(#REF!=\"SI\",#REF!,NA())","v":{"$error":"#REF!"}},{"$f":"IF(#REF!=\"SI\",#REF!,NA())","v":{"$error":"#REF!"}},{"$f":"IF(#REF!=\"SI\",#REF!,NA())","v":{"$error":"#REF!"}}]
[{"$f":"IF(#REF!=\"SI\",#REF!,NA())","v":{"$error":"#REF!"}},{"$f":"IF(#REF!=\"SI\",#REF!,NA())","v":{"$error":"#REF!"}},{"$f":"IF(#REF!=\"SI\",#REF!,NA())","v":{"$error":"#REF!"}},{"$f":"IF(#REF!=\"SI\",#REF!,NA())","v":{"$error":"#REF!"}}]
[{"$f":"IF(#REF!=\"SI\",#REF!,NA())","v":{"$error":"#REF!"}},{"$f":"IF(#REF!=\"SI\",#REF!,NA())","v":{"$error":"#REF!"}},{"$f":"IF(#REF!=\"SI\",#REF!,NA())","v":{"$error":"#REF!"}},{"$f":"IF(#REF!=\"SI\",#REF!,NA())","v":{"$error":"#REF!"}}]
[{"$f":"IF(#REF!=\"SI\",#REF!,NA())","v":{"$error":"#REF!"}},{"$f":"IF(#REF!=\"SI\",#REF!,NA())","v":{"$error":"#REF!"}},{"$f":"IF(#REF!=\"SI\",#REF!,NA())","v":{"$error":"#REF!"}},{"$f":"IF(#REF!=\"SI\",#REF!,NA())","v":{"$error":"#REF!"}}]
[{"$f":"IF(#REF!=\"SI\",#REF!,NA())","v":{"$error":"#REF!"}},{"$f":"IF(#REF!=\"SI\",#REF!,NA())","v":{"$error":"#REF!"}},{"$f":"IF(#REF!=\"SI\",#REF!,NA())","v":{"$error":"#REF!"}},{"$f":"IF(#REF!=\"SI\",#REF!,NA())","v":{"$error":"#REF!"}}]
[{"$f":"IF(#REF!=\"SI\",#REF!,NA())","v":{"$error":"#REF!"}},{"$f":"IF(#REF!=\"SI\",#REF!,NA())","v":{"$error":"#REF!"}},{"$f":"IF(#REF!=\"SI\",#REF!,NA())","v":{"$error":"#REF!"}},{"$f":"IF(#REF!=\"SI\",#REF!,NA())","v":{"$error":"#REF!"}}]
[{"$f":"IF(#REF!=\"SI\",#REF!,NA())","v":{"$error":"#REF!"}},{"$f":"IF(#REF!=\"SI\",#REF!,NA())","v":{"$error":"#REF!"}},{"$f":"IF(#REF!=\"SI\",#REF!,NA())","v":{"$error":"#REF!"}},{"$f":"IF(#REF!=\"SI\",#REF!,NA())","v":{"$error":"#REF!"}}]
[{"$f":"IF(#REF!=\"SI\",#REF!,NA())","v":{"$error":"#REF!"}},{"$f":"IF(#REF!=\"SI\",#REF!,NA())","v":{"$error":"#REF!"}},{"$f":"IF(#REF!=\"SI\",#REF!,NA())","v":{"$error":"#REF!"}},{"$f":"IF(#REF!=\"SI\",#REF!,NA())","v":{"$error":"#REF!"}}]
[{"$f":"IF(#REF!=\"SI\",#REF!,NA())","v":{"$error":"#REF!"}},{"$f":"IF(#REF!=\"SI\",#REF!,NA())","v":{"$error":"#REF!"}},{"$f":"IF(#REF!=\"SI\",#REF!,NA())","v":{"$error":"#REF!"}},{"$f":"IF(#REF!=\"SI\",#REF!,NA())","v":{"$error":"#REF!"}}]
[{"$f":"IF(#REF!=\"SI\",#REF!,NA())","v":{"$error":"#REF!"}},{"$f":"IF(#REF!=\"SI\",#REF!,NA())","v":{"$error":"#REF!"}},{"$f":"IF(#REF!=\"SI\",#REF!,NA())","v":{"$error":"#REF!"}},{"$f":"IF(#REF!=\"SI\",#REF!,NA())","v":{"$error":"#REF!"}}]
[{"$f":"IF(#REF!=\"SI\",#REF!,NA())","v":{"$error":"#REF!"}},{"$f":"IF(#REF!=\"SI\",#REF!,NA())","v":{"$error":"#REF!"}},{"$f":"IF(#REF!=\"SI\",#REF!,NA())","v":{"$error":"#REF!"}},{"$f":"IF(#REF!=\"SI\",#REF!,NA())","v":{"$error":"#REF!"}}]
[{"$f":"IF(#REF!=\"SI\",#REF!,NA())","v":{"$error":"#REF!"}},{"$f":"IF(#REF!=\"SI\",#REF!,NA())","v":{"$error":"#REF!"}},{"$f":"IF(#REF!=\"SI\",#REF!,NA())","v":{"$error":"#REF!"}},{"$f":"IF(#REF!=\"SI\",#REF!,NA())","v":{"$error":"#REF!"}}]
[{"$f":"IF(#REF!=\"SI\",#REF!,NA())","v":{"$error":"#REF!"}},{"$f":"IF(#REF!=\"SI\",#REF!,NA())","v":{"$error":"#REF!"}},{"$f":"IF(#REF!=\"SI\",#REF!,NA())","v":{"$error":"#REF!"}},{"$f":"IF(#REF!=\"SI\",#REF!,NA())","v":{"$error":"#REF!"}}]
[{"$f":"IF(#REF!=\"SI\",#REF!,NA())","v":{"$error":"#REF!"}},{"$f":"IF(#REF!=\"SI\",#REF!,NA())","v":{"$error":"#REF!"}},{"$f":"IF(#REF!=\"SI\",#REF!,NA())","v":{"$error":"#REF!"}},{"$f":"IF(#REF!=\"SI\",#REF!,NA())","v":{"$error":"#REF!"}}]
[{"$f":"IF(#REF!=\"SI\",#REF!,NA())","v":{"$error":"#REF!"}},{"$f":"IF(#REF!=\"SI\",#REF!,NA())","v":{"$error":"#REF!"}},{"$f":"IF(#REF!=\"SI\",#REF!,NA())","v":{"$error":"#REF!"}},{"$f":"IF(#REF!=\"SI\",#REF!,NA())","v":{"$error":"#REF!"}}]
[{"$f":"IF(#REF!=\"SI\",#REF!,NA())","v":{"$error":"#REF!"}},{"$f":"IF(#REF!=\"SI\",#REF!,NA())","v":{"$error":"#REF!"}},{"$f":"IF(#REF!=\"SI\",#REF!,NA())","v":{"$error":"#REF!"}},{"$f":"IF(#REF!=\"SI\",#REF!,NA())","v":{"$error":"#REF!"}}]
[{"$f":"IF(#REF!=\"SI\",#REF!,NA())","v":{"$error":"#REF!"}},{"$f":"IF(#REF!=\"SI\",#REF!,NA())","v":{"$error":"#REF!"}},{"$f":"IF(#REF!=\"SI\",#REF!,NA())","v":{"$error":"#REF!"}},{"$f":"IF(#REF!=\"SI\",#REF!,NA())","v":{"$error":"#REF!"}}]
[{"$f":"IF(#REF!=\"SI\",#REF!,NA())","v":{"$error":"#REF!"}},{"$f":"IF(#REF!=\"SI\",#REF!,NA())","v":{"$error":"#REF!"}},{"$f":"IF(#REF!=\"SI\",#REF!,NA())","v":{"$error":"#REF!"}},{"$f":"IF(#REF!=\"SI\",#REF!,NA())","v":{"$error":"#REF!"}}]
[{"$f":"IF(#REF!=\"SI\",#REF!,NA())","v":{"$error":"#REF!"}},{"$f":"IF(#REF!=\"SI\",#REF!,NA())","v":{"$error":"#REF!"}},{"$f":"IF(#REF!=\"SI\",#REF!,NA())","v":{"$error":"#REF!"}},{"$f":"IF(#REF!=\"SI\",#REF!,NA())","v":{"$error":"#REF!"}}]
[{"$f":"IF(#REF!=\"SI\",#REF!,NA())","v":{"$error":"#REF!"}},{"$f":"IF(#REF!=\"SI\",#REF!,NA())","v":{"$error":"#REF!"}},{"$f":"IF(#REF!=\"SI\",#REF!,NA())","v":{"$error":"#REF!"}},{"$f":"IF(#REF!=\"SI\",#REF!,NA())","v":{"$error":"#REF!"}}]
[{"$f":"IF(#REF!=\"SI\",#REF!,NA())","v":{"$error":"#REF!"}},{"$f":"IF(#REF!=\"SI\",#REF!,NA())","v":{"$error":"#REF!"}},{"$f":"IF(#REF!=\"SI\",#REF!,NA())","v":{"$error":"#REF!"}},{"$f":"IF(#REF!=\"SI\",#REF!,NA())","v":{"$error":"#REF!"}}]
[{"$f":"IF(#REF!=\"SI\",#REF!,NA())","v":{"$error":"#REF!"}},{"$f":"IF(#REF!=\"SI\",#REF!,NA())","v":{"$error":"#REF!"}},{"$f":"IF(#REF!=\"SI\",#REF!,NA())","v":{"$error":"#REF!"}},{"$f":"IF(#REF!=\"SI\",#REF!,NA())","v":{"$error":"#REF!"}}]
[{"$f":"IF(#REF!=\"SI\",#REF!,NA())","v":{"$error":"#REF!"}},{"$f":"IF(#REF!=\"SI\",#REF!,NA())","v":{"$error":"#REF!"}},{"$f":"IF(#REF!=\"SI\",#REF!,NA())","v":{"$error":"#REF!"}},{"$f":"IF(#REF!=\"SI\",#REF!,NA())","v":{"$error":"#REF!"}}]
[{"$f":"IF(#REF!=\"SI\",#REF!,NA())","v":{"$error":"#REF!"}},{"$f":"IF(#REF!=\"SI\",#REF!,NA())","v":{"$error":"#REF!"}},{"$f":"IF(#REF!=\"SI\",#REF!,NA())","v":{"$error":"#REF!"}},{"$f":"IF(#REF!=\"SI\",#REF!,NA())","v":{"$error":"#REF!"}}]
[{"$f":"IF(#REF!=\"SI\",#REF!,NA())","v":{"$error":"#REF!"}},{"$f":"IF(#REF!=\"SI\",#REF!,NA())","v":{"$error":"#REF!"}},{"$f":"IF(#REF!=\"SI\",#REF!,NA())","v":{"$error":"#REF!"}},{"$f":"IF(#REF!=\"SI\",#REF!,NA())","v":{"$error":"#REF!"}}]
[{"$f":"IF(#REF!=\"SI\",#REF!,NA())","v":{"$error":"#REF!"}},{"$f":"IF(#REF!=\"SI\",#REF!,NA())","v":{"$error":"#REF!"}},{"$f":"IF(#REF!=\"SI\",#REF!,NA())","v":{"$error":"#REF!"}},{"$f":"IF(#REF!=\"SI\",#REF!,NA())","v":{"$error":"#REF!"}}]
[{"$f":"IF(#REF!=\"SI\",#REF!,NA())","v":{"$error":"#REF!"}},{"$f":"IF(#REF!=\"SI\",#REF!,NA())","v":{"$error":"#REF!"}},{"$f":"IF(#REF!=\"SI\",#REF!,NA())","v":{"$error":"#REF!"}},{"$f":"IF(#REF!=\"SI\",#REF!,NA())","v":{"$error":"#REF!"}}]
[{"$f":"IF(#REF!=\"SI\",#REF!,NA())","v":{"$error":"#REF!"}},{"$f":"IF(#REF!=\"SI\",#REF!,NA())","v":{"$error":"#REF!"}},{"$f":"IF(#REF!=\"SI\",#REF!,NA())","v":{"$error":"#REF!"}},{"$f":"IF(#REF!=\"SI\",#REF!,NA())","v":{"$error":"#REF!"}}]
[{"$f":"IF(#REF!=\"SI\",#REF!,NA())","v":{"$error":"#REF!"}},{"$f":"IF(#REF!=\"SI\",#REF!,NA())","v":{"$error":"#REF!"}},{"$f":"IF(#REF!=\"SI\",#REF!,NA())","v":{"$error":"#REF!"}},{"$f":"IF(#REF!=\"SI\",#REF!,NA())","v":{"$error":"#REF!"}}]
[{"$f":"IF(#REF!=\"SI\",#REF!,NA())","v":{"$error":"#REF!"}},{"$f":"IF(#REF!=\"SI\",#REF!,NA())","v":{"$error":"#REF!"}},{"$f":"IF(#REF!=\"SI\",#REF!,NA())","v":{"$error":"#REF!"}},{"$f":"IF(#REF!=\"SI\",#REF!,NA())","v":{"$error":"#REF!"}}]
[{"$f":"IF(#REF!=\"SI\",#REF!,NA())","v":{"$error":"#REF!"}},{"$f":"IF(#REF!=\"SI\",#REF!,NA())","v":{"$error":"#REF!"}},{"$f":"IF(#REF!=\"SI\",#REF!,NA())","v":{"$error":"#REF!"}},{"$f":"IF(#REF!=\"SI\",#REF!,NA())","v":{"$error":"#REF!"}}]
[{"$f":"IF(#REF!=\"SI\",#REF!,NA())","v":{"$error":"#REF!"}},{"$f":"IF(#REF!=\"SI\",#REF!,NA())","v":{"$error":"#REF!"}},{"$f":"IF(#REF!=\"SI\",#REF!,NA())","v":{"$error":"#REF!"}},{"$f":"IF(#REF!=\"SI\",#REF!,NA())","v":{"$error":"#REF!"}}]
[{"$f":"IF(#REF!=\"SI\",#REF!,NA())","v":{"$error":"#REF!"}},{"$f":"IF(#REF!=\"SI\",#REF!,NA())","v":{"$error":"#REF!"}},{"$f":"IF(#REF!=\"SI\",#REF!,NA())","v":{"$error":"#REF!"}},{"$f":"IF(#REF!=\"SI\",#REF!,NA())","v":{"$error":"#REF!"}}]
[{"$f":"IF(#REF!=\"SI\",#REF!,NA())","v":{"$error":"#REF!"}},{"$f":"IF(#REF!=\"SI\",#REF!,NA())","v":{"$error":"#REF!"}},{"$f":"IF(#REF!=\"SI\",#REF!,NA())","v":{"$error":"#REF!"}},{"$f":"IF(#REF!=\"SI\",#REF!,NA())","v":{"$error":"#REF!"}}]
[{"$f":"IF(#REF!=\"SI\",#REF!,NA())","v":{"$error":"#REF!"}},{"$f":"IF(#REF!=\"SI\",#REF!,NA())","v":{"$error":"#REF!"}},{"$f":"IF(#REF!=\"SI\",#REF!,NA())","v":{"$error":"#REF!"}},{"$f":"IF(#REF!=\"SI\",#REF!,NA())","v":{"$error":"#REF!"}}]
[{"$f":"IF(#REF!=\"SI\",#REF!,NA())","v":{"$error":"#REF!"}},{"$f":"IF(#REF!=\"SI\",#REF!,NA())","v":{"$error":"#REF!"}},{"$f":"IF(#REF!=\"SI\",#REF!,NA())","v":{"$error":"#REF!"}},{"$f":"IF(#REF!=\"SI\",#REF!,NA())","v":{"$error":"#REF!"}}]
[{"$f":"IF(#REF!=\"SI\",#REF!,NA())","v":{"$error":"#REF!"}},{"$f":"IF(#REF!=\"SI\",#REF!,NA())","v":{"$error":"#REF!"}},{"$f":"IF(#REF!=\"SI\",#REF!,NA())","v":{"$error":"#REF!"}},{"$f":"IF(#REF!=\"SI\",#REF!,NA())","v":{"$error":"#REF!"}}]
[{"$f":"IF(#REF!=\"SI\",#REF!,NA())","v":{"$error":"#REF!"}},{"$f":"IF(#REF!=\"SI\",#REF!,NA())","v":{"$error":"#REF!"}},{"$f":"IF(#REF!=\"SI\",#REF!,NA())","v":{"$error":"#REF!"}},{"$f":"IF(#REF!=\"SI\",#REF!,NA())","v":{"$error":"#REF!"}}]
[{"$f":"IF(#REF!=\"SI\",#REF!,NA())","v":{"$error":"#REF!"}},{"$f":"IF(#REF!=\"SI\",#REF!,NA())","v":{"$error":"#REF!"}},{"$f":"IF(#REF!=\"SI\",#REF!,NA())","v":{"$error":"#REF!"}},{"$f":"IF(#REF!=\"SI\",#REF!,NA())","v":{"$error":"#REF!"}}]
[{"$f":"IF(#REF!=\"SI\",#REF!,NA())","v":{"$error":"#REF!"}},{"$f":"IF(#REF!=\"SI\",#REF!,NA())","v":{"$error":"#REF!"}},{"$f":"IF(#REF!=\"SI\",#REF!,NA())","v":{"$error":"#REF!"}},{"$f":"IF(#REF!=\"SI\",#REF!,NA())","v":{"$error":"#REF!"}}]
[{"$f":"IF(#REF!=\"SI\",#REF!,NA())","v":{"$error":"#REF!"}},{"$f":"IF(#REF!=\"SI\",#REF!,NA())","v":{"$error":"#REF!"}},{"$f":"IF(#REF!=\"SI\",#REF!,NA())","v":{"$error":"#REF!"}},{"$f":"IF(#REF!=\"SI\",#REF!,NA())","v":{"$error":"#REF!"}}]
[{"$f":"IF(#REF!=\"SI\",#REF!,NA())","v":{"$error":"#REF!"}},{"$f":"IF(#REF!=\"SI\",#REF!,NA())","v":{"$error":"#REF!"}},{"$f":"IF(#REF!=\"SI\",#REF!,NA())","v":{"$error":"#REF!"}},{"$f":"IF(#REF!=\"SI\",#REF!,NA())","v":{"$error":"#REF!"}}]
[{"$f":"IF(#REF!=\"SI\",#REF!,NA())","v":{"$error":"#REF!"}},{"$f":"IF(#REF!=\"SI\",#REF!,NA())","v":{"$error":"#REF!"}},{"$f":"IF(#REF!=\"SI\",#REF!,NA())","v":{"$error":"#REF!"}},{"$f":"IF(#REF!=\"SI\",#REF!,NA())","v":{"$error":"#REF!"}}]
[{"$f":"IF(#REF!=\"SI\",#REF!,NA())","v":{"$error":"#REF!"}},{"$f":"IF(#REF!=\"SI\",#REF!,NA())","v":{"$error":"#REF!"}},{"$f":"IF(#REF!=\"SI\",#REF!,NA())","v":{"$error":"#REF!"}},{"$f":"IF(#REF!=\"SI\",#REF!,NA())","v":{"$error":"#REF!"}}]
[{"$f":"IF(#REF!=\"SI\",#REF!,NA())","v":{"$error":"#REF!"}},{"$f":"IF(#REF!=\"SI\",#REF!,NA())","v":{"$error":"#REF!"}},{"$f":"IF(#REF!=\"SI\",#REF!,NA())","v":{"$error":"#REF!"}},{"$f":"IF(#REF!=\"SI\",#REF!,NA())","v":{"$error":"#REF!"}}]
[{"$f":"IF(#REF!=\"SI\",#REF!,NA())","v":{"$error":"#REF!"}},{"$f":"IF(#REF!=\"SI\",#REF!,NA())","v":{"$error":"#REF!"}},{"$f":"IF(#REF!=\"SI\",#REF!,NA())","v":{"$error":"#REF!"}},{"$f":"IF(#REF!=\"SI\",#REF!,NA())","v":{"$error":"#REF!"}}]
[{"$f":"IF(#REF!=\"SI\",#REF!,NA())","v":{"$error":"#REF!"}},{"$f":"IF(#REF!=\"SI\",#REF!,NA())","v":{"$error":"#REF!"}},{"$f":"IF(#REF!=\"SI\",#REF!,NA())","v":{"$error":"#REF!"}},{"$f":"IF(#REF!=\"SI\",#REF!,NA())","v":{"$error":"#REF!"}}]
[{"$f":"IF(#REF!=\"SI\",#REF!,NA())","v":{"$error":"#REF!"}},{"$f":"IF(#REF!=\"SI\",#REF!,NA())","v":{"$error":"#REF!"}},{"$f":"IF(#REF!=\"SI\",#REF!,NA())","v":{"$error":"#REF!"}},{"$f":"IF(#REF!=\"SI\",#REF!,NA())","v":{"$error":"#REF!"}}]
[{"$f":"IF(#REF!=\"SI\",#REF!,NA())","v":{"$error":"#REF!"}},{"$f":"IF(#REF!=\"SI\",#REF!,NA())","v":{"$error":"#REF!"}},{"$f":"IF(#REF!=\"SI\",#REF!,NA())","v":{"$error":"#REF!"}},{"$f":"IF(#REF!=\"SI\",#REF!,NA())","v":{"$error":"#REF!"}}]
[{"$f":"IF(#REF!=\"SI\",#REF!,NA())","v":{"$error":"#REF!"}},{"$f":"IF(#REF!=\"SI\",#REF!,NA())","v":{"$error":"#REF!"}},{"$f":"IF(#REF!=\"SI\",#REF!,NA())","v":{"$error":"#REF!"}},{"$f":"IF(#REF!=\"SI\",#REF!,NA())","v":{"$error":"#REF!"}}]
[{"$f":"IF(#REF!=\"SI\",#REF!,NA())","v":{"$error":"#REF!"}},{"$f":"IF(#REF!=\"SI\",#REF!,NA())","v":{"$error":"#REF!"}},{"$f":"IF(#REF!=\"SI\",#REF!,NA())","v":{"$error":"#REF!"}},{"$f":"IF(#REF!=\"SI\",#REF!,NA())","v":{"$error":"#REF!"}}]
[{"$f":"IF(#REF!=\"SI\",#REF!,NA())","v":{"$error":"#REF!"}},{"$f":"IF(#REF!=\"SI\",#REF!,NA())","v":{"$error":"#REF!"}},{"$f":"IF(#REF!=\"SI\",#REF!,NA())","v":{"$error":"#REF!"}},{"$f":"IF(#REF!=\"SI\",#REF!,NA())","v":{"$error":"#REF!"}}]
[{"$f":"IF(#REF!=\"SI\",#REF!,NA())","v":{"$error":"#REF!"}},{"$f":"IF(#REF!=\"SI\",#REF!,NA())","v":{"$error":"#REF!"}},{"$f":"IF(#REF!=\"SI\",#REF!,NA())","v":{"$error":"#REF!"}},{"$f":"IF(#REF!=\"SI\",#REF!,NA())","v":{"$error":"#REF!"}}]
[{"$f":"IF(#REF!=\"SI\",#REF!,NA())","v":{"$error":"#REF!"}},{"$f":"IF(#REF!=\"SI\",#REF!,NA())","v":{"$error":"#REF!"}},{"$f":"IF(#REF!=\"SI\",#REF!,NA())","v":{"$error":"#REF!"}},{"$f":"IF(#REF!=\"SI\",#REF!,NA())","v":{"$error":"#REF!"}}]
[{"$f":"IF(#REF!=\"SI\",#REF!,NA())","v":{"$error":"#REF!"}},{"$f":"IF(#REF!=\"SI\",#REF!,NA())","v":{"$error":"#REF!"}},{"$f":"IF(#REF!=\"SI\",#REF!,NA())","v":{"$error":"#REF!"}},{"$f":"IF(#REF!=\"SI\",#REF!,NA())","v":{"$error":"#REF!"}}]
[{"$f":"IF(#REF!=\"SI\",#REF!,NA())","v":{"$error":"#REF!"}},{"$f":"IF(#REF!=\"SI\",#REF!,NA())","v":{"$error":"#REF!"}},{"$f":"IF(#REF!=\"SI\",#REF!,NA())","v":{"$error":"#REF!"}},{"$f":"IF(#REF!=\"SI\",#REF!,NA())","v":{"$error":"#REF!"}}]
[{"$f":"IF(#REF!=\"SI\",#REF!,NA())","v":{"$error":"#REF!"}},{"$f":"IF(#REF!=\"SI\",#REF!,NA())","v":{"$error":"#REF!"}},{"$f":"IF(#REF!=\"SI\",#REF!,NA())","v":{"$error":"#REF!"}},{"$f":"IF(#REF!=\"SI\",#REF!,NA())","v":{"$error":"#REF!"}}]
[{"$f":"IF(#REF!=\"SI\",#REF!,NA())","v":{"$error":"#REF!"}},{"$f":"IF(#REF!=\"SI\",#REF!,NA())","v":{"$error":"#REF!"}},{"$f":"IF(#REF!=\"SI\",#REF!,NA())","v":{"$error":"#REF!"}},{"$f":"IF(#REF!=\"SI\",#REF!,NA())","v":{"$error":"#REF!"}}]
[{"$f":"IF(#REF!=\"SI\",#REF!,NA())","v":{"$error":"#REF!"}},{"$f":"IF(#REF!=\"SI\",#REF!,NA())","v":{"$error":"#REF!"}},{"$f":"IF(#REF!=\"SI\",#REF!,NA())","v":{"$error":"#REF!"}},{"$f":"IF(#REF!=\"SI\",#REF!,NA())","v":{"$error":"#REF!"}}]
[{"$f":"IF(#REF!=\"SI\",#REF!,NA())","v":{"$error":"#REF!"}},{"$f":"IF(#REF!=\"SI\",#REF!,NA())","v":{"$error":"#REF!"}},{"$f":"IF(#REF!=\"SI\",#REF!,NA())","v":{"$error":"#REF!"}},{"$f":"IF(#REF!=\"SI\",#REF!,NA())","v":{"$error":"#REF!"}}]
[{"$f":"IF(#REF!=\"SI\",#REF!,NA())","v":{"$error":"#REF!"}},{"$f":"IF(#REF!=\"SI\",#REF!,NA())","v":{"$error":"#REF!"}},{"$f":"IF(#REF!=\"SI\",#REF!,NA())","v":{"$error":"#REF!"}},{"$f":"IF(#REF!=\"SI\",#REF!,NA())","v":{"$error":"#REF!"}}]
[{"$f":"IF(#REF!=\"SI\",#REF!,NA())","v":{"$error":"#REF!"}},{"$f":"IF(#REF!=\"SI\",#REF!,NA())","v":{"$error":"#REF!"}},{"$f":"IF(#REF!=\"SI\",#REF!,NA())","v":{"$error":"#REF!"}},{"$f":"IF(#REF!=\"SI\",#REF!,NA())","v":{"$error":"#REF!"}}]
[{"$f":"IF(#REF!=\"SI\",#REF!,NA())","v":{"$error":"#REF!"}},{"$f":"IF(#REF!=\"SI\",#REF!,NA())","v":{"$error":"#REF!"}},{"$f":"IF(#REF!=\"SI\",#REF!,NA())","v":{"$error":"#REF!"}},{"$f":"IF(#REF!=\"SI\",#REF!,NA())","v":{"$error":"#REF!"}}]
[{"$f":"IF(#REF!=\"SI\",#REF!,NA())","v":{"$error":"#REF!"}},{"$f":"IF(#REF!=\"SI\",#REF!,NA())","v":{"$error":"#REF!"}},{"$f":"IF(#REF!=\"SI\",#REF!,NA())","v":{"$error":"#REF!"}},{"$f":"IF(#REF!=\"SI\",#REF!,NA())","v":{"$error":"#REF!"}}]
[{"$f":"IF(#REF!=\"SI\",#REF!,NA())","v":{"$error":"#REF!"}},{"$f":"IF(#REF!=\"SI\",#REF!,NA())","v":{"$error":"#REF!"}},{"$f":"IF(#REF!=\"SI\",#REF!,NA())","v":{"$error":"#REF!"}},{"$f":"IF(#REF!=\"SI\",#REF!,NA())","v":{"$error":"#REF!"}}]
[{"$f":"IF(#REF!=\"SI\",#REF!,NA())","v":{"$error":"#REF!"}},{"$f":"IF(#REF!=\"SI\",#REF!,NA())","v":{"$error":"#REF!"}},{"$f":"IF(#REF!=\"SI\",#REF!,NA())","v":{"$error":"#REF!"}},{"$f":"IF(#REF!=\"SI\",#REF!,NA())","v":{"$error":"#REF!"}}]
[{"$f":"IF(#REF!=\"SI\",#REF!,NA())","v":{"$error":"#REF!"}},{"$f":"IF(#REF!=\"SI\",#REF!,NA())","v":{"$error":"#REF!"}},{"$f":"IF(#REF!=\"SI\",#REF!,NA())","v":{"$error":"#REF!"}},{"$f":"IF(#REF!=\"SI\",#REF!,NA())","v":{"$error":"#REF!"}}]
[{"$f":"IF(#REF!=\"SI\",#REF!,NA())","v":{"$error":"#REF!"}},{"$f":"IF(#REF!=\"SI\",#REF!,NA())","v":{"$error":"#REF!"}},{"$f":"IF(#REF!=\"SI\",#REF!,NA())","v":{"$error":"#REF!"}},{"$f":"IF(#REF!=\"SI\",#REF!,NA())","v":{"$error":"#REF!"}}]
[{"$f":"IF(#REF!=\"SI\",#REF!,NA())","v":{"$error":"#REF!"}},{"$f":"IF(#REF!=\"SI\",#REF!,NA())","v":{"$error":"#REF!"}},{"$f":"IF(#REF!=\"SI\",#REF!,NA())","v":{"$error":"#REF!"}},{"$f":"IF(#REF!=\"SI\",#REF!,NA())","v":{"$error":"#REF!"}}]
[{"$f":"IF(#REF!=\"SI\",#REF!,NA())","v":{"$error":"#REF!"}},{"$f":"IF(#REF!=\"SI\",#REF!,NA())","v":{"$error":"#REF!"}},{"$f":"IF(#REF!=\"SI\",#REF!,NA())","v":{"$error":"#REF!"}},{"$f":"IF(#REF!=\"SI\",#REF!,NA())","v":{"$error":"#REF!"}}]
[{"$f":"IF(#REF!=\"SI\",#REF!,NA())","v":{"$error":"#REF!"}},{"$f":"IF(#REF!=\"SI\",#REF!,NA())","v":{"$error":"#REF!"}},{"$f":"IF(#REF!=\"SI\",#REF!,NA())","v":{"$error":"#REF!"}},{"$f":"IF(#REF!=\"SI\",#REF!,NA())","v":{"$error":"#REF!"}}]
[{"$f":"IF(#REF!=\"SI\",#REF!,NA())","v":{"$error":"#REF!"}},{"$f":"IF(#REF!=\"SI\",#REF!,NA())","v":{"$error":"#REF!"}},{"$f":"IF(#REF!=\"SI\",#REF!,NA())","v":{"$error":"#REF!"}},{"$f":"IF(#REF!=\"SI\",#REF!,NA())","v":{"$error":"#REF!"}}]
[{"$f":"IF(#REF!=\"SI\",#REF!,NA())","v":{"$error":"#REF!"}},{"$f":"IF(#REF!=\"SI\",#REF!,NA())","v":{"$error":"#REF!"}},{"$f":"IF(#REF!=\"SI\",#REF!,NA())","v":{"$error":"#REF!"}},{"$f":"IF(#REF!=\"SI\",#REF!,NA())","v":{"$error":"#REF!"}}]
[{"$f":"IF(#REF!=\"SI\",#REF!,NA())","v":{"$error":"#REF!"}},{"$f":"IF(#REF!=\"SI\",#REF!,NA())","v":{"$error":"#REF!"}},{"$f":"IF(#REF!=\"SI\",#REF!,NA())","v":{"$error":"#REF!"}},{"$f":"IF(#REF!=\"SI\",#REF!,NA())","v":{"$error":"#REF!"}}]
[{"$f":"IF(#REF!=\"SI\",#REF!,NA())","v":{"$error":"#REF!"}},{"$f":"IF(#REF!=\"SI\",#REF!,NA())","v":{"$error":"#REF!"}},{"$f":"IF(#REF!=\"SI\",#REF!,NA())","v":{"$error":"#REF!"}},{"$f":"IF(#REF!=\"SI\",#REF!,NA())","v":{"$error":"#REF!"}}]
[{"$f":"IF(#REF!=\"SI\",#REF!,NA())","v":{"$error":"#REF!"}},{"$f":"IF(#REF!=\"SI\",#REF!,NA())","v":{"$error":"#REF!"}},{"$f":"IF(#REF!=\"SI\",#REF!,NA())","v":{"$error":"#REF!"}},{"$f":"IF(#REF!=\"SI\",#REF!,NA())","v":{"$error":"#REF!"}}]
[{"$f":"IF(#REF!=\"SI\",#REF!,NA())","v":{"$error":"#REF!"}},{"$f":"IF(#REF!=\"SI\",#REF!,NA())","v":{"$error":"#REF!"}},{"$f":"IF(#REF!=\"SI\",#REF!,NA())","v":{"$error":"#REF!"}},{"$f":"IF(#REF!=\"SI\",#REF!,NA())","v":{"$error":"#REF!"}}]
[{"$f":"IF(#REF!=\"SI\",#REF!,NA())","v":{"$error":"#REF!"}},{"$f":"IF(#REF!=\"SI\",#REF!,NA())","v":{"$error":"#REF!"}},{"$f":"IF(#REF!=\"SI\",#REF!,NA())","v":{"$error":"#REF!"}},{"$f":"IF(#REF!=\"SI\",#REF!,NA())","v":{"$error":"#REF!"}}]
[{"$f":"IF(#REF!=\"SI\",#REF!,NA())","v":{"$error":"#REF!"}},{"$f":"IF(#REF!=\"SI\",#REF!,NA())","v":{"$error":"#REF!"}},{"$f":"IF(#REF!=\"SI\",#REF!,NA())","v":{"$error":"#REF!"}},{"$f":"IF(#REF!=\"SI\",#REF!,NA())","v":{"$error":"#REF!"}}]
[{"$f":"IF(#REF!=\"SI\",#REF!,NA())","v":{"$error":"#REF!"}},{"$f":"IF(#REF!=\"SI\",#REF!,NA())","v":{"$error":"#REF!"}},{"$f":"IF(#REF!=\"SI\",#REF!,NA())","v":{"$error":"#REF!"}},{"$f":"IF(#REF!=\"SI\",#REF!,NA())","v":{"$error":"#REF!"}}]
[{"$f":"IF(#REF!=\"SI\",#REF!,NA())","v":{"$error":"#REF!"}},{"$f":"IF(#REF!=\"SI\",#REF!,NA())","v":{"$error":"#REF!"}},{"$f":"IF(#REF!=\"SI\",#REF!,NA())","v":{"$error":"#REF!"}},{"$f":"IF(#REF!=\"SI\",#REF!,NA())","v":{"$error":"#REF!"}}]
[{"$f":"IF(#REF!=\"SI\",#REF!,NA())","v":{"$error":"#REF!"}},{"$f":"IF(#REF!=\"SI\",#REF!,NA())","v":{"$error":"#REF!"}},{"$f":"IF(#REF!=\"SI\",#REF!,NA())","v":{"$error":"#REF!"}},{"$f":"IF(#REF!=\"SI\",#REF!,NA())","v":{"$error":"#REF!"}}]
[{"$f":"IF(#REF!=\"SI\",#REF!,NA())","v":{"$error":"#REF!"}},{"$f":"IF(#REF!=\"SI\",#REF!,NA())","v":{"$error":"#REF!"}},{"$f":"IF(#REF!=\"SI\",#REF!,NA())","v":{"$error":"#REF!"}},{"$f":"IF(#REF!=\"SI\",#REF!,NA())","v":{"$error":"#REF!"}}]
[{"$f":"IF(#REF!=\"SI\",#REF!,NA())","v":{"$error":"#REF!"}},{"$f":"IF(#REF!=\"SI\",#REF!,NA())","v":{"$error":"#REF!"}},{"$f":"IF(#REF!=\"SI\",#REF!,NA())","v":{"$error":"#REF!"}},{"$f":"IF(#REF!=\"SI\",#REF!,NA())","v":{"$error":"#REF!"}}]
[{"$f":"IF(#REF!=\"SI\",#REF!,NA())","v":{"$error":"#REF!"}},{"$f":"IF(#REF!=\"SI\",#REF!,NA())","v":{"$error":"#REF!"}},{"$f":"IF(#REF!=\"SI\",#REF!,NA())","v":{"$error":"#REF!"}},{"$f":"IF(#REF!=\"SI\",#REF!,NA())","v":{"$error":"#REF!"}}]
[{"$f":"IF(#REF!=\"SI\",#REF!,NA())","v":{"$error":"#REF!"}},{"$f":"IF(#REF!=\"SI\",#REF!,NA())","v":{"$error":"#REF!"}},{"$f":"IF(#REF!=\"SI\",#REF!,NA())","v":{"$error":"#REF!"}},{"$f":"IF(#REF!=\"SI\",#REF!,NA())","v":{"$error":"#REF!"}}]
[{"$f":"IF(#REF!=\"SI\",#REF!,NA())","v":{"$error":"#REF!"}},{"$f":"IF(#REF!=\"SI\",#REF!,NA())","v":{"$error":"#REF!"}},{"$f":"IF(#REF!=\"SI\",#REF!,NA())","v":{"$error":"#REF!"}},{"$f":"IF(#REF!=\"SI\",#REF!,NA())","v":{"$error":"#REF!"}}]
[{"$f":"IF(#REF!=\"SI\",#REF!,NA())","v":{"$error":"#REF!"}},{"$f":"IF(#REF!=\"SI\",#REF!,NA())","v":{"$error":"#REF!"}},{"$f":"IF(#REF!=\"SI\",#REF!,NA())","v":{"$error":"#REF!"}},{"$f":"IF(#REF!=\"SI\",#REF!,NA())","v":{"$error":"#REF!"}}]
[{"$f":"IF(#REF!=\"SI\",#REF!,NA())","v":{"$error":"#REF!"}},{"$f":"IF(#REF!=\"SI\",#REF!,NA())","v":{"$error":"#REF!"}},{"$f":"IF(#REF!=\"SI\",#REF!,NA())","v":{"$error":"#REF!"}},{"$f":"IF(#REF!=\"SI\",#REF!,NA())","v":{"$error":"#REF!"}}]
[{"$f":"IF(#REF!=\"SI\",#REF!,NA())","v":{"$error":"#REF!"}},{"$f":"IF(#REF!=\"SI\",#REF!,NA())","v":{"$error":"#REF!"}},{"$f":"IF(#REF!=\"SI\",#REF!,NA())","v":{"$error":"#REF!"}},{"$f":"IF(#REF!=\"SI\",#REF!,NA())","v":{"$error":"#REF!"}}]
[{"$f":"IF(#REF!=\"SI\",#REF!,NA())","v":{"$error":"#REF!"}},{"$f":"IF(#REF!=\"SI\",#REF!,NA())","v":{"$error":"#REF!"}},{"$f":"IF(#REF!=\"SI\",#REF!,NA())","v":{"$error":"#REF!"}},{"$f":"IF(#REF!=\"SI\",#REF!,NA())","v":{"$error":"#REF!"}}]
[{"$f":"IF(#REF!=\"SI\",#REF!,NA())","v":{"$error":"#REF!"}},{"$f":"IF(#REF!=\"SI\",#REF!,NA())","v":{"$error":"#REF!"}},{"$f":"IF(#REF!=\"SI\",#REF!,NA())","v":{"$error":"#REF!"}},{"$f":"IF(#REF!=\"SI\",#REF!,NA())","v":{"$error":"#REF!"}}]
[{"$f":"IF(#REF!=\"SI\",#REF!,NA())","v":{"$error":"#REF!"}},{"$f":"IF(#REF!=\"SI\",#REF!,NA())","v":{"$error":"#REF!"}},{"$f":"IF(#REF!=\"SI\",#REF!,NA())","v":{"$error":"#REF!"}},{"$f":"IF(#REF!=\"SI\",#REF!,NA())","v":{"$error":"#REF!"}}]
[{"$f":"IF(#REF!=\"SI\",#REF!,NA())","v":{"$error":"#REF!"}},{"$f":"IF(#REF!=\"SI\",#REF!,NA())","v":{"$error":"#REF!"}},{"$f":"IF(#REF!=\"SI\",#REF!,NA())","v":{"$error":"#REF!"}},{"$f":"IF(#REF!=\"SI\",#REF!,NA())","v":{"$error":"#REF!"}}]
[{"$f":"IF(#REF!=\"SI\",#REF!,NA())","v":{"$error":"#REF!"}},{"$f":"IF(#REF!=\"SI\",#REF!,NA())","v":{"$error":"#REF!"}},{"$f":"IF(#REF!=\"SI\",#REF!,NA())","v":{"$error":"#REF!"}},{"$f":"IF(#REF!=\"SI\",#REF!,NA())","v":{"$error":"#REF!"}}]
[{"$f":"IF(#REF!=\"SI\",#REF!,NA())","v":{"$error":"#REF!"}},{"$f":"IF(#REF!=\"SI\",#REF!,NA())","v":{"$error":"#REF!"}},{"$f":"IF(#REF!=\"SI\",#REF!,NA())","v":{"$error":"#REF!"}},{"$f":"IF(#REF!=\"SI\",#REF!,NA())","v":{"$error":"#REF!"}}]
[{"$f":"IF(#REF!=\"SI\",#REF!,NA())","v":{"$error":"#REF!"}},{"$f":"IF(#REF!=\"SI\",#REF!,NA())","v":{"$error":"#REF!"}},{"$f":"IF(#REF!=\"SI\",#REF!,NA())","v":{"$error":"#REF!"}},{"$f":"IF(#REF!=\"SI\",#REF!,NA())","v":{"$error":"#REF!"}}]
[{"$f":"IF(#REF!=\"SI\",#REF!,NA())","v":{"$error":"#REF!"}},{"$f":"IF(#REF!=\"SI\",#REF!,NA())","v":{"$error":"#REF!"}},{"$f":"IF(#REF!=\"SI\",#REF!,NA())","v":{"$error":"#REF!"}},{"$f":"IF(#REF!=\"SI\",#REF!,NA())","v":{"$error":"#REF!"}}]
[{"$f":"IF(#REF!=\"SI\",#REF!,NA())","v":{"$error":"#REF!"}},{"$f":"IF(#REF!=\"SI\",#REF!,NA())","v":{"$error":"#REF!"}},{"$f":"IF(#REF!=\"SI\",#REF!,NA())","v":{"$error":"#REF!"}},{"$f":"IF(#REF!=\"SI\",#REF!,NA())","v":{"$error":"#REF!"}}]
[{"$f":"IF(#REF!=\"SI\",#REF!,NA())","v":{"$error":"#REF!"}},{"$f":"IF(#REF!=\"SI\",#REF!,NA())","v":{"$error":"#REF!"}},{"$f":"IF(#REF!=\"SI\",#REF!,NA())","v":{"$error":"#REF!"}},{"$f":"IF(#REF!=\"SI\",#REF!,NA())","v":{"$error":"#REF!"}}]
[{"$f":"IF(#REF!=\"SI\",#REF!,NA())","v":{"$error":"#REF!"}},{"$f":"IF(#REF!=\"SI\",#REF!,NA())","v":{"$error":"#REF!"}},{"$f":"IF(#REF!=\"SI\",#REF!,NA())","v":{"$error":"#REF!"}},{"$f":"IF(#REF!=\"SI\",#REF!,NA())","v":{"$error":"#REF!"}}]
[{"$f":"IF(#REF!=\"SI\",#REF!,NA())","v":{"$error":"#REF!"}},{"$f":"IF(#REF!=\"SI\",#REF!,NA())","v":{"$error":"#REF!"}},{"$f":"IF(#REF!=\"SI\",#REF!,NA())","v":{"$error":"#REF!"}},{"$f":"IF(#REF!=\"SI\",#REF!,NA())","v":{"$error":"#REF!"}}]
[{"$f":"IF(#REF!=\"SI\",#REF!,NA())","v":{"$error":"#REF!"}},{"$f":"IF(#REF!=\"SI\",#REF!,NA())","v":{"$error":"#REF!"}},{"$f":"IF(#REF!=\"SI\",#REF!,NA())","v":{"$error":"#REF!"}},{"$f":"IF(#REF!=\"SI\",#REF!,NA())","v":{"$error":"#REF!"}}]
[{"$f":"IF(#REF!=\"SI\",#REF!,NA())","v":{"$error":"#REF!"}},{"$f":"IF(#REF!=\"SI\",#REF!,NA())","v":{"$error":"#REF!"}},{"$f":"IF(#REF!=\"SI\",#REF!,NA())","v":{"$error":"#REF!"}},{"$f":"IF(#REF!=\"SI\",#REF!,NA())","v":{"$error":"#REF!"}}]
[{"$f":"IF(#REF!=\"SI\",#REF!,NA())","v":{"$error":"#REF!"}},{"$f":"IF(#REF!=\"SI\",#REF!,NA())","v":{"$error":"#REF!"}},{"$f":"IF(#REF!=\"SI\",#REF!,NA())","v":{"$error":"#REF!"}},{"$f":"IF(#REF!=\"SI\",#REF!,NA())","v":{"$error":"#REF!"}}]

{"sheet":"Hoja2","index":2,"n_rows":74,"n_cols":4,"rows_kept":74,"cut":false,"hidden":true,"merged":[]}
["COMPONENTE","Fase de construcción","Fase de operación y mantenimiento","Fase de desmantelamiento y abandono"]
[{"$f":"IFERROR(INDEX(Temp!A$3:A$170, SMALL(IF(ISERROR(Temp!A$3:A$170), \"\", ROW(Temp!A$3:A$170)-MIN(ROW(Temp!A$3:A$170))+1), ROW(1:1))),\"\")","v":""},{"$f":"IFERROR(INDEX(Temp!B$3:B$170, SMALL(IF(ISERROR(Temp!B$3:B$170), \"\", ROW(Temp!B$3:B$170)-MIN(ROW(Temp!B$3:B$170))+1), ROW(1:1))),\"\")","v":""},{"$f":"IFERROR(INDEX(Temp!C$3:C$170, SMALL(IF(ISERROR(Temp!C$3:C$170), \"\", ROW(Temp!C$3:C$170)-MIN(ROW(Temp!C$3:C$170))+1), ROW(1:1))),\"\")","v":""},{"$f":"IFERROR(INDEX(Temp!D$3:D$170, SMALL(IF(ISERROR(Temp!D$3:D$170), \"\", ROW(Temp!D$3:D$170)-MIN(ROW(Temp!D$3:D$170))+1), ROW(1:1))),\"\")","v":""}]
[{"$f":"IFERROR(INDEX(Temp!A$3:A$170, SMALL(IF(ISERROR(Temp!A$3:A$170), \"\", ROW(Temp!A$3:A$170)-MIN(ROW(Temp!A$3:A$170))+1), ROW(2:2))),\"\")","v":""},{"$f":"IFERROR(INDEX(Temp!B$3:B$170, SMALL(IF(ISERROR(Temp!B$3:B$170), \"\", ROW(Temp!B$3:B$170)-MIN(ROW(Temp!B$3:B$170))+1), ROW(2:2))),\"\")","v":""},{"$f":"IFERROR(INDEX(Temp!C$3:C$170, SMALL(IF(ISERROR(Temp!C$3:C$170), \"\", ROW(Temp!C$3:C$170)-MIN(ROW(Temp!C$3:C$170))+1), ROW(2:2))),\"\")","v":""},{"$f":"IFERROR(INDEX(Temp!D$3:D$170, SMALL(IF(ISERROR(Temp!D$3:D$170), \"\", ROW(Temp!D$3:D$170)-MIN(ROW(Temp!D$3:D$170))+1), ROW(2:2))),\"\")","v":""}]
[{"$f":"IFERROR(INDEX(Temp!A$3:A$170, SMALL(IF(ISERROR(Temp!A$3:A$170), \"\", ROW(Temp!A$3:A$170)-MIN(ROW(Temp!A$3:A$170))+1), ROW(3:3))),\"\")","v":""},{"$f":"IFERROR(INDEX(Temp!B$3:B$170, SMALL(IF(ISERROR(Temp!B$3:B$170), \"\", ROW(Temp!B$3:B$170)-MIN(ROW(Temp!B$3:B$170))+1), ROW(3:3))),\"\")","v":""},{"$f":"IFERROR(INDEX(Temp!C$3:C$170, SMALL(IF(ISERROR(Temp!C$3:C$170), \"\", ROW(Temp!C$3:C$170)-MIN(ROW(Temp!C$3:C$170))+1), ROW(3:3))),\"\")","v":""},{"$f":"IFERROR(INDEX(Temp!D$3:D$170, SMALL(IF(ISERROR(Temp!D$3:D$170), \"\", ROW(Temp!D$3:D$170)-MIN(ROW(Temp!D$3:D$170))+1), ROW(3:3))),\"\")","v":""}]
[{"$f":"IFERROR(INDEX(Temp!A$3:A$170, SMALL(IF(ISERROR(Temp!A$3:A$170), \"\", ROW(Temp!A$3:A$170)-MIN(ROW(Temp!A$3:A$170))+1), ROW(4:4))),\"\")","v":""},{"$f":"IFERROR(INDEX(Temp!B$3:B$170, SMALL(IF(ISERROR(Temp!B$3:B$170), \"\", ROW(Temp!B$3:B$170)-MIN(ROW(Temp!B$3:B$170))+1), ROW(4:4))),\"\")","v":""},{"$f":"IFERROR(INDEX(Temp!C$3:C$170, SMALL(IF(ISERROR(Temp!C$3:C$170), \"\", ROW(Temp!C$3:C$170)-MIN(ROW(Temp!C$3:C$170))+1), ROW(4:4))),\"\")","v":""},{"$f":"IFERROR(INDEX(Temp!D$3:D$170, SMALL(IF(ISERROR(Temp!D$3:D$170), \"\", ROW(Temp!D$3:D$170)-MIN(ROW(Temp!D$3:D$170))+1), ROW(4:4))),\"\")","v":""}]
[{"$f":"IFERROR(INDEX(Temp!A$3:A$170, SMALL(IF(ISERROR(Temp!A$3:A$170), \"\", ROW(Temp!A$3:A$170)-MIN(ROW(Temp!A$3:A$170))+1), ROW(5:5))),\"\")","v":""},{"$f":"IFERROR(INDEX(Temp!B$3:B$170, SMALL(IF(ISERROR(Temp!B$3:B$170), \"\", ROW(Temp!B$3:B$170)-MIN(ROW(Temp!B$3:B$170))+1), ROW(5:5))),\"\")","v":""},{"$f":"IFERROR(INDEX(Temp!C$3:C$170, SMALL(IF(ISERROR(Temp!C$3:C$170), \"\", ROW(Temp!C$3:C$170)-MIN(ROW(Temp!C$3:C$170))+1), ROW(5:5))),\"\")","v":""},{"$f":"IFERROR(INDEX(Temp!D$3:D$170, SMALL(IF(ISERROR(Temp!D$3:D$170), \"\", ROW(Temp!D$3:D$170)-MIN(ROW(Temp!D$3:D$170))+1), ROW(5:5))),\"\")","v":""}]
[{"$f":"IFERROR(INDEX(Temp!A$3:A$170, SMALL(IF(ISERROR(Temp!A$3:A$170), \"\", ROW(Temp!A$3:A$170)-MIN(ROW(Temp!A$3:A$170))+1), ROW(6:6))),\"\")","v":""},{"$f":"IFERROR(INDEX(Temp!B$3:B$170, SMALL(IF(ISERROR(Temp!B$3:B$170), \"\", ROW(Temp!B$3:B$170)-MIN(ROW(Temp!B$3:B$170))+1), ROW(6:6))),\"\")","v":""},{"$f":"IFERROR(INDEX(Temp!C$3:C$170, SMALL(IF(ISERROR(Temp!C$3:C$170), \"\", ROW(Temp!C$3:C$170)-MIN(ROW(Temp!C$3:C$170))+1), ROW(6:6))),\"\")","v":""},{"$f":"IFERROR(INDEX(Temp!D$3:D$170, SMALL(IF(ISERROR(Temp!D$3:D$170), \"\", ROW(Temp!D$3:D$170)-MIN(ROW(Temp!D$3:D$170))+1), ROW(6:6))),\"\")","v":""}]
[{"$f":"IFERROR(INDEX(Temp!A$3:A$170, SMALL(IF(ISERROR(Temp!A$3:A$170), \"\", ROW(Temp!A$3:A$170)-MIN(ROW(Temp!A$3:A$170))+1), ROW(7:7))),\"\")","v":""},{"$f":"IFERROR(INDEX(Temp!B$3:B$170, SMALL(IF(ISERROR(Temp!B$3:B$170), \"\", ROW(Temp!B$3:B$170)-MIN(ROW(Temp!B$3:B$170))+1), ROW(7:7))),\"\")","v":""},{"$f":"IFERROR(INDEX(Temp!C$3:C$170, SMALL(IF(ISERROR(Temp!C$3:C$170), \"\", ROW(Temp!C$3:C$170)-MIN(ROW(Temp!C$3:C$170))+1), ROW(7:7))),\"\")","v":""},{"$f":"IFERROR(INDEX(Temp!D$3:D$170, SMALL(IF(ISERROR(Temp!D$3:D$170), \"\", ROW(Temp!D$3:D$170)-MIN(ROW(Temp!D$3:D$170))+1), ROW(7:7))),\"\")","v":""}]
[{"$f":"IFERROR(INDEX(Temp!A$3:A$170, SMALL(IF(ISERROR(Temp!A$3:A$170), \"\", ROW(Temp!A$3:A$170)-MIN(ROW(Temp!A$3:A$170))+1), ROW(8:8))),\"\")","v":""},{"$f":"IFERROR(INDEX(Temp!B$3:B$170, SMALL(IF(ISERROR(Temp!B$3:B$170), \"\", ROW(Temp!B$3:B$170)-MIN(ROW(Temp!B$3:B$170))+1), ROW(8:8))),\"\")","v":""},{"$f":"IFERROR(INDEX(Temp!C$3:C$170, SMALL(IF(ISERROR(Temp!C$3:C$170), \"\", ROW(Temp!C$3:C$170)-MIN(ROW(Temp!C$3:C$170))+1), ROW(8:8))),\"\")","v":""},{"$f":"IFERROR(INDEX(Temp!D$3:D$170, SMALL(IF(ISERROR(Temp!D$3:D$170), \"\", ROW(Temp!D$3:D$170)-MIN(ROW(Temp!D$3:D$170))+1), ROW(8:8))),\"\")","v":""}]
[{"$f":"IFERROR(INDEX(Temp!A$3:A$170, SMALL(IF(ISERROR(Temp!A$3:A$170), \"\", ROW(Temp!A$3:A$170)-MIN(ROW(Temp!A$3:A$170))+1), ROW(9:9))),\"\")","v":""},{"$f":"IFERROR(INDEX(Temp!B$3:B$170, SMALL(IF(ISERROR(Temp!B$3:B$170), \"\", ROW(Temp!B$3:B$170)-MIN(ROW(Temp!B$3:B$170))+1), ROW(9:9))),\"\")","v":""},{"$f":"IFERROR(INDEX(Temp!C$3:C$170, SMALL(IF(ISERROR(Temp!C$3:C$170), \"\", ROW(Temp!C$3:C$170)-MIN(ROW(Temp!C$3:C$170))+1), ROW(9:9))),\"\")","v":""},{"$f":"IFERROR(INDEX(Temp!D$3:D$170, SMALL(IF(ISERROR(Temp!D$3:D$170), \"\", ROW(Temp!D$3:D$170)-MIN(ROW(Temp!D$3:D$170))+1), ROW(9:9))),\"\")","v":""}]
[{"$f":"IFERROR(INDEX(Temp!A$3:A$170, SMALL(IF(ISERROR(Temp!A$3:A$170), \"\", ROW(Temp!A$3:A$170)-MIN(ROW(Temp!A$3:A$170))+1), ROW(10:10))),\"\")","v":""},{"$f":"IFERROR(INDEX(Temp!B$3:B$170, SMALL(IF(ISERROR(Temp!B$3:B$170), \"\", ROW(Temp!B$3:B$170)-MIN(ROW(Temp!B$3:B$170))+1), ROW(10:10))),\"\")","v":""},{"$f":"IFERROR(INDEX(Temp!C$3:C$170, SMALL(IF(ISERROR(Temp!C$3:C$170), \"\", ROW(Temp!C$3:C$170)-MIN(ROW(Temp!C$3:C$170))+1), ROW(10:10))),\"\")","v":""},{"$f":"IFERROR(INDEX(Temp!D$3:D$170, SMALL(IF(ISERROR(Temp!D$3:D$170), \"\", ROW(Temp!D$3:D$170)-MIN(ROW(Temp!D$3:D$170))+1), ROW(10:10))),\"\")","v":""}]
[{"$f":"IFERROR(INDEX(Temp!A$3:A$170, SMALL(IF(ISERROR(Temp!A$3:A$170), \"\", ROW(Temp!A$3:A$170)-MIN(ROW(Temp!A$3:A$170))+1), ROW(11:11))),\"\")","v":""},{"$f":"IFERROR(INDEX(Temp!B$3:B$170, SMALL(IF(ISERROR(Temp!B$3:B$170), \"\", ROW(Temp!B$3:B$170)-MIN(ROW(Temp!B$3:B$170))+1), ROW(11:11))),\"\")","v":""},{"$f":"IFERROR(INDEX(Temp!C$3:C$170, SMALL(IF(ISERROR(Temp!C$3:C$170), \"\", ROW(Temp!C$3:C$170)-MIN(ROW(Temp!C$3:C$170))+1), ROW(11:11))),\"\")","v":""},{"$f":"IFERROR(INDEX(Temp!D$3:D$170, SMALL(IF(ISERROR(Temp!D$3:D$170), \"\", ROW(Temp!D$3:D$170)-MIN(ROW(Temp!D$3:D$170))+1), ROW(11:11))),\"\")","v":""}]
[{"$f":"IFERROR(INDEX(Temp!A$3:A$170, SMALL(IF(ISERROR(Temp!A$3:A$170), \"\", ROW(Temp!A$3:A$170)-MIN(ROW(Temp!A$3:A$170))+1), ROW(12:12))),\"\")","v":""},{"$f":"IFERROR(INDEX(Temp!B$3:B$170, SMALL(IF(ISERROR(Temp!B$3:B$170), \"\", ROW(Temp!B$3:B$170)-MIN(ROW(Temp!B$3:B$170))+1), ROW(12:12))),\"\")","v":""},{"$f":"IFERROR(INDEX(Temp!C$3:C$170, SMALL(IF(ISERROR(Temp!C$3:C$170), \"\", ROW(Temp!C$3:C$170)-MIN(ROW(Temp!C$3:C$170))+1), ROW(12:12))),\"\")","v":""},{"$f":"IFERROR(INDEX(Temp!D$3:D$170, SMALL(IF(ISERROR(Temp!D$3:D$170), \"\", ROW(Temp!D$3:D$170)-MIN(ROW(Temp!D$3:D$170))+1), ROW(12:12))),\"\")","v":""}]
[{"$f":"IFERROR(INDEX(Temp!A$3:A$170, SMALL(IF(ISERROR(Temp!A$3:A$170), \"\", ROW(Temp!A$3:A$170)-MIN(ROW(Temp!A$3:A$170))+1), ROW(13:13))),\"\")","v":""},{"$f":"IFERROR(INDEX(Temp!B$3:B$170, SMALL(IF(ISERROR(Temp!B$3:B$170), \"\", ROW(Temp!B$3:B$170)-MIN(ROW(Temp!B$3:B$170))+1), ROW(13:13))),\"\")","v":""},{"$f":"IFERROR(INDEX(Temp!C$3:C$170, SMALL(IF(ISERROR(Temp!C$3:C$170), \"\", ROW(Temp!C$3:C$170)-MIN(ROW(Temp!C$3:C$170))+1), ROW(13:13))),\"\")","v":""},{"$f":"IFERROR(INDEX(Temp!D$3:D$170, SMALL(IF(ISERROR(Temp!D$3:D$170), \"\", ROW(Temp!D$3:D$170)-MIN(ROW(Temp!D$3:D$170))+1), ROW(13:13))),\"\")","v":""}]
[{"$f":"IFERROR(INDEX(Temp!A$3:A$170, SMALL(IF(ISERROR(Temp!A$3:A$170), \"\", ROW(Temp!A$3:A$170)-MIN(ROW(Temp!A$3:A$170))+1), ROW(14:14))),\"\")","v":""},{"$f":"IFERROR(INDEX(Temp!B$3:B$170, SMALL(IF(ISERROR(Temp!B$3:B$170), \"\", ROW(Temp!B$3:B$170)-MIN(ROW(Temp!B$3:B$170))+1), ROW(14:14))),\"\")","v":""},{"$f":"IFERROR(INDEX(Temp!C$3:C$170, SMALL(IF(ISERROR(Temp!C$3:C$170), \"\", ROW(Temp!C$3:C$170)-MIN(ROW(Temp!C$3:C$170))+1), ROW(14:14))),\"\")","v":""},{"$f":"IFERROR(INDEX(Temp!D$3:D$170, SMALL(IF(ISERROR(Temp!D$3:D$170), \"\", ROW(Temp!D$3:D$170)-MIN(ROW(Temp!D$3:D$170))+1), ROW(14:14))),\"\")","v":""}]
[{"$f":"IFERROR(INDEX(Temp!A$3:A$170, SMALL(IF(ISERROR(Temp!A$3:A$170), \"\", ROW(Temp!A$3:A$170)-MIN(ROW(Temp!A$3:A$170))+1), ROW(15:15))),\"\")","v":""},{"$f":"IFERROR(INDEX(Temp!B$3:B$170, SMALL(IF(ISERROR(Temp!B$3:B$170), \"\", ROW(Temp!B$3:B$170)-MIN(ROW(Temp!B$3:B$170))+1), ROW(15:15))),\"\")","v":""},{"$f":"IFERROR(INDEX(Temp!C$3:C$170, SMALL(IF(ISERROR(Temp!C$3:C$170), \"\", ROW(Temp!C$3:C$170)-MIN(ROW(Temp!C$3:C$170))+1), ROW(15:15))),\"\")","v":""},{"$f":"IFERROR(INDEX(Temp!D$3:D$170, SMALL(IF(ISERROR(Temp!D$3:D$170), \"\", ROW(Temp!D$3:D$170)-MIN(ROW(Temp!D$3:D$170))+1), ROW(15:15))),\"\")","v":""}]
[{"$f":"IFERROR(INDEX(Temp!A$3:A$170, SMALL(IF(ISERROR(Temp!A$3:A$170), \"\", ROW(Temp!A$3:A$170)-MIN(ROW(Temp!A$3:A$170))+1), ROW(16:16))),\"\")","v":""},{"$f":"IFERROR(INDEX(Temp!B$3:B$170, SMALL(IF(ISERROR(Temp!B$3:B$170), \"\", ROW(Temp!B$3:B$170)-MIN(ROW(Temp!B$3:B$170))+1), ROW(16:16))),\"\")","v":""},{"$f":"IFERROR(INDEX(Temp!C$3:C$170, SMALL(IF(ISERROR(Temp!C$3:C$170), \"\", ROW(Temp!C$3:C$170)-MIN(ROW(Temp!C$3:C$170))+1), ROW(16:16))),\"\")","v":""},{"$f":"IFERROR(INDEX(Temp!D$3:D$170, SMALL(IF(ISERROR(Temp!D$3:D$170), \"\", ROW(Temp!D$3:D$170)-MIN(ROW(Temp!D$3:D$170))+1), ROW(16:16))),\"\")","v":""}]
[{"$f":"IFERROR(INDEX(Temp!A$3:A$170, SMALL(IF(ISERROR(Temp!A$3:A$170), \"\", ROW(Temp!A$3:A$170)-MIN(ROW(Temp!A$3:A$170))+1), ROW(17:17))),\"\")","v":""},{"$f":"IFERROR(INDEX(Temp!B$3:B$170, SMALL(IF(ISERROR(Temp!B$3:B$170), \"\", ROW(Temp!B$3:B$170)-MIN(ROW(Temp!B$3:B$170))+1), ROW(17:17))),\"\")","v":""},{"$f":"IFERROR(INDEX(Temp!C$3:C$170, SMALL(IF(ISERROR(Temp!C$3:C$170), \"\", ROW(Temp!C$3:C$170)-MIN(ROW(Temp!C$3:C$170))+1), ROW(17:17))),\"\")","v":""},{"$f":"IFERROR(INDEX(Temp!D$3:D$170, SMALL(IF(ISERROR(Temp!D$3:D$170), \"\", ROW(Temp!D$3:D$170)-MIN(ROW(Temp!D$3:D$170))+1), ROW(17:17))),\"\")","v":""}]
[{"$f":"IFERROR(INDEX(Temp!A$3:A$170, SMALL(IF(ISERROR(Temp!A$3:A$170), \"\", ROW(Temp!A$3:A$170)-MIN(ROW(Temp!A$3:A$170))+1), ROW(18:18))),\"\")","v":""},{"$f":"IFERROR(INDEX(Temp!B$3:B$170, SMALL(IF(ISERROR(Temp!B$3:B$170), \"\", ROW(Temp!B$3:B$170)-MIN(ROW(Temp!B$3:B$170))+1), ROW(18:18))),\"\")","v":""},{"$f":"IFERROR(INDEX(Temp!C$3:C$170, SMALL(IF(ISERROR(Temp!C$3:C$170), \"\", ROW(Temp!C$3:C$170)-MIN(ROW(Temp!C$3:C$170))+1), ROW(18:18))),\"\")","v":""},{"$f":"IFERROR(INDEX(Temp!D$3:D$170, SMALL(IF(ISERROR(Temp!D$3:D$170), \"\", ROW(Temp!D$3:D$170)-MIN(ROW(Temp!D$3:D$170))+1), ROW(18:18))),\"\")","v":""}]
[{"$f":"IFERROR(INDEX(Temp!A$3:A$170, SMALL(IF(ISERROR(Temp!A$3:A$170), \"\", ROW(Temp!A$3:A$170)-MIN(ROW(Temp!A$3:A$170))+1), ROW(19:19))),\"\")","v":""},{"$f":"IFERROR(INDEX(Temp!B$3:B$170, SMALL(IF(ISERROR(Temp!B$3:B$170), \"\", ROW(Temp!B$3:B$170)-MIN(ROW(Temp!B$3:B$170))+1), ROW(19:19))),\"\")","v":""},{"$f":"IFERROR(INDEX(Temp!C$3:C$170, SMALL(IF(ISERROR(Temp!C$3:C$170), \"\", ROW(Temp!C$3:C$170)-MIN(ROW(Temp!C$3:C$170))+1), ROW(19:19))),\"\")","v":""},{"$f":"IFERROR(INDEX(Temp!D$3:D$170, SMALL(IF(ISERROR(Temp!D$3:D$170), \"\", ROW(Temp!D$3:D$170)-MIN(ROW(Temp!D$3:D$170))+1), ROW(19:19))),\"\")","v":""}]
[{"$f":"IFERROR(INDEX(Temp!A$3:A$170, SMALL(IF(ISERROR(Temp!A$3:A$170), \"\", ROW(Temp!A$3:A$170)-MIN(ROW(Temp!A$3:A$170))+1), ROW(20:20))),\"\")","v":""},{"$f":"IFERROR(INDEX(Temp!B$3:B$170, SMALL(IF(ISERROR(Temp!B$3:B$170), \"\", ROW(Temp!B$3:B$170)-MIN(ROW(Temp!B$3:B$170))+1), ROW(20:20))),\"\")","v":""},{"$f":"IFERROR(INDEX(Temp!C$3:C$170, SMALL(IF(ISERROR(Temp!C$3:C$170), \"\", ROW(Temp!C$3:C$170)-MIN(ROW(Temp!C$3:C$170))+1), ROW(20:20))),\"\")","v":""},{"$f":"IFERROR(INDEX(Temp!D$3:D$170, SMALL(IF(ISERROR(Temp!D$3:D$170), \"\", ROW(Temp!D$3:D$170)-MIN(ROW(Temp!D$3:D$170))+1), ROW(20:20))),\"\")","v":""}]
[{"$f":"IFERROR(INDEX(Temp!A$3:A$170, SMALL(IF(ISERROR(Temp!A$3:A$170), \"\", ROW(Temp!A$3:A$170)-MIN(ROW(Temp!A$3:A$170))+1), ROW(21:21))),\"\")","v":""},{"$f":"IFERROR(INDEX(Temp!B$3:B$170, SMALL(IF(ISERROR(Temp!B$3:B$170), \"\", ROW(Temp!B$3:B$170)-MIN(ROW(Temp!B$3:B$170))+1), ROW(21:21))),\"\")","v":""},{"$f":"IFERROR(INDEX(Temp!C$3:C$170, SMALL(IF(ISERROR(Temp!C$3:C$170), \"\", ROW(Temp!C$3:C$170)-MIN(ROW(Temp!C$3:C$170))+1), ROW(21:21))),\"\")","v":""},{"$f":"IFERROR(INDEX(Temp!D$3:D$170, SMALL(IF(ISERROR(Temp!D$3:D$170), \"\", ROW(Temp!D$3:D$170)-MIN(ROW(Temp!D$3:D$170))+1), ROW(21:21))),\"\")","v":""}]
[{"$f":"IFERROR(INDEX(Temp!A$3:A$170, SMALL(IF(ISERROR(Temp!A$3:A$170), \"\", ROW(Temp!A$3:A$170)-MIN(ROW(Temp!A$3:A$170))+1), ROW(22:22))),\"\")","v":""},{"$f":"IFERROR(INDEX(Temp!B$3:B$170, SMALL(IF(ISERROR(Temp!B$3:B$170), \"\", ROW(Temp!B$3:B$170)-MIN(ROW(Temp!B$3:B$170))+1), ROW(22:22))),\"\")","v":""},{"$f":"IFERROR(INDEX(Temp!C$3:C$170, SMALL(IF(ISERROR(Temp!C$3:C$170), \"\", ROW(Temp!C$3:C$170)-MIN(ROW(Temp!C$3:C$170))+1), ROW(22:22))),\"\")","v":""},{"$f":"IFERROR(INDEX(Temp!D$3:D$170, SMALL(IF(ISERROR(Temp!D$3:D$170), \"\", ROW(Temp!D$3:D$170)-MIN(ROW(Temp!D$3:D$170))+1), ROW(22:22))),\"\")","v":""}]
[{"$f":"IFERROR(INDEX(Temp!A$3:A$170, SMALL(IF(ISERROR(Temp!A$3:A$170), \"\", ROW(Temp!A$3:A$170)-MIN(ROW(Temp!A$3:A$170))+1), ROW(23:23))),\"\")","v":""},{"$f":"IFERROR(INDEX(Temp!B$3:B$170, SMALL(IF(ISERROR(Temp!B$3:B$170), \"\", ROW(Temp!B$3:B$170)-MIN(ROW(Temp!B$3:B$170))+1), ROW(23:23))),\"\")","v":""},{"$f":"IFERROR(INDEX(Temp!C$3:C$170, SMALL(IF(ISERROR(Temp!C$3:C$170), \"\", ROW(Temp!C$3:C$170)-MIN(ROW(Temp!C$3:C$170))+1), ROW(23:23))),\"\")","v":""},{"$f":"IFERROR(INDEX(Temp!D$3:D$170, SMALL(IF(ISERROR(Temp!D$3:D$170), \"\", ROW(Temp!D$3:D$170)-MIN(ROW(Temp!D$3:D$170))+1), ROW(23:23))),\"\")","v":""}]
[{"$f":"IFERROR(INDEX(Temp!A$3:A$170, SMALL(IF(ISERROR(Temp!A$3:A$170), \"\", ROW(Temp!A$3:A$170)-MIN(ROW(Temp!A$3:A$170))+1), ROW(24:24))),\"\")","v":""},{"$f":"IFERROR(INDEX(Temp!B$3:B$170, SMALL(IF(ISERROR(Temp!B$3:B$170), \"\", ROW(Temp!B$3:B$170)-MIN(ROW(Temp!B$3:B$170))+1), ROW(24:24))),\"\")","v":""},{"$f":"IFERROR(INDEX(Temp!C$3:C$170, SMALL(IF(ISERROR(Temp!C$3:C$170), \"\", ROW(Temp!C$3:C$170)-MIN(ROW(Temp!C$3:C$170))+1), ROW(24:24))),\"\")","v":""},{"$f":"IFERROR(INDEX(Temp!D$3:D$170, SMALL(IF(ISERROR(Temp!D$3:D$170), \"\", ROW(Temp!D$3:D$170)-MIN(ROW(Temp!D$3:D$170))+1), ROW(24:24))),\"\")","v":""}]
[{"$f":"IFERROR(INDEX(Temp!A$3:A$170, SMALL(IF(ISERROR(Temp!A$3:A$170), \"\", ROW(Temp!A$3:A$170)-MIN(ROW(Temp!A$3:A$170))+1), ROW(25:25))),\"\")","v":""},{"$f":"IFERROR(INDEX(Temp!B$3:B$170, SMALL(IF(ISERROR(Temp!B$3:B$170), \"\", ROW(Temp!B$3:B$170)-MIN(ROW(Temp!B$3:B$170))+1), ROW(25:25))),\"\")","v":""},{"$f":"IFERROR(INDEX(Temp!C$3:C$170, SMALL(IF(ISERROR(Temp!C$3:C$170), \"\", ROW(Temp!C$3:C$170)-MIN(ROW(Temp!C$3:C$170))+1), ROW(25:25))),\"\")","v":""},{"$f":"IFERROR(INDEX(Temp!D$3:D$170, SMALL(IF(ISERROR(Temp!D$3:D$170), \"\", ROW(Temp!D$3:D$170)-MIN(ROW(Temp!D$3:D$170))+1), ROW(25:25))),\"\")","v":""}]
[{"$f":"IFERROR(INDEX(Temp!A$3:A$170, SMALL(IF(ISERROR(Temp!A$3:A$170), \"\", ROW(Temp!A$3:A$170)-MIN(ROW(Temp!A$3:A$170))+1), ROW(26:26))),\"\")","v":""},{"$f":"IFERROR(INDEX(Temp!B$3:B$170, SMALL(IF(ISERROR(Temp!B$3:B$170), \"\", ROW(Temp!B$3:B$170)-MIN(ROW(Temp!B$3:B$170))+1), ROW(26:26))),\"\")","v":""},{"$f":"IFERROR(INDEX(Temp!C$3:C$170, SMALL(IF(ISERROR(Temp!C$3:C$170), \"\", ROW(Temp!C$3:C$170)-MIN(ROW(Temp!C$3:C$170))+1), ROW(26:26))),\"\")","v":""},{"$f":"IFERROR(INDEX(Temp!D$3:D$170, SMALL(IF(ISERROR(Temp!D$3:D$170), \"\", ROW(Temp!D$3:D$170)-MIN(ROW(Temp!D$3:D$170))+1), ROW(26:26))),\"\")","v":""}]
[{"$f":"IFERROR(INDEX(Temp!A$3:A$170, SMALL(IF(ISERROR(Temp!A$3:A$170), \"\", ROW(Temp!A$3:A$170)-MIN(ROW(Temp!A$3:A$170))+1), ROW(27:27))),\"\")","v":""},{"$f":"IFERROR(INDEX(Temp!B$3:B$170, SMALL(IF(ISERROR(Temp!B$3:B$170), \"\", ROW(Temp!B$3:B$170)-MIN(ROW(Temp!B$3:B$170))+1), ROW(27:27))),\"\")","v":""},{"$f":"IFERROR(INDEX(Temp!C$3:C$170, SMALL(IF(ISERROR(Temp!C$3:C$170), \"\", ROW(Temp!C$3:C$170)-MIN(ROW(Temp!C$3:C$170))+1), ROW(27:27))),\"\")","v":""},{"$f":"IFERROR(INDEX(Temp!D$3:D$170, SMALL(IF(ISERROR(Temp!D$3:D$170), \"\", ROW(Temp!D$3:D$170)-MIN(ROW(Temp!D$3:D$170))+1), ROW(27:27))),\"\")","v":""}]
[{"$f":"IFERROR(INDEX(Temp!A$3:A$170, SMALL(IF(ISERROR(Temp!A$3:A$170), \"\", ROW(Temp!A$3:A$170)-MIN(ROW(Temp!A$3:A$170))+1), ROW(28:28))),\"\")","v":""},{"$f":"IFERROR(INDEX(Temp!B$3:B$170, SMALL(IF(ISERROR(Temp!B$3:B$170), \"\", ROW(Temp!B$3:B$170)-MIN(ROW(Temp!B$3:B$170))+1), ROW(28:28))),\"\")","v":""},{"$f":"IFERROR(INDEX(Temp!C$3:C$170, SMALL(IF(ISERROR(Temp!C$3:C$170), \"\", ROW(Temp!C$3:C$170)-MIN(ROW(Temp!C$3:C$170))+1), ROW(28:28))),\"\")","v":""},{"$f":"IFERROR(INDEX(Temp!D$3:D$170, SMALL(IF(ISERROR(Temp!D$3:D$170), \"\", ROW(Temp!D$3:D$170)-MIN(ROW(Temp!D$3:D$170))+1), ROW(28:28))),\"\")","v":""}]
[{"$f":"IFERROR(INDEX(Temp!A$3:A$170, SMALL(IF(ISERROR(Temp!A$3:A$170), \"\", ROW(Temp!A$3:A$170)-MIN(ROW(Temp!A$3:A$170))+1), ROW(29:29))),\"\")","v":""},{"$f":"IFERROR(INDEX(Temp!B$3:B$170, SMALL(IF(ISERROR(Temp!B$3:B$170), \"\", ROW(Temp!B$3:B$170)-MIN(ROW(Temp!B$3:B$170))+1), ROW(29:29))),\"\")","v":""},{"$f":"IFERROR(INDEX(Temp!C$3:C$170, SMALL(IF(ISERROR(Temp!C$3:C$170), \"\", ROW(Temp!C$3:C$170)-MIN(ROW(Temp!C$3:C$170))+1), ROW(29:29))),\"\")","v":""},{"$f":"IFERROR(INDEX(Temp!D$3:D$170, SMALL(IF(ISERROR(Temp!D$3:D$170), \"\", ROW(Temp!D$3:D$170)-MIN(ROW(Temp!D$3:D$170))+1), ROW(29:29))),\"\")","v":""}]
[{"$f":"IFERROR(INDEX(Temp!A$3:A$170, SMALL(IF(ISERROR(Temp!A$3:A$170), \"\", ROW(Temp!A$3:A$170)-MIN(ROW(Temp!A$3:A$170))+1), ROW(30:30))),\"\")","v":""},{"$f":"IFERROR(INDEX(Temp!B$3:B$170, SMALL(IF(ISERROR(Temp!B$3:B$170), \"\", ROW(Temp!B$3:B$170)-MIN(ROW(Temp!B$3:B$170))+1), ROW(30:30))),\"\")","v":""},{"$f":"IFERROR(INDEX(Temp!C$3:C$170, SMALL(IF(ISERROR(Temp!C$3:C$170), \"\", ROW(Temp!C$3:C$170)-MIN(ROW(Temp!C$3:C$170))+1), ROW(30:30))),\"\")","v":""},{"$f":"IFERROR(INDEX(Temp!D$3:D$170, SMALL(IF(ISERROR(Temp!D$3:D$170), \"\", ROW(Temp!D$3:D$170)-MIN(ROW(Temp!D$3:D$170))+1), ROW(30:30))),\"\")","v":""}]
[{"$f":"IFERROR(INDEX(Temp!A$3:A$170, SMALL(IF(ISERROR(Temp!A$3:A$170), \"\", ROW(Temp!A$3:A$170)-MIN(ROW(Temp!A$3:A$170))+1), ROW(31:31))),\"\")","v":""},{"$f":"IFERROR(INDEX(Temp!B$3:B$170, SMALL(IF(ISERROR(Temp!B$3:B$170), \"\", ROW(Temp!B$3:B$170)-MIN(ROW(Temp!B$3:B$170))+1), ROW(31:31))),\"\")","v":""},{"$f":"IFERROR(INDEX(Temp!C$3:C$170, SMALL(IF(ISERROR(Temp!C$3:C$170), \"\", ROW(Temp!C$3:C$170)-MIN(ROW(Temp!C$3:C$170))+1), ROW(31:31))),\"\")","v":""},{"$f":"IFERROR(INDEX(Temp!D$3:D$170, SMALL(IF(ISERROR(Temp!D$3:D$170), \"\", ROW(Temp!D$3:D$170)-MIN(ROW(Temp!D$3:D$170))+1), ROW(31:31))),\"\")","v":""}]
[{"$f":"IFERROR(INDEX(Temp!A$3:A$170, SMALL(IF(ISERROR(Temp!A$3:A$170), \"\", ROW(Temp!A$3:A$170)-MIN(ROW(Temp!A$3:A$170))+1), ROW(32:32))),\"\")","v":""},{"$f":"IFERROR(INDEX(Temp!B$3:B$170, SMALL(IF(ISERROR(Temp!B$3:B$170), \"\", ROW(Temp!B$3:B$170)-MIN(ROW(Temp!B$3:B$170))+1), ROW(32:32))),\"\")","v":""},{"$f":"IFERROR(INDEX(Temp!C$3:C$170, SMALL(IF(ISERROR(Temp!C$3:C$170), \"\", ROW(Temp!C$3:C$170)-MIN(ROW(Temp!C$3:C$170))+1), ROW(32:32))),\"\")","v":""},{"$f":"IFERROR(INDEX(Temp!D$3:D$170, SMALL(IF(ISERROR(Temp!D$3:D$170), \"\", ROW(Temp!D$3:D$170)-MIN(ROW(Temp!D$3:D$170))+1), ROW(32:32))),\"\")","v":""}]
[{"$f":"IFERROR(INDEX(Temp!A$3:A$170, SMALL(IF(ISERROR(Temp!A$3:A$170), \"\", ROW(Temp!A$3:A$170)-MIN(ROW(Temp!A$3:A$170))+1), ROW(33:33))),\"\")","v":""},{"$f":"IFERROR(INDEX(Temp!B$3:B$170, SMALL(IF(ISERROR(Temp!B$3:B$170), \"\", ROW(Temp!B$3:B$170)-MIN(ROW(Temp!B$3:B$170))+1), ROW(33:33))),\"\")","v":""},{"$f":"IFERROR(INDEX(Temp!C$3:C$170, SMALL(IF(ISERROR(Temp!C$3:C$170), \"\", ROW(Temp!C$3:C$170)-MIN(ROW(Temp!C$3:C$170))+1), ROW(33:33))),\"\")","v":""},{"$f":"IFERROR(INDEX(Temp!D$3:D$170, SMALL(IF(ISERROR(Temp!D$3:D$170), \"\", ROW(Temp!D$3:D$170)-MIN(ROW(Temp!D$3:D$170))+1), ROW(33:33))),\"\")","v":""}]
[{"$f":"IFERROR(INDEX(Temp!A$3:A$170, SMALL(IF(ISERROR(Temp!A$3:A$170), \"\", ROW(Temp!A$3:A$170)-MIN(ROW(Temp!A$3:A$170))+1), ROW(34:34))),\"\")","v":""},{"$f":"IFERROR(INDEX(Temp!B$3:B$170, SMALL(IF(ISERROR(Temp!B$3:B$170), \"\", ROW(Temp!B$3:B$170)-MIN(ROW(Temp!B$3:B$170))+1), ROW(34:34))),\"\")","v":""},{"$f":"IFERROR(INDEX(Temp!C$3:C$170, SMALL(IF(ISERROR(Temp!C$3:C$170), \"\", ROW(Temp!C$3:C$170)-MIN(ROW(Temp!C$3:C$170))+1), ROW(34:34))),\"\")","v":""},{"$f":"IFERROR(INDEX(Temp!D$3:D$170, SMALL(IF(ISERROR(Temp!D$3:D$170), \"\", ROW(Temp!D$3:D$170)-MIN(ROW(Temp!D$3:D$170))+1), ROW(34:34))),\"\")","v":""}]
[{"$f":"IFERROR(INDEX(Temp!A$3:A$170, SMALL(IF(ISERROR(Temp!A$3:A$170), \"\", ROW(Temp!A$3:A$170)-MIN(ROW(Temp!A$3:A$170))+1), ROW(35:35))),\"\")","v":""},{"$f":"IFERROR(INDEX(Temp!B$3:B$170, SMALL(IF(ISERROR(Temp!B$3:B$170), \"\", ROW(Temp!B$3:B$170)-MIN(ROW(Temp!B$3:B$170))+1), ROW(35:35))),\"\")","v":""},{"$f":"IFERROR(INDEX(Temp!C$3:C$170, SMALL(IF(ISERROR(Temp!C$3:C$170), \"\", ROW(Temp!C$3:C$170)-MIN(ROW(Temp!C$3:C$170))+1), ROW(35:35))),\"\")","v":""},{"$f":"IFERROR(INDEX(Temp!D$3:D$170, SMALL(IF(ISERROR(Temp!D$3:D$170), \"\", ROW(Temp!D$3:D$170)-MIN(ROW(Temp!D$3:D$170))+1), ROW(35:35))),\"\")","v":""}]
[{"$f":"IFERROR(INDEX(Temp!A$3:A$170, SMALL(IF(ISERROR(Temp!A$3:A$170), \"\", ROW(Temp!A$3:A$170)-MIN(ROW(Temp!A$3:A$170))+1), ROW(36:36))),\"\")","v":""},{"$f":"IFERROR(INDEX(Temp!B$3:B$170, SMALL(IF(ISERROR(Temp!B$3:B$170), \"\", ROW(Temp!B$3:B$170)-MIN(ROW(Temp!B$3:B$170))+1), ROW(36:36))),\"\")","v":""},{"$f":"IFERROR(INDEX(Temp!C$3:C$170, SMALL(IF(ISERROR(Temp!C$3:C$170), \"\", ROW(Temp!C$3:C$170)-MIN(ROW(Temp!C$3:C$170))+1), ROW(36:36))),\"\")","v":""},{"$f":"IFERROR(INDEX(Temp!D$3:D$170, SMALL(IF(ISERROR(Temp!D$3:D$170), \"\", ROW(Temp!D$3:D$170)-MIN(ROW(Temp!D$3:D$170))+1), ROW(36:36))),\"\")","v":""}]
[{"$f":"IFERROR(INDEX(Temp!A$3:A$170, SMALL(IF(ISERROR(Temp!A$3:A$170), \"\", ROW(Temp!A$3:A$170)-MIN(ROW(Temp!A$3:A$170))+1), ROW(37:37))),\"\")","v":""},{"$f":"IFERROR(INDEX(Temp!B$3:B$170, SMALL(IF(ISERROR(Temp!B$3:B$170), \"\", ROW(Temp!B$3:B$170)-MIN(ROW(Temp!B$3:B$170))+1), ROW(37:37))),\"\")","v":""},{"$f":"IFERROR(INDEX(Temp!C$3:C$170, SMALL(IF(ISERROR(Temp!C$3:C$170), \"\", ROW(Temp!C$3:C$170)-MIN(ROW(Temp!C$3:C$170))+1), ROW(37:37))),\"\")","v":""},{"$f":"IFERROR(INDEX(Temp!D$3:D$170, SMALL(IF(ISERROR(Temp!D$3:D$170), \"\", ROW(Temp!D$3:D$170)-MIN(ROW(Temp!D$3:D$170))+1), ROW(37:37))),\"\")","v":""}]
[{"$f":"IFERROR(INDEX(Temp!A$3:A$170, SMALL(IF(ISERROR(Temp!A$3:A$170), \"\", ROW(Temp!A$3:A$170)-MIN(ROW(Temp!A$3:A$170))+1), ROW(38:38))),\"\")","v":""},{"$f":"IFERROR(INDEX(Temp!B$3:B$170, SMALL(IF(ISERROR(Temp!B$3:B$170), \"\", ROW(Temp!B$3:B$170)-MIN(ROW(Temp!B$3:B$170))+1), ROW(38:38))),\"\")","v":""},{"$f":"IFERROR(INDEX(Temp!C$3:C$170, SMALL(IF(ISERROR(Temp!C$3:C$170), \"\", ROW(Temp!C$3:C$170)-MIN(ROW(Temp!C$3:C$170))+1), ROW(38:38))),\"\")","v":""},{"$f":"IFERROR(INDEX(Temp!D$3:D$170, SMALL(IF(ISERROR(Temp!D$3:D$170), \"\", ROW(Temp!D$3:D$170)-MIN(ROW(Temp!D$3:D$170))+1), ROW(38:38))),\"\")","v":""}]
[{"$f":"IFERROR(INDEX(Temp!A$3:A$170, SMALL(IF(ISERROR(Temp!A$3:A$170), \"\", ROW(Temp!A$3:A$170)-MIN(ROW(Temp!A$3:A$170))+1), ROW(39:39))),\"\")","v":""},{"$f":"IFERROR(INDEX(Temp!B$3:B$170, SMALL(IF(ISERROR(Temp!B$3:B$170), \"\", ROW(Temp!B$3:B$170)-MIN(ROW(Temp!B$3:B$170))+1), ROW(39:39))),\"\")","v":""},{"$f":"IFERROR(INDEX(Temp!C$3:C$170, SMALL(IF(ISERROR(Temp!C$3:C$170), \"\", ROW(Temp!C$3:C$170)-MIN(ROW(Temp!C$3:C$170))+1), ROW(39:39))),\"\")","v":""},{"$f":"IFERROR(INDEX(Temp!D$3:D$170, SMALL(IF(ISERROR(Temp!D$3:D$170), \"\", ROW(Temp!D$3:D$170)-MIN(ROW(Temp!D$3:D$170))+1), ROW(39:39))),\"\")","v":""}]
[{"$f":"IFERROR(INDEX(Temp!A$3:A$170, SMALL(IF(ISERROR(Temp!A$3:A$170), \"\", ROW(Temp!A$3:A$170)-MIN(ROW(Temp!A$3:A$170))+1), ROW(40:40))),\"\")","v":""},{"$f":"IFERROR(INDEX(Temp!B$3:B$170, SMALL(IF(ISERROR(Temp!B$3:B$170), \"\", ROW(Temp!B$3:B$170)-MIN(ROW(Temp!B$3:B$170))+1), ROW(40:40))),\"\")","v":""},{"$f":"IFERROR(INDEX(Temp!C$3:C$170, SMALL(IF(ISERROR(Temp!C$3:C$170), \"\", ROW(Temp!C$3:C$170)-MIN(ROW(Temp!C$3:C$170))+1), ROW(40:40))),\"\")","v":""},{"$f":"IFERROR(INDEX(Temp!D$3:D$170, SMALL(IF(ISERROR(Temp!D$3:D$170), \"\", ROW(Temp!D$3:D$170)-MIN(ROW(Temp!D$3:D$170))+1), ROW(40:40))),\"\")","v":""}]
[{"$f":"IFERROR(INDEX(Temp!A$3:A$170, SMALL(IF(ISERROR(Temp!A$3:A$170), \"\", ROW(Temp!A$3:A$170)-MIN(ROW(Temp!A$3:A$170))+1), ROW(41:41))),\"\")","v":""},{"$f":"IFERROR(INDEX(Temp!B$3:B$170, SMALL(IF(ISERROR(Temp!B$3:B$170), \"\", ROW(Temp!B$3:B$170)-MIN(ROW(Temp!B$3:B$170))+1), ROW(41:41))),\"\")","v":""},{"$f":"IFERROR(INDEX(Temp!C$3:C$170, SMALL(IF(ISERROR(Temp!C$3:C$170), \"\", ROW(Temp!C$3:C$170)-MIN(ROW(Temp!C$3:C$170))+1), ROW(41:41))),\"\")","v":""},{"$f":"IFERROR(INDEX(Temp!D$3:D$170, SMALL(IF(ISERROR(Temp!D$3:D$170), \"\", ROW(Temp!D$3:D$170)-MIN(ROW(Temp!D$3:D$170))+1), ROW(41:41))),\"\")","v":""}]
[{"$f":"IFERROR(INDEX(Temp!A$3:A$170, SMALL(IF(ISERROR(Temp!A$3:A$170), \"\", ROW(Temp!A$3:A$170)-MIN(ROW(Temp!A$3:A$170))+1), ROW(42:42))),\"\")","v":""},{"$f":"IFERROR(INDEX(Temp!B$3:B$170, SMALL(IF(ISERROR(Temp!B$3:B$170), \"\", ROW(Temp!B$3:B$170)-MIN(ROW(Temp!B$3:B$170))+1), ROW(42:42))),\"\")","v":""},{"$f":"IFERROR(INDEX(Temp!C$3:C$170, SMALL(IF(ISERROR(Temp!C$3:C$170), \"\", ROW(Temp!C$3:C$170)-MIN(ROW(Temp!C$3:C$170))+1), ROW(42:42))),\"\")","v":""},{"$f":"IFERROR(INDEX(Temp!D$3:D$170, SMALL(IF(ISERROR(Temp!D$3:D$170), \"\", ROW(Temp!D$3:D$170)-MIN(ROW(Temp!D$3:D$170))+1), ROW(42:42))),\"\")","v":""}]
[{"$f":"IFERROR(INDEX(Temp!A$3:A$170, SMALL(IF(ISERROR(Temp!A$3:A$170), \"\", ROW(Temp!A$3:A$170)-MIN(ROW(Temp!A$3:A$170))+1), ROW(43:43))),\"\")","v":""},{"$f":"IFERROR(INDEX(Temp!B$3:B$170, SMALL(IF(ISERROR(Temp!B$3:B$170), \"\", ROW(Temp!B$3:B$170)-MIN(ROW(Temp!B$3:B$170))+1), ROW(43:43))),\"\")","v":""},{"$f":"IFERROR(INDEX(Temp!C$3:C$170, SMALL(IF(ISERROR(Temp!C$3:C$170), \"\", ROW(Temp!C$3:C$170)-MIN(ROW(Temp!C$3:C$170))+1), ROW(43:43))),\"\")","v":""},{"$f":"IFERROR(INDEX(Temp!D$3:D$170, SMALL(IF(ISERROR(Temp!D$3:D$170), \"\", ROW(Temp!D$3:D$170)-MIN(ROW(Temp!D$3:D$170))+1), ROW(43:43))),\"\")","v":""}]
[{"$f":"IFERROR(INDEX(Temp!A$3:A$170, SMALL(IF(ISERROR(Temp!A$3:A$170), \"\", ROW(Temp!A$3:A$170)-MIN(ROW(Temp!A$3:A$170))+1), ROW(44:44))),\"\")","v":""},{"$f":"IFERROR(INDEX(Temp!B$3:B$170, SMALL(IF(ISERROR(Temp!B$3:B$170), \"\", ROW(Temp!B$3:B$170)-MIN(ROW(Temp!B$3:B$170))+1), ROW(44:44))),\"\")","v":""},{"$f":"IFERROR(INDEX(Temp!C$3:C$170, SMALL(IF(ISERROR(Temp!C$3:C$170), \"\", ROW(Temp!C$3:C$170)-MIN(ROW(Temp!C$3:C$170))+1), ROW(44:44))),\"\")","v":""},{"$f":"IFERROR(INDEX(Temp!D$3:D$170, SMALL(IF(ISERROR(Temp!D$3:D$170), \"\", ROW(Temp!D$3:D$170)-MIN(ROW(Temp!D$3:D$170))+1), ROW(44:44))),\"\")","v":""}]
[{"$f":"IFERROR(INDEX(Temp!A$3:A$170, SMALL(IF(ISERROR(Temp!A$3:A$170), \"\", ROW(Temp!A$3:A$170)-MIN(ROW(Temp!A$3:A$170))+1), ROW(45:45))),\"\")","v":""},{"$f":"IFERROR(INDEX(Temp!B$3:B$170, SMALL(IF(ISERROR(Temp!B$3:B$170), \"\", ROW(Temp!B$3:B$170)-MIN(ROW(Temp!B$3:B$170))+1), ROW(45:45))),\"\")","v":""},{"$f":"IFERROR(INDEX(Temp!C$3:C$170, SMALL(IF(ISERROR(Temp!C$3:C$170), \"\", ROW(Temp!C$3:C$170)-MIN(ROW(Temp!C$3:C$170))+1), ROW(45:45))),\"\")","v":""},{"$f":"IFERROR(INDEX(Temp!D$3:D$170, SMALL(IF(ISERROR(Temp!D$3:D$170), \"\", ROW(Temp!D$3:D$170)-MIN(ROW(Temp!D$3:D$170))+1), ROW(45:45))),\"\")","v":""}]
[{"$f":"IFERROR(INDEX(Temp!A$3:A$170, SMALL(IF(ISERROR(Temp!A$3:A$170), \"\", ROW(Temp!A$3:A$170)-MIN(ROW(Temp!A$3:A$170))+1), ROW(46:46))),\"\")","v":""},{"$f":"IFERROR(INDEX(Temp!B$3:B$170, SMALL(IF(ISERROR(Temp!B$3:B$170), \"\", ROW(Temp!B$3:B$170)-MIN(ROW(Temp!B$3:B$170))+1), ROW(46:46))),\"\")","v":""},{"$f":"IFERROR(INDEX(Temp!C$3:C$170, SMALL(IF(ISERROR(Temp!C$3:C$170), \"\", ROW(Temp!C$3:C$170)-MIN(ROW(Temp!C$3:C$170))+1), ROW(46:46))),\"\")","v":""},{"$f":"IFERROR(INDEX(Temp!D$3:D$170, SMALL(IF(ISERROR(Temp!D$3:D$170), \"\", ROW(Temp!D$3:D$170)-MIN(ROW(Temp!D$3:D$170))+1), ROW(46:46))),\"\")","v":""}]
[{"$f":"IFERROR(INDEX(Temp!A$3:A$170, SMALL(IF(ISERROR(Temp!A$3:A$170), \"\", ROW(Temp!A$3:A$170)-MIN(ROW(Temp!A$3:A$170))+1), ROW(47:47))),\"\")","v":""},{"$f":"IFERROR(INDEX(Temp!B$3:B$170, SMALL(IF(ISERROR(Temp!B$3:B$170), \"\", ROW(Temp!B$3:B$170)-MIN(ROW(Temp!B$3:B$170))+1), ROW(47:47))),\"\")","v":""},{"$f":"IFERROR(INDEX(Temp!C$3:C$170, SMALL(IF(ISERROR(Temp!C$3:C$170), \"\", ROW(Temp!C$3:C$170)-MIN(ROW(Temp!C$3:C$170))+1), ROW(47:47))),\"\")","v":""},{"$f":"IFERROR(INDEX(Temp!D$3:D$170, SMALL(IF(ISERROR(Temp!D$3:D$170), \"\", ROW(Temp!D$3:D$170)-MIN(ROW(Temp!D$3:D$170))+1), ROW(47:47))),\"\")","v":""}]
[{"$f":"IFERROR(INDEX(Temp!A$3:A$170, SMALL(IF(ISERROR(Temp!A$3:A$170), \"\", ROW(Temp!A$3:A$170)-MIN(ROW(Temp!A$3:A$170))+1), ROW(48:48))),\"\")","v":""},{"$f":"IFERROR(INDEX(Temp!B$3:B$170, SMALL(IF(ISERROR(Temp!B$3:B$170), \"\", ROW(Temp!B$3:B$170)-MIN(ROW(Temp!B$3:B$170))+1), ROW(48:48))),\"\")","v":""},{"$f":"IFERROR(INDEX(Temp!C$3:C$170, SMALL(IF(ISERROR(Temp!C$3:C$170), \"\", ROW(Temp!C$3:C$170)-MIN(ROW(Temp!C$3:C$170))+1), ROW(48:48))),\"\")","v":""},{"$f":"IFERROR(INDEX(Temp!D$3:D$170, SMALL(IF(ISERROR(Temp!D$3:D$170), \"\", ROW(Temp!D$3:D$170)-MIN(ROW(Temp!D$3:D$170))+1), ROW(48:48))),\"\")","v":""}]
[{"$f":"IFERROR(INDEX(Temp!A$3:A$170, SMALL(IF(ISERROR(Temp!A$3:A$170), \"\", ROW(Temp!A$3:A$170)-MIN(ROW(Temp!A$3:A$170))+1), ROW(49:49))),\"\")","v":""},{"$f":"IFERROR(INDEX(Temp!B$3:B$170, SMALL(IF(ISERROR(Temp!B$3:B$170), \"\", ROW(Temp!B$3:B$170)-MIN(ROW(Temp!B$3:B$170))+1), ROW(49:49))),\"\")","v":""},{"$f":"IFERROR(INDEX(Temp!C$3:C$170, SMALL(IF(ISERROR(Temp!C$3:C$170), \"\", ROW(Temp!C$3:C$170)-MIN(ROW(Temp!C$3:C$170))+1), ROW(49:49))),\"\")","v":""},{"$f":"IFERROR(INDEX(Temp!D$3:D$170, SMALL(IF(ISERROR(Temp!D$3:D$170), \"\", ROW(Temp!D$3:D$170)-MIN(ROW(Temp!D$3:D$170))+1), ROW(49:49))),\"\")","v":""}]
[{"$f":"IFERROR(INDEX(Temp!A$3:A$170, SMALL(IF(ISERROR(Temp!A$3:A$170), \"\", ROW(Temp!A$3:A$170)-MIN(ROW(Temp!A$3:A$170))+1), ROW(50:50))),\"\")","v":""},{"$f":"IFERROR(INDEX(Temp!B$3:B$170, SMALL(IF(ISERROR(Temp!B$3:B$170), \"\", ROW(Temp!B$3:B$170)-MIN(ROW(Temp!B$3:B$170))+1), ROW(50:50))),\"\")","v":""},{"$f":"IFERROR(INDEX(Temp!C$3:C$170, SMALL(IF(ISERROR(Temp!C$3:C$170), \"\", ROW(Temp!C$3:C$170)-MIN(ROW(Temp!C$3:C$170))+1), ROW(50:50))),\"\")","v":""},{"$f":"IFERROR(INDEX(Temp!D$3:D$170, SMALL(IF(ISERROR(Temp!D$3:D$170), \"\", ROW(Temp!D$3:D$170)-MIN(ROW(Temp!D$3:D$170))+1), ROW(50:50))),\"\")","v":""}]
[{"$f":"IFERROR(INDEX(Temp!A$3:A$170, SMALL(IF(ISERROR(Temp!A$3:A$170), \"\", ROW(Temp!A$3:A$170)-MIN(ROW(Temp!A$3:A$170))+1), ROW(51:51))),\"\")","v":""},{"$f":"IFERROR(INDEX(Temp!B$3:B$170, SMALL(IF(ISERROR(Temp!B$3:B$170), \"\", ROW(Temp!B$3:B$170)-MIN(ROW(Temp!B$3:B$170))+1), ROW(51:51))),\"\")","v":""},{"$f":"IFERROR(INDEX(Temp!C$3:C$170, SMALL(IF(ISERROR(Temp!C$3:C$170), \"\", ROW(Temp!C$3:C$170)-MIN(ROW(Temp!C$3:C$170))+1), ROW(51:51))),\"\")","v":""},{"$f":"IFERROR(INDEX(Temp!D$3:D$170, SMALL(IF(ISERROR(Temp!D$3:D$170), \"\", ROW(Temp!D$3:D$170)-MIN(ROW(Temp!D$3:D$170))+1), ROW(51:51))),\"\")","v":""}]
[{"$f":"IFERROR(INDEX(Temp!A$3:A$170, SMALL(IF(ISERROR(Temp!A$3:A$170), \"\", ROW(Temp!A$3:A$170)-MIN(ROW(Temp!A$3:A$170))+1), ROW(52:52))),\"\")","v":""},{"$f":"IFERROR(INDEX(Temp!B$3:B$170, SMALL(IF(ISERROR(Temp!B$3:B$170), \"\", ROW(Temp!B$3:B$170)-MIN(ROW(Temp!B$3:B$170))+1), ROW(52:52))),\"\")","v":""},{"$f":"IFERROR(INDEX(Temp!C$3:C$170, SMALL(IF(ISERROR(Temp!C$3:C$170), \"\", ROW(Temp!C$3:C$170)-MIN(ROW(Temp!C$3:C$170))+1), ROW(52:52))),\"\")","v":""},{"$f":"IFERROR(INDEX(Temp!D$3:D$170, SMALL(IF(ISERROR(Temp!D$3:D$170), \"\", ROW(Temp!D$3:D$170)-MIN(ROW(Temp!D$3:D$170))+1), ROW(52:52))),\"\")","v":""}]
[{"$f":"IFERROR(INDEX(Temp!A$3:A$170, SMALL(IF(ISERROR(Temp!A$3:A$170), \"\", ROW(Temp!A$3:A$170)-MIN(ROW(Temp!A$3:A$170))+1), ROW(53:53))),\"\")","v":""},{"$f":"IFERROR(INDEX(Temp!B$3:B$170, SMALL(IF(ISERROR(Temp!B$3:B$170), \"\", ROW(Temp!B$3:B$170)-MIN(ROW(Temp!B$3:B$170))+1), ROW(53:53))),\"\")","v":""},{"$f":"IFERROR(INDEX(Temp!C$3:C$170, SMALL(IF(ISERROR(Temp!C$3:C$170), \"\", ROW(Temp!C$3:C$170)-MIN(ROW(Temp!C$3:C$170))+1), ROW(53:53))),\"\")","v":""},{"$f":"IFERROR(INDEX(Temp!D$3:D$170, SMALL(IF(ISERROR(Temp!D$3:D$170), \"\", ROW(Temp!D$3:D$170)-MIN(ROW(Temp!D$3:D$170))+1), ROW(53:53))),\"\")","v":""}]
[{"$f":"IFERROR(INDEX(Temp!A$3:A$170, SMALL(IF(ISERROR(Temp!A$3:A$170), \"\", ROW(Temp!A$3:A$170)-MIN(ROW(Temp!A$3:A$170))+1), ROW(54:54))),\"\")","v":""},{"$f":"IFERROR(INDEX(Temp!B$3:B$170, SMALL(IF(ISERROR(Temp!B$3:B$170), \"\", ROW(Temp!B$3:B$170)-MIN(ROW(Temp!B$3:B$170))+1), ROW(54:54))),\"\")","v":""},{"$f":"IFERROR(INDEX(Temp!C$3:C$170, SMALL(IF(ISERROR(Temp!C$3:C$170), \"\", ROW(Temp!C$3:C$170)-MIN(ROW(Temp!C$3:C$170))+1), ROW(54:54))),\"\")","v":""},{"$f":"IFERROR(INDEX(Temp!D$3:D$170, SMALL(IF(ISERROR(Temp!D$3:D$170), \"\", ROW(Temp!D$3:D$170)-MIN(ROW(Temp!D$3:D$170))+1), ROW(54:54))),\"\")","v":""}]
[{"$f":"IFERROR(INDEX(Temp!A$3:A$170, SMALL(IF(ISERROR(Temp!A$3:A$170), \"\", ROW(Temp!A$3:A$170)-MIN(ROW(Temp!A$3:A$170))+1), ROW(55:55))),\"\")","v":""},{"$f":"IFERROR(INDEX(Temp!B$3:B$170, SMALL(IF(ISERROR(Temp!B$3:B$170), \"\", ROW(Temp!B$3:B$170)-MIN(ROW(Temp!B$3:B$170))+1), ROW(55:55))),\"\")","v":""},{"$f":"IFERROR(INDEX(Temp!C$3:C$170, SMALL(IF(ISERROR(Temp!C$3:C$170), \"\", ROW(Temp!C$3:C$170)-MIN(ROW(Temp!C$3:C$170))+1), ROW(55:55))),\"\")","v":""},{"$f":"IFERROR(INDEX(Temp!D$3:D$170, SMALL(IF(ISERROR(Temp!D$3:D$170), \"\", ROW(Temp!D$3:D$170)-MIN(ROW(Temp!D$3:D$170))+1), ROW(55:55))),\"\")","v":""}]
[{"$f":"IFERROR(INDEX(Temp!A$3:A$170, SMALL(IF(ISERROR(Temp!A$3:A$170), \"\", ROW(Temp!A$3:A$170)-MIN(ROW(Temp!A$3:A$170))+1), ROW(56:56))),\"\")","v":""},{"$f":"IFERROR(INDEX(Temp!B$3:B$170, SMALL(IF(ISERROR(Temp!B$3:B$170), \"\", ROW(Temp!B$3:B$170)-MIN(ROW(Temp!B$3:B$170))+1), ROW(56:56))),\"\")","v":""},{"$f":"IFERROR(INDEX(Temp!C$3:C$170, SMALL(IF(ISERROR(Temp!C$3:C$170), \"\", ROW(Temp!C$3:C$170)-MIN(ROW(Temp!C$3:C$170))+1), ROW(56:56))),\"\")","v":""},{"$f":"IFERROR(INDEX(Temp!D$3:D$170, SMALL(IF(ISERROR(Temp!D$3:D$170), \"\", ROW(Temp!D$3:D$170)-MIN(ROW(Temp!D$3:D$170))+1), ROW(56:56))),\"\")","v":""}]
[{"$f":"IFERROR(INDEX(Temp!A$3:A$170, SMALL(IF(ISERROR(Temp!A$3:A$170), \"\", ROW(Temp!A$3:A$170)-MIN(ROW(Temp!A$3:A$170))+1), ROW(57:57))),\"\")","v":""},{"$f":"IFERROR(INDEX(Temp!B$3:B$170, SMALL(IF(ISERROR(Temp!B$3:B$170), \"\", ROW(Temp!B$3:B$170)-MIN(ROW(Temp!B$3:B$170))+1), ROW(57:57))),\"\")","v":""},{"$f":"IFERROR(INDEX(Temp!C$3:C$170, SMALL(IF(ISERROR(Temp!C$3:C$170), \"\", ROW(Temp!C$3:C$170)-MIN(ROW(Temp!C$3:C$170))+1), ROW(57:57))),\"\")","v":""},{"$f":"IFERROR(INDEX(Temp!D$3:D$170, SMALL(IF(ISERROR(Temp!D$3:D$170), \"\", ROW(Temp!D$3:D$170)-MIN(ROW(Temp!D$3:D$170))+1), ROW(57:57))),\"\")","v":""}]
[{"$f":"IFERROR(INDEX(Temp!A$3:A$170, SMALL(IF(ISERROR(Temp!A$3:A$170), \"\", ROW(Temp!A$3:A$170)-MIN(ROW(Temp!A$3:A$170))+1), ROW(58:58))),\"\")","v":""},{"$f":"IFERROR(INDEX(Temp!B$3:B$170, SMALL(IF(ISERROR(Temp!B$3:B$170), \"\", ROW(Temp!B$3:B$170)-MIN(ROW(Temp!B$3:B$170))+1), ROW(58:58))),\"\")","v":""},{"$f":"IFERROR(INDEX(Temp!C$3:C$170, SMALL(IF(ISERROR(Temp!C$3:C$170), \"\", ROW(Temp!C$3:C$170)-MIN(ROW(Temp!C$3:C$170))+1), ROW(58:58))),\"\")","v":""},{"$f":"IFERROR(INDEX(Temp!D$3:D$170, SMALL(IF(ISERROR(Temp!D$3:D$170), \"\", ROW(Temp!D$3:D$170)-MIN(ROW(Temp!D$3:D$170))+1), ROW(58:58))),\"\")","v":""}]
[{"$f":"IFERROR(INDEX(Temp!A$3:A$170, SMALL(IF(ISERROR(Temp!A$3:A$170), \"\", ROW(Temp!A$3:A$170)-MIN(ROW(Temp!A$3:A$170))+1), ROW(59:59))),\"\")","v":""},{"$f":"IFERROR(INDEX(Temp!B$3:B$170, SMALL(IF(ISERROR(Temp!B$3:B$170), \"\", ROW(Temp!B$3:B$170)-MIN(ROW(Temp!B$3:B$170))+1), ROW(59:59))),\"\")","v":""},{"$f":"IFERROR(INDEX(Temp!C$3:C$170, SMALL(IF(ISERROR(Temp!C$3:C$170), \"\", ROW(Temp!C$3:C$170)-MIN(ROW(Temp!C$3:C$170))+1), ROW(59:59))),\"\")","v":""},{"$f":"IFERROR(INDEX(Temp!D$3:D$170, SMALL(IF(ISERROR(Temp!D$3:D$170), \"\", ROW(Temp!D$3:D$170)-MIN(ROW(Temp!D$3:D$170))+1), ROW(59:59))),\"\")","v":""}]
[{"$f":"IFERROR(INDEX(Temp!A$3:A$170, SMALL(IF(ISERROR(Temp!A$3:A$170), \"\", ROW(Temp!A$3:A$170)-MIN(ROW(Temp!A$3:A$170))+1), ROW(60:60))),\"\")","v":""},{"$f":"IFERROR(INDEX(Temp!B$3:B$170, SMALL(IF(ISERROR(Temp!B$3:B$170), \"\", ROW(Temp!B$3:B$170)-MIN(ROW(Temp!B$3:B$170))+1), ROW(60:60))),\"\")","v":""},{"$f":"IFERROR(INDEX(Temp!C$3:C$170, SMALL(IF(ISERROR(Temp!C$3:C$170), \"\", ROW(Temp!C$3:C$170)-MIN(ROW(Temp!C$3:C$170))+1), ROW(60:60))),\"\")","v":""},{"$f":"IFERROR(INDEX(Temp!D$3:D$170, SMALL(IF(ISERROR(Temp!D$3:D$170), \"\", ROW(Temp!D$3:D$170)-MIN(ROW(Temp!D$3:D$170))+1), ROW(60:60))),\"\")","v":""}]
[{"$f":"IFERROR(INDEX(Temp!A$3:A$170, SMALL(IF(ISERROR(Temp!A$3:A$170), \"\", ROW(Temp!A$3:A$170)-MIN(ROW(Temp!A$3:A$170))+1), ROW(61:61))),\"\")","v":""},{"$f":"IFERROR(INDEX(Temp!B$3:B$170, SMALL(IF(ISERROR(Temp!B$3:B$170), \"\", ROW(Temp!B$3:B$170)-MIN(ROW(Temp!B$3:B$170))+1), ROW(61:61))),\"\")","v":""},{"$f":"IFERROR(INDEX(Temp!C$3:C$170, SMALL(IF(ISERROR(Temp!C$3:C$170), \"\", ROW(Temp!C$3:C$170)-MIN(ROW(Temp!C$3:C$170))+1), ROW(61:61))),\"\")","v":""},{"$f":"IFERROR(INDEX(Temp!D$3:D$170, SMALL(IF(ISERROR(Temp!D$3:D$170), \"\", ROW(Temp!D$3:D$170)-MIN(ROW(Temp!D$3:D$170))+1), ROW(61:61))),\"\")","v":""}]
[{"$f":"IFERROR(INDEX(Temp!A$3:A$170, SMALL(IF(ISERROR(Temp!A$3:A$170), \"\", ROW(Temp!A$3:A$170)-MIN(ROW(Temp!A$3:A$170))+1), ROW(62:62))),\"\")","v":""},{"$f":"IFERROR(INDEX(Temp!B$3:B$170, SMALL(IF(ISERROR(Temp!B$3:B$170), \"\", ROW(Temp!B$3:B$170)-MIN(ROW(Temp!B$3:B$170))+1), ROW(62:62))),\"\")","v":""},{"$f":"IFERROR(INDEX(Temp!C$3:C$170, SMALL(IF(ISERROR(Temp!C$3:C$170), \"\", ROW(Temp!C$3:C$170)-MIN(ROW(Temp!C$3:C$170))+1), ROW(62:62))),\"\")","v":""},{"$f":"IFERROR(INDEX(Temp!D$3:D$170, SMALL(IF(ISERROR(Temp!D$3:D$170), \"\", ROW(Temp!D$3:D$170)-MIN(ROW(Temp!D$3:D$170))+1), ROW(62:62))),\"\")","v":""}]
[{"$f":"IFERROR(INDEX(Temp!A$3:A$170, SMALL(IF(ISERROR(Temp!A$3:A$170), \"\", ROW(Temp!A$3:A$170)-MIN(ROW(Temp!A$3:A$170))+1), ROW(63:63))),\"\")","v":""},{"$f":"IFERROR(INDEX(Temp!B$3:B$170, SMALL(IF(ISERROR(Temp!B$3:B$170), \"\", ROW(Temp!B$3:B$170)-MIN(ROW(Temp!B$3:B$170))+1), ROW(63:63))),\"\")","v":""},{"$f":"IFERROR(INDEX(Temp!C$3:C$170, SMALL(IF(ISERROR(Temp!C$3:C$170), \"\", ROW(Temp!C$3:C$170)-MIN(ROW(Temp!C$3:C$170))+1), ROW(63:63))),\"\")","v":""},{"$f":"IFERROR(INDEX(Temp!D$3:D$170, SMALL(IF(ISERROR(Temp!D$3:D$170), \"\", ROW(Temp!D$3:D$170)-MIN(ROW(Temp!D$3:D$170))+1), ROW(63:63))),\"\")","v":""}]
[{"$f":"IFERROR(INDEX(Temp!A$3:A$170, SMALL(IF(ISERROR(Temp!A$3:A$170), \"\", ROW(Temp!A$3:A$170)-MIN(ROW(Temp!A$3:A$170))+1), ROW(64:64))),\"\")","v":""},{"$f":"IFERROR(INDEX(Temp!B$3:B$170, SMALL(IF(ISERROR(Temp!B$3:B$170), \"\", ROW(Temp!B$3:B$170)-MIN(ROW(Temp!B$3:B$170))+1), ROW(64:64))),\"\")","v":""},{"$f":"IFERROR(INDEX(Temp!C$3:C$170, SMALL(IF(ISERROR(Temp!C$3:C$170), \"\", ROW(Temp!C$3:C$170)-MIN(ROW(Temp!C$3:C$170))+1), ROW(64:64))),\"\")","v":""},{"$f":"IFERROR(INDEX(Temp!D$3:D$170, SMALL(IF(ISERROR(Temp!D$3:D$170), \"\", ROW(Temp!D$3:D$170)-MIN(ROW(Temp!D$3:D$170))+1), ROW(64:64))),\"\")","v":""}]
[{"$f":"IFERROR(INDEX(Temp!A$3:A$170, SMALL(IF(ISERROR(Temp!A$3:A$170), \"\", ROW(Temp!A$3:A$170)-MIN(ROW(Temp!A$3:A$170))+1), ROW(65:65))),\"\")","v":""},{"$f":"IFERROR(INDEX(Temp!B$3:B$170, SMALL(IF(ISERROR(Temp!B$3:B$170), \"\", ROW(Temp!B$3:B$170)-MIN(ROW(Temp!B$3:B$170))+1), ROW(65:65))),\"\")","v":""},{"$f":"IFERROR(INDEX(Temp!C$3:C$170, SMALL(IF(ISERROR(Temp!C$3:C$170), \"\", ROW(Temp!C$3:C$170)-MIN(ROW(Temp!C$3:C$170))+1), ROW(65:65))),\"\")","v":""},{"$f":"IFERROR(INDEX(Temp!D$3:D$170, SMALL(IF(ISERROR(Temp!D$3:D$170), \"\", ROW(Temp!D$3:D$170)-MIN(ROW(Temp!D$3:D$170))+1), ROW(65:65))),\"\")","v":""}]
[{"$f":"IFERROR(INDEX(Temp!A$3:A$170, SMALL(IF(ISERROR(Temp!A$3:A$170), \"\", ROW(Temp!A$3:A$170)-MIN(ROW(Temp!A$3:A$170))+1), ROW(66:66))),\"\")","v":""},{"$f":"IFERROR(INDEX(Temp!B$3:B$170, SMALL(IF(ISERROR(Temp!B$3:B$170), \"\", ROW(Temp!B$3:B$170)-MIN(ROW(Temp!B$3:B$170))+1), ROW(66:66))),\"\")","v":""},{"$f":"IFERROR(INDEX(Temp!C$3:C$170, SMALL(IF(ISERROR(Temp!C$3:C$170), \"\", ROW(Temp!C$3:C$170)-MIN(ROW(Temp!C$3:C$170))+1), ROW(66:66))),\"\")","v":""},{"$f":"IFERROR(INDEX(Temp!D$3:D$170, SMALL(IF(ISERROR(Temp!D$3:D$170), \"\", ROW(Temp!D$3:D$170)-MIN(ROW(Temp!D$3:D$170))+1), ROW(66:66))),\"\")","v":""}]
[{"$f":"IFERROR(INDEX(Temp!A$3:A$170, SMALL(IF(ISERROR(Temp!A$3:A$170), \"\", ROW(Temp!A$3:A$170)-MIN(ROW(Temp!A$3:A$170))+1), ROW(67:67))),\"\")","v":""},{"$f":"IFERROR(INDEX(Temp!B$3:B$170, SMALL(IF(ISERROR(Temp!B$3:B$170), \"\", ROW(Temp!B$3:B$170)-MIN(ROW(Temp!B$3:B$170))+1), ROW(67:67))),\"\")","v":""},{"$f":"IFERROR(INDEX(Temp!C$3:C$170, SMALL(IF(ISERROR(Temp!C$3:C$170), \"\", ROW(Temp!C$3:C$170)-MIN(ROW(Temp!C$3:C$170))+1), ROW(67:67))),\"\")","v":""},{"$f":"IFERROR(INDEX(Temp!D$3:D$170, SMALL(IF(ISERROR(Temp!D$3:D$170), \"\", ROW(Temp!D$3:D$170)-MIN(ROW(Temp!D$3:D$170))+1), ROW(67:67))),\"\")","v":""}]
[{"$f":"IFERROR(INDEX(Temp!A$3:A$170, SMALL(IF(ISERROR(Temp!A$3:A$170), \"\", ROW(Temp!A$3:A$170)-MIN(ROW(Temp!A$3:A$170))+1), ROW(68:68))),\"\")","v":""},{"$f":"IFERROR(INDEX(Temp!B$3:B$170, SMALL(IF(ISERROR(Temp!B$3:B$170), \"\", ROW(Temp!B$3:B$170)-MIN(ROW(Temp!B$3:B$170))+1), ROW(68:68))),\"\")","v":""},{"$f":"IFERROR(INDEX(Temp!C$3:C$170, SMALL(IF(ISERROR(Temp!C$3:C$170), \"\", ROW(Temp!C$3:C$170)-MIN(ROW(Temp!C$3:C$170))+1), ROW(68:68))),\"\")","v":""},{"$f":"IFERROR(INDEX(Temp!D$3:D$170, SMALL(IF(ISERROR(Temp!D$3:D$170), \"\", ROW(Temp!D$3:D$170)-MIN(ROW(Temp!D$3:D$170))+1), ROW(68:68))),\"\")","v":""}]
[{"$f":"IFERROR(INDEX(Temp!A$3:A$170, SMALL(IF(ISERROR(Temp!A$3:A$170), \"\", ROW(Temp!A$3:A$170)-MIN(ROW(Temp!A$3:A$170))+1), ROW(69:69))),\"\")","v":""},{"$f":"IFERROR(INDEX(Temp!B$3:B$170, SMALL(IF(ISERROR(Temp!B$3:B$170), \"\", ROW(Temp!B$3:B$170)-MIN(ROW(Temp!B$3:B$170))+1), ROW(69:69))),\"\")","v":""},{"$f":"IFERROR(INDEX(Temp!C$3:C$170, SMALL(IF(ISERROR(Temp!C$3:C$170), \"\", ROW(Temp!C$3:C$170)-MIN(ROW(Temp!C$3:C$170))+1), ROW(69:69))),\"\")","v":""},{"$f":"IFERROR(INDEX(Temp!D$3:D$170, SMALL(IF(ISERROR(Temp!D$3:D$170), \"\", ROW(Temp!D$3:D$170)-MIN(ROW(Temp!D$3:D$170))+1), ROW(69:69))),\"\")","v":""}]
[{"$f":"IFERROR(INDEX(Temp!A$3:A$170, SMALL(IF(ISERROR(Temp!A$3:A$170), \"\", ROW(Temp!A$3:A$170)-MIN(ROW(Temp!A$3:A$170))+1), ROW(70:70))),\"\")","v":""},{"$f":"IFERROR(INDEX(Temp!B$3:B$170, SMALL(IF(ISERROR(Temp!B$3:B$170), \"\", ROW(Temp!B$3:B$170)-MIN(ROW(Temp!B$3:B$170))+1), ROW(70:70))),\"\")","v":""},{"$f":"IFERROR(INDEX(Temp!C$3:C$170, SMALL(IF(ISERROR(Temp!C$3:C$170), \"\", ROW(Temp!C$3:C$170)-MIN(ROW(Temp!C$3:C$170))+1), ROW(70:70))),\"\")","v":""},{"$f":"IFERROR(INDEX(Temp!D$3:D$170, SMALL(IF(ISERROR(Temp!D$3:D$170), \"\", ROW(Temp!D$3:D$170)-MIN(ROW(Temp!D$3:D$170))+1), ROW(70:70))),\"\")","v":""}]
[{"$f":"IFERROR(INDEX(Temp!A$3:A$170, SMALL(IF(ISERROR(Temp!A$3:A$170), \"\", ROW(Temp!A$3:A$170)-MIN(ROW(Temp!A$3:A$170))+1), ROW(71:71))),\"\")","v":""},{"$f":"IFERROR(INDEX(Temp!B$3:B$170, SMALL(IF(ISERROR(Temp!B$3:B$170), \"\", ROW(Temp!B$3:B$170)-MIN(ROW(Temp!B$3:B$170))+1), ROW(71:71))),\"\")","v":""},{"$f":"IFERROR(INDEX(Temp!C$3:C$170, SMALL(IF(ISERROR(Temp!C$3:C$170), \"\", ROW(Temp!C$3:C$170)-MIN(ROW(Temp!C$3:C$170))+1), ROW(71:71))),\"\")","v":""},{"$f":"IFERROR(INDEX(Temp!D$3:D$170, SMALL(IF(ISERROR(Temp!D$3:D$170), \"\", ROW(Temp!D$3:D$170)-MIN(ROW(Temp!D$3:D$170))+1), ROW(71:71))),\"\")","v":""}]
[{"$f":"IFERROR(INDEX(Temp!A$3:A$170, SMALL(IF(ISERROR(Temp!A$3:A$170), \"\", ROW(Temp!A$3:A$170)-MIN(ROW(Temp!A$3:A$170))+1), ROW(72:72))),\"\")","v":""},{"$f":"IFERROR(INDEX(Temp!B$3:B$170, SMALL(IF(ISERROR(Temp!B$3:B$170), \"\", ROW(Temp!B$3:B$170)-MIN(ROW(Temp!B$3:B$170))+1), ROW(72:72))),\"\")","v":""},{"$f":"IFERROR(INDEX(Temp!C$3:C$170, SMALL(IF(ISERROR(Temp!C$3:C$170), \"\", ROW(Temp!C$3:C$170)-MIN(ROW(Temp!C$3:C$170))+1), ROW(72:72))),\"\")","v":""},{"$f":"IFERROR(INDEX(Temp!D$3:D$170, SMALL(IF(ISERROR(Temp!D$3:D$170), \"\", ROW(Temp!D$3:D$170)-MIN(ROW(Temp!D$3:D$170))+1), ROW(72:72))),\"\")","v":""}]
[{"$f":"IFERROR(INDEX(Temp!A$3:A$170, SMALL(IF(ISERROR(Temp!A$3:A$170), \"\", ROW(Temp!A$3:A$170)-MIN(ROW(Temp!A$3:A$170))+1), ROW(73:73))),\"\")","v":""},{"$f":"IFERROR(INDEX(Temp!B$3:B$170, SMALL(IF(ISERROR(Temp!B$3:B$170), \"\", ROW(Temp!B$3:B$170)-MIN(ROW(Temp!B$3:B$170))+1), ROW(73:73))),\"\")","v":""},{"$f":"IFERROR(INDEX(Temp!C$3:C$170, SMALL(IF(ISERROR(Temp!C$3:C$170), \"\", ROW(Temp!C$3:C$170)-MIN(ROW(Temp!C$3:C$170))+1), ROW(73:73))),\"\")","v":""},{"$f":"IFERROR(INDEX(Temp!D$3:D$170, SMALL(IF(ISERROR(Temp!D$3:D$170), \"\", ROW(Temp!D$3:D$170)-MIN(ROW(Temp!D$3:D$170))+1), ROW(73:73))),\"\")","v":""}]