{"text_format":"1","workbook":"xlsx","n_sheets":6,"sheets":["INSTRUCTIVO DE USO","PUERTOS","OBLIGACIONES APLICABLES","Asuntos radicación","Temp","Hoja2"],"not_rendered":{"charts":0,"images":2,"macros":1,"external_links":0,"defined_names":3,"comments":1,"pivot_tables":0},"unopened":[],"bounds":{"document_bytes":16777216,"sheet_cells":100000,"rows_first":2000,"rows_last":500,"rows_between":2000,"halvings":0,"cell_chars":16384,"cell_head_chars":4096},"cells_cut":0,"cells_raw":0,"read":"whole","date_system":"1900"}

{"sheet":"INSTRUCTIVO DE USO","index":0,"n_rows":11,"n_cols":3,"rows_kept":11,"cut":false,"hidden":true,"merged":[[10,0,10,12],[0,0,0,1],[0,2,0,12],[2,0,2,12],[4,0,5,12],[7,0,8,12]]}
[null,null,"INSTRUCTIVO DE USO DEL INSTRUMENTO DE OBLIGACIONES MÍNIMAS "]
[]
["1. INTRODUCCIÓN\n\nLas Obligaciones Mínimas son un instrumento interno de la Autoridad Nacional de Licencias Ambientales – ANLA formulado con el fin de unificar criterios por parte de los profesionales que realizan la evaluación y seguimiento de proyectos, obras o actividades sujetos al trámite de licenciamiento ambiental, mediante la estandarización de obligaciones mínimas asociadas al acto administrativo a través del cual se otorga o modifica la licencia ambiental, se actualizan los planes de manejo ambiental y se imponen medidas adicionales, de tal manera que se asegure que en cada tipo de proyecto se impongan las mismas obligaciones estandarizadas bajo requerimientos legales y directrices institucionales, así como con condiciones unificadas y claramente definidas de modo, tiempo y lugar.\n\nEs importante resaltar que, este instrumento al ser interno facilita la labor de esta autoridad en la imposición de obligaciones mínimas en los procesos de evaluación y seguimiento (este último en los casos estrictamente aplicables), y en la verificación del cumplimiento de las mismas en el seguimiento. Sin embargo, al ser puesto a disposición de los usuarios o solicitantes de licencias ambientales servirá como herramienta de planeación de los proyectos, obras o actividades sujetos a licenciamiento, de tal manera que previo a la radicación de los estudios ambientales frente a esta autoridad, las obligaciones puedan ser incorporadas por los usuarios en la formulación de los Planes de Manejo Ambiental - PMA\n\nPor lo anterior, a continuación se realizan algunas precisiones a los solicitantes de licencias ambientales cuando estos deseen consultar y hacer uso de este instrumento durante el proceso de formulación de sus PMA."]
[]
["2. DEFINICIONES\n\nCondición de lugar: (dónde) lugares o puntos en los que debe desarrollarse la actividad según experticia del evaluador o según protocolos, guías, normativa en general, etc.\nCondición de modo: (cómo) descripción de las características o circunstancias en las que se deben realizar las actividades autorizadas, según protocolos, guías, normativa en general y aspectos administrativos que se definan.\nCondición de tiempo: (cuándo) periodicidad para la ejecución de monitoreos, tiempos de realización de actividades, tiempos de presentación de la información, etc.\nObligaciones mínimas: Describen las condiciones mínimas de modo, tiempo y lugar a través de las cuales la Autoridad Ambiental, autoriza la ejecución de un proyecto, obra o actividad sujeto legalmente al trámite de Licenciamiento Ambiental, identificando los permisos, autorizaciones y/o concesiones cuando sea el caso, de conformidad con cada subsector (tipo de proyecto). En razón a lo anterior, se clasifican las obligaciones mínimas, de conformidad con las características de las condiciones reglamentadas, de la siguiente manera: obligaciones de uso, aprovechamiento y/o afectación de recursos naturales, obligaciones asociadas a componentes y actividades, obligaciones asociadas a planes, obligaciones socioeconómicas, obligaciones generales y requisitos del acto administrativo. \nObligaciones de uso, aprovechamiento y/o afectación de recursos naturales: están relacionadas con las autorizaciones y/o permisos otorgados para el uso, aprovechamiento y/o afectación de los recursos naturales, tales como: emisiones atmosféricas, ruido, aprovechamiento forestal, concesión aguas subterráneas, exploración de aguas subterráneas, concesión aguas superficiales, ocupación de cauce, vertimiento en agua superficial, vertimiento en suelo, entre otras.\nObligaciones asociadas a componentes y actividades: contiene obligaciones relacionadas con algunos componentes y actividades propias del proyecto, obra o actividad, tales como: adecuación / construcción de vías existentes de apoyo al proyecto, almacenamiento de materiales de construcción, almacenamiento de combustibles y productos químicos, compra de agua, recirculación de agua residual, entrega de aguas residuales para reúso, entrega de aguas residuales a terceros, materiales de construcción, gestión de residuos, zonas de disposición de material sobrante de excavaciones, entre otras.\nObligaciones asociadas a Planes: contiene obligaciones relacionadas con la ejecución y cumplimiento de algunos planes definidos en la licencia ambiental de un proyecto, tales como: plan de compensación del medio biótico, plan de gestión del riesgo, plan de desmantelamiento y abandono y plan de inversión de no menos del 1%.\nObligaciones socioeconómicas: contienen obligaciones relacionadas con temas, tales como: gestión social y valoración económica.\nObligaciones generales: agrupa diferentes aspectos relacionados con cumplimiento de parámetros normativos, presentación de Informes de Cumplimiento Ambiental – ICA, notificaciones de cambios menores, solicitudes de modificación de licencia ambiental y demás condiciones generales a ser tenidas en cuenta por parte del titular de la licencia. La inclusión por parte de los profesionales jurídicos de este tipo de obligaciones, deberá realizarse en todas las licencias ambientales, sin importar el tipo de proyecto. En caso de que el solicitante de la licencia ambiental haga uso de este instrumento durante el proceso de formulación de su PMA, no deberá tener en cuenta este tipo de obligaciones dada la naturaleza de las mismas.\nRequisitos del acto administrativo: corresponde a aquellas obligaciones de la ANLA frente a cada licencia ambiental. La inclusión por parte de los profesionales jurídicos de este tipo de obligaciones deberá realizarse en todas las licencias ambientales, sin importar el tipo de proyecto. No tienen relación alguna con las fases de desarrollo del proyecto y no son objeto de seguimiento. Algunas de las obligaciones, contienen textos en rojo que deberán ser diligenciados directamente en el acto administrativo por el profesional jurídico, como: nombre y NIT del titular del proyecto. En caso de que el solicitante de la licencia ambiental haga uso de este instrumento durante el proceso de formulación de su PMA, no deberá tenerl en cuenta este tipo de obligaciones dada la naturaleza de las mismas."]
[]
[]
["3. DESARROLLO\n\nEste instrumento representa una estandarización mínima a la luz de las necesidades de cada sector y tipos de proyectos, obras o actividades en todas las regiones, por lo cual, tanto los profesionales de la Autoridad como los usuarios o solicitantes de licencias ambientales, con fundamento en el conocimiento de las condiciones ambientales propias del área (hídricas, climáticas, geomorfológicas, de suelos, etc.) y de las actividades a desarrollar por parte del proyecto, deberán hacer uso de las obligaciones específicas a que haya lugar y en los casos estrictamente necesarios y técnicamente justificados se podrán adaptar aquellas obligaciones mínimas que así lo requieran. \n\nCada archivo contiene tres pestañas u hojas de cálculo. La primera pestaña, hace referencia al tipo de proyecto para el cual se estandarizaron obligaciones asociadas a permisos, autorizaciones y aspectos generales. Esta pestaña cuenta con un encabezado indicando el tipo de proyecto para el cual se estandarizaron obligaciones y con 3 secciones y 10 subsecciones.\n\nLa SECCIÓN 1. PERMISOS, AUTORIZACIONES Y ASPECTOS GENERALES agrupa 5 subsecciones que son descritas a continuación:\n\nSubsección 1. ID (Columna A): corresponde a la numeración de las obligaciones, la cual se encuentra en orden consecutivo.\nSubsección 2. Temática (Columna B): corresponde a la temática abordada en cada uno de los grupos de obligaciones mínimas (obligaciones de uso, aprovechamiento y/o afectación de recursos naturales, obligaciones asociadas a componentes y actividades, obligaciones asociadas a planes, obligaciones socioeconómicas, obligaciones generales y requisitos del acto administrativo).\nSubsección 3. Aspecto a tratar (Columna C): comprende los elementos a los que hace referencia cada obligación, p.e: monitoreo y seguimiento a la calidad del cuerpo de agua donde se realiza la ocupación de cauce, manejo de zonas de disposición de material sobrante de excavación, reporte de actividades de aprovechamiento forestal de arboles aislados, etc.\nSubsección 4. Aspecto a tratar (Columna D): permite seleccionar la aplicabilidad ( √ ) o no ( X ) de una obligación mediante un doble clic en la celda, según el contexto del proyecto que se esté evaluando, es decir, si se le otorga un determinado permiso, se le autoriza alguna obra o actividad o le aplica de acuerdo con los permisos y actividades desarrolladas por le proyecto.\nSubsección 5. Obligación (Columna E): conjunto de obligaciones mínimas establecidas para cada temática y aspecto a tratar.\n\nPor otra parte, la SECCIÓN 2. FASES DEL PROYECTO PARA EL CUMPLIMIENTO Y SEGUIMIENTO A OBLIGACIONES indica la fase en la cual deberán ejecutarse las acciones asociadas a una determinada obligación para el cumplimiento por parte del titular de la licencia y el seguimiento por parte de la Autoridad: 1) Fase de pre construcción, 2) Fase de construcción, 3) Fase de operación y mantenimiento, y 4) Fase de desmantelamiento y abandono. \n\nFinalmente, la SECCIÓN 3. TEMPORALIDAD establece si la obligación debe ser de cumplimiento permanente o temporal por parte de los titulares de las licencias.\n\nUna vez se revisen todas las obligaciones mínimas y se indique si aplican o no, los usuarios de este instrumento deberán dirigirse a la segunda pestaña denominada OBLIGACIONES APLICABLES para generar el listado final de obligaciones mínimas que pueden establecerse a cada proyecto. Para generar este listado, se deberá dar clic en el botón de “Actualizar Anexo”.\n\nLa aplicabilidad de las obligaciones en las diferentes fases del proyecto, así como su temporalidad deberá asociarse al final de cada obligación en el respectivo documento (Concepto Técnico y acto administratico para el caso de la Autoridad o PMA para el caso de los usuarios o solicitantes de licencias ambientales).\n\nLa tercera pestaña denominada Asuntos radicación es de uso exclusivo de la Autoridad, dado que es donde se encuentran los asuntos de radicación relacionados con la Obligación General \"Estrategia de recepción de información de los resultados de los monitoreos del uso y aprovechamiento de los recursos naturales\", tabla que se debe copiar y pegar en la mencionada obligación."]
[]
[]
["4. ANEXOS\n\nEl instrumento cuenta con formatos y plantillas asociados a algunas obligaciones mínimas que son de uso transversal a cualquier proyecto, los cuales son:\n\n1. Formatos de hoja de vida de pozo de observación y hoja de vida de pozo de captación: Estos formatos deben ser diligenciados por parte del usuario y ser allegados en los respectivos Informes de Cumplimiento Ambiental – ICA. El diligenciamiento de dichos formatos responde a algunas obligaciones asociadas a los permisos de vertimiento en suelo, exploración de aguas subterráneas y concesión de aguas subterráneas.\n2. Plantillas de avisos informativos: Estas plantillas están asociadas al permiso de concesión de aguas superficiales y subterráneas y permiso de vertimientos a cuerpos de agua superficial y en suelos, los cuales deben ser diligenciados e instalados por parte del usuario en el lugar donde se haya autorizado la realización de dichos permisos.\n3. Plantilla de seguimiento a la gestión de residuos peligrosos y Plantilla de seguimiento a la gestión de residuos no peligrosos: En esta plantilla se consolidará la información asociada a la generación y gestión (tratamiento, aprovechamiento y/o disposición final) de residuos peligros y no peligrosos realizada por parte del generador o de terceros autorizados, la cual deberá ser allegada en los respectivos Informes de Cumplimiento Ambiental – ICA.\n\nDichos anexos, se encuentran disponibles en la página web de la ANLA."]

{"sheet":"PUERTOS","index":1,"n_rows":186,"n_cols":10,"rows_kept":186,"cut":false,"hidden":false,"merged":[[0,0,4,1],[0,2,4,4],[0,5,1,5],[2,5,3,5],[0,6,1,9],[2,6,3,9],[4,6,4,9],[5,5,5,8],[5,0,5,4],[15,6,16,6],[15,7,16,7],[15,8,16,8],[15,9,16,9],[15,4,16,4],[15,2,16,2],[15,1,16,1],[15,0,16,0],[15,5,16,5],[83,0,84,0],[83,1,84,1],[83,2,84,2],[83,4,84,4],[83,5,84,5],[83,6,84,6],[83,7,84,7],[83,8,84,8],[83,9,84,9],[94,9,95,9],[94,6,95,6],[94,7,95,7],[94,8,95,8],[94,0,95,0],[94,1,95,1],[94,2,95,2],[94,4,95,4],[94,5,95,5]]}
[null,null,"OBLIGACIONES MÍNIMAS PUERTOS\nRecuerde completar los textos en rojo directamente en el CTE.\nNOTA: Dar doble clic en cada celda de la columna Aplica para indicar si la obligación será impuesta R o no T",null,null,"Fecha:","31-08-2023"]
[]
[null,null,null,null,null,"Versión:",1]
[]
[null,null,null,null,null,"Código:","EL-FO-65"]
["SECCIÓN 1. PERMISOS, AUTORIZACIONES Y ASPECTOS GENERALES",null,null,null,null,"SECCIÓN 2. FASE DEL PROYECTO PARA EL CUMPLIMIENTO Y SEGUIMIENTO A OBLIGACIONES",null,null,null,"SECCIÓN 3. TEMPORALIDAD"]
["ID","Temática","Aspecto a tratar","Aplica (SI / NO)","Obligación","Pre construcción","Construcción","Operación y mantenimiento","Desmantelamiento y abandono","Temporal  / \nPermanente"]
[1,"AIRE","Mediciones de las emisiones atmosféricas\n\nNota 1: La frecuencia de medición de las emisiones podrá ser diferenciada de acuerdo al tipo de contaminante y combustible, para lo cual se podrá ajustar el literal a) de la presente obligación.\n\nNota 2: Revisar previamente las condiciones establecidas por el proyecto en el PSM en relación con este permiso, con el fin de ser consecuentes con las obligaciones impuestas y las propuestas en el plan (no duplicar, no contrariar y tomar las condiciones más estrictas entre las obligaciones mínimas y el PSM).\n\nNota 3: Imponer la obligación en las fases que corresponden teniendo en cuenta las fuentes de emisión sujetas a medición.",null,"Realizar monitoreo de las emisiones atmosféricas generadas en las fuentes puntuales del proyecto de conformidad con lo establecido en el Protocolo  de Control y Vigilancia de la Contaminación Atmosférica Generada por Fuentes Fijas (adoptado por la Resolución 760 de 2010 del MAVDT, ajustado por la Resolución 2153 de 2010, Resolución 591 de 2012, Resolución 1632 de 2012 y Resolución 1807 de 2012, o la norma que la modifique, derogue o sustituya), dando cumplimiento a las siguientes condiciones:\n\na) Para determinar la frecuencia de los monitoreos de emisiones atmosféricas asociadas a fuentes puntuales, realizar un monitoreo al inicio de la operación y dar cumplimiento a lo establecido en el numeral 3.2 y en la tabla No. 9 del Protocolo para el Control y Vigilancia de la Contaminación Atmosférica Generada por Fuentes Fijas. Presentar los resultados del monitoreo inicial, las frecuencias establecidas con su respectiva justificación (determinación de las UCA) y el cumplimiento de altura mínima de descarga de las fuentes autorizadas según el Protocolo en el primer Informe de Cumplimiento Ambiental - ICA. \nb) Medir en cada monitoreo de acuerdo con la actividad industrial realizada, los contaminantes establecidos en la Tabla 2 del Protocolo  de Control y Vigilancia de la Contaminación Atmosférica Generada por Fuentes Fijas, de acuerdo con las actividades desarrolladas por el proyecto en cada una de sus etapas.\nc) Las fuentes de emisión contarán con un sistema de extracción localizada, chimenea, plataforma y puertos de muestreo que permitan realizar la medición directa y demostrar el cumplimiento normativo. La plataforma, diámetro y localización de los puertos de muestreo, se construirán de acuerdo a los métodos y procedimientos adoptados en el Protocolo para el Control y Vigilancia de la Contaminación Atmosférica generada por fuentes fijas última versión.\nd) Entregar en los respectivos Informes de Cumplimiento Ambiental - ICA el informe de los resultados y análisis de las mediciones de emisiones (asociadas a fuentes fijas puntuales), cumpliendo con lo establecido en el numeral 2.2 del Protocolo en mención y empleando los formatos establecidos en el Anexo 2, 3 y 4 del mismo. En dicho informe se compararán las mediciones con los estándares establecidos en la Resolución 909 de 2008, o aquellas que la modifiquen o sustituyan, para los contaminantes de la Tabla 2 según el Protocolo. De sobrepasar los límites de emisión para cada contaminante, el titular de la licencia presentará, las medidas de manejo pertinentes, necesarias para garantizar el cumplimiento de los estándares, las cuales serán informadas en los Informes de Cumplimiento Ambiental - ICA.","N/A","Aplica","Aplica","N/A","Permanente"]
[2,"AIRE","Mantenimiento preventivo y correctivo de los sistemas de control de las fuentes de emisión.",null,"Realizar el mantenimiento preventivo y correctivo de los sistemas de control de las fuentes de emisión, de conformidad con lo establecido en el  Protocolo  para el Control y Vigilancia de la Contaminación Atmosférica Generada por Fuentes Fijas (adoptado por la Resolución 760 de 2010 del MAVDT, ajustado por la Resolución 2153 de 2010, Resolución 591 de 2012, Resolución 1632 de 2012 y Resolución 1807 de 2012, o la norma que la modifique, derogue o sustituya) y presentar en los Informes de Cumplimiento Ambiental - ICA las evidencias de su implementación, así como la ficha técnica del fabricante, y la eficiencia de control relacionando el respectivo equipo contaminante.","N/A","Aplica","Aplica","N/A","Permanente"]
[3,"AIRE","Actualización del inventario de emisiones.",null,"Actualizar el inventario de emisiones atmosféricas generadas por el proyecto como mínimo una vez al año o cada vez que se presenten cambios en los procesos y/o actividades que generan emisiones (por ejemplo, introducción de nuevas fuentes), teniendo en cuenta lo siguiente:\n\na) Para las fuentes fijas puntuales que cuenten con las condiciones técnicas de medición, realizar la estimación de emisiones a partir de medición directa, dando cumplimiento a los criterios establecidos en el Protocolo para el Control y Vigilancia de la Contaminación Atmosférica Generada por Fuentes Fijas (adoptado por la Resolución 760 de 2010 del MAVDT, ajustado por la Resolución 2153 de 2010, Resolución 591 de 2012, Resolución 1632 de 2012 y Resolución 1807 de 2012, o la norma que la modifique, derogue o sustituya).\nb) Para fuentes fijas puntuales a las que no les aplique la medición directa por aspectos técnicos o de seguridad, y fuentes dispersas de área, aplicar métodos alternativos como factores de emisión y balance de masas, teniendo en cuenta las metodologías para el uso de factores de emisión desarrolladas por entidades oficiales, centros de investigación o academia (AP-42 Agencia de Protección Ambiental de los Estados Unidos US-EPA, National Pollutant Inventory - NPI, entre otras), las cuales están referenciadas en la Guía para la Elaboración de Inventarios de Emisiones Atmosféricas del MADS.\nc) Para fuentes móviles se podrán utilizar modelos de emisión de fuentes móviles (ej. IVE, MOBILE, MOVES y/o COPERT) combinados con variables locales (distancias viajadas por la flota, velocidades, etc.), o factores de emisión usados internacionalmente (EPA y Unión Europea). El aforo vehicular a realizar tiene como propósito la identificación de las fuentes móviles que transitan por las vías del proyecto o que se encuentran en el área de influencia. El levantamiento de información de la flota vehicular como mínimo deber ser de (ocho (8) horas / veinticuatro (24) horas continuas por día, en día hábil y festivo. Seleccionar de acuerdo con los horarios de construcción y operación aplicable al POA). Se deberá realizar la identificación y características del punto de aforo y la clasificación de los vehículos por peso y tipo de combustible. Se deberá presentar un informe con los resultados del inventario de fuentes y emisiones, y se deberá anexar las memorias de cálculos con la estimación de emisiones de los contaminantes considerados, los cálculos y suposiciones realizados.\nd) Presentar el inventario con y sin las eficiencias de las medidas de control en el cálculo de las emisiones. Para cada contaminante se deberá justificar las eficiencias de control con las respectivas evidencias documentales.\ne) Reportar la actualización en los respectivos Informes de Cumplimiento Ambiental - ICA, el cual contendrá como mínimo: Metodología empleada; Información georreferenciada de las fuentes; Tipo de fuente; Tipo combustible empleado; Consumo de combustible por cada fuente (nominal en base horaria y total acumulado anual); Tiempos de operación (horas/año); Sistemas de control de emisiones (discriminando sistema y tipo de contaminante); Porcentaje de eficiencia de los sistemas; Emisiones desagregadas  por actividad; Para fuentes fijas puntuales se requieren los datos de altura y diámetro de las chimeneas;  Identificar y presentar un análisis de las fuentes de emisiones atmosféricas del proyecto que se asocian con los contaminantes monitoreados a nivel de inmisión, especialmente para los contaminantes no criterio que puedan emitirse en las etapas de su desarrollo, con base información cuantitativa y cualitativa generada para el componente atmosférico, y otros medios y componentes; y fuentes de información utilizada.\nf) Anexar los archivos del inventario de fuentes diferenciando claramente la metodología y los cálculos (formatos accesibles .xls no protegidos), de las fuentes de contaminantes criterio y/o tóxicos (fijas puntuales y dispersas o difusas) con las consideraciones sobre la estimación.","N/A","Aplica","Aplica","N/A","Permanente"]
[4,"AIRE","Modelar la dispersión de contaminantes atmosféricos.\n\nNota: En caso de evidenciar la necesidad de modelar otro contaminante de interés, incluirlo en el literal c).",null,"Modelar la dispersión de contaminantes atmosféricos, al menos una vez al año o cada vez que se presenten cambios en los procesos y/o actividades que generan emisiones (por ejemplo, introducción de nuevas fuentes), en tanto el Ministerio de Ambiente y Desarrollo Sostenible adopte el Protocolo de Modelización de Contaminantes Atmosféricos, se deberán realizar bajo las siguientes condiciones:\n\na) Emplear un sistema de modelación actualizado avalado por la EPA que represente adecuadamente las condiciones de dispersión en el área de influencia del proyecto.\nb) Considerar las configuraciones recomendadas por el ente desarrollador para el sistema de modelación utilizado. \nc) Modelar como mínimo PM10, PM2,5 (relacionar demás contaminantes de interés según las fuentes de emisión del proyecto), de acuerdo con el Protocolo para el Monitoreo y Seguimiento de la Calidad del Aire del MAVDT del 2010 (adoptado por la Resolución 650 de 2010, y ajustado por la Resolución 2154 de 2010), Resolución 2254 del 2017 del MADS o aquella que la modifique, derogue o sustituya.\nd) Identificar los receptores de interés, usos del suelo, topografía, ventana de modelación y resolución de malla a emplear en la modelación.\ne) Efectuar un análisis de la información meteorológica obtenida de estaciones automáticas del IDEAM. Cuando esto no sea posible, la modelación se apoyará en información meteorológica obtenida de otras estaciones automáticas (anexando la justificación técnica de la escogencia de estaciones diferentes a las del IDEAM) o en su defecto a partir de información resultante de modelos meteorológicos de pronóstico para el año calendario inmediatamente anterior al estudio. Para las variables aplicables, tener en cuenta lo determinado en la guía de la EPA \"Meteorological Monitoring Guidance for Regulatory Modeling Applications - EPA 454/R 99 005\".\nf) Presentar los resultados de los escenarios a modelar (sin sistemas de control y con sistemas de control) para el año inmediatamente anterior a la presentación del Informe de Cumplimiento Ambiental - ICA.\ng) Presentar el informe de la modelación de la dispersión de contaminantes atmosféricos en los respectivos Informes de Cumplimiento Ambiental - ICA como mínimo con la siguiente información:\ni) Diagrama de flujo de los procesos que generan emisiones atmosféricas. \nii) Descripción del modelo empleado incluyendo los resultados de las concentraciones obtenidas para los receptores sensibles y gráficas de isopletas georreferenciadas, donde se muestre la ubicación de las fuentes de emisión y de los receptores.\niii) Datos de entrada de la modelación: descripción y ubicación de la región de impacto, identificación y ubicación georreferenciado de las fuentes de emisión y de los posibles receptores, archivo geográfico con la topografía de la región y tipo de uso del suelo, información y análisis de la meteorología  (archivos nativos p. ej. .SAM, .UA, .PFL, .SFC y accesibles .csv, xls, .txt no protegidos) y de la calidad del aire en la región (en caso de no existir dicha información, utilizar la información de calidad de aire más reciente), análisis sobre potenciales receptores, contaminantes emitidos y descripción del método de cuantificación de las emisiones, que permitan la reproducción total del modelo. \niv) Reporte de los criterios, características del modelo, alcances y tamaño de mallas empleados para la modelación. Anexar los archivos de entrada y salida de los procesadores y pre procesadores empleados en la modelación, en los formatos originales de entrada y salida del modelo (archivos nativos p. ej. .ADI, .SOU, .ROU, .ADO, y accesibles .csv, xls, .txt no protegidos), de forma que se permita la reproducción total del modelo.\nv) Técnicas de validación de la modelación y la concentración de fondo tenidas en cuenta, así como de los resultados obtenidos. \nvi) Análisis, conclusiones y anexos.","N/A","Aplica","Aplica","N/A","Permanente"]
[5,"AIRE","Monitoreos de calidad del aire. \n\nNota 1: Revisar previamente las condiciones establecidas por el proyecto en el PSM en relación con estos monitoreos, con el fin de ser consecuentes con las obligaciones impuestas y las propuestas en el plan (no duplicar, no contrariar y tomar las condiciones más estrictas entre las obligaciones mínimas y el PSM). Específicamente, la frecuencia del monitoreo se evaluará dentro del programa de monitoreo propuesto por el usuario en el EIA, lo cual se deberá ajustar de acuerdo con los criterios de evaluación, en caso de ser necesario.\n\nNota 2: Aplica en fase de desmantelamiento y abandono cuando implique el desmantelamiento de obras duras. ",null,"Realizar monitoreos de calidad del aire con los criterios establecidos para un (Sistema de Vigilancia de Calidad de Aire Industrial Fijo / Indicativo - SVCAI. Seleccionar el sistema de acuerdo con la complejidad del proyecto) según el Protocolo para el Monitoreo y Seguimiento de la Calidad del Aire del MAVDT del 2010 (adoptado por la Resolución 650 de 2010, y ajustado por la Resolución 2154 de 2010, o la norma que la modifique, derogue o sustituya), y entregar los respectivos soportes en los Informes de Cumplimiento Ambiental - ICA, teniendo en cuenta lo siguiente:\n\na) Documento donde se argumente la selección de la localización de las estaciones que conformen el Sistema de Vigilancia de Calidad de Aire, teniendo en cuenta los criterios establecidos en el Protocolo para el Monitoreo y Seguimiento de la Calidad del Aire del MAVDT (2010). Esta obligación se presentará en el primer Informe de Cumplimiento Ambiental - ICA.\nb) Información meteorológica: debe hacer referencia al año calendario inmediatamente anterior al estudio, la cual debe ser previamente validada de acuerdo a los estándares establecidos por la EPA, de igual forma se deberá entregar la información meteorológica de la campaña de monitoreo (Quality Assurance Handbook for Air Pollution Measurement Systems Volumen IV: Meteorological Measurement Versión 2.0 EPA-454/B-08-002). Anexar los archivos georreferenciados de acuerdo con el modelo de almacenamiento geográfico establecido en la Resolución 2182 de 2016 del MADS, o la que la modifique, derogue o sustituya.\nc) Reportes de laboratorio (que incluya datos diarios u horarios dependiendo de la tecnología de la estación de monitoreo - manual o automática).\nd) Comparación de las mediciones con los niveles máximos permisibles establecidos en la Resolución 2254 de 2017 del MADS, o aquella que la modifique, derogue o sustituya, y con la línea base presentada en el EIA para los contaminantes evaluados. Los contaminantes a registrar serán los establecidos en la Resolución  2254 de 2017 del MADS, o aquella que la modifique o sustituya, aplicables según la actividad industrial desarrollada y las fuentes de emisión identificadas. \ne) Informe de las acciones implementadas para garantizar el cumplimiento de los estándares en caso de sobrepasar los límites de inmisión para cada contaminante.\nf) Informe que incluya como mínimo los contenidos establecidos en el Protocolo para el Monitoreo y Seguimiento de la Calidad del Aire del MAVDT (2010) - Manual de operación, según el sistema de vigilancia de calidad del aire aplicable.","N/A","Aplica","Aplica","N/A","Permanente"]
[6,"AIRE","Reporte al Subsistema de Información sobre Calidad de Aire - SISAIRE\n\nNota: Aplica para proyectos, obras y actividades que requieran realizar monitoreos permanentes de calidad del aire",null,"De acuerdo con lo establecido en la Resolución 2254 del 2017 del MADS, para Sistemas de Vigilancia de la Calidad del Aire - SVCA que realicen monitoreos con una periodicidad permanente (continua en el tiempo durante la vida útil del proyecto) reportar al Subsistema de Información sobre Calidad de Aire - SISAIRE los datos validados resultantes de las mediciones de calidad de aire y variables meteorológicas. Tener en cuenta lo establecido en la Resolución 651 del 29 de marzo 2010 o aquella que la modifique, derogue o sustituya y presentar las evidencias del cargue a dicho sistema.","N/A","Aplica","Aplica","N/A","Permanente"]
[7,"AIRE","Presentación del plan de riego en vías \n\nNota: Ajustar la presente obligación de acuerdo con la propuesta realizada por usuario en su plan de riego, Programa de Uso Eficiente y Ahorro de Agua - PUEAA y/o programa de seguimiento y monitoreo.",null,"Presentar en el primer Informe de Cumplimiento Ambiental - ICA de la fase constructiva el plan de riego asociado a la humectación de vías de acceso y zonas descubiertas sin pavimentar (internas del proyecto), el cual debe incluir lo siguiente:\n\na) Rutas y zonas por regar. \nb) Métodos de riego empleados, los cuales deberán garantizar la mayor área de humectación y el menor consumo de agua. \nc) Agua a emplear en las actividades de humectación, la cual deberá dar cumplimiento a lo establecido en la normatividad vigente, y las obligaciones establecidas sobre (Espacio para indicar los permisos/autorizaciones respectivas que se hayan autorizado al proyecto y que estén relacionados con el agua que será empleada para la humectación de vías: vertimientos al suelo, concesión de aguas, compra de agua, aguas lluvias, recirculación en suelo soporte de infraestructura, entre otras).\nd) En caso de emplear aditivos u otros materiales, deberán ser inocuos y no presentar problemas de compactación u otros impactos al suelo superficial, por infiltración o escorrentía ante eventuales precipitaciones. \ne) Indicadores asociados con las actividades de humectación en función del área regada, las cantidades de agua empleadas y la cantidad de material particulado mitigado.","N/A","Aplica","N/A","N/A","Temporal"]
[8,"AIRE","Reporte de implementación del plan de riego en vías",null,"Presentar los soportes de implementación del plan de riego en vías en los respectivos Informes de Cumplimiento Ambiental - ICA, incluyendo: i) evidencias de la ejecución de las medidas con los volúmenes de agua empleados, su origen, métodos de riego empleados, áreas y vías en las cuales fue realizado y ii) análisis de la información meteorológica para el balance hídrico de evaporación-precipitación en los periodos de riego.","N/A","Aplica","Aplica","N/A","Permanente"]
[9,"CAMBIO CLIMÁTICO","Plan Integral de Gestión de Cambio Climático\n\nNota 1:  Definir el momento de la entrega del PIGCCp teniendo en cuenta la duración del proyecto.\n\nNota 2: Tener en cuenta en el considerando del acto administrativo que la obligación se impondrá con fundamento en la Contribución Determinada a Nivel Nacional de Colombia (NDC) de diciembre de 2020, la Ley 2169 de diciembre de 2021 de Acción Climática y la meta nacional de la carbono neutralidad E2050, ",null,"Presentar el Plan Integral de Gestión de Cambio Climático del proyecto (PIGCCp) y los anexos correspondientes en el Informe de Cumplimiento Ambiental – ICA, antes del inicio de las actividades de construcción / al año de la ejecutoria del acto administrativo que acoja esta obligación (ajustar según aplique para otorgamiento de licencia, modificación de licencia o ajuste vía seguimiento), el cual contendrá como mínimo lo siguiente: \n\n1. Objetivos y metas orientados a establecer las acciones de gestión al cambio climático. \n2. La metodología seleccionada para las estimaciones de emisiones y/o remociones GEI del proyecto teniendo en cuenta los criterios que defina el Ministerio de Ambiente y Desarrollo Sostenible (MinAmbiente) y, en caso de que no estén establecidos los criterios metodológicos del inventario GEI por el MinAmbiente, se deberá presentar la metodología o modelo de cuantificación acorde con la Norma Técnica Colombiana NTC-ISO 14064-1 en su versión más reciente o del estándar de reporte de inventario GEI que la Sociedad considere acorde para el proyecto, justificando la selección del estándar y describiendo la metodología o modelo de cuantificación. \n3. La cuantificación del inventario de las emisiones y remociones directas e indirectas de gases efecto invernadero (GEI), teniendo en cuenta:\n\na) Las sustancias dióxido de carbono (CO2), óxido nitroso (N2O), metano (CH4), hidrofluorocarbonos (HFC), perfluorocarbonos (PFC), Trifluoruro de nitrógeno (NF3) y Hexafluoruro de Azufre (SF6), u otras sustancias con potencial de calentamiento global que sean identificadas, en toneladas de CO2eq.\nb) El informe del inventario contemplando los criterios que defina el Ministerio de Ambiente y Desarrollo Sostenible (MinAmbiente), la Norma Técnica Colombiana NTC-ISO 14064-1 en su versión más reciente o el estándar de reporte de inventario GEI que el titular del instrumento de manejo y control ambiental haya seleccionado. \nc) En caso de que por la naturaleza del proyecto no se requiera de la estimación de alguna(s) de las sustancias, alcances o categorías de acuerdo con el estándar del inventario seleccionado, justificar técnicamente. \nd) Los resultados del inventario en hoja de cálculo (Excel editable), junto con su respectivo análisis, la cual deberá contemplar como mínimo: puntos de emisión ID, alcance o categoría según el estándar del inventario seleccionado, tipo de fuente generadora GEI, nombre fuente de emisión GEI, características de la fuente de GEI, categoría IPCC equivalente, Nombre de la sustancia, método de determinación de la emisión, emisión (carga emitida) determinada (kg/año), potencial de calentamiento global, emisión (tonelada de CO2e/año), fuentes de información de los datos empleados y trazabilidad de los cálculos realizados y tipo de verificación GEI (primera, segunda o tercera parte).\n\n4. Las acciones de mitigación y estimado de reducción de GEI proyectadas en el tiempo de vida útil del proyecto autorizado, en hoja de cálculo (Excel editable), contemplando como mínimo: Nombre de la medida, objetivo, descripción de la medida y acciones a seguir, potencial de mitigación de la medida (toneladas de CO2 eq), indicador propuesto, fuentes de información de los datos empleados y trazabilidad de los cálculos realizados, fecha de inicio y fin de implementación.\n5. Complementar el análisis de variabilidad climática, con el análisis de vulnerabilidad al cambio climático y riesgo climático de acuerdo con las directrices del Panel Intergubernamental de Cambio Climático (IPCC) y bajo la metodología que el titular del instrumento de manejo y control ambiental considere acorde para el análisis correspondiente. La metodología deberá ser especificada y deberá mostrar la identificación de amenazas, vulnerabilidades y riesgos climáticos, así como su ponderación y la priorización de acciones que se proponen realizar en temas de adaptación al cambio climático para el proyecto. \n6. Las acciones de adaptación al cambio climático y la variabilidad climática, proyectadas en el tiempo de vida útil del proyecto autorizado, que contribuyan a la reducción del riesgo sobre los recursos naturales renovables o al ambiente y/o proyecto. Se debe presentar como anexo un (Excel editable) contemplando como mínimo: Nombre de la medida, amenaza que atiende, riesgo climático por controlar con la medida, objetivo, descripción de la medida y acciones a seguir, unidad de medida de control y/o seguimiento, información espacial de la implementación de la medida de adaptación, Indicador propuesto, fuentes de información de los datos empleados y trazabilidad de los cálculos realizados, fecha de inicio y fin de implementación. \n7. Las acciones de mitigación de GEI y adaptación al cambio climático deberán contar con indicadores cuantitativos y cualitativos, de cumplimiento, eficacia y efectividad, que contengan como mínimo lo siguiente: nombre de cada indicador, unidad de medida, frecuencia de medición o de cálculo, definición, fórmula y metodología de medición o cálculo, describiendo los procedimientos utilizados para la medición y relacionando los instrumentos necesarios, fuentes de información de las variables que requiere, responsable de la medición o cálculo (sección, dependencia o persona) y criterios para el análisis e interpretación de resultados. Estos indicadores se presentarán para cada etapa del proyecto de acuerdo con el tiempo de vida útil del proyecto autorizado.\n8. Cronograma y localización de la aplicación de las acciones de gestión de cambio climático. ","Aplica","Aplica","N/A","N/A","Temporal"]
[]
[10,"CAMBIO CLIMÁTICO","Reporte de implementación del Plan Integral de Gestión de Cambio Climático",null,"Presentar de manera anual en los correspondientes Informes de Cumplimiento Ambiental - ICA, de acuerdo con la implementación del Plan Integral de Gestión de Cambio Climático del Proyecto (PIGCCp) presentado bajo el articulo XXX (relacionar el numeral corresponda de acuerdo como se enumeró en el acto administrativo), lo siguiente:\n\na) La actualización anual del inventario de las emisiones y remociones directas e indirectas de gases efecto invernadero (GEI).\nb) El informe del avance de la implementación y/o actualización de las acciones de mitigación y estimado de reducción de GEI con la hoja de cálculo (Excel editable).\nc) El informe del avance de la implementación y/o actualización de las acciones de adaptación al cambio climático y la variabilidad climática con la hoja de cálculo (Excel editable). ","N/A","Aplica","Aplica","Aplica","Permanente"]
[11,"CAMBIO CLIMÁTICO","Actualización del Plan Integral de Gestión de Cambio Climático\n\nNota 1: Aplica para proyectos que soliciten modificación de su licencia ambiental y cuenten previamente con la obligación del PIGCC en términos del proyecto, no a nivel empresarial, dentro de su instrumento de manejo y control.\n\nNota 2: Cuando se aplique esta obligación en una modificación, incluir de manera adicional la obligación denominada \"Reporte de implementación del Plan Integral de Gestión de Cambio Climático\".",null,"Complementar y/o actualizar el Plan integral de gestión de Cambio Climático del proyecto (PIGCCp) requerido mediante Artículo XXX de la Resolución XXX del dd-mm-aaaa (relacionar el acto administrativo bajo el cual se impuso la obligación de cambio climático por primera vez) incluyendo las actividades y obras objeto de la presente modificación, de acuerdo con las especificaciones del contenido mínimo establecido para este Plan. Esta información, debe ser presentada en el Informe de Cumplimiento Ambiental - ICA posterior a la expedición del presente acto administrativo que aprueba a modificación del proyecto.","N/A","Aplica","Aplica","Aplica","Temporal"]
[12,"RUIDO","Monitoreos de ruido ambiental\n\nNota 1: La decisión de realizar monitoreo 1 h / jornada / día o 24 h / jornada / día dependerá del carácter continuo o intermitente de la zona a caracterizar. Incluir el periodo de monitoreo en la nota roja del literal b). \n\nNota 2: Revisar previamente las condiciones establecidas por el proyecto en el PSM en relación con esta actividad, con el fin de ser consecuentes con las obligaciones impuestas y las propuestas en el plan (no duplicar, no contrariar y tomar las condiciones más estrictas entre las obligaciones mínimas y el PSM).",null,"Realizar los monitoreos de ruido ambiental y entregar los respectivos soportes en los Informes de Cumplimiento Ambiental - ICA, teniendo en cuenta lo siguiente:\n\na) Los monitoreos de ruido deben cumplir con los parámetros y procedimientos establecidos en la Resolución 0627 de 2006 del MAVDT y el estándar internacional ISO 1996 incluyendo el análisis de bajas frecuencias, o aquellas que la modifiquen, deroguen o sustituyan.\nb) Durante las etapas de construcción, operación y desmantelamiento, realizar monitoreos de ruido ambiental durante dos (2) días a la semana, garantizando que uno de estos días sea dominical, durante (relacionar la duración del monitoreo de acuerdo con la nota 1). La periodicidad del monitoreo será semestral para la fase constructiva y de desmantelamiento y abandono y anual para la fase operativa. Los puntos de monitoreo deben tener una adecuada micro localización evitando obstáculos entre la fuente y el punto de muestreo. La ubicación de los equipos debe permitir en lo posible una relación señal ruido que permita la identificación de la fuente objeto de estudio sobre el ruido ambiente. \nc) Los puntos de monitoreo deberán coincidir con los puntos monitoreados en la línea base presentada en el EIA, y en caso de que se presenten nuevos potenciales receptores de interés, considerar puntos adicionales de monitoreo, los cuales se localizarán estratégicamente respecto a la ubicación de estos receptores.\nd) Los niveles de presión sonora de cada uno de los puntos de monitoreo, deben ser presentados con el nivel total y discriminados en bandas de tercios de octava para cada hora de medición.\ne) Los monitoreos deben caracterizar los periodos de operación más representativos dentro de cada periodo de reporte, en este sentido se debe considerar la medición de manera simultánea en todos los puntos a fin de tener una trazabilidad en el tiempo y espacio de cada escenario evaluado. Se deberá contar tantos equipos como puntos de muestreo para realizar las mediciones simultáneas y continuas durante todo el desarrollo del monitoreo.\nf) Los monitoreos de ruido deben aportar las correcciones de ruido asociadas al tipo de fuente, así como incertidumbre de medida de acuerdo con lo estipulado en la Resolución 0627 del MADS e ISO 1996 a fin de estimar los efectos que puedan generarse por la operación de la fuente objeto de estudio para todas y cada una de las etapas del proyecto.\ng) Presentar en los respectivos Informes de Cumplimiento Ambiental - ICA los informes de los monitoreos de ruido, incluyendo la información requerida en el Artículo 21 de la Resolución 0627 de 2006. Incluir en el informe la comparación de las mediciones con los estándares máximos permisibles establecidos en la Resolución 0627 de 2006 (o la que la modifique, derogue o sustituya), con la línea base presentada en el instrumento de manejo y control ambiental para ruido ambiental y con las mediciones de emisión de ruido para cada hora monitoreada.\nh) Georreferenciar en mapas temáticos los puntos de monitoreo sobre la información de uso actual de suelo (Capa UsoActualSuelo - V1403 del Modelo de almacenamiento geográfico establecido en la Resolución 2182 de 2016 del MADS, o la que la modifique o sustituya) y de los instrumentos de ordenamiento territorial del área de influencia con la respectiva justificación de la selección de los sectores de ruido establecidos en la Resolución 627 de 2006, cada que se actualice la información de uso actual de suelo (Capa UsoActualSuelo del MAG) y de los instrumentos de ordenamiento territorial y/o se incluyan nuevos puntos de monitoreo. Presentar esta información en los respectivos Informes de Cumplimiento Ambiental - ICA.\ni) Actualizar el inventario de potenciales receptores de interés (asentamientos poblacionales, viviendas, infraestructura social y ecosistemas estratégicos) del proyecto y presentarlo cuando se presenten cambios.","N/A","Aplica","Aplica","Aplica","Permanente"]
[13,"RUIDO","Monitoreos de emisión de ruido\n\nNota 1: Revisar previamente las condiciones establecidas por el proyecto en el PSM en relación con esta actividad, con el fin de ser consecuentes con las obligaciones impuestas y las propuestas en el plan (no duplicar, no contrariar y tomar las condiciones más estrictas entre las obligaciones mínimas y el PSM).\n\n\nNota 2: La decisión de realizar monitoreo 1 h / jornada / día o 24 h / jornada / día dependerá del carácter continuo o intermitente de las fuentes o áreas de emisión a caracterizar. Incluir el periodo de monitoreo en la nota roja del literal c). ",null,"Realizar los monitoreos de emisión de ruido y entregar los respectivos soportes en los Informes de Cumplimiento Ambiental - ICA, teniendo en cuenta lo siguiente:\n\na) Seleccionar puntos en los límites industriales de la operación donde se identifique la mayor emisión de ruido para realizar los monitoreos de emisión.\nb) Cumplir con los parámetros y procedimientos establecidos en la Resolución 0627 de 2006 del MAVDT o aquellas que la modifiquen, deroguen o sustituyan, para lo cual deberá contemplarse monitoreos con las fuentes prendidas (y apagadas de ser posible).\nc)Realizar los monitoreos de emisión de ruido dentro de la campaña de monitoreo de ruido ambiental, en los periodos de operación más representativos en tiempo y lugar de la actividad, al menos durante (relacionar la duración del monitoreo de acuerdo con la nota 2). \nd) Georreferenciar en mapas temáticos los puntos de monitoreo sobre la información de uso actual de suelo (Capa UsoActualSuelo - V1403 del Modelo de almacenamiento geográfico establecido en la Resolución 2182 de 2016 del MADS, o la que la modifique o sustituya)  y de los instrumentos de ordenamiento territorial del área de influencia con la respectiva justificación de la selección de los sectores de ruido establecidos en el Artículo 9 y su parágrafo primero de la Resolución 627 de 2006, cada que se actualice la información de uso actual de suelo (Capa UsoActualSuelo del MAG) y los instrumentos de ordenamiento territorial y/o se incluyan nuevos puntos de monitoreo. Presentar esta información en los respectivos Informes de Cumplimiento Ambiental - ICA.\ne) Presentar en los respectivos Informes de Cumplimiento Ambiental - ICA los informes de los monitoreos de ruido, incluyendo la información requerida en el Artículo 21 de la Resolución 0627 de 2006. Incluir en el informe la comparación de las mediciones con los estándares máximos permisibles establecidos en la Resolución 0627 de 2006 (o la que la modifique, derogue o sustituya) y con los monitoreos de ruido ambiental.","N/A","Aplica","Aplica","Aplica","Permanente"]
[14,"RUIDO","Inventarios de fuentes de ruido",null,"Actualizar los inventarios de fuentes de manera anual para la fase constructiva o cada vez que se presenten cambios en el inventario de fuentes generadoras de ruido y/o de potenciales receptores de interés a los inicialmente identificados,, dando cumplimiento a las siguientes condiciones y presentar los respectivos soportes en los Informes de Cumplimiento Ambiental - ICA:\n\na) Realizar un inventario de fuentes de emisión de ruido en el área del proyecto de tipo puntual, lineal o de área identificando ubicación, trazados internos, horas de operación por periodo de acuerdo con los horarios estipulados en el Artículo 2 de la resolución 627 de 2006 del MADS.\nb) Para las fuentes a las cuales no se les realice mediciones de caracterización de potencia bajo estándares internacionales, se debe aportar las respectivas fichas técnicas de todas y cada una de las fuentes identificadas, con i) la capacidad, ii) potencia, iii) dimensiones, iv) niveles de emisión de ruido a distancias conocidas, especificando la ponderación (p. ej. dB(A) o dB(Z)), v) potencia acústica de las fuentes preferiblemente con una resolución de 1/3 de octava. De no contar con dicha información, obtener información de fuentes secundarias, tales como base de datos, con el origen de la información, los niveles Lw y los valores que componen el espectro en frecuencia en 1/1 octava o 1/3 de octava; de ser posible y durante la etapa operativa se debe caracterizar dicho parámetro a la luz de un estándar internacional que permita la adecuada caracterización y evaluación de la emisión de la fuente.\nc) Para fuentes de tráfico, inventariar los tipos de vías previamente identificadas en el área de influencia y caracterizar el tráfico vehicular asociado, teniendo en cuenta las dinámicas o variaciones temporales del volumen del tráfico con una resolución de (ocho (8) horas / veinticuatro (24) horas continuas por día, en día hábil y festivo. Seleccionar de acuerdo con los horarios de construcción y operación aplicable al POA) incluyendo los periodos de mayor y menor flujo y clasificación del parque automotor que transite por las vías por peso, velocidad de diseño de las vías identificadas, identificación y características del punto de aforo (como mínimo ancho de calzada, número de carriles, pendiente), tipo de rodadura (pavimentada o destapada) u otras variables solicitadas por el método de modelación empleado.\nd) Georreferenciar el inventario de fuentes, vías y receptores y proyectarlo en mapas temáticos. De igual manera, adjuntar la información espacial asociada a estos en los anexos de los diferentes documentos o memorias técnicas. Así mismo, se deben presentar los archivos georreferenciados de acuerdo con el modelo de almacenamiento geográfico establecido en la Resolución 2182 de 2016 del MADS, y/o la que las modifiquen, deroguen o sustituyan.\ne) Incorporar los inventarios de ruido en los análisis de los monitoreos de ruido y los modelos de niveles de presión sonora.","N/A","Aplica","Aplica","Aplica","Permanente"]
[15,"RUIDO","Modelación de ruido",null,"Realizar la modelación de ruido de manera anual para la fase constructiva o cada vez que se presenten cambios en el inventario de fuentes generadoras de ruido y/o de potenciales receptores de interés a los inicialmente identificados, y presentar en los respectivos Informes de Cumplimiento Ambiental - ICA:\n\na) Cartografía detallada de la zona, que incluya: curvas de nivel y modelo digital de elevación de terreno que contengan las fuentes de interés y que abarquen hasta los receptores; la resolución debe ser representativa del terreno a una escala detallada en fuentes y receptores tomando como referencia lo establecido en la ISO9613 y la ISO17534, así mismo, presentar la distribución en plano (layout) del área que permita la identificación cartográfica de las fuentes o áreas de operación.\nb) Método de cálculo implementado según el modelo.\nc) Meteorología y condiciones de propagación del ruido (temperatura, velocidad, dirección del viento y presión atmosférica).\nd) Cálculo de niveles de ruido sobre los receptores previamente identificados en la caracterización y aporte de la fuente sobre el ruido ambiente en el dominio de simulación del proyecto.\ne) Los escenarios a simular deben considerar periodo diurno y nocturno. Detallar las suposiciones, alcances y limitaciones consideradas en la modelación.\nf) Análisis de resultados que permitan identificar los aportes sobre los receptores, tomando como referencia los estándares máximos permisibles establecidos en la Resolución 0627 de 2006, o aquella que la modifique, derogue o sustituya.\ng) Adjuntar los datos de entrada y salida del modelo, memorias de cálculo y demás soportes de la modelación como archivos nativos, shape file, DWG.\nh) En caso de existir una afectación sobre los receptores previamente identificados, proponer medidas o sistemas de control adecuadas según el caso y viabilidad de estas de acuerdo con la operación, y presentar: cálculos y descripción del procedimiento de obtención del sistema de control empleado, representación en mapas de ruido y sistemas de control propuesto, así como un monitoreo que evidencie la efectividad de la barrera tomando como referencia estándares internacionales.","N/A","Aplica","Aplica","Aplica","Permanente"]
[16,"RUIDO","Medidas de control y mitigación para los niveles de ruido",null,"Implementar las medidas de control y mitigación de ruido, y presentar en los Informes de Cumplimiento Ambiental - ICA los soportes que evidencien el cumplimiento de lo siguiente:\n\na) Los niveles de emisión de ruido deben compararse con los límites establecidos en la Resolución 0627 de 2006, o la que la modifique, derogue o sustituya, para aquellas fuentes de emisiones sonoras representativas, teniendo en cuenta para ello la trascendencia al uso de suelo de mayor restricción, asegurando que las medidas planteadas y adoptadas sean técnicamente viables. La Sociedad deberá demostrar que las emisiones sonoras no generan aportes adicionales sobre los niveles de ruido ambiental caracterizados en la línea base, en los receptores sensibles como viviendas y puntos de interés faunístico implementando, en caso necesario, medidas de control adecuadas.\nb) Describir las medidas asociadas a los sistemas de control implementadas sobre las fuentes de emisión de ruido relacionando su tipología (p. eje. pantalla, silenciador, encapsulamiento entre otros) y eficiencia asociada, dicha información debe estar acompañada y soportada por medio de documento técnico.\nc) Relacionar las prácticas encaminadas a la diminución de ruido desde y hacia el entorno identificando la fuente y el proceso empleado.","N/A","Aplica","Aplica","Aplica","Permanente"]
[17,"EXPLORACIÓN DE AGUAS SUBTERRÁNEAS","Prueba de bombeo\n\nNota 1: Prestar especial atención al literal c) para definir si este permiso requiere necesariamente de la construcción de un pozo de observación/piezómetro o puede emplear pozos aledaños existentes. En ese caso, ajustar el literal c). \n\nNota 2: Revisar previamente las condiciones establecidas por el proyecto en el PSM en relación con este permiso, con el fin de ser consecuentes con las obligaciones impuestas y las propuestas en el plan (no duplicar, no contrariar y tomar las condiciones más estrictas entre las obligaciones mínimas y el PSM).",null,"Finalizada la perforación del pozo de exploración realizar una prueba de bombeo, la cual cumplirá con las siguientes condiciones:\n\na) Duración mínima de bombeo de 24 horas continuas o hasta alcanzar la estabilización del nivel piezométrico.\nb) Realizarse escalonada y a caudal constante, registrando niveles durante el bombeo y la recuperación, hasta alcanzar al menos el 90% del nivel estático.\nc) Para la caracterización hidráulica de los acuíferos incluir pozos de observación/piezómetros que capten de los mismos niveles acuíferos del pozo exploratorio. Para ello, construir al menos un pozo de observación /piezómetro para ese fin o emplear pozos aledaños existentes de los que se conozca el diseño y que estén dentro del radio de influencia del cono de abatimiento previsto para el pozo exploratorio. \nd) Medir los niveles estáticos y dinámicos tanto en el pozo bombeado como en el(los) pozo(s) de observación/piezómetro(s).\ne) La frecuencia de medición de niveles (abatimiento y recuperación) en el pozo de captación y pozo(s) de observación/piezómetro(s), debe garantizar alrededor de 10 observaciones por ciclo logarítmico del tiempo para elaborar la curva de abatimiento versus tiempo.\nf) Asegurar que el agua producto de la(s) prueba(s) de bombeo, se disponga en el suelo o en una fuente de agua superficial una vez terminada la prueba, garantizando las medidas adecuadas para su disposición, sin impactar el sistema receptor. Por ningún motivo, se podrá dar un uso diferente a esta agua.","N/A","Aplica","Aplica","N/A","Temporal"]
[18,"EXPLORACIÓN DE AGUAS SUBTERRÁNEAS","Caracterización fisicoquímica y microbiológica del agua subterránea\n\nNota: Revisar previamente las condiciones establecidas por el proyecto en el PSM en relación con este permiso, con el fin de ser consecuentes con las obligaciones impuestas y las propuestas en el plan (no duplicar, no contrariar y tomar las condiciones más estrictas entre las obligaciones mínimas y el PSM).",null,"Realizar la caracterización fisicoquímica y microbiológica del agua subterránea una vez finalice el bombeo, cumpliendo con las siguientes condiciones:\n\na) Medir las siguientes características físicas de el(los) pozo(s) de observación/piezómetro(s): profundidad, nivel topográfico y nivel piezométrico donde se toma la muestra.\nb) Medir los siguientes parámetros fisicoquímicos y microbiológicos: pH, conductividad eléctrica, temperatura, potencial rédox, oxígeno disuelto, sólidos disueltos totales, color, turbiedad, alcalinidad, dureza, aniones y cationes (Na+, K+, Mg++, Ca++, Fe total, SO4=, Cl-, NO3-, CO3=, HCO3-), coliformes totales, coliformes termotolerantes y E. Coli. Presentar al término del permiso de exploración de aguas subterráneas, los reportes de laboratorio, las cadenas de custodia y el análisis de resultados de conformidad con el uso para el cual se vaya a destinar el recurso hídrico.\nc) Calcular y presentar el valor del error analítico (%) a partir de la sumatoria de aniones y cationes.  Solo podrán reportarse las caracterizaciones de muestras que tengan errores analíticos inferiores a ±10%. Presentar dichos cálculos al término del permiso de exploración de aguas subterráneas.","N/A","Aplica","Aplica","N/A","Temporal"]
[19,"EXPLORACIÓN DE AGUAS SUBTERRÁNEAS","Informe final de exploración\n\nNota: Ver formato de hoja de vida de pozo de captación y de pozo de observación/piezómetro en el anexo correspondiente",null,"Presentar el informe final de exploración de agua subterránea en un plazo de sesenta (60) días hábiles al término del permiso de exploración de aguas subterráneas, de acuerdo con el artículo 2.2.3.2.16.10 del Decreto 1076 de 2015, el cual incluirá adicional a lo exigido en dicho numeral: \n\na) Registro eléctrico (resistividad, Gamma Ray y Potencial Espontáneo). \nb) Diseño definitivo de el(los) pozo(s): nivel topográfico, diámetro, materiales, longitud y ubicación de filtros y sellos hidráulicos.\nc) Informe de ejecución y resultados de las pruebas de bombeo, incluyendo: nivel estático, dinámico y caudal de la prueba, cálculo de abatimiento y cono de abatimiento, formatos de campo que den soporte a la información presentada, descripción de los pozos de observación empleados en la prueba de bombeo y memoria de cálculo de los parámetros hidrogeológicos que incluya: análisis diagnóstico de la prueba, ecuación del pozo, transmisividad, coeficiente de almacenamiento, conductividad hidráulica, caudal recomendado de explotación y rendimiento del pozo.\nd) Análisis hidrogeoquímico empleando métodos gráficos adecuados (Piper, Stiff, u otro), relaciones inter paramétricas y correlación de la química del agua con el conocimiento geológico, geoquímico e hidrogeológico.  \ne) \"Formato de Hoja de Vida de Pozo de Captación - Aguas Subterráneas\" actualizado.\nf) \"Formato de Hoja de Vida de Pozo de Observación/Piezómetro - Aguas Subterráneas\" actualizado.","N/A","Aplica","Aplica","N/A","Temporal"]
[20,"CONCESIÓN AGUAS SUBTERRÁNEAS","Registro de caudal captado",null,"Realizar un registro diario del caudal captado a través de la instalación de equipos de medición que se encuentren debidamente calibrados. La elección del medidor, calibración, instalación y mantenimiento de los equipos de medición debe cumplir con lo dispuesto en la NTC-ISO 4064 1-2-3: 2016, o aquellas que la modifiquen, deroguen o sustituyan. El registro consolidado se entregará conforme el modelo de almacenamiento geográfico establecido en la Resolución 2182 del 2016 del MADS, o aquella norma que la modifique, derogue o sustituya. Adicionalmente, entregar los registros de campo, dentro de los que se debe incluir un registro fotográfico mes vencido del caudal captado a través del medidor de flujo, y los certificados de calibración de los equipos de medición de caudal. ","N/A","Aplica","Aplica","Aplica","Permanente"]
[21,"CONCESIÓN AGUAS SUBTERRÁNEAS","Registro de nivel estático y dinámico y parámetros in situ\n\nNota: Revisar previamente las condiciones establecidas por el proyecto en el PSM en relación con este permiso, con el fin de ser consecuentes con las obligaciones impuestas y las propuestas en el plan (no duplicar, no contrariar y tomar las condiciones más estrictas entre las obligaciones mínimas y el PSM).",null,"Realizar una vez al mes mediciones del nivel estático y dinámico del pozo, así como la medición de parámetros in situ (pH, temperatura, conductividad eléctrica, oxígeno disuelto y sólidos disueltos totales), y presentar en los respectivos Informes de Cumplimiento Ambiental - ICA: \n\na) Base de datos con la información solicitada de manera acumulada, en hoja de cálculo, analizando la tendencia y comportamiento de los niveles y variables químicas in situ solicitadas.\nb) Registros de campo de la toma de datos, para el periodo reportado.\nc) Certificados de calibración del(los) equipo(s) de medición vigentes según la periodicidad que establezca el fabricante del equipo. ","N/A","Aplica","Aplica","Aplica","Permanente"]
[22,"CONCESIÓN AGUAS SUBTERRÁNEAS","Monitoreos del recurso hídrico subterráneo\n\nNota: Revisar previamente las condiciones establecidas por el proyecto en el PSM en relación con este permiso, con el fin de ser consecuentes con las obligaciones impuestas y las propuestas en el plan (no duplicar, no contrariar y tomar las condiciones más estrictas entre las obligaciones mínimas y el PSM).",null,"Realizar dos monitoreos al año, uno en época de máximas y otro en época de mínimas precipitaciones en el pozo de observación/piezómetro. En caso de que por condiciones de variabilidad climática no sea posible realizar los monitoreos en dichas épocas, justificar en el correspondiente ICA su ejecución en épocas de transición. Por otro lado, en caso de que el pozo de observación/piezómetro no se haya construido dentro del permiso de exploración de aguas subterráneas debido a la existencia de pozos aledaños dentro de la misma cuenca subterránea que permitieron conocer las características hidráulicas del acuífero, realizarlos en el pozo de captación de agua subterránea autorizado, bajo las siguientes condiciones:\n\na) Medir como mínimo los siguientes parámetros fisicoquímicos y microbiológicos: pH, temperatura, potencial rédox, color, turbiedad, alcalinidad, dureza, conductividad eléctrica, oxígeno disuelto, sólidos disueltos totales, aniones y cationes (Na+, K+, Mg++, Ca++, Fe total, SO4=, Cl-, NO3-, CO3=, HCO3-), coliformes totales, coliformes termotolerantes y E. Coli. Presentar en los Informes de Cumplimiento Ambiental - ICA, los reportes de laboratorio, que incluyan la descripción metodología de toma de muestras y preservación, y las cadenas de custodia.\nb) Calcular y presentar el valor del error analítico (%) a partir de la sumatoria de aniones y cationes. Solo podrán reportarse las caracterizaciones de muestras que tengan errores analíticos inferiores a ±10%. Presentar dichos cálculos en los Informes de Cumplimiento Ambiental - ICA.","N/A","Aplica","Aplica","Aplica","Permanente"]
[23,"CONCESIÓN AGUAS SUBTERRÁNEAS","Presentación de informe de monitoreos de calidad de agua en ICA\n\nNota: Ver formato de hoja de vida de pozo de captación y de pozo de observación/piezómetro en el anexo correspondiente",null,"Presentar los informes de los monitoreos de calidad de agua subterránea y de niveles piezométricos en los respectivos Informes de Cumplimiento Ambiental - ICA, los cuales contendrán como mínimo:\n\na) Análisis de calidad del agua y de niveles estáticos y dinámicos, los cuales se realizarán en una base temporal evaluando el comportamiento de cada variable a través del tiempo y comparándolo con los parámetros medidos en la línea base presentada.\nb) Análisis hidrogeoquímico empleando métodos gráficos adecuados (Piper, Stiff, u otro), relaciones inter paramétricas y correlación de la química del agua con el conocimiento geológico, geoquímico, hidrogeológico y su evolución temporal, identificando un posible cambio de fase hidrogeoquímica respecto a la identificada en la línea base.\nc) \"Formato de Hoja de Vida de Pozo de Captación - Aguas Subterráneas\" actualizado.\nd) \"Formato de Hoja de Vida de Pozo de Observación/Piezómetro - Aguas Subterráneas\" actualizado (si aplica).","N/A","Aplica","Aplica","Aplica","Permanente"]
[24,"CONCESIÓN AGUAS SUBTERRÁNEAS","Aviso informativo en los sitios de captación autorizados",null,"Instalar un aviso informativo de fácil visibilidad en el sitio de captación autorizado, incluyendo la información de la licencia ambiental respecto a la concesión de aguas subterráneas: número, fecha de la resolución que otorga la concesión de aguas, nombre del titular de la licencia, información de contacto, coordenadas del punto de captación y el caudal autorizado de captación.","N/A","Aplica","Aplica","Aplica","Permanente"]
[25,"CONCESIÓN AGUAS SUBTERRÁNEAS","Clausura de pozos de captación y pozos de observación/piezómetros",null,"Cuando finalice la captación de agua subterránea, clausurar los pozos de observación y de captación de acuerdo a los lineamientos establecidos en la NTC 5539:2007 y/o conforme a las actualizaciones que se hagan de esta. Presentar informe respectivo y reporte de esta novedad en el \"Formato de Hoja de Vida de Pozo de Captación - Aguas Subterráneas\" y en el \"Formato de Hoja de Vida de Pozo de Observación/Piezómetro - Aguas Subterráneas\", si aplica.","N/A","N/A","N/A","Aplica","Temporal"]
[26,"CONCESIÓN AGUAS SUBTERRÁNEAS","Programa de Uso Eficiente y Ahorro  de Agua - PUEAA",null,"Presentar en los Informes de Cumplimiento Ambiental - ICA, según el  periodo reportado, los soportes que evidencien el cumplimiento de las metas e indicadores establecidas en el Programa de Uso Eficiente y Ahorro de Agua - PUEAA reglamentado bajo la 2.2.3.2.1.1.5 del Decreto 1076 del 2015 (Resolución 1257 del 2018), o aquella que la modifique, derogue o sustituya.","N/A","Aplica","Aplica","Aplica","Permanente"]
[27,"CONCESIÓN AGUAS SUPERFICIALES CONTINENTALES","Registro de caudal captado\n\nNota: Revisar previamente las condiciones establecidas por el proyecto en el PSM en relación con este permiso, con el fin de ser consecuentes con las obligaciones impuestas y las propuestas en el plan (no duplicar, no contrariar y tomar las condiciones más estrictas entre las obligaciones mínimas y el PSM).",null,"Realizar un registro diario del caudal captado para captaciones permanentes e intermitentes a través de la instalación de equipos de medición que se encuentren debidamente calibrados. La elección del medidor, calibración, instalación y mantenimiento de los equipos de medición debe cumplir con lo dispuesto en la NTC-ISO 4064 1-2-3: 2016, o aquellas que la modifiquen, deroguen o sustituyan. El registro consolidado se entregará en los respectivos Informes de Cumplimiento Ambiental - ICA de acuerdo con el modelo de almacenamiento geográfico establecido en la Resolución 2182 del 2016 del MADS, o aquella norma que la modifique, derogue o sustituya.","N/A","Aplica","Aplica","Aplica","Permanente"]
[28,"CONCESIÓN AGUAS SUPERFICIALES CONTINENTALES","Mediciones de nivel y caudal del cuerpo de agua donde se realiza la captación\n\nNota 1: Para grandes cuerpos de agua (caudalosos), se podrá omitir la instalación del medidor de nivel (del literal a) y se podrá ajustar la frecuencia de medición de nivel y caudal para captaciones permanentes de semanal a mensual (del literal b).\nNota 2: Ajustar literal b) de acuerdo con la solicitud, por ejemplo: si las captaciones son permanentes, eliminar el texto donde hace mención a las intermitentes.\nNota 3: Revisar previamente las condiciones establecidas por el proyecto en el PSM en relación con este permiso, con el fin de ser consecuentes con las obligaciones impuestas y las propuestas en el plan (no duplicar, no contrariar y tomar las condiciones más estrictas entre las obligaciones mínimas y el PSM).",null,"Realizar mediciones de nivel y caudal del cuerpo de agua donde se realiza la captación bajo las siguientes condiciones:\n\na) Localizar una sección transversal estable en un punto inmediatamente aguas arriba del sitio de la captación, teniendo en cuenta que no haya aportes o extracciones significativas de caudal (naturales o antrópicas), siguiendo los lineamientos establecidos por el Protocolo para el Monitoreo y Seguimiento del Agua (IDEAM, 2007), o aquel que lo modifique, derogue o sustituya, para la medición de caudal e instalar allí un medidor de nivel en el que se establezca el nivel correspondiente al caudal ambiental. Presentar en los Informes de Cumplimiento Ambiental - ICA los métodos seleccionados para medición de caudal y nivel y su justificación, de acuerdo con los métodos establecidos en el Protocolo en mención.\nb) Realizar las mediciones de niveles de la siguiente manera: para captaciones permanentes, con una frecuencia semanal durante todo el año y para captaciones intermitentes, inmediatamente antes del inicio de la captación y durante el periodo de la captación (definir la frecuencia de acuerdo con el tiempo en que se vaya a realizar la captación). A partir de la curva de calibración, presentar el cálculo de los caudales correspondientes. Presentar la base de datos en los respectivos Informes de Cumplimiento Ambiental - ICA.\nc) Realizar la calibración de la curva nivel-caudal de la sección transversal del cuerpo de agua, siguiendo lo establecido en el Protocolo en mención, dos veces al año considerando épocas de máximas y mínimas precipitaciones, de acuerdo con la variación hidrológica presentada en el EIA. En caso de que por condiciones de variabilidad climática no sea posible realizar la calibración de la curva nivel-caudal en dichas épocas, justificar en el correspondiente ICA su ejecución en épocas de transición. De la misma manera, realizar una vez al año el levantamiento de la sección transversal donde se calibró la curva nivel-caudal, y en caso de que identifique un cambio significativo en la geometría de la sección transversal presentada históricamente, proyectar los ajustes necesarios de la curva. Presentar los respectivos soportes en los Informes de Cumplimiento Ambiental - ICA.\nd) Presentar en los Informes de Cumplimiento Ambiental - ICA el análisis de la información acumulada y su comparación con los caudales obtenidos en la línea base (caudales medios, mínimos, máximos mensuales multianuales y caudales ambientales).","N/A","Aplica","Aplica","Aplica","Permanente"]
[29,"CONCESIÓN AGUAS SUPERFICIALES CONTINENTALES","Monitoreos físico químicos del recurso hídrico\n\nNota: Revisar previamente las condiciones establecidas por el proyecto en el PSM en relación con este permiso, con el fin de ser consecuentes con las obligaciones impuestas y las propuestas en el plan (no duplicar, no contrariar y tomar las condiciones más estrictas entre las obligaciones mínimas y el PSM).",null,"Realizar monitoreos físico químicos del recurso hídrico mínimo dos veces al año en el cuerpo de agua donde se realiza la captación, considerando épocas de máximas y mínimas precipitaciones. En caso de que por condiciones de variabilidad climática no sea posible realizar los monitoreos en dichas épocas, justificar en el correspondiente ICA su ejecución en épocas de transición. Realizar dichos monitoreos siguiendo los lineamientos establecidos en la Guía para el Monitoreo de Vertimientos, Aguas Superficiales y Subterráneas del 2002 del IDEAM o cualquiera que lo modifique, derogue o sustituya, cumpliendo con las siguientes condiciones:\n\na) Tomar una muestra integrada en la sección transversal establecida de acuerdo con los lineamientos de la Guía en mención.\nb) Realizar los monitoreos aguas arriba y aguas abajo del punto de captación, teniendo en cuenta que no haya aportes o extracciones significativas de caudal (naturales o antrópicas) entre los puntos de medición y el punto de captación.\nc) Registrar en cada monitoreo calidad como mínimo los siguientes parámetros: temperatura, pH, conductividad, oxígeno disuelto, DBO(5), DQO, grasas y aceites, turbiedad, alcalinidad, dureza y coliformes totales, coliformes termotolerantes y E. Coli. \nd) Presentar en los Informes de Cumplimiento Ambiental - ICA, los reportes de laboratorio, las cadenas de custodia y el análisis multitemporal de los resultados que refleje la tendencia de la calidad del medio afectado por la concesión y su comparación con la línea base presentada en el estudio de viabilidad ambiental.\ne) Registrar el estado del tiempo (nubosidad, temperatura del aire, velocidad del viento, humedad relativa, temperatura del punto de rocío) durante el monitoreo.","N/A","Aplica","Aplica","Aplica","Permanente"]
[30,"CONCESIÓN AGUAS SUPERFICIALES CONTINENTALES","Suspensión de actividades de captación",null,"Suspender las actividades de captación cuando el caudal aguas arriba del punto de captación sea igual o inferior al caudal ambiental (cuando el caudal ambiental del cuerpo de agua donde se realiza la captación no se encuentre reglamentado por la autoridad regional, este deberá calcularse de manera mensual y para la condición climatológica normal, húmeda y seca), e informar a la autoridad ambiental competente y a la ANLA, dentro de las 24 h posteriores a la situación y por los medios legalmente establecidos, sobre la suspensión de actividades. Para ello, el titular de la presente licencia ambiental, implementará un sistema que permita validar el nivel del caudal previo a la actividad de captación. Así mismo, informar a la autoridad ambiental competente y a la ANLA dentro de las 24 horas posteriores a la reactivación de la captación.","N/A","Aplica","Aplica","Aplica","Temporal"]
[31,"CONCESIÓN AGUAS SUPERFICIALES CONTINENTALES","Aviso informativo en el lugar de acceso a los sitios de captación autorizados",null,"Instalar un aviso informativo de fácil visibilidad en el lugar de acceso a los sitios de captación autorizados, el cual incluya la información de la licencia ambiental respecto a  la concesión de aguas: número y fecha de la resolución que otorga la concesión, titular de la licencia, información de contacto, nombre de la fuente hídrica, coordenadas del punto de captación autorizada en la resolución, caudal autorizado de captación y caudal ambiental de la fuente.","N/A","Aplica","Aplica","Aplica","Permanente"]
[32,"CONCESIÓN AGUAS SUPERFICIALES CONTINENTALES","Captación del recurso mediante motobomba adosada a carrotanque",null,"Para la captación del recurso mediante motobomba adosada a carrotanque, se deberá tener en cuenta:\n\na) Ubicar los carrotanques empleados para realizar las captaciones fuera de la ronda de protección del cuerpo a captar.\nb) Las zonas donde se parqueen los vehículos deberán garantizar la estabilidad de los taludes de las márgenes del cuerpo de agua de donde se realice la captación. \nc) El sitio donde se parqueen los vehículos garantizarán condiciones de impermeabilización y sistema de control de fluidos ante eventuales fugas y derrames de los vehículos.\nd) El vehículo deberá contar con un sistema de micromedición para controlar el caudal captado.\ne) Las motobombas y vehículos transportadores del agua deberán contar con los mantenimientos preventivos. Presentar en los Informes de Cumplimiento Ambiental - ICA los respectivos soportes. \nf) Diligenciar las planillas en campo, que incluyan: placa de vehículo, fecha, hora de inicio y final de la captación y lectura inicial y final del sistema de medición de caudal. Presentar las planillas en los Informes de Cumplimiento Ambiental - ICA.","N/A","Aplica","Aplica","Aplica","Permanente"]
[33,"CONCESIÓN AGUAS SUPERFICIALES CONTINENTALES","Captación del recurso mediante equipo de bombeo fijo\n\nNota: Tener en cuenta la zonificación de manejo ambiental en relación con las rondas hídricas y permisos de ocupación de cauces empleados para la concesión.",null,"Para captación del recurso mediante equipo de bombeo fijo, se deberá tener en cuenta:\n\na) Ubicar el equipo de bombeo fijo sobre una base impermeabilizada fuera de la ronda de protección del cuerpo a captar y/o zonificación de manejo, la cual debe contar con techo, cerramiento, equipos para atender posibles conatos de incendios, kits para atender derrames de combustible, canales perimetrales que descolen en un tanque de almacenamiento para su posterior retiro, tratamiento y disposición final como residuo peligroso.\nb) El equipo de bombeo, deberá contar con un sistema de micromedición para controlar el caudal captado.\nc) Las motobombas deberán contar con los mantenimientos preventivos. Presentar en los Informes de Cumplimiento Ambiental - ICA los respectivos soportes. ","N/A","Aplica","Aplica","Aplica","Permanente"]
[34,"CONCESIÓN AGUAS SUPERFICIALES CONTINENTALES","Programa de Uso Eficiente y Ahorro de Agua - PUEAA",null,"Presentar en los Informes de Cumplimiento Ambiental - ICA, según el  periodo reportado, los soportes que evidencien el cumplimiento de las metas e indicadores establecidas en el Programa de Uso Eficiente y Ahorro de Agua - PUEAA reglamentado bajo la 2.2.3.2.1.1.5 del Decreto 1076 del 2015 (Resolución 1257 del 2018), o aquella que la modifique, derogue o sustituya.","N/A","Aplica","Aplica","Aplica","Permanente"]
[35,"VERTIMIENTO EN AGUA SUPERFICIAL","Medición de nivel y caudal del cuerpo de agua receptor y calibración de la curva nivel-caudal",null,"Realizar mediciones de nivel y caudal del cuerpo de agua receptor del vertimiento siguiendo los lineamientos establecidos en el Protocolo para el Monitoreo y Seguimiento del Agua (IDEAM, 2007) o aquel que lo modifique, derogue o sustituya, y bajo las siguientes condiciones:\n\na) Localizar una sección transversal estable de acuerdo con los lineamientos establecidos en el Protocolo para la medición de caudal e instalar allí un medidor de nivel.\nb) Realizar las mediciones de caudal aguas arriba y aguas abajo del vertimiento con una frecuencia mensual durante el tiempo en el que se realice el vertimiento, teniendo en cuenta que no haya aportes o extracciones significativas de caudal (naturales o antrópicas) entre los puntos de medición y el punto de vertimiento. Presentar la base de datos en los respectivos Informes de Cumplimiento Ambiental - ICA.\nc) Realizar la calibración de la curva nivel-caudal de la sección transversal del cuerpo de agua, siguiendo lo establecido en el Protocolo en mención, dos veces al año considerando épocas de máximas y mínimas precipitaciones, de acuerdo con la variación hidrológica presentada en el EIA. En caso de que por condiciones de variabilidad climática no sea posible realizar la calibración de la curva nivel-caudal en dichas épocas, justificar en el correspondiente ICA su ejecución en épocas de transición. De la misma manera, realizar una vez al año el levantamiento de la sección transversal donde se calibró la curva nivel-caudal, y en caso de que identifique un cambio significativo en la geometría de la sección transversal presentada históricamente, proyectar los ajustes necesarios de la curva. Presentar los respectivos soportes en los Informes de Cumplimiento Ambiental - ICA.","N/A","Aplica","Aplica","Aplica","Permanente"]
[36,"VERTIMIENTO EN AGUA SUPERFICIAL","Medición de caudal diario cuando el vertimientos esté condicionado en ciertas épocas del año debido a las características del régimen de caudal.",null,"Cuando el permiso de vertimientos esté condicionado en ciertas épocas del año debido a las características del régimen de caudal, implementar un sistema de medición de caudales debidamente calibrado sobre la fuente hídrica receptora con frecuencia de medición diaria, con el fin de restringir el vertimiento de acuerdo con las condiciones hidrológicas autorizadas. ","N/A","Aplica","Aplica","Aplica","Permanente"]
[37,"VERTIMIENTO EN AGUA SUPERFICIAL","Suspensión de actividades bajo lo dispuesto en el artículo 2.2.3.3.4.15 del Decreto 1076 de 2015",null,"Suspender las actividades de vertimiento cuando se presente alguna de las siguientes situaciones:\n\na) La reparación y reinicio de los sistemas de tratamiento requieran más de tres (3) horas diarias (artículo 2.2.3.3.4.15 del Decreto 1076 de 2015).\nb) El caudal medido sobre la fuente receptora sea menor que el caudal ambiental (cuando el caudal ambiental del cuerpo de agua donde se realiza el vertimiento no se encuentre reglamentado por la autoridad regional, deberá tenerse en cuenta el calculado por el proyecto en el EIA). Para ello, el titular de la licencia ambiental, implementará un sistema que permita validar el nivel del caudal previo a la actividad del vertimiento. \n\nInformar a la autoridad ambiental regional y a la ANLA, dentro de las 24 h posteriores a la situación y por los medios legalmente establecidos, sobre la suspensión de actividades y/o la puesta en marcha del Plan de Gestión del Riesgo para el Manejo de Vertimientos. Así mismo, informar a la autoridad ambiental competente y a la ANLA dentro de las 24 horas posteriores a la reactivación del vertimiento.","N/A","Aplica","Aplica","Aplica","Permanente"]
[38,"VERTIMIENTO EN AGUA SUPERFICIAL","Monitoreos de calidad del recurso hídrico en el cuerpo de agua donde se realiza el vertimiento. \n\nNota: Revisar previamente las condiciones establecidas por el proyecto en el PSM en relación con este permiso, con el fin de ser consecuentes con las obligaciones impuestas y las propuestas en el plan (no duplicar, no contrariar y tomar las condiciones más estrictas entre las obligaciones mínimas y el PSM).",null,"Realizar monitoreos de calidad del recurso hídrico dos veces al año en el cuerpo de agua donde se realiza el vertimiento, considerando épocas de máximas y mínimas precipitaciones. En caso de que por condiciones de variabilidad climática no sea posible realizar los monitoreos en dichas épocas, justificar en el correspondiente ICA su ejecución en épocas de transición. Dichos monitoreos se realizarán mediante la toma de muestras integradas en la sección transversal siguiendo los lineamientos establecidos en la Guía para el Monitoreo de Vertimientos, Aguas Superficiales y Subterráneas del 2002 del IDEAM, o cualquiera que la modifique, derogue o sustituya, dando cumplimiento a las siguientes condiciones:\n\na) Realizar una medición de nivel y caudal aguas arriba y aguas abajo del vertimiento de manera simultánea a la toma de muestras, teniendo en cuenta que no haya aportes o extracciones significativas de caudal (naturales o antrópicas) entre los puntos de medición y el punto de vertimiento. Presentar la base de datos en los respectivos Informes de Cumplimiento Ambiental - ICA.\nb) Realizar el monitoreo aguas arriba y aguas abajo siguiendo la masa de agua: 1) Aguas arriba del punto de vertimiento y 2) Aguas abajo del vertimiento, en un punto situado después de la distancia de mezcla completa estimada desde el sitio de la descarga. Estos puntos deberán coincidir con los definidos en la línea base ambiental.\nc) Registrar en cada monitoreo los parámetros establecidos en la Resolución 631 de 2015 o aquella que la modifique, derogue o sustituya. De igual manera, se deben contemplar los parámetros establecidos en los Planes de Ordenamiento y Manejo de Cuencas Hidrográficas - POMCAs y en los Planes de Ordenamiento del Recurso Hídrico - PORH. \nd) Monitorear las siguientes comunidades hidrobiológicas: perifiton, bentos y fauna íctica para cuerpos lóticos, y adicionalmente plancton y macrófitas para cuerpos lénticos. \ne) Registrar el estado del tiempo (nubosidad, temperatura del aire, velocidad del viento, humedad relativa, temperatura del punto de rocío) durante el monitoreo.\nf) Presentar en los Informes de Cumplimiento Ambiental - ICA, los reportes de laboratorio, las cadenas de custodia y el análisis de la tendencia de la calidad del medio afectado por el vertimiento, comparándola con la línea base presentada.\ng) Cuando entre el punto de monitoreo y el punto de vertimiento se presenten aportes o extracciones, estas se monitorearán y cuantificarán (calidad y cantidad). Presentar los respectivos soportes en los Informes de Cumplimiento Ambiental - ICA. ","N/A","Aplica","Aplica","Aplica","Permanente"]
[39,"VERTIMIENTO EN AGUA SUPERFICIAL","Monitoreo del vertimiento\n\nNota: Revisar previamente las condiciones establecidas por el proyecto en el PSM en relación con este permiso, con el fin de ser consecuentes con las obligaciones impuestas y las propuestas en el plan (no duplicar, no contrariar, tomar las condiciones más estrictas entre las obligaciones mínimas y el PSM, tener en cuenta la posibilidad de ajustar la frecuencia del monitoreo de acuerdo con el origen del agua residual y magnitud del vertimiento).",null,"Realizar monitoreos de las aguas residuales (domésticas y no domésticas) a la salida del sistema de tratamiento, mediante un muestreo compuesto de 24 horas (o durante el tiempo en que se realice el vertimiento) con mediciones horarias, siguiendo lo establecido en la Guía para el Monitoreo de Vertimientos, Aguas Superficiales y Subterráneas del 2002 del IDEAM, o cualquiera que la modifique, derogue o sustituya, dando cumplimiento a las siguientes condiciones:\n\na) La periodicidad de la realización de los monitoreos de ARD y ARnD deberá ser cada dos meses. \nb) La fecha de realización del monitoreo del vertimiento debe coincidir con la fecha de realización del monitoreo de calidad del cuerpo receptor.\nc) Registrar en cada monitoreo del vertimiento los parámetros establecidos en la Resolución 631 de 2015 o aquella que la modifique, derogue o sustituya. \nd) Presentar en los Informes de Cumplimiento Ambiental - ICA, los reportes de laboratorio, las cadenas de custodia y el análisis de los resultados de los monitoreos, que incluya las correlaciones entre variaciones de proceso y variaciones en las mediciones, así como la comparación en los resultados con los límites establecidos en la normatividad mencionada.","N/A","Aplica","Aplica","Aplica","Permanente"]
[40,"VERTIMIENTO EN AGUA SUPERFICIAL","Validación del modelo de calidad de agua",null,"Presentar en los respectivos Informes de Cumplimiento Ambiental - ICA la validación del modelo de calidad del agua dos años después de iniciado el vertimiento, teniendo en cuenta las condiciones desarrolladas en ese periodo para los cuerpos de agua donde se autoriza el vertimiento, siguiendo lo establecido en la Guía Nacional de Modelación del Recurso Hídrico para Aguas Superficiales Continentales, adoptada por la Resolución 959 de 2018 del Ministerio de Ambiente y Desarrollo Sostenible, o aquella que la modifique, derogue o sustituya, dando cumplimiento a las siguientes condiciones:\n\na) Registrar en cada monitoreo los parámetros físicos, químicos, microbiológicos e hidrobiológicos establecidos en la Guía Nacional de Modelación del Recurso Hídrico para Aguas Superficiales Continentales. En caso de que por la naturaleza del proyecto, requiera de la exclusión de algún(nos) parámetros(s) justificar mediante balances de materia o de masa y/o con la realización de la respectiva caracterización que demuestre que estos no se encuentran presentes en sus aguas residuales.  Dentro de la justificación, puede hacer uso de la información de las hojas técnicas de las materias primas e insumos empleados en el proceso. \nb) Presentar en los Informes de Cumplimiento Ambiental - ICA, los reportes de laboratorio, las cadenas de custodia y el análisis de la tendencia de la calidad del medio afectado por el vertimiento, comparándola con la línea base presentada en el EIA.\nc) La fecha de realización de los monitoreos insumo para la actualización del modelo, debe coincidir con la fecha de realización de los monitoreos de calidad del cuerpo receptor y serán complemento de los parámetros monitoreados en el cuerpo de agua receptor.\nd) Realizar el monitoreo en tres puntos siguiendo la masa de agua: 1) Aguas arriba del punto de vertimiento, 2) Aguas abajo del vertimiento, en un punto situado después de la distancia de mezcla completa estimada desde el sitio de la descarga y 3) Al final del tramo seleccionado para modelación (la longitud del tramo de modelación debe ser la misma que la definida en el EIA).\n\nEn caso de que se presenten cambios en las fuentes de agua receptoras (régimen hidrológico, hidráulica, nuevos puntos de vertimientos, nuevos puntos de captación, etc.) se deberá validar el modelo y presentar a esta Autoridad en los respectivos Informes de Cumplimiento Ambiental - ICA.","N/A","Aplica","Aplica","Aplica","Permanente"]
[41,"VERTIMIENTO EN AGUA SUPERFICIAL","Mantenimiento preventivo o correctivo del sistema de tratamiento de aguas residuales",null,"Presentar en los Informes de Cumplimiento Ambiental - ICA, los soportes que evidencien las actividades de mantenimiento preventivo o correctivo efectuadas al sistema de tratamiento de aguas residuales (minuta u hoja de vida del sistema de tratamiento e informes de disposición de lodos producto del mantenimiento), en cumplimiento del artículo 2.2.3.3.4.16 del Decreto 1076 de 2015, o aquel que lo modifique, derogue o sustituya.","N/A","Aplica","Aplica","Aplica","Permanente"]
[42,"VERTIMIENTO EN AGUA SUPERFICIAL","Aviso informativo en el lugar del vertimiento",null,"Instalar un aviso informativo de fácil visibilidad en el lugar del vertimiento autorizado, el cual incluya la información de la licencia ambiental respecto al permiso de vertimiento: número y fecha de la resolución que autoriza el permiso de vertimiento, titular de la licencia, información de contacto, nombre de la fuente hídrica, coordenadas del punto de vertimiento autorizado en la resolución, caudal del vertimiento autorizado (l/s) y caudal ambiental de la fuente.","N/A","Aplica","Aplica","Aplica","Permanente"]
[43,"VERTIMIENTO AL MAR","Monitoreo del vertimiento\n\nNota: En caso de que en el proceso de evaluación se considere necesario la inclusión de un parámetro y/o límite de referencia diferente a los establecidos en el artículo 15 de la Resolución 883 del 2018, adicionarlo en el literal b).",null,"Realizar monitoreos de las aguas residuales no domésticas a la salida del sistema de tratamiento, mediante un muestreo compuesto de 24 horas (o durante el tiempo en que se realice el vertimiento) con mediciones horarias, siguiendo lo establecido en la Guía para el Monitoreo de Vertimientos, Aguas Superficiales y Subterráneas del 2002 del IDEAM, o cualquiera que la modifique o sustituya, dando cumplimiento a las siguientes condiciones:\n\na) La periodicidad de la realización de los monitoreos de ARnD deberá ser cada dos meses. \nb) Monitorear los parámetros establecidos en la Resolución 883 del 2018 o aquella que la modifique o sustituya, y compararlos con los límites máximos permisibles establecidos en esta resolución. Así mismo, realizar el análisis de las variaciones de las mediciones. Presentar los soportes en los respectivos Informes de Cumplimiento Ambiental - ICA.\nc) Presentar los reportes de laboratorio y las cadenas de custodia originales, a su vez, los resultados analíticos deben ser presentados en formato Excel en los respectivos Informes de Cumplimiento Ambiental.\nd) Calcular y analizar la carga contaminante para cada parámetro monitoreado en función del caudal vertido. Presentar los soportes en los respectivos Informes de Cumplimiento Ambiental - ICA.\ne) Conformar una base de datos en hoja de cálculo que incluya: fechas, caudales del vertimiento, regímenes de descarga (hora/día), periodos de descarga (días/mes), volumen total vertido en cada período monitoreado, velocidad y dirección de las corrientes.","N/A","Aplica","Aplica","Aplica","Permanente"]
[44,"VERTIMIENTO AL MAR","Actualización del modelo de calidad de agua marina",null,"Actualizar una vez al año y presentar en los respectivos Informes de Cumplimiento Ambiental – ICA el modelo de calidad del agua marina de acuerdo con: resultados de los monitoreos de calidad del agua marina, resultados de monitoreos del vertimiento, caudal de descarga, carga contaminante y aspectos oceanográficos.","N/A","Aplica","Aplica","Aplica","Permanente"]
[45,"VERTIMIENTO AL MAR","Suspensión de actividades de vertimiento",null,"No desarrollar actividades de vertimiento cuando se presenten las situaciones de las que trata el artículo 2.2.3.3.4.15 del Decreto 1076 de 2015, e informar a la autoridad ambiental regional y a la ANLA, dentro de las 24 horas posteriores a la situación y por los medios legalmente establecidos, sobre la suspensión de actividades y/o la puesta en marcha del Plan de Gestión del Riesgo para el Manejo de Vertimientos, cuando la reparación y reinicio de los sistemas de tratamiento requieran más de tres (3) horas diarias.","N/A","Aplica","Aplica","Aplica","Permanente"]
[46,"VERTIMIENTO AL MAR","Mantenimiento preventivo o correctivo del sistema de tratamiento de aguas residuales",null,"Presentar en los Informes de Cumplimiento Ambiental - ICA, los soportes que evidencien las actividades de mantenimiento preventivo o correctivo efectuadas al sistema de tratamiento de aguas residuales (minuta u hoja de vida del sistema de tratamiento e informe técnico del mantenimiento y de la disposición de lodos producto del mismo), en cumplimiento del artículo 2.2.3.3.4.16 del Decreto 1076 de 2015.","N/A","Aplica","Aplica","Aplica","Permanente"]
[47,"VERTIMIENTO EN SUELO","Instalación red piezométrica para monitoreo.\n\n\nNota: Revisar previamente las condiciones establecidas por el proyecto en el PSM en relación con este permiso, con el fin de ser consecuentes con las obligaciones impuestas y las propuestas en el plan (no duplicar, no contrariar y tomar las condiciones más estrictas entre las obligaciones mínimas y el PSM).",null,"Realizar la instalación de la red piezométrica para monitoreo de aguas subterráneas en la zona de riego/aspersión autorizada antes de la puesta en marcha del sistema de vertimiento en suelos, dando cumplimiento a lo siguiente:\n\na) Contemplar un número representativo de piezómetros, para lo cual presentará la justificación técnica del número de piezómetros a implementar en el Plan de Manejo Ambiental Específico.\nb) Localizarse aguas arriba y aguas abajo del área de vertimiento de acuerdo a la dirección del flujo local de las aguas subterráneas. \nc) Los pozos de observación/piezómetros se deberán nivelar topográficamente. \nd) Los pozos deberán  contar con un mecanismo de protección que impida el ingreso de sustancias en su interior.","N/A","Aplica","N/A","N/A","Temporal"]
[48,"VERTIMIENTO EN SUELO","Clausura de pozos de observación/piezómetros\n\nNota: Ver formato de hoja de vida de pozo de observación/piezómetro en el anexo correspondiente",null,"Clausurar los pozos de observación/piezómetros, de acuerdo con los lineamientos establecidos en la NTC 5539:2007 -sección 4.10- y/o conforme a las actualizaciones que se hagan de esta, una vez se finalicen los vertimientos en suelos y se compruebe de manera previa mediante un monitoreo de calidad de aguas subterráneas con base en la caracterización en la línea base, que no existen impactos residuales por la ejecución del vertimiento. Presentar los soportes que evidencien la no afectación al recurso agua, el informe de las actividades de clausura y el reporte de esta novedad en el \"Formato de Hoja de Vida de Pozo de Observación/Piezómetro - Aguas Subterráneas\" en los respectivos Informes de Cumplimiento Ambiental - ICA.","N/A","N/A","N/A","Aplica","Temporal"]
[49,"VERTIMIENTO EN SUELO","Monitoreos de suelo receptor para vertimiento de aguas residuales no domésticas - ARnD\n\nNota: Revisar previamente las condiciones establecidas por el proyecto en el PSM en relación con este permiso, con el fin de ser consecuentes con las obligaciones impuestas y las propuestas en el plan (no duplicar, no contrariar y tomar las condiciones más estrictas entre las obligaciones mínimas y el PSM).",null,"Para aguas residuales no domésticas - ARnD tratadas, realizar monitoreos fisicoquímicos y biológicos del suelo receptor, antes de iniciar el vertimiento y dos veces al año después de iniciado considerando épocas de máximas y mínimas precipitaciones. En caso de que por condiciones de variabilidad climática no sea posible realizar los monitoreos en dichas épocas, justificar en el correspondiente ICA su ejecución en épocas de transición. Dar cumplimiento a las siguientes condiciones:\n\na) Realizar la toma de muestras puntuales y análisis de parámetros fisicoquímicos y biológicos establecidos en el artículo 2.2.3.3.4.9 del Decreto 1076 de 2015, o aquel que lo modifique, derogue o sustituya, en cada área de disposición. \nb) Presentar en los Informes de Cumplimiento Ambiental - ICA, los reportes de laboratorio, las cadenas de custodia y el análisis de resultados de monitoreos en una base temporal para cada variable, empleando gráficas de tendencia de concentración versus tiempo (actualizar las gráficas con la información recolectada en cada muestreo); el análisis debe estar orientado a medir el cambio en las propiedades iniciales del suelo (línea base) por efectos del vertimiento en cada sitio de muestra analizada.\nc) Realizar la toma de muestras con base en los criterios definidos por las autoridades competentes. ","N/A","Aplica","Aplica","Aplica","Permanente"]
[50,"VERTIMIENTO EN SUELO","Monitoreos de aguas subterráneas para vertimiento de aguas residuales no domésticas - ARnD\n\nNota: Revisar previamente las condiciones establecidas por el proyecto en el PSM en relación con este permiso, con el fin de ser consecuentes con las obligaciones impuestas y las propuestas en el plan (no duplicar, no contrariar y tomar las condiciones más estrictas entre las obligaciones mínimas y el PSM).",null,"Para aguas residuales no domésticas - ARnD tratadas, realizar monitoreos fisicoquímicos y microbiológicos de las aguas subterráneas en cada uno de los pozos de observación/piezómetros instalados, antes de iniciar el vertimiento y dos veces al año después de iniciado en cada uno de los pozos de observación/piezómetros instalados, considerando épocas de máximas y mínimas precipitaciones. En caso de que por condiciones de variabilidad climática no sea posible realizar los monitoreos en dichas épocas, justificar en el correspondiente ICA su ejecución en épocas de transición. Dar cumplimiento a las siguientes condiciones:\n\na) Realizar la toma de muestras puntuales y análisis de parámetros fisicoquímicos y biológicos establecidos en el artículo 2.2.3.3.4.9 del Decreto 1076 de 2015, o aquel que lo modifique, derogue o sustituya, y de los iones y cationes (Na+, K+, Mg++, Ca++, Fe++, SO4=, Cl-, NO3-, CO3=, HCO3-). \nb) Calcular y presentar el valor del error analítico (%) a partir de la sumatoria de aniones y cationes.  Solo podrán reportarse las caracterizaciones de muestras que tengan errores analíticos inferiores a ±10%. Presentar dichos cálculos en los Informes de Cumplimiento Ambiental – ICA.\nc) Realizar la toma de muestras siguiendo la Guía para el Monitoreo de Vertimientos, Aguas Superficiales y Subterráneas del 2002 del IDEAM o aquella que lo modifique, derogue o sustituya.\nd) Llevar un registro del nivel freático de cada pozo de observación/piezómetro de la red instalada, con el fin de analizar la variación del nivel freático del área de vertimiento, comparándolo con el caudal vertido y el régimen de precipitación. Presentar los soportes en los Informes de Cumplimiento Ambiental – ICA.\t\ne) Presentar en los Informes de Cumplimiento Ambiental - ICA, los reportes de laboratorio, las cadenas de custodia y el análisis de resultados de monitoreos en una base temporal para cada variable, empleando gráficas de tendencia de concentración versus tiempo (actualizar las gráficas con la información recolectada en cada muestreo). En caso de que por acción del vertimiento se presente un cambio en las características del agua subterránea, el titular de la licencia ambiental suspenderá el vertimiento y propondrá las medidas a que haya lugar.","N/A","Aplica","Aplica","Aplica","Permanente"]
[51,"VERTIMIENTO EN SUELO","Monitoreos de suelo receptor para vertimiento de aguas residuales domésticas - ARD\n\nNota: Revisar previamente las condiciones establecidas por el proyecto en el PSM en relación con este permiso, con el fin de ser consecuentes con las obligaciones impuestas y las propuestas en el plan (no duplicar, no contrariar y tomar las condiciones más estrictas entre las obligaciones mínimas y el PSM).",null,"Para aguas residuales domésticas - ARD tratadas, realizar monitoreos fisicoquímicos y biológicos del suelo receptor, antes de iniciar el vertimiento y dos veces al año después de iniciado, considerando épocas de máximas y mínimas precipitaciones. En caso de que por condiciones de variabilidad climática no sea posible realizar los monitoreos en dichas épocas, justificar en el correspondiente ICA su ejecución en épocas de transición. Dar cumplimiento a las siguientes condiciones:\n\na) Realizar la toma de muestras puntuales y análisis de parámetros: textura (porcentaje de arena, limo y arcilla), densidad real, densidad aparente, materia orgánica, pH, cloruros, conductividad eléctrica, capacidad de intercambio catiónico, grasas y aceites, bario, cadmio, mercurio, bacterias totales y HTP, en cada área de disposición. \nb) Realizar la toma de muestras con base en los criterios definidos por las autoridades competentes. \nc) Presentar en los Informes de Cumplimiento Ambiental - ICA, los reportes de laboratorio, las cadenas de custodia y el análisis de resultados de monitoreos en una base temporal para cada variable, empleando gráficas de tendencia de concentración versus tiempo (actualizar las gráficas con la información recolectada en cada muestreo); el análisis estará orientado a medir el cambio en las propiedades iniciales del suelo (línea base) por efectos del vertimiento en cada sitio de muestra analizada, así como con los límites genéricos basados en riesgos (LGBR) de la EPA (https://www.epa.gov/risk/regional-screening-levels-rsls-generic-tables,  Niveles de Detección Regional (RSLs) - Niveles de Detección (TR = 1E-06 THQ = 1.0) - Tabla resumen - Suelo Industrial).","N/A","Aplica","Aplica","Aplica","Permanente"]
[52,"VERTIMIENTO EN SUELO","Monitoreos de aguas subterráneas para vertimiento de aguas residuales domésticas - ARD\n\nNota: Revisar previamente las condiciones establecidas por el proyecto en el PSM en relación con este permiso, con el fin de ser consecuentes con las obligaciones impuestas y las propuestas en el plan (no duplicar, no contrariar y tomar las condiciones más estrictas entre las obligaciones mínimas y el PSM).",null,"Para aguas residuales domésticas - ARD tratadas, realizar monitoreos fisicoquímicos y microbiológicos de las aguas subterráneas en cada uno de los pozos de observación/piezómetros instalados, antes de iniciar el vertimiento y dos veces al año después de iniciado en cada uno de los pozos de observación/piezómetros instalados, considerando épocas de máximas y mínimas precipitaciones. En caso de que por condiciones de variabilidad climática no sea posible realizar los monitoreos en dichas épocas, justificar en el correspondiente ICA su ejecución en épocas de transición. Dar cumplimiento a las siguientes condiciones:\n \na) Realizar la toma de muestras puntuales y análisis de parámetros fisicoquímicos y biológicos establecidos en el artículo 2.2.3.3.4.9 del Decreto 1076 de 2015, o aquel que lo modifique, derogue o sustituya.  \nb) Calcular y presentar el valor del error analítico (%) a partir de la sumatoria de aniones y cationes.  Solo podrán reportarse las caracterizaciones de muestras que tengan errores analíticos inferiores a ±10%. Presentar dichos cálculos en los Informes de Cumplimiento Ambiental – ICA.\nc) Realizar la toma de muestras siguiendo la Guía para el Monitoreo de Vertimientos, Aguas Superficiales y Subterráneas del 2002 del IDEAM o aquella que lo modifique, derogue o sustituya. \nd) Llevar un registro del nivel freático de cada pozo de observación/piezómetro de la red instalada, con el fin de analizar la variación del nivel freático del área de vertimiento, teniendo en cuenta el caudal vertido y el régimen de precipitación. Presentar los soportes en los Informes de Cumplimiento Ambiental – ICA. \ne) Presentar en los Informes de Cumplimiento Ambiental - ICA, los reportes de laboratorio, las cadenas de custodia y el análisis de resultados de monitoreos en una base temporal para cada variable, empleando gráficas de tendencia de concentración versus tiempo (actualizar las gráficas con la información recolectada en cada muestreo). ","N/A","Aplica","Aplica","Aplica","Permanente"]
[53,"VERTIMIENTO EN SUELO","Monitoreo del vertimiento de aguas residuales no domésticas - ARnD\n\nNota: Revisar previamente las condiciones establecidas por el proyecto en el PSM en relación con este permiso, con el fin de ser consecuentes con las obligaciones impuestas y las propuestas en el plan (no duplicar, no contrariar y tomar las condiciones más estrictas entre las obligaciones mínimas y el PSM).",null,"Realizar monitoreos de aguas residuales no domésticas - ARnD cada dos meses a la salida del sistema de tratamiento, mediante un muestreo compuesto de 24 horas (o durante el tiempo en que se realice el vertimiento) con mediciones horarias, dando cumplimiento a las siguientes condiciones:\n\na) Realizar el monitoreo del vertimiento de conformidad con lo establecido en la Guía para el Monitoreo de Vertimientos, Aguas Superficiales y Subterráneas del 2002 del IDEAM, o cualquiera que la modifique, derogue o sustituya.\nb) Registrar en cada monitoreo del vertimiento, los parámetros establecidos en los artículos 2.2.3.3.9.14. y 2.2.3.3.9.16. del Decreto 1076 de 2015, o aquel que lo modifique, derogue o sustituya. \nc) Presentar en los Informes de Cumplimiento Ambiental - ICA, los reportes de laboratorio, las cadenas de custodia y el análisis de los resultados de los monitoreos. ","N/A","Aplica","Aplica","Aplica","Permanente"]
[54,"VERTIMIENTO EN SUELO","Monitoreo del vertimiento de aguas residuales domésticas - ARD\n\nNota: Revisar previamente las condiciones establecidas por el proyecto en el PSM en relación con este permiso, con el fin de ser consecuentes con las obligaciones impuestas y las propuestas en el plan (no duplicar, no contrariar y tomar las condiciones más estrictas entre las obligaciones mínimas y el PSM).",null,"Realizar monitoreos de las aguas residuales domésticas - ARD cada dos meses a la salida del sistema de tratamiento, mediante un muestreo compuesto de 24 horas (o durante el tiempo en que se realice el vertimiento) con mediciones horarias, dando cumplimiento a las siguientes condiciones:\n\na) Realizar el monitoreo del vertimiento de conformidad con lo establecido en la Guía para el Monitoreo de Vertimientos, Aguas Superficiales y Subterráneas del 2002 del IDEAM, o cualquiera que la modifique, derogue o sustituya.\nb) Realizar la toma de muestras puntuales y análisis de parámetros establecidos en la Resolución 699 del 06 de julio de 2021, o aquel que lo modifique, derogue o sustituya, en cada área de disposición. \nc) Presentar en los Informes de Cumplimiento Ambiental - ICA, los reportes de laboratorio, las cadenas de custodia y el análisis de los resultados de los monitoreos. ","N/A","Aplica","Aplica","Aplica","Permanente"]
[55,"VERTIMIENTO EN SUELO","Actualización de modelo de flujo y transporte de solutos en el suelo ",null,"Presentar en los respectivos Informes de Cumplimiento Ambiental - ICA la validación del modelo numérico del flujo y transporte de solutos en el suelo para aguas residuales no domésticas del que trata el artículo 2.2.3.3.4.9 del Decreto 1076 de 2015, o la norma que lo modifique, derogue o sustituya, dos años después de iniciado el vertimiento.","N/A","Aplica","Aplica","Aplica","Permanente"]
[56,"VERTIMIENTO EN SUELO","Hoja de vida piezómetros\n\nNota: Ver formato de hoja de vida de pozo de observación en el anexo correspondiente",null,"Mantener actualizado el \"Formato de Hoja de Vida de Pozo de Observación/Piezómetro - Aguas Subterráneas\" de cada pozo instalado, los cuales se presentarán en los respectivos Informes de Cumplimiento Ambiental - ICA.","N/A","Aplica","Aplica","Aplica","Permanente"]
[57,"VERTIMIENTO EN SUELO","Suspensión de actividades de vertimiento",null,"No desarrollar las actividades de vertimiento cuando se presenten las situaciones de las que trata el artículo 2.2.3.3.4.15 del Decreto 1076 de 2015, e informar a la autoridad ambiental regional y a la ANLA, dentro de las 24 h posteriores a la situación y por los medios legalmente establecidos, sobre la suspensión de actividades y/o la puesta en marcha del Plan de Gestión del Riesgo para el Manejo de Vertimientos, cuando la reparación y reinicio de los sistemas de tratamiento requieran más de tres (3) horas diarias.","N/A","Aplica","Aplica","Aplica","Permanente"]
[58,"VERTIMIENTO EN SUELO","Mantenimiento preventivo o correctivo del sistema de tratamiento de aguas residuales",null,"Presentar en los Informes de Cumplimiento Ambiental - ICA, los soportes que evidencien las actividades de mantenimiento preventivo o correctivo efectuadas al sistema de tratamiento de aguas residuales (minuta u hoja de vida del sistema de tratamiento e informe técnico del mantenimiento y de la disposición de lodos producto del mismo), en cumplimiento del artículo 2.2.3.3.4.16 del Decreto 1076 de 2015, o la norma que lo modifique, derogue o sustituya.","N/A","Aplica","Aplica","Aplica","Permanente"]
[59,"VERTIMIENTO EN SUELO","Aviso informativo en el lugar del vertimiento",null,"Instalar un aviso informativo de fácil visibilidad en el lugar del vertimiento autorizado, el cual incluya la información de la licencia ambiental respecto al permiso de vertimiento: número y fecha de la resolución que otorga el permiso de vertimiento, titular de la licencia, información de contacto, coordenadas del punto de vertimiento autorizado en la resolución y  caudal del vertimiento autorizado (l/s).","N/A","Aplica","Aplica","Aplica","Permanente"]
[60,"APROVECHAMIENTO FORESTAL","Reporte de actividades de aprovechamiento forestal en ICA\n\nNota: En el marco del artículo 2.2.1.1.10.4.3 del Decreto 1076 del 2015, la autoridad ambiental otorga o niega el aprovechamiento forestal de productos maderables y el manejo sostenible de la flora silvestre y de los productos forestales no maderables.",null,"Reportar en los informes de cumplimiento ambiental - ICA - el inventario forestal e informe detallado del aprovechamiento forestal adelantado durante el periodo a ser reportado. Presentar la información documental conforme a los lineamientos establecidos en el Manual de Seguimiento Ambiental de Proyectos y bajo el modelo de almacenamiento geográfico adoptado en la Resolución 2182 del 23 de diciembre de 2016, o aquella que la modifique, derogue o sustituya. Detallar en cada informe volúmenes totales y comerciales de aprovechamiento forestal efectivamente removidos por tipo de obra y tipo de cobertura, volúmenes acumulados (Cuando el aprovechamiento forestal se reporta en varios ICA´s), individuos arbóreos aprovechados (nombre común, nombre científico y familia de la especie) con la respectiva ubicación en coordenadas planas con datum y origen, y el área de aprovechamiento (municipio, vereda, predio y polígono de aprovechamiento).","N/A","Aplica","N/A","N/A","Permanente"]
[61,"APROVECHAMIENTO FORESTAL","Reporte de actividades de aprovechamiento forestal de arboles aislados.",null,"Cuando se requiera de la remoción de árboles aislados en un volumen igual o menor a veinte metros cúbicos (20 m³) de conformidad con el articulo 2.2.1.1.9.6. del decreto 1076 de 2015, la sociedad XXX reportará las actividades adelantadas en el respectivo informe de cumplimiento ambiental y no podrá superar el volumen mencionado durante el desarrollo de todas las actividades contempladas en el proyecto.","N/A","Aplica","Aplica","N/A","Temporal"]
[62,"APROVECHAMIENTO FORESTAL","Manejo de residuos del aprovechamiento forestal",null,"Disponer los residuos vegetales resultantes de las actividades de aprovechamiento forestal (hojas, ramas, raíces) de tal forma que no se intervenga en la dinámica natural de ecosistemas estratégicos o drenajes naturales, dando cumplimiento a lo establecido en las medidas del Plan de Manejo Ambiental y documentando su implementación y georreferenciación en los Informes de Cumplimiento Ambiental - ICA respectivos.","N/A","Aplica","N/A","N/A","Temporal"]
[63,"APROVECHAMIENTO FORESTAL","Se prohíbe la realización de quemas",null,"No realizar quemas a cielo abierto de los productos, subproductos y/o residuos vegetales resultantes del aprovechamiento forestal.","N/A","Aplica","N/A","N/A","Permanente"]
[64,"APROVECHAMIENTO FORESTAL","Manejo de especies endémicas, en veda o en alguna categoría de amenaza.",null,"Dar cumplimiento a lo establecido en las medidas de manejo aprobadas en el presente acto administrativo, tendientes a garantizar la protección y conservación, mediante las alternativas existentes para tal fin, de las especies endémicas, en veda nacional o regional o en alguna categoría de amenaza de acuerdo con la lista roja de la UICN, los libros rojos de los institutos de investigación Humboldt y SINCHI, la Resolución 1912 del 15 de septiembre de 2017 o aquellas normas que la modifiquen, deroguen o sustituyan, o que se encuentren en algún apéndice del CITES (Convenio sobre el comercio internacional de especies amenazadas). Documentar y presentar su implementación en los informes de cumplimiento ambiental - ICA-, incluyendo la respectiva georreferenciación y registro fotográfico.","N/A","Aplica","Aplica","N/A","Permanente"]
[65,"APROVECHAMIENTO FORESTAL","Manejo de los productos obtenidos del aprovechamiento forestal ",null,"Los productos obtenidos del aprovechamiento forestal no podrán ser comercializados y solo podrán ser utilizados en las actividades propias del proyecto y/o entregarse a titulo de donación, determinando de manera prevalente como titular al propietario del predio o a las comunidades, organizaciones sociales y/o autoridades territoriales del área de influencia. Presentar en los Informes de Cumplimiento Ambiental - ICA- respectivos, el destino de los productos (donación y/o uso), el cual estará soportado mediante actas de donación o reportes de su uso en actividades del proyecto, según corresponda, volúmenes obtenidos del aprovechamiento, volúmenes donados y/o usados en las actividades del proyecto y registro fotográfico.","N/A","Aplica","N/A","N/A","Temporal"]
[66,"RECOLECCIÓN DE ESPECÍMENES DE ESPECIES SILVESTRES DE LA\nBIODIVERSIDAD","Reporte de actividades de recolección de especímenes",null,"Presentar en el respectivo informe de cumplimiento ambiental - ICA - las actividades realizadas de recolección, incluyendo la relación del material recolectado, removido o extraído temporal o definitivamente del medio silvestre y la metodología implementada. Presentar la información documental conforme a los lineamientos establecidos en el Manual de Seguimiento Ambiental de Proyectos y de acuerdo con el modelo de almacenamiento geográfico establecido en la Resolución 2182 de 2016 del MADS, o la que la modifique, deroguen o sustituya.","N/A","Aplica","Aplica","N/A","Permanente"]
[67,"FAUNA","Seguimiento a ecosistemas marino costeros \n\nNota 1: Ajustar la frecuencia de los monitoreo durante la construcción teniendo en cuenta el tipo de obra, su magnitud y duración.",null,"Realizar monitoreos trimestrales en la fase constructiva y semestrales en la fase operativa a las comunidades marinos costeras del area de influencia del proyecto, teniendo en cuenta las siguientes condiciones: \n\na) Monitorear las comunidades de flora y fauna asociada a los ecosistemas pelágicos, litoral rocoso y arenoso, fondos blandos, duros y macroalgas, praderas de pastos marinos, manglares, corales de aguas someras y profundas, incluyendo especies de importancia de interés ecológico y económico, especies migratorias (megafauna y aves), así como aquellos que se encuentren en alguna categoría de amenaza o en la lista roja.\nb) En caso de que se hayan identificado especies migratorias (megafauna y aves) desde el EIA, deberá presentarse el monitoreo correspondiente a las especies más representativas en el último periodo en que estas migraron al área de influencia del proyecto previo a su construcción. Durante la fase constructiva y operativa realizar dichos monitoreos según los periodos migratorios identificados. \nc) El monitoreo debe garantizar que la recolección de información sea representativa en términos espaciales, temporales, de composición y estructura para cada uno de las comunidades presentes.\nd) En caso de que, una vez obtenida la licencia ambiental, el proyecto demore más de 1 año en iniciar la fase constructiva del mismo, deberá realizar tres meses antes del inicio de esta fase los monitoreos a las comunidades marino costeras, con e fin de tener una caracterización más actualizada para poder realizar las comparaciones a las que hay a lugar. \ne) Los puntos de monitoreo deben ser los mismos empleados en la caracterización ambiental y de preferencia que coincidan con los mismos puntos de los monitoreos fisicoquímicos y microbiológicos de agua y sedimentos, en caso de adicionar nuevos puntos se debe justificar su representatividad. Garantizar que existan puntos de monitoreo en áreas de alta sensibilidad según la zonificación ambiental del área de influencia del proyecto, que se encuentren adyacentes a las áreas puntuales de intervención que, si bien no se van a intervenir, se deben monitorear para determinar que los impactos generados por el proyecto no afecten su estructura, composición y función durante su vida útil.\nf) Realizar la comparación de los resultados obtenidos con la línea base y con los monitoreos que se vayan realizando conforme el avance de las obras para analizar la tendencia del medio, a través de índices ecológicos y análisis estadísticos, que permitan conocer las variaciones de la composición y estructura de las comunidades. Así mismo, correlacionar los resultados de los datos obtenidos en el muestreo de los parámetros fisicoquímicos y microbiológicos.\ng) Georreferenciar los puntos donde se realiza el monitoreo, y almacenar la información obtenida de los monitoreos, de acuerdo con modelo de almacenamiento geográfico establecido en la Resolución 2182 de 2016 de Minambiente, o la que la modifique o sustituya.\nh) Presentar los resultados y análisis en los Informes de Cumplimiento Ambiental - ICA-, incluyendo el registro fílmico y/o fotográfico.","Aplica","Aplica","Aplica","Aplica","Permanente"]
[68,"FAUNA","Seguimiento a ecosistemas terrestres\n\nNota 1: Ajustar la frecuencia de los monitoreo durante la construcción teniendo en cuenta el tipo de obra, su magnitud y duración.\n\nNota 2: Hacer uso de la presente obligación en el caso de que en el área de influencia del proyecto se hayan identificado ecosistemas terrestres y cuando el impacto en la fauna silvestre sea significativo y el profesional evaluador considere su aplicabilidad de acuerdo con impactos adicionales relacionados con la conectividad,  fragmentación de hábitat, entre otros. ",null,"Realizar monitoreos trimestrales en la fase constructiva y semestrales en la fase operativa a las comunidades de flora y fauna de los ecosistemas terrestres del área de influencia del proyecto, teniendo en cuenta las siguientes condiciones:\n\na) El monitoreo debe garantizar que la recolección de información sea representativa en términos espaciales, temporales, de composición y estructura para cada uno de las comunidades presentes.\nb) En caso de que, una vez obtenida la licencia ambiental, el proyecto demore más de 1 año en iniciar la fase constructiva del mismo, deberá realizar tres meses antes del inicio de esta fase los monitoreos a las comunidades de los ecosistemas terrestres, con e fin de tener una caracterización más actualizada para poder realizar las comparaciones a las que hay a lugar. \nc) Los puntos de monitoreo deben ser los mismos empleados en la caracterización ambiental, en caso de adicionar nuevos puntos se debe justificar su representatividad. Garantizar que existan puntos de monitoreo en áreas de alta sensibilidad según la zonificación ambiental del área de influencia del proyecto, que se encuentren adyacentes a las áreas puntuales de intervención que, si bien no se van a intervenir, se deben monitorear para determinar que los impactos generados por el proyecto no afecten su estructura, composición y función durante su vida útil.\nd) Realizar la comparación de los resultados obtenidos con la línea base y con los monitoreos que se vayan realizando conforme el avance de las obras para analizar la tendencia del medio, a través de índices ecológicos y análisis estadísticos, que permitan conocer las variaciones de la composición y estructura de las comunidades.\ne) Georreferenciar los puntos donde se realiza el monitoreo, y almacenar la información obtenida de los monitoreos, de acuerdo con modelo de almacenamiento geográfico establecido en la Resolución 2182 de 2016 de Minambiente, o la que la modifique o sustituya.\nf) Presentar los resultados y análisis en los Informes de Cumplimiento Ambiental - ICA-, incluyendo el registro fílmico y/o fotográfico.","Aplica","Aplica","Aplica","Aplica","Permanente"]
[69,"FAUNA","Seguimiento a ecosistemas acuáticos continentales\n\nNota 1: Ajustar la frecuencia de los monitoreo durante la construcción teniendo en cuenta el tipo de obra, su magnitud y duración.\n\nNota 2: Hacer uso de la presente obligación en el caso de que en el área de influencia del proyecto se hayan identificado ecosistemas acuáticos continentales y cuando el impacto en la fauna silvestre sea significativo.",null,"Realizar monitoreos trimestrales  en la fase constructiva y semestrales en la fase operativa a las comunidades de los ecosistemas acuáticos continentales del área de influencia del proyecto, teniendo en cuenta loas siguientes condiciones:\n\na) El monitoreo debe garantizar que la recolección de información sea representativa en términos espaciales, temporales, de composición y estructura para cada uno de las comunidades presentes.\nb) Los muestreos para el seguimiento de las comunidades, se deben realizar con una frecuencia trimestral en la fase constructiva y semestral en la operativa. En caso de que, una vez obtenida la licencia ambiental, el proyecto demore más de 1 año en iniciar la fase constructiva del mismo, deberá realizar tres meses antes del inicio de esta fase los monitoreos a las comunidades de los ecosistemas acuáticos continentales, con e fin de tener una caracterización más actualizada para poder realizar las comparaciones a las que hay a lugar. \nc) Los puntos de monitoreo deben ser los mismos empleados en la caracterización ambiental y de preferencia que coincidan con los mismos puntos de los monitoreos fisicoquímicos y microbiológicos de agua y sedimentos, en caso de adicionar nuevos puntos se debe justificar su representatividad. Garantizar que existan puntos de monitoreo en áreas de alta sensibilidad según la zonificación ambiental del área de influencia del proyecto, que se encuentren adyacentes a las áreas puntuales de intervención que, si bien no se van a intervenir, se deben monitorear para determinar que los impactos generados por el proyecto no afecten su estructura, composición y función durante su vida útil.\nd) Realizar la comparación de los resultados obtenidos con la línea base y con los monitoreos que se vayan realizando conforme el avance de las obras para analizar la tendencia del medio, a través de índices ecológicos y análisis estadísticos, que permitan conocer las variaciones de la composición y estructura de las comunidades. Así mismo, correlacionar los resultados de los datos obtenidos en el muestreo de los parámetros fisicoquímicos y microbiológicos. \ne) Georreferenciar los puntos donde se realiza el monitoreo, y almacenar la información obtenida de los monitoreos, de acuerdo con modelo de almacenamiento geográfico establecido en la Resolución 2182 de 2016 de Minambiente, o la que la modifique o sustituya.\nf) Presentar los resultados y análisis en los Informes de Cumplimiento Ambiental - ICA-, incluyendo el registro fílmico y/o fotográfico.","Aplica","Aplica","Aplica","Aplica","Permanente"]
[70,"FAUNA","Bioacústica como método complementario para la caracterización\n\nNota 1: Aplica solo para bioacústica continental terrestre.\nNota 2: Esta obligación puede requerirse en las reuniones de información adicional para solicitar complemento de las caracterizaciones de fauna vertebrada ej.: caracterizaciones de anuros, avifauna o quirópteros poco representativas en términos de riqueza de especies. En el caso de la solicitud en las RIA, solo requerir el muestreo del literal a) en una época climática. En caso de no ser presentado por el titular de la licencia vía RIA, se debe incluir esta obligación vía CTE.\nNota 3: Esta obligación puede imponerse vía seguimiento cuando se identifique impacto significativo por los niveles de presión sonora (ruido) sobre la fauna, para lo cual se podrán seguir las recomendaciones de documentos como:  “Criterio de Evaluación en el SEIA: Evaluación de Impactos por Ruido Sobre Fauna Nativa” del Servicio de Evaluación Ambiental (SEA) en Chile, 2022, “Evaluación de impacto acústico por ruido sobre la fauna nativa terrestre en el marco del Sistema de Evaluación de Impacto Ambiental (SEIA) en Chile” por Montenegro et al, 2020, y/o información científica o técnica actualizada soportada en las condiciones de la fauna presentes en el área de influencia y en las intervenciones planteadas por el proyecto.",null,"Implementar en el área de influencia del componente fauna, técnicas complementarias de detección de fauna como bioacústica pasiva y activa en espectro audible y/o ultrasonido, cumpliendo con las siguientes condiciones:\n\na) El monitoreo debe realizarse con la misma frecuencia en que se realizan los monitoreos de fauna vertebrada, de tal manera que cubran dos épocas climáticas (altas y bajas precipitaciones), quedando cubierta la migración de la fauna en alguno de los dos periodos evaluados. \nb) Para el muestreo acústico activo, se deben realizar recorridos por unidad de cobertura en los mismos puntos de muestreo de la caracterización de fauna o en las unidades de muestreo aprobadas en la licencia ambiental. Se deben realizar réplicas de tal manera que se cubran los picos de actividad de fauna en cada unidad de muestreo garantizando que el esfuerzo de muestreo para los grupos de fauna analizados con esta técnica de muestreo sea representativo por cobertura, en términos espaciales y temporales. La representatividad del muestreo se determinará según el cumplimiento de la asíntota en las curvas de acumulación, obteniendo por lo menos un valor ≥ 85% en los diferentes estimadores.\nc) En el caso de implementar muestreo acústico pasivo, se deben instalar detectores pasivos entre 1,5 a 3 metros de altura sobre el nivel del suelo y en el caso que se requiera, instalar detectores a la altura del dosel de la vegetación por cobertura del área de influencia del componente fauna. Los detectores deben estar configurados para grabar entre 1 a 3 min cada 10 a 30 minutos de manera continua y el esfuerzo de muestreo debe ser representativo en términos espaciales y temporales por cobertura o por unidad de análisis aprobada en la licencia ambiental. La representatividad del muestreo se determinará según el cumplimiento de la asíntota en las curvas de acumulación, obteniendo por lo menos un valor ≥ 85% en los diferentes estimadores. \nd) Realizar pruebas estadísticas multivariadas comparativas entre los registros obtenidos (riqueza, actividad acústica espacial y temporal, abundancia), las unidades de muestreo, la ubicación de las obras generadoras del ruido y con la línea base e histórico de los monitoreos anteriores en las diferentes etapas del proyecto y temporadas climáticas según corresponda. Garantizando como mínimo un esfuerzo de muestreo igual al realizado durante la línea base.\ne) Presentar la siguiente información en los respectivos Informes de Cumplimiento Ambiental: i) Riqueza de especies, ii) Actividad acústica por especie y/o sonotipo, a escala temporal y espacial (punto de muestreo, cobertura o área priorizada, según corresponda), iii) Parámetros acústicos por especies y/o sonotipo (frecuencias mínima, máxima, máxima energía, duración y clasificación del sonido según el grupo taxonómico) y vi) Oscilogramas y espectrogramas por especie y/o sonotipo detectado.\n","N/A","Aplica","Aplica","Aplica","Permanente"]
[71,"FAUNA","Evaluación de Impacto por ruido sobre la biodiversidad\n\nNota 1: Aplica solo para continental terrestre.\nNota 2: Esta obligación puede imponerse vía RIA, evaluación y seguimiento cuando se identifique que los niveles de presión sonora (ruido) producto de las actividades del proyecto superan los umbrales de afectación sobre la fauna (Montenegro et al 2020 y SEIA 2022). Adicionalmente, se debe imponer junto con la obligación de bioacústica.\nNota 3: En el caso de emplearla en las RIA y evaluación, se deberá cambiar el literal a) por el siguiente: “Presentar el listado de riqueza de especies por grupo taxonómico y técnicas de detección compilado en la caracterización, en donde se identifique endemismos, migración y estado de conservación según CITES, IUCN y MADS resolución 1912 o aquella que la modifique o sustituya”. Adicionalmente, eliminar del texto introductorio “Identificar los cambios en composición y estructura de la biodiversidad” e iniciar desde “Evaluar como el ruido...”\nNota 4: El literal d) solo se debe imponer en evaluación en aquellos proyectos que no cuenten con caracterización acústica desde el EIA y en donde se identifique la alteración en los niveles de presión sonora como un impacto significativo.",null,"Establecer los grupos o especies de fauna más sensibles frente al impacto de la alteración en los niveles de presión sonora, indicando las áreas con mayor sensibilidad a la expresión de este impacto. La evaluación del ruido sobre la fauna se puede realizar siguiendo las recomendaciones del documento “Criterio de Evaluación en el SEIA: Evaluación de Impactos por Ruido Sobre Fauna Nativa” del Servicio de Evaluación Ambiental (SEA) en Chile, 2022 y del articulo “Evaluación de impacto acústico por ruido sobre la fauna nativa terrestre en el marco del Sistema de Evaluación de Impacto Ambiental (SEIA) en Chile” por Montenegro et al, 2020 y/o información científica actualizada. La evaluación de impacto por ruido debe realizarse en las mismas temporadas climáticas en que se realizan los monitoreos de fauna y entregarse en los respectivos Informes de Cumplimiento Ambiental – ICA, cumpliendo adicionalmente con lo siguiente:\n\na) Con la información obtenida de esta metodología, se deberá monitorear las áreas de generación del impacto sobre la biodiversidad, considerando las diferentes etapas y actividades del proyecto. Para tal efecto, se deberán considerar los modelos de ruido en el escenario sin control, generando monitoreos en las áreas donde se reporta mayor potencial de afectación.\nb) Identificar los umbrales de afectación por ruido sobre los grupos taxonómicos de fauna caracterizados, para lo cual se podrá tomar como referencia información secundaria disponible.\nc) Presentar el listado de riqueza de especies compilado de todos los monitoreos ejecutados durante el proyecto en donde se identifique categorías tróficas, endemismos, migración y estado de conservación según CITES, IUCN y MADS resolución 1912 o aquella que la modifique o sustituya identificando las especies/ grupos afectados por la generación de ruido y las preferencias de hábitat de estas en el área de influencia.\nd) Monitorear las áreas o hábitats con sensibilidad a la afectación por emisión acústica, teniendo en cuanta las especies presentes y la función ecosistémica que proveen.\ne) Plantear medidas de manejo para controlar los impactos del aumento de los niveles de presión sonora sobre la fauna, incluyendo monitoreos que validen i) la efectividad en el control de la emisión de ruido y ii) los cambios en los comportamientos de las especies identificadas como sensibles al impacto durante las diferentes etapas del proyecto. \nf) Presentar la siguiente información de cada uno de los monitoreos:  i) Riqueza de especies, ii) Actividad acústica por especie y/o sonotipo, a escala temporal (picos de actividad) y espacial (por punto de muestreo, cobertura, emplazamiento de fuentes generadoras y representarlo cartográficamente), iii) Parámetros acústicos por especies y/o sonotipo (frecuencias mínima, máxima, máxima energía, duración y clasificación del sonido según el grupo taxonómico), iv) Oscilogramas y espectrogramas por especie y/o sonotipo detectado y v) Los soportes de audio por especie y/o sonotipo que permitan validar las tasas de muestreo reportadas.\n\nLa información deberá presentarse de manera acumulada en los respectivos Informes de Cumplimiento Ambiental -ICA, con el análisis de tendencia, comparando los resultados del periodo reportado con los obtenidos en los periodos previos desde la caracterización ambiental.","N/A","Aplica","Aplica","Aplica","Permanente"]
[72,"FAUNA","Estudio ecológico de sitios de reubicación de flora y fauna",null,"Presentar un estudio ecológico de los sitios de reubicación de fauna y flora, en el primer Informe de Cumplimiento Ambiental - ICA de la fase constructiva, el cual incluya:\n\na) Oferta de hábitat.\nb) Tipo de cobertura vegetal y/o de fondo marino.\nc) Corredores biológicos, área y accesibilidad.\nd) Análisis de la capacidad de carga de los ecosistemas que recibirán las especies de fauna y flora. Se podrán emplear especies focales a partir de los impactos generados por el proyecto. \nf) Dichas áreas deberán encontrarse dentro del área de influencia del proyecto, garantizando que las especies reubicadas no sean afectadas por los impactos de la ejecución del proyecto. En caso de que no sea posible, justificar las razones de la selección en sitios fuera de la misma, manteniendo condiciones similares para garantizar la sobrevivencia de la flora y fauna reubicada.","N/A","Aplica","N/A","N/A","Temporal"]
[73,"FAUNA","Rescate y reubicación de fauna y flora silvestre",null,"En caso de requerir realizar actividades de rescate y reubicación de los diferentes individuos de especies de fauna y flora silvestre presentes en áreas intervenidas por el proyecto, documentar en los respectivos Informes de Cumplimiento Ambiental - ICA:\n\na) Especies reubicadas y actividades ejecutadas, incluyendo metodologías empleadas de rescate y liberación.\nb) Localización de los sitios de reubicación de fauna y flora, haciendo uso del modelo de almacenamiento geográfico establecido en la Resolución 2182 de 2016 del MADS, o aquella norma que la modifique o sustituya.\nc) Seguimiento y monitoreo de las especies reubicadas y un análisis de su condición, que permita corroborar la efectividad de la reubicación. \nd) Para fauna marina con movimiento propio, se deberá reportar la información fílmica y fotográfica que acredite su reubicación desde las áreas afectadas hasta las áreas de recepción. \ne) Garantizar la reubicación del 100% de los individuos pertenecientes a especies con alguna categoría de amenaza, según la Resolución 1912 de 2017 de Minambiente, o aquella norma que la modifique o sustituya, libros rojos de Colombia y la Unión Internacional para la Conservación de la Naturaleza - IUCN.\nd) Coordinación de las actividades realizadas con personal de las autoridades ambientales locales y/o regionales respectivas.","N/A","Aplica","Aplica","Aplica","Permanente"]
[74,"FAUNA","Presentación del sistema de pasos de fauna\n\nNota: Aplica para proyectos que requieran la construcción o adecuación de vías para su ejecución",null,"Establecer un sistema de pasos de fauna teniendo en cuenta para su diseño, construcción, seguimiento y mantenimiento los análisis de conectividad funcional de línea base y los actualizados de forma progresiva para el proyecto, así como los lineamientos de Infraestructura Verde Vial para Colombia (MADS, FCDS & WWF, 2020), el documento \"Atropellamiento de fauna silvestre en Colombia. Guía para entender y diagnosticar este impacto\" (Jaramillo-Fayad et al. 2021) y otras fuentes que sirvan de orientación. El sistema de pasos de fauna deberá ser presentado en el primer ICA de la fase constructiva.\n\nParágrafo 1: Para las vías existentes que se encuentren dentro del área de influencia del proyecto y que vayan a ser empleadas por el proyecto, se deberá tener en cuenta para el diseño de medidas complementarias, los análisis de conectividad funcional y el análisis de puntos calientes - hotspot, para determinar la susceptibilidad frente a los impactos de atropellamiento, mortalidad de fauna y efecto barrera para la dispersión, o su equivalente de acuerdo con el ejercicio de estandarización de impactos ambientales.","N/A","Aplica","N/A","N/A","Temporal"]
[75,"FAUNA","Seguimiento al sistema de pasos de fauna\n\nNota: Aplica para proyectos que requieran la construcción o adecuación de vías para su ejecución",null,"Realizar seguimiento al cumplimiento y efectividad del sistema de pasos de fauna a partir de dos aspectos: i) monitoreo de los pasos de fauna, relacionando el uso o no uso de los mismos (i.e. huellas, fototrampeo, entre otros) y ii) con el monitoreo del atropellamiento o mortalidad de fauna sobre la vía o de individuos que transiten sobre la vía, con el propósito de identificar la pertinencia de complementar y/o modificar el sistema de pasos de fauna. Presentar los respectivos soportes en los Informes de Cumplimiento Ambiental – ICA.","N/A","Aplica","Aplica","Aplica","Permanente"]
[76,"FAUNA","Modelación biótica\n\nNota 1: En caso de no haber sido presentado el modelo biótico en el EIA, o no haber identificado las áreas de interés ecológico y/o las áreas con mayor probabilidad de afectación se debe solicitar esta obligación en la RIA.    Por esta razón al inicio de la obligación solo emplear el verbo “Generar modelos multiespecie...”, y eliminar el literal g teniendo en cuente que este hace parte de la actualización de un modelo. \nNota 2: En caso que en el seguimiento del proyecto se presenten cambios en las unidades de coberturas, generación o cambio en la magnitud de los impactos ambientales asociados a cada fase del proyecto que incidan en las especies sensibles, imponer la siguiente obligación con el verbo “Actualizar modelos multiespecie...”, para todos los proyectos que hayan presentado un modelo biótico en el EIA. En la consideración de la imposición de la presente obligación, dejar claras la o las razones por las cuales se solicita la actualización del modelo.\nNota 3: Imponer la presente obligación junto con el literal e) cuando se determine en la evaluación de impactos del proyecto una afectación significativa en la alteración de ecosistemas acuáticos y alteración en fauna acuática (conectividad longitudinal y lateral en especies acuáticas y/o semiacuáticas y/o afectación en la calidad del hábitat). De lo contrario, eliminar el literal e). \nNota 4: Aplica solo para modelación biótica continental, no para modelación biótica marina.",null,"Actualizar y/o generar modelos multiespecie de conectividad ecológica funcional los cuales pueden ser complementados con otros modelos que se consideren adecuados para las particularidades del proyecto (ej.: modelos de distribución potencial, calidad de hábitat, modelos de idoneidad), sin que estos reemplacen los análisis de conectividad.  a escala 1:10.000 o más detallada, en donde se tenga en consideración:\n\na) La selección de especies debe tener en cuenta: sensibilidad a los impactos generados por el proyecto, rol ecológico, heterogeneidad de requerimientos de hábitats, proporción del paisaje ocupado por la especie, requerimientos a nivel poblacional, y estado de amenaza o endemismo. \nb) Los modelos deben incluir la información del monitoreo biótico (riqueza de especies, y el uso de hábitat de las especies), siendo posible definir los momentos donde es procedente modelar según información de patrones de actividad acústica, épocas de migración, etapa del proyecto, entre otros. En el caso de modelos de conectividad ecológica, se deberán tener en cuenta los rangos de hogar y distancia de dispersión de las especies seleccionadas según las condiciones de transformación del territorio, para lo cual se puede utilizar información secundaria como soporte en la definición de dichos datos.\nc) Los modelos de conectividad ecológica elaborados para cada especie seleccionada deben identificar las áreas de importancia para la conectividad (núcleo, corredor, otros) siendo posible seguir lo propuesto por Beier et al. (2007), Bodin & Saura (2010), Bodin & Saura (2010), Saura et al. (2011), Carrol et al. (2012) y Mateo-Sánchez et al. (2015). Adicionalmente, se debe presentar la valoración de las variables consideradas para la elaboración de los insumos de análisis (por ejemplo: matriz de resistencia) e identificar rutas de menor costo y densidad de corredores biológicos para las especies priorizadas siendo posible seguir  lo propuesto por Bunn et al. (2000), McRae et al. (2008) y Etherington (2016). \nd) La modelación biótica debe ser integrada con las variables y modelos abióticos que apliquen para la evaluación de los impactos sobre la biodiversidad, como modelaciones generadas para el recurso hídrico superficial, calidad de agua y atmosféricas (como ruido, contaminantes atmosféricos, viento) teniendo en cuenta los escenarios más críticos.\ne) Para el caso de las especies acuáticas, los modelos de conectividad deberán incluir un análisis de la potencial afectación a la conectividad lateral y longitudinal, que tenga en cuenta la idoneidad de hábitat de las especies, el potencial de movilización a través del medio y los resultados de los monitoreos de dichas especies. Para tal efecto, se deben considerar las condiciones morfodinámicas, de calidad y cantidad del recurso hídrico superficial integrando los resultados de los modelos físicos, considerando los mismos escenarios evaluados en dichos modelos haciendo énfasis en los momentos del ciclo hidrológico con mayor movilidad para las especies según los requerimientos de hábitat y los tiempos de construcción y operación del proyecto. \nf) Se deben presentar en un anexo los ejecutables, esquema de modelación, las variables y covariables de entrada para la elaboración de la modelación, valoración y matriz de resistencia en el caso de modelos de conectividad ecológica, las salidas gráficas y cartográficas de los resultados de los modelos, de tal manera que puedan ser replicados los ejercicios de modelación. \ng) Realizar el análisis comparativo de los modelos bióticos durante las diferentes etapas del proyecto, identificando los cambios en las áreas de interés ecológico (ej.: áreas núcleo, corredores potenciales de movimiento de especies), e identificando los sitios donde se generó la mayor afectación en cada etapa y la efectividad de las medidas de manejo planteadas para la atención de dichos impactos. \n\nPresentar dicha información en el correspondiente Informe de Cumplimiento Ambiental – ICA.","N/A","Aplica","Aplica","Aplica","Permanente"]
[]
[77,"FLORA","Actualización del mapa de coberturas vegetales",null,"Actualizar anualmente y en la misma temporada climática el mapa de coberturas de la tierra del área de influencia biótica del proyecto, a escala 1:10.000  o más detallada, en caso de ejecutarse actividades de remoción de cobertura vegetal. La información deberá ser presentada en el respectivo Informe de Cumplimiento Ambiental -ICA-, acompañada de la presentación de un análisis multitemporal de cambios de las coberturas incluyendo el análisis de tendencias de los índices de fragmentación a nivel de parche, clase y paisaje, tomando como referencia la caracterización ambiental.","N/A","Aplica","Aplica","Aplica","Permanente"]
[78,"VEDAS","Rescate y sobrevivencia de especies vasculares en veda (Bromelias,  Orquídeas, especies herbáceas o arbustivas)\n\nNota 1: Seleccionar de los instrumentos de “Porcentaje de rescate y sobrevivencia de bromelias según estado de conservación” y \"Porcentaje de rescate y sobrevivencia de orquídeas según estado de conservación” adoptados en GESPRO, los porcentajes para cada una de las especies registradas en el proyecto.\n\nNota 2: En los casos en que la especie no se encuentre listada en el instrumento, se deberá imponer un porcentaje de rescate del 100% y de sobrevivencia entre el 70 y 80%, hasta que se determine a nivel de especie, esto no aplica para especies con carácter invasor o introducida.",null,"Rescatar las especies de orquídeas y bromelias en veda nacional  según la Res.0213 de 1977 del INDERENA, u otra que modifique o sustituya; y las especies herbáceas o arbustivas en condición de veda regional, se deberá garantizar un rescate y sobrevivencia porcentual por especie de conformidad con lo establecido en la siguiente tabla. Dichos porcentajes responden a características intrínsecas de cada especie (botánicas, fisiológicas, ecológicas, de distribución, grado de amenaza, endemismo y/o usos locales).\n\n[Incluir tabla de porcentajes por especies]\n\n\nEn los casos cuya determinación se haya realizado a nivel de familia, género o “confertus” y “affín”, se debe rescatar el 100% de los individuos o agregados, aplicando el principio de precaución, dadas las condiciones de riqueza, endemismo y amenaza de estos grupos taxonómicos en el país y el desconocimiento de la identidad taxonómica de la especie registrada en el proyecto; por lo tanto, el porcentaje de sobrevivencia será diferencial, dado que depende principalmente de la capacidad de adaptación del género específico y de los requerimientos de hábitat puntuales, se debe garantizar una sobrevivencia del [establecer el porcentaje, entre el 70% y 80%].\n\nReportar en los respectivos Informes de Cumplimiento Ambiental - ICA, los avances o la totalidad del rescate (s) ejecutados, entregando de manera detallada la totalidad (100%) de individuos o agregados registrados en el área de intervención y las actividades de seguimiento para estas especies vasculares rescatadas bajo el “Modelo base de datos de rescate de especies vasculares en veda nacional y preferencia de forofitos”, disponible en el sitio web: https://www.anla.gov.co/01_anla/proyectos/nuevo-licenciamiento-ambiental/elaboracion-ica-y-control-y-seguimiento . ","N/A","Aplica","N/A","N/A","Permanente"]
[79,"VEDAS","Seguimiento, monitoreo y mantenimiento de especies vasculares en veda",null,"Reportar en los respectivos Informes de Cumplimiento Ambiental - ICA, las actividades de seguimiento a la totalidad de individuos o agregados de especies vasculares trasladadas y reubicadas bajo el \"Modelo base de datos consolidada de seguimiento, monitoreo y mantenimiento de especies vasculares trasladadas y reubicadas”, disponible en el sitio web: https://www.anla.gov.co/01_anla/proyectos/nuevo-licenciamiento-ambiental/elaboracion-ica-y-control-y-seguimiento; así como, el cumplimiento del plan de mantenimiento y monitoreo para el tiempo de implementación de la medida de manejo, y el seguimiento a los indicadores y metas para lograr la sobrevivencia y adaptabilidad de los individuos o agregados de la especies en las áreas receptoras para estas poblaciones. ","N/A","Aplica","Aplica","N/A","Permanente"]
[80,"VEDAS","Rescate y sobrevivencia de especies vasculares en veda de tamaño brinzal y helechos arborescentes.\n\nNota: Se debe evaluar si la propuesta del usuario con respecto al porcentaje de sobrevivencia para las especies sujetas a rescate, es acorde a las características intrínsecas de la especie, de los contrario se deberá imponer un porcentaje de sobrevivencia no menor al 70% y debe corresponder al análisis realizado por el evaluador.\nNota 2: En los casos cuya morfoespecie se haya reportado a nivel de familia o género, se debe evaluar el porcentaje de reposición y sobrevivencia de acuerdo a la capacidad de adaptación del género específico y de los requerimientos de hábitat puntuales. Para los casos de taxones a nivel de “confertus” y “affín” se determinará e impondrá el (Fr) acorde a la circular u otro acto administrativo regional.",null,"Rescatar al 100% las especies vasculares en veda nacional y regional de especies arbóreas (brinzal) y helechos arborescentes (≤ 2 metros), garantizando la sobrevivencia porcentual para los individuos de conformidad con las características intrínsecas de cada especie (botánicas, fisiológicas, ecológicas, de distribución, grado de amenaza, endemismo y/o usos locales). Reportar en los respectivos Informes de Cumplimiento Ambiental - ICA, los avances o la totalidad del rescate (s) ejecutado(s), entregando de manera detallada la totalidad (100%) de individuos  registrados en el área de intervención, las actividades de mantenimiento, seguimiento y monitoreo para estas especies rescatadas y trasladadas, así como el cumplimiento y el análisis del comportamiento de la sobrevivencia y adaptabilidad de los individuos en las áreas receptoras de estas poblaciones.\n\n[Incluir tabla de porcentajes de sobrevivencia por especie]\n","N/A","Aplica","N/A","N/A","Permanente"]
[81,"VEDAS","Reposición y sobrevivencia para especies vasculares en veda de tamaño fustal, latizal y helechos arborescentes\nNota 1: Si el factor de reposición para las especies reportadas no se encuentran en la lista de la circular u otro acto administrativo regional, se deberá analizar e imponer acorde a las características intrínsecas de la especie. \nNota 2: La imposición del porcentaje de sobrevivencia debe corresponder al análisis realizado por el evaluador acorde a las características intrínsecas de la especie, y no ser menor al 70%.\nNota 3: En los casos cuya morfoespecie se haya reportado a nivel de familia o género, se debe evaluar el porcentaje de reposición y sobrevivencia de acuerdo a la capacidad de adaptación del género específico y de los requerimientos de hábitat puntuales. Para los casos de taxones a nivel de “confertus” y “affín” se determinará e impondrá el (Fr) acorde a la circular u otro acto administrativo regional.",null,"Realizar la reposición de acuerdo con los criterios establecidos en los lineamientos técnicos de Circular 820-2-808 de 2019 del MADS, o aquella que la modifique o sustituya  y/o las condiciones puntuales de los actos administrativos respectivos de cada autoridad ambiental, como base para determinar el factor de reposición (Fr) para la especie arbórea (fustal y latizal) y helechos arborescentes (˃ 2 metros) en veda que se reporten en el área de intervención del proyecto, garantizando la sobrevivencia porcentual para los individuos de conformidad con las características intrínsecas de cada especie (botánicas, fisiológicas, ecológicas, de distribución, grado de amenaza, endemismo y/o usos locales). Reportar en los respectivos Informes de Cumplimiento Ambiental - ICA, los avances o la totalidad del censo realizado, entregando de manera detallada la totalidad (100%) de individuos registrados por especie en el área de intervención, el análisis definitivo de la aplicación de los factores de reposición por especie para generar la cantidad de individuos a sembrar, las actividades de mantenimiento, seguimiento y monitoreo, así como el cumplimiento y el análisis del comportamiento de la sobrevivencia y adaptabilidad de los individuos en las áreas receptoras de estas poblaciones.  \n\n[Incluir tabla de porcentajes de sobrevivencia por especie]","N/A","Aplica","Aplica","N/A","Permanente"]
[82,"VEDAS","Descripción de las áreas destinadas para el traslado de especies vasculares en veda",null,"Presentar una caracterización florística de los áreas de reubicación y reposición definitivas para especies vasculares en veda (orquídeas, bromelias, helechos arborescentes, especies herbáceas y arbóreas) en el primer Informe de Cumplimiento Ambiental - ICA de la fase constructiva, que incluya:\na. Localización de estas dentro del área de influencia del proyecto, garantizando que las especies reubicadas no sean afectadas por los impactos de la ejecución del proyecto. En caso de que no sea posible, justificar las razones de la selección en sitios fuera de la misma, manteniendo condiciones similares para garantizar la sobrevivencia de la flora trasladada.\nb. Descripción de los ecosistemas receptores, estos deben contar con características físico-bióticas similares a los ecosistemas impactados por las obras y actividades de donde serán extraídos los individuos o agregados de estas especies.\nc. Evaluar y analizar la capacidad de recepción de estas poblaciones de flora en sus diferentes hábitos de crecimiento, teniendo en cuenta la potencialidad de diversos sustratos (árboles receptores-forofitos y otros). \nd. Georreferenciar y almacenar la localización de las áreas, puntos de reubicación y reposición específicos (forofitos, diseños florísticos, siembras puntuales, parcelas de siembra, entre otros) conforme el modelo de almacenamiento geográfico establecido en la Resolución 2182 de 2016 del MADS, o la norma que la modifique o sustituya.","N/A","Aplica","Aplica","N/A","Permanente"]
[83,"VEDAS","Cálculo del (las) área (s) de retribución por afectación al hábitat de especies no vasculares y líquenes en veda",null,"Realizar el cálculo del área de retribución por afectación a los hábitats de especies no vasculares y líquenes en veda bajo el instrumento de “Cálculo del área de retribución por afectación a especies no vasculares y líquenes en veda y sus criterios de evaluación”, disponible en el sitio web: https://www.anla.gov.co/01_anla/proyectos/nuevo-licenciamiento-ambiental/elaboracion-ica-y-control-y-seguimiento. ","N/A","Aplica","N/A","N/A","Permanente"]
[84,"VEDAS","Descripción del (las) área (s) retribución por afectación al hábitat de especies no vasculares y líquenes en veda",null,"Para el (las) área (s) de retribución definitiva por afectación a los hábitats de especies no vasculares y líquenes en veda, se debe entregar y relacionar en el primer Informe de Cumplimiento Ambiental - ICA de la fase constructiva\n\na. Localización de estas dentro del área de influencia del proyecto. En caso de que no sea posible, justificar las razones de la selección en sitios fuera de la misma, y garantizar el tiempo de implementación de la medida en todas sus fases en el (las) área (s) seleccionada(s).\nb. El plan de rehabilitación ecológica, bajo criterios y metas definidas de restauración para propender el restablecimiento de hábitats para estas especies, que contenga objetivos, metas, diagnóstico del área (físico-biótica), planeación de actividades, gestión adaptativa, plan de seguimiento y monitoreo con metas e indicadores.","N/A","Aplica","N/A","N/A","Permanente"]
[85,"VEDAS","Seguimiento y monitoreo al (las) área (s) retribución por afectación al hábitat de especies no vasculares y líquenes en veda",null,"Reportar en los respectivos Informes de Cumplimiento Ambiental - ICA, el avance de las actividades de restauración ejecutadas en áreas de retribución para definir el progreso de la colonización de la especies de briofitos y líquenes, el cumplimiento del plan de mantenimiento y monitoreo, el seguimiento a los indicadores y metas para lograr la sobrevivencia y adaptabilidad de los individuos sembrados, y demás estrategias.","N/A","Aplica","Aplica","N/A","Permanente"]
[86,"CALIDAD AGUA MARINA","Monitoreos de calidad de aguas marinas\n\nNota 1: Dependiendo de la duración de la fase constructiva del proyecto, se podrá ajustar la frecuencia de monitoreo en dicha fase.\n\nNota 2: Las profundidades y tipo de monitoreo, se evaluará dentro del programa de monitoreo propuesto por el usuario en el EIA, lo cual se deberá ajustar de acuerdo con los criterios de evaluación, en caso de ser necesario.",null,"Realizar monitoreos trimestrales en la fase constructiva y semestrales en la fase operativa en área y profundidad de las características fisicoquímicas y microbiológicas del agua marina, siguiendo los lineamientos establecidos en la Guía para el Monitoreo y Seguimiento del Agua, elaborada por el IDEAM (2004) y las recomendaciones previstas en el Manual de Técnicas Analíticas para la Determinación de Parámetros Fisicoquímicos y Contaminantes Marinos del INVEMAR (2003), Plan nacional de dragados de Minambiente (2017), o aquellos que los modifiquen o sustituyan, dando cumplimiento a las siguientes condiciones:\n\na) En la ejecución de los monitoreos, en lo posible cubrir las dos épocas climáticas (altas y bajas precipitaciones).  En caso de que, una vez obtenida la licencia ambiental, el proyecto demore más de 1 año en iniciar la fase constructiva del mismo, deberá realizar tres meses antes del inicio de esta fase los monitoreos de las características de calidad de agua marina, con el fin de tener una caracterización más actualizada para poder realizar las comparaciones a las que hay a lugar.\nb) Los parámetros a determinar son, físicos: temperatura, color, sólidos suspendidos totales, sólidos disueltos totales, sólidos sedimentables, conductividad eléctrica, pH, turbidez; químicos: salinidad, oxígeno disuelto (OD), conductividad, demanda química de oxígeno (DQO), demanda biológica de oxígeno (DBO), carbono orgánico total, nitritos, nitratos, nitrógeno total Kjeldahl, fenoles, fosfatos, grasa y aceites, fosforo total, tensoactivos (SAAM), fenoles, hidrocarburos totales, hidrocarburos aromáticos policíclicos, hidrocarburos disueltos dispersos, alcalinidad y acidez, dureza cálcica y total, metales y metaloides (arsénico, bario, cadmio, cinc, cromo, cobre, mercurio, níquel, plata, plomo, selenio), clorofila a y b; microbiológicos: coliformes totales, coliformes termotolerantes y E. Coli.\nc) Las mediciones en el perfil de la columna de agua deben priorizar la mayor estratificación posible (temperatura, densidad, oxígeno disuelto). La determinación de los parámetros establecidos debe realizarse en por lo menos 2 puntos de la columna de agua y complementar con puntos superficiales y de profundidad, de tal forma que se pueda describir de forma adecuada los parámetros que se estén midiendo.\nd) Los puntos de monitoreo deben corresponder a los mismos monitoreados en la caracterización ambiental, en caso de adicionar nuevos puntos se debe justificar su representatividad. Si el proyecto realiza vertimientos al mar, se deben incluir puntos adicionales de monitoreo para el seguimiento de la calidad del agua marina en áreas próximas a las descargas.\ne) A partir de los resultados de los monitoreos establecer los perfiles verticales de temperatura (termoclina), oxígeno disuelto (oxiclina) y de la salinidad (haloclina), analizando su cambio en el transcurso del proyecto.\nf) Los monitoreos de calidad de agua marina deberán realizarse simultáneamente con los monitoreos de calidad de sedimentos marinos y monitoreos hidrobiológicos.\ng) Presentar en los respectivos Informes de Cumplimiento Ambiental - ICA los reportes de laboratorio, las cadenas de custodia originales y el respectivo análisis.\nh) El análisis deberá incluir: i) la comparación con la caracterización ambiental presentada en el EIA y los monitoreos que se vayan realizando conforme el avance de las obras para determinar la tendencia de la calidad del agua marina; ii) la comparación de los resultados de los parámetros medidos con aquellos que se encuentren dentro de los criterios de calidad establecidos en el artículo 18 del Decreto 703 del 2018 y con criterios de referencia para sustancias orgánicas e inorgánicas en el agua utilizados por la Agencia para la Administración de Océanos y Atmósfera de los Estados Unidos - NOAA (https://response.restoration.noaa.gov/environmental-restoration/environmental-assessment-tools/squirt-cards.html); iii) la correlación de los resultados obtenidos en el muestreo con los parámetros de sedimentos marino y los hidrobiológicos; y iv) el análisis de las condiciones ambientales (climáticas y oceanográficas) predominantes en el momento de la realización de los monitoreos, así como la descripción de las obras constructivas que se estén ejecutando, que permitan indagar si estas tienen alguna incidencia en los resultados.\ni) Calcular y analizar para cada caracterización fisicoquímica el índice de calidad de aguas para la preservación de flora y fauna marina ICAMPFF del INVEMAR. En caso de evidenciar cambios en el tiempo de este indicador, realizar el análisis e identificar la causa y la fuente o fuentes del cambio del ICAMPFF.\nj) Los puntos donde se realice el monitoreo y la información obtenida de estos debe georreferenciarse y almacenarse conforme el modelo de almacenamiento geográfico establecido en la Resolución 2182 de 2016 del MADS, o la norma que la modifique o sustituya.","N/A","Aplica","Aplica","N/A","Permanente"]
[]
[87,"CALIDAD DE SEDIMENTO MARINO","Monitoreos en sedimentos marinos\n\nNota: Dependiendo de la duración de la fase constructiva del proyecto, se podrá ajustar la frecuencia de monitoreo en dicha fase.",null,"Realizar monitoreos trimestrales en la fase constructiva y semestrales en la fase operativa de las características fisicoquímicas de los sedimentos del área de influencia del proyecto, siguiendo las recomendaciones previstas en el Manual de Técnicas Analíticas para la Determinación de Parámetros Fisicoquímicos y Contaminantes Marinos del INVEMAR (2003) o aquellos que los modifiquen o sustituyan, dando cumplimiento a las siguientes condiciones:\n\na) En la ejecución de los monitoreos, en lo posible cubrir las dos épocas climáticas (altas y bajas precipitaciones). En caso de que, una vez obtenida la licencia ambiental, el proyecto demore más de 1 año en iniciar la fase constructiva del mismo, deberá realizar tres meses antes del inicio de esta fase los monitoreos de las características fisicoquímicas de los sedimentos marinos, con e fin de tener una caracterización más actualizada para poder realizar las comparaciones a las que hay a lugar.\nb) Los parámetros a determinar son: temperatura, pH, granulometría, Hidrocarburos aromáticos policíclicos, Carbono orgánico total (COT), Hidrocarburos totales, fenoles, sulfuro ácido volátil, fósforo total y nitrógeno total, grasas y aceites, metales y metaloides (arsénico, bario, cadmio, cinc, cromo, cobre, mercurio, níquel, plata, plomo, selenio), materia orgánica total. \nc) Presentar en los respectivos Informes de Cumplimiento Ambiental - ICA los reportes de laboratorio, las cadenas de custodia originales y el respectivo análisis.\nd) El análisis deberá incluir: i) la comparación con la caracterización ambiental presentada en el EIA y los monitoreos que se vayan realizando conforme el avance de las obras para determinar la tendencia de la calidad de los sedimentos marinos; ii) la comparación de los resultados de los parámetros medidos con aquellos que se encuentren dentro de los niveles de impacto potencial y probable (TEL y PEL) utilizados por la Agencia para la Administración de Océanos y Atmósfera de los Estados Unidos - NOAA (https://response.restoration.noaa.gov/environmental-restoration/environmental-assessment-tools/squirt-cards.html); iii) la correlación de los resultados obtenidos en el muestreo con los parámetros fisicoquímicos del agua marina y los hidrobiológicos; y iv) descripción de las obras constructivas que se estén ejecutando, que permitan indagar si estas tienen alguna incidencia en los resultados.\nd) Los puntos de monitoreo deben corresponder a los mismos monitoreados en la caracterización ambiental, en caso de adicionar nuevos puntos se debe justificar su representatividad. \ne) Los puntos donde se realice el monitoreo y la información obtenida de estos debe georreferenciarse y almacenarse conforme el modelo de almacenamiento geográfico establecido en la Resolución 2182 de 2016 del MADS, o la norma que la modifique o sustituya.","N/A","Aplica","Aplica","N/A","Permanente"]
[88,"DRAGADO","Volúmenes de material dragado, dispuesto y/o aprovechado / reutilizado\n\nNota: En caso de que el proyecto no haya solicitado aprovechamiento / reutilización del material de dragado, eliminar el numeral iii) de la obligación.",null,"Presentar en los respectivos Informes de Cumplimiento Ambiental - ICA el acumulado de volúmenes de: i) material dragado, ii) material dispuesto en el área autorizada, iii) material aprovechado o reutilizado.","N/A","Aplica","Aplica","N/A","Permanente"]
[89,"BATIMETRÍAS","Batimetrías en áreas de dragado y zonas de disposición\n\nNota: Ajustar la frecuencia de los monitoreo durante la construcción teniendo en cuenta el tipo de obra, su magnitud y duración.",null,"Realizar batimetrías en áreas de dragado y zonas de disposición marítima del proyecto, teniendo en cuenta una distancia adicional a los límites de las áreas de intervención, de tal forma que permita identificar si se presentan cambios en el fondo marino alrededor de estas áreas. La frecuencia de los levantamientos batimétricos se realizará: i) un muestreo en un periodo no mayor a un mes antes de iniciar las obras constructivas, [ii) muestreos mensuales durante la construcción de la obras marítimas] y iii) un muestreo en un periodo no mayor a un mes después de finalizar las actividades de dragado, que permita verificar los volúmenes de material dragados y las profundidades alcanzadas. Presentar dicha información en los Informes de Cumplimiento Ambiental - ICA, con la identificación de procesos de erosión / sedimentación, el análisis de los posibles impactos en el área de influencia y las correspondientes medidas de manejo en caso de evidenciarse efectos negativos. ","Aplica","Aplica","Aplica ","N/A","Permanente"]
[90,"AGUAS DE ESCORRENTÍA","Manejo de aguas de escorrentía superficial\n\nNota 1: Evaluar la propuesta realizada por el proyecto en relación con el sitio donde serán entregadas las aguas de escorrentía y las obras asociadas a la descarga. En caso de que no cumplan con las condiciones establecidas en la presente obligación, deberá requerir ajuste de la medida acorde con los criterios del literal b).\n\nNota 2: No se permite la descarga directa a suelo sin ningún tipo de control en la velocidad y manejo de sedimentos, lo cual será objeto de análisis por parte del profesional evaluador.",null,"Implementar sistemas de control y manejo de escorrentía dando cumplimiento a lo siguiente:\n\na) Contar con una pendiente que favorezca su conducción a los sistemas de control y manejo de escorrentía, de tal forma que la escorrentía fluya libremente hacia ellas.\nb) De acuerdo con las características de pendiente y tipo de sistemas de control y manejo, deberá contar con disipadores de energía o cualquier otro sistema, que garantice que las aguas lluvias lleguen a una baja velocidad al sitio donde serán entregadas, el cual deberá contar con la capacidad para recibir dichas descargas (el sitio corresponderá a superficies de agua lénticas, lóticas, estructuras de almacenamiento y drenaje artificiales - canales de vías existentes o proyectados, o reservorios- y zonas inundables que eviten la generación de procesos erosivos).\nc) El agua de escorrentía recogida a través de dicho sistema deberá pasar por un sistema de remoción de sólidos antes de ser entregada y podrá contar con tratamientos adicionales, dependiendo de las características del medio por el cual se transporte.\nd) Presentar los soportes de la construcción de estos sistemas y del mantenimiento rutinario, o de entrega a terceros a través de los respectivos Informes de Cumplimiento Ambiental - ICA.","N/A","Aplica","Aplica","N/A","Permanente"]
[91,"COMPRA DE AGUA","Compra de agua a terceros autorizados",null,"Desarrollar la actividad de compra de agua (uso industrial y/o consumo humano) con terceros debidamente autorizados, y presentar en los Informes de Cumplimiento Ambiental - ICA:\n\na) Copia de los permisos y/o autorizaciones ambientales vigentes de los proveedores de agua.\nb) Documento que soporte el tipo de uso del agua suministrada por el proveedor, el cual debe estar expedido por la autoridad ambiental competente.\nc) Facturas de compra del agua y/o copia de contratos de suministro de agua, que incluyan como mínimo: nombre y NIT del tercero, volúmenes de agua suministrados (uso industrial y/o consumo humano) y fecha/ periodo de compra, por cada periodo reportado.\nd) Actividades y volúmenes en las que fue empleada el agua en el proyecto, según el periodo reportado.","N/A","Aplica","Aplica","Aplica","Permanente"]
[92,"ENTREGA DE AGUAS RESIDUALES A TERCEROS","Entrega de agua residual doméstica y no domésticas a gestor externo autorizado",null,"Realizar la entrega de agua residual doméstica y no doméstica (no incluye las de producción) a un gestor externo autorizado, y presentar en los respectivos Informes de Cumplimiento Ambiental - ICA:\n\na) Certificados de recolección y transporte emitido por la empresa respectiva, que indiquen: nombre de empresa que recolectó y transportó las aguas residuales, fechas de entrega, volúmenes de entrega, tipo de agua residual, sitio de recolección y destino de las aguas. \nb) Actas de recibo, tratamiento y disposición final de las aguas residuales, que incluya: empresa que entrega, fecha, volumen, origen y tipo de agua residual.\nc) Copia de los permisos y/o licencias vigentes de las respectivas empresas que prestarán el servicio de recolección, transporte y disposición final de las aguas residuales.","N/A","Aplica","Aplica","Aplica","Permanente"]
[93,"RECIRCULACIÓN DE AGUA RESIDUAL","Recirculación de agua residual\n\nNota 1: Se aclara que para el agua residual con uso industrial, la Resolución 1256 del 2021 no establece criterios de calidad desde el punto de vista ambiental. No obstante, teniendo en cuenta lo dispuesto en esta norma en el parágrafo 3 del artículo 5, esta Autoridad podrá requerir el monitoreo de los parámetros que se consideren, con el fin de hacer seguimiento a la tendencia de la calidad del agua que es objeto de recirculación y su posible afectación a los diferentes recursos naturales. Por tal razón, se solicitan parámetros básicos para monitorear cuando se haga uso del agua residual para riego en vías y/o jardines, a través del literal b). El evaluador podrá incluir o excluir parámetros de acuerdo con su criterio técnico y el origen de las aguas.\nNota 2: En caso de que el proyecto manifieste para el agua residual con uso industrial un uso diferente al riego en vías y/o jardines, eliminar el literal c) y d) o solicitar bajo criterio técnico y conocimiento del origen de las aguas residuales objeto de recirculación, los parámetros que se consideren necesarios.",null,"Realizar la recirculación de las aguas residuales generadas en el proyecto, dando cumplimiento a las siguientes condiciones:\n\na) Para el seguimiento y control de la recirculación del agua residual en suelos de soporte de infraestructura por parte de la Autoridad Ambiental, la sociedad [XXX] deberá dar cumplimiento a lo dispuesto en el artículo 3 de la Resolución 1256 de 2021 de Minambiente, o aquella que la modifique, sustituya o derogue, y presentar los respectivos soportes en los Informes de Cumplimiento Ambiental - ICA.\nb) La recirculación del agua residual en suelos de soporte de infraestructura, no deberá generar escorrentía.\nc) Realizar monitoreos trimestrales del agua residual para uso industrial (específicamente para riego de vías y/o jardines) que será objeto de recirculación, registrando los siguientes parámetros: pH, conductividad, SAAM, grasas y aceites, fenoles totales, hidrocarburos totales, cianuro libre, cloruros, fluoruros, sulfatos, mercurio, sodio, antimonio, cloro total residual, nitratos, plomo, hierro, coliformes totales, coliformes termotolerantes y E. Coli. La exclusión de uno o más parámetros deberá solicitarse ante esta Autoridad y estar sustentada con el empleo de balances de materia y la caracterización de las aguas residuales. La recirculación de agua residual con uso industrial para el uso mencionado, no se podrá realizar en áreas pavimentadas o dentro de la ronda de protección a cuerpos de agua.\nd) Presentar en los respectivos Informes de Cumplimiento Ambiental - ICA los reportes de laboratorio, las cadenas de custodia y el análisis de la tendencia de los resultados.\ne) Presentar el reporte mensual de las cantidades de agua que son objeto de recirculación, discriminando el origen y uso dado, en los Informes de Cumplimiento Ambiental - ICA.\n\n","N/A","Aplica","Aplica","Aplica","Permanente"]
[94,"REÚSO DE AGUAS RESIDUALES (GENERADOR)","Obligaciones para: usuario generador \n\nNota 1: Aplica para usuarios generadores (titulares de licencia de ANLA) que entreguen aguas residuales para reúso a usuarios receptores.\nNota 2: Para el agua residual con uso industrial, no aplicaría el literal b) de la presente obligación, toda vez que la Resolución 1256 del 2021 no establece criterios de calidad desde el punto de vista ambiental. Sin embargo, tener en cuenta lo dispuesto en esta norma en el parágrafo 3 del artículo 5. En ese caso, ajustar dicho literal.",null,"Realizar la entrega de las aguas residuales para reúso de conformidad con lo dispuesto en la Resolución 1256 de 2021 expedida por el MADS o aquella que la modifique, sustituya o derogue, y presentar en los Informes de Cumplimiento Ambiental – ICA:\n\na) Reporte diario de las cantidades de agua residual entregada al usuario receptor.\nb) Soportes que den cuenta del cumplimiento de los monitoreo de las aguas residuales objeto de reúso, enmarcadas en el permiso de concesión de aguas del usuario receptor.\nc) Concesión de aguas por parte del usuario receptor. Cuando la concesión de aguas del usuario receptor se haya vencido o la licencia ambiental se haya modificado en términos de este permiso (cuando este incluya la concesión de aguas), el titular del PMA presentará una copia de la renovación del permiso o modificación de licencia ambiental por parte del receptor.","N/A","Aplica","Aplica","Aplica","Permanente"]
[95,"REÚSO DE AGUAS RESIDUALES (USUARIO RECEPCTOR)","Obligaciones para: usuario receptor\n\nNota 1: Aplica para usuarios receptores que hagan uso de aguas residuales para reúso (titulares de licencia de ANLA).\nNota 2: Se aclara que para el agua residual con uso industrial, la Resolución 1256 del 2021 no establece criterios de calidad desde el punto de vista ambiental. No obstante, teniendo en cuenta lo dispuesto en esta norma en el parágrafo 3 del artículo 5, esta Autoridad podrá requerir el monitoreo de los parámetros que se consideren, con el fin de hacer seguimiento a la tendencia de la calidad del agua que es objeto de reúso y su posible afectación a los diferentes recursos naturales. Por tal razón, se solicitan parámetros básicos para monitorear cuando se haga uso del agua residual para riego en vías y/o jardines, a través del literal b). El evaluador podrá incluir o excluir parámetros de acuerdo con su criterio técnico y el origen de las aguas.\nNota 3: En caso de que el proyecto manifieste para el  agua residual con uso industrial un uso diferente al riego en vías y/o jardines, eliminar el literal b) y c) o solicitar bajo criterio técnico y conocimiento del origen de las aguas residuales objeto de reúso, los parámetros que se consideren necesarios.",null,"Realizar la entrega de las aguas residuales para reúso de conformidad con lo dispuesto en la Resolución 1256 de 2021 expedida por el MADS o aquella que la modifique, sustituya o derogue, bajo las siguientes condiciones: \n\na) Dar cumplimiento a lo dispuesto en los numerales 1, 2 y 3 y parágrafo del artículo 6 de la Resolución 1256 de 2021 de Minambiente, o aquella que la modifique, sustituya o derogue, y presentar los respectivos soportes en los Informes de Cumplimiento Ambiental - ICA.\nb) Realizar monitoreos trimestrales del agua residual para uso industrial (específicamente para riego de vías y/o jardines) que será objeto de reúso, registrando los siguientes parámetros: pH, conductividad, SAAM, grasas y aceites, fenoles totales, hidrocarburos totales, cianuro libre, cloruros, fluoruros, sulfatos, mercurio, sodio, antimonio, cloro total residual, nitratos, plomo, hierro, coliformes totales, coliformes termotolerantes y E. Coli. La exclusión de uno o más parámetros deberá solicitarse ante esta Autoridad y estar sustentada con el empleo de balances de materia y la caracterización de las aguas residuales. \nc) Presentar el reporte mensual de las cantidades de agua que son objeto de reúso, discriminando el origen y uso dado, en los Informes de Cumplimiento Ambiental - ICA.\nd) Presentar en los respectivos Informes de Cumplimiento Ambiental - ICA los reportes de laboratorio, las cadenas de custodia y el análisis de la tendencia de los resultados.\n","N/A","Aplica","Aplica","Aplica","Permanente"]
[96,"GESTIÓN INTEGRAL DE AGUAS","Reporte semanal de los volúmenes y caudales de agua residual gestionada según el permiso respectivo o la actividad autorizada",null,"Llevar un registro (base de datos) mensual y acumulado de los volúmenes y caudales de las aguas gestionadas [Espacio para indicar el permiso respectivo: vertimientos, concesión de aguas, y/o la actividad autorizada: compra de agua, reúso, entrega de aguas residuales para reúso, entrega de aguas residuales a terceros], lo cual se soportará mediante un balance de masa, en términos de volumen, que se presentará en cada Informe de Cumplimiento Ambiental - ICA, según el periodo reportado.","N/A","Aplica","Aplica","Aplica","Permanente"]
[97,"RECURSO PESQUERO","Manejo del recurso pesquero",null,"Realizar el monitoreo de la actividad pesquera  (artesanal e industrial) en las zonas de desembarque del área de influencia del proyecto, considerando los siguientes aspectos:\n\na) En fase constructiva realizar monitoreos bimensuales de al menos 15 días continuos; y en fase operativa monitoreos tres veces al año de al menos 15 días continuos, quedando cubiertas las dos épocas climáticas (altas y bajas precipitaciones). \nb) Hacer el seguimiento de los elementos identificados en el estudio pesquero presentado en el EIA (biología de las especies, condiciones socioencómicas, características de la actividad, entre otras) y tener como referente las metodologías oficiales de la Autoridad Nacional de Acuicultura y Pesca - AUNAP para colectar y analizar la información.\nc) El levantamiento de dicha información, puede ser complementada con aquella disponible en las bases de datos del Servicio Estadístico Pesquero Colombiano – SEPEC de la Autoridad Nacional de Acuicultura y Pesca - AUNAP, DIMAR, Ministerio de Agricultura y Desarrollo Rural, Instituto Humboldt, Corporaciones Ambientales Regionales, INVEMAR, entre otras.\nd) La información deberá presentarse de manera acumulada en los respectivos Informes de Cumplimiento Ambiental -ICA, con el análisis de tendencia, comparando los resultados del periodo reportado con los obtenidos en los periodos previos desde la caracterización ambiental.","N/A","Aplica ","Aplica ","N/A","Permanente"]
[98,"CONSTRUCCIÓN Y/O ADECUACIÓN DE VÍAS DE APOYO AL PROYECTO","Gestión de autorizaciones y/o permisos para realizar las obras de construcción y/o adecuación de vías",null,"Anexar, previo al inicio de la fase constructiva del proyecto mediante oficio radicado a esta Autoridad, las autorizaciones y/o permisos necesarios para realizar las obras de construcción y/o adecuación de las vías que servirán de apoyo al proyecto.","Aplica","N/A","N/A","N/A","Temporal"]
[99,"CONSTRUCCIÓN Y/O ADECUACIÓN DE VÍAS DE APOYO AL PROYECTO","Reporte de las actividades de  mantenimiento, rehabilitación y/o mejoramiento",null,"Remitir en los Informes de Cumplimiento Ambiental - ICA, un informe en el que se especifique y reporten las actividades de construcción y/o adecuación realizadas sobre las vías que servirán de apoyo al proyecto, y sus zonas aledañas incluidas en el derecho de vía - DDV, para cada periodo reportado, incluyendo los soportes técnicos y registros fílmicos y/o fotográficos en los que se evidencie fecha y coordenadas. ","N/A","Aplica","Aplica","N/A","Permanente"]
[100,"CONSTRUCCIÓN Y/O ADECUACIÓN DE VÍAS DE APOYO AL PROYECTO","Informe del estado de las vías de apoyo al proyecto, al finalizar la fase constructiva del proyecto",null,"Al finalizar la fase constructiva del proyecto, presentar en el respectivo Informe de Cumplimiento Ambiental - ICA, un informe que incluya el estado final de las vías que sirvieron de apoyo al proyecto, y sus zonas aledañas incluidas en el derecho de vía - DDV, garantizando que las mismas sean entregadas en iguales o mejores condiciones. Incluir en dicho informe un registro fílmico y/o fotográfico en el que se evidencie fecha y coordenadas. ","N/A","Aplica","N/A","N/A","Temporal"]
[101,"MATERIALES DE CONSTRUCCIÓN","Adquisición de materiales de construcción a través de terceros",null,"Para el desarrollo de las actividades del proyecto, realizar la adquisición de materiales de construcción con terceros que cuenten con los correspondientes permisos o autorizaciones ante la autoridad minera y ambiental competente, y reportar en los respectivos Informes de Cumplimiento Ambiental - ICA lo siguiente:\n\na)  Copias de los títulos mineros y licencias y/o permisos ambientales vigentes para el periodo reportado de las empresas proveedoras de materiales de construcción utilizados durante el periodo. En caso de cambio de proveedores diferentes a los reportados en el EIA y/o modificación o renovación de las licencias y/o permisos ambientales de las empresas proveedoras, presentar los soportes correspondientes.\nb) Las certificaciones/facturas de compra de material en las que se discrimine la fuente u origen, tipo de material, cantidad adquirida (expresada en unidades de volumen o masa) y fecha o periodo de compra.\nc) Reporte en el que se evidencie el uso/destino del material, discriminando las cantidades (unidades de volumen o masa).","N/A","Aplica","Aplica","N/A","Permanente"]
[102,"ALMACENAMIENTO DE COMBUSTIBLES Y PRODUCTOS QUÍMICOS","Características de los sitios de almacenamiento y manejo de combustible y productos químicos",null,"Instalar en los sitios donde se almacene, manipule y/o utilice crudo, aceites, combustibles, productos químicos, residuos aceitosos u otro material potencialmente contaminante, los elementos y/o la infraestructura necesaria que garantice la contención en caso de derrames y la no contaminación del suelo, de acuerdo al Título 6, Parte 2, Libro 2 del Decreto 1076 de 2015 y demás normativa vigente en la materia, tales como:\n\na) Diques de contención con base y muros impermeabilizados que permitan contener como mínimo el 110% del volumen almacenado.\nb) Sistema de cunetas perimetrales, que descolen en cajas de inspección o tanques ciegos para su contención, recolección y posterior tratamiento como residuo peligroso.\nc) Condiciones óptimas o sistemas que permitan la ventilación e iluminación.\nd) Sistemas de prevención y control de incendios.\ne) Kit antiderrames.\nf) Señalización.\ng) Hojas de seguridad de los productos químicos almacenados con la matriz de compatibilidad.","N/A","Aplica","Aplica","Aplica","Permanente"]
[103,"ALMACENAMIENTO DE MATERIALES DE CONSTRUCCIÓN","Características de los sitios de almacenamiento de materiales de construcción",null,"El almacenamiento de materiales de construcción cumplirá con las siguientes condiciones:\n\na) Ubicarse en áreas aptas de acuerdo con la zonificación de manejo ambiental establecida para el proyecto.\nb) Ubicarse en una zona libre, plana en lo posible y de fácil acceso.\nc) Realizar el descapote del área previo al almacenamiento del material.\nd) Implementar medidas de retención de sedimentos en la zona de acopio, que garanticen la no afectación de los cuerpos hídricos cercanos.\ne) Todo material de construcción acopiado a cielo abierto dentro de los frentes de obra y que no pueda ser utilizado durante la jornada laboral, será cubierto y señalizado.","N/A","Aplica","Aplica","Aplica","Permanente"]
[104,"RESIDUOS","Registro de residuos generados, aprovechados, tratados y/o dispuestos (Base de datos)",null,"Llevar un registro (base de datos) mensual acumulada de la cantidad de residuos sólidos convencionales (aprovechables y no aprovechables), residuos peligrosos (sólidos y líquidos), residuos posconsumo y residuos de construcción y demolición (RCD) generados, aprovechados, tratados y/o dispuestos, que indique como mínimo: tipo de residuo, cantidad de residuos generados, cantidad de residuos aprovechados, tratados y/o dispuestos por parte de terceros o del titular de la licencia, tipo de aprovechamiento, tratamiento y disposición. Presentar dicho registro, en los respectivos Informes de Cumplimiento Ambiental - ICA a través del formato \"Plantilla de Seguimiento a la Gestión de Residuos\".","N/A","Aplica","Aplica","Aplica","Permanente"]
[105,"RESIDUOS","Características de los sitios de almacenamiento temporal de residuos",null,"Contar con sitios de almacenamiento temporal de residuos sólidos convencionales (aprovechables y no aprovechables) y de residuos peligrosos (líquidos y sólidos), en cumplimiento del Decreto 1077 de 2015 (Compila Decreto 2981 de 2013 del Ministerio de Vivienda, Ciudad y Territorio) y del Reglamento Técnico del Sector de Agua Potable y Saneamiento Básico - RAS, los cuales deberán ser independientes y contar con:\n\na) Base impermeabilizada para evitar una posible contaminación del suelo.\nb) Cubierta para evitar el contacto con el agua.\nc) Sistema de diques y cunetas perimetrales para los residuos líquidos.\nd) Condiciones óptimas o sistemas que permitan la ventilación e iluminación.\ne) Sistemas de prevención y control de incendios.\nf) Kit antiderrames (para el almacenamiento de residuos líquidos peligrosos)\ng) Señalización.\nh) Los recipientes empleados para el almacenamiento de los residuos deberán ser identificados por tipo de residuo y permitir su fácil limpieza.","N/A","Aplica","Aplica","Aplica","Permanente"]
[106,"RESIDUOS","Manejo de residuos sólidos convencionales (aprovechables y no aprovechables) a través de terceros autorizados",null,"Realizar el manejo de residuos sólidos convencionales (aprovechables y no aprovechables) a través de terceros debidamente autorizados para su transporte, almacenamiento, aprovechamiento, tratamiento y/o disposición final, y presentar en los respectivos Informes de Cumplimiento Ambiental – ICA:\n\na) Copia de las autorizaciones, permisos y/o licencias de las respectivas empresas encargadas de la gestión de los residuos.\nb) Actas de entrega para el transporte, almacenamiento, aprovechamiento, tratamiento y/o disposición final, que indiquen: nombre de empresa, fecha de entrega, sitio de entrega, tipo de residuos, cantidad, tratamiento y/o aprovechamiento a implementar (para el caso de residuos aprovechables).\nc) Relacionar los volúmenes generados de residuos tanto aprovechables como no aprovechables en  el registro (base de datos) solicitada por esta Autoridad.","N/A","Aplica","Aplica","Aplica","Permanente"]
[107,"RESIDUOS","Prohibición de entrega de residuos orgánicos provenientes de alimentos a la comunidad",null,"Los residuos orgánicos provenientes de alimentos no podrán ser entregados a la comunidad para su aprovechamiento.","N/A","Aplica","Aplica","Aplica","Permanente"]
[108,"RESIDUOS","Manejo de residuos posconsumo",null,"Integrar la gestión de los residuos posconsumo, como: pilas y/o acumuladores, bombillas, llantas usadas, computadores y/o periféricos, baterías plomo ácido, fármacos o medicamentos vencidos, envases y empaques y demás residuos posconsumo considerados por la normativa actual vigente, a las corrientes posconsumo reglamentadas y presentar en los respectivos Informes de Cumplimiento Ambiental – ICA los certificados de entrega de estos residuos al Plan de Gestión de Devolución de Productos Posconsumo y/o al Sistema de Recolección Selectiva y Gestión Ambiental de Residuos aprobados por esta Autoridad, indicando por cada periodo reportado:\n\na) El volumen y/o peso de residuos posconsumo entregados, discriminando tipo de residuo y el manejo que se le otorgará por parte del Plan de Gestión de Devolución de Productos Posconsumo y/o Sistema de Recolección Selectiva y Gestión Ambiental de Residuos a los residuos posconsumo entregados.\nb) Relacionar los volúmenes generados, aprovechados, tratados y/o dispuestos en el registro (base de datos) solicitada por esta Autoridad.","N/A","Aplica","Aplica","Aplica","Permanente"]
[109,"RESIDUOS","Manejo de residuos peligrosos (líquidos y sólidos) a través de terceros autorizados",null,"Realizar el manejo de residuos peligrosos (líquidos y sólidos) a través de terceros debidamente autorizados para su transporte, almacenamiento, aprovechamiento, tratamiento y/o disposición final, y presentar en los respectivos Informes de Cumplimiento Ambiental – ICA:\n\na) Copia de las autorizaciones, permisos y/o licencias de las respectivas empresas encargadas de la gestión de los residuos.\nb) Actas de entrega para el transporte, almacenamiento, aprovechamiento, tratamiento y/o disposición final, que indiquen: nombre de empresa, fecha de entrega, sitio de entrega, tipo de residuos y cantidad.\nc) Certificados de tratamiento, aprovechamiento y/o disposición final, que indiquen: nombre de empresa que gestionó los residuos, nombre de empresa que entregó los residuos, fechas de recepción y gestión de residuos, tipo de residuo, cantidad, tipo de tratamiento realizado  y/o alternativa de disposición final y sitio donde se gestionó el residuo.\nd) Relacionar los volúmenes generados, aprovechados, tratados y/o dispuestos en el registro (base de datos) solicitada por esta Autoridad.","N/A","Aplica","Aplica","Aplica","Permanente"]
[110,"RESIDUOS","Registro RESPEL para  cantidad igual o mayor a 10 kg/mes de residuos sólidos peligrosos",null,"Para cantidades iguales o superiores a 10 kg/mes de residuos sólidos peligrosos, dar cumplimiento a lo establecido en la Resolución 1362 del 2007 del Ministerio de Ambiente, Vivienda y Desarrollo Territorial, o aquella que la modifique, derogue o sustituya, por la cual se establecen los requisitos y el procedimiento para el Registro de Generadores de Residuos o Desechos Peligrosos, a que hacen referencia los artículos 2.2.6.1.6.1 y 2.2.6.1.6.2 del Decreto 1076 de 2015. ","N/A","Aplica","Aplica","Aplica","Permanente"]
[111,"RESIDUOS","Almacenamiento temporal de los residuos peligrosos y especiales",null,"De conformidad con el establecido en el artículo 2.2.6.1.3.1. del Título 6, Parte 2, Libro 2 del Decreto 1076 de 2015 o aquella que la modifique, derogue o sustituya, no se podrá realizar el almacenamiento temporal de residuos peligrosos por más de doce (12) meses; en los casos debidamente sustentados y justificados, se podrá solicitar ante esta autoridad, una extensión de dicho periodo. ","N/A","Aplica","Aplica","Aplica","Permanente"]
[112,"RESIDUOS","Manejo de residuos hospitalarios y similares",null,"Presentar la gestión de los residuos hospitalarios y similares generados en el proyecto en los Informes de Cumplimiento Ambiental - ICA, dando cumplimiento a las siguientes condiciones:\n\na) Copia de las autorizaciones, permisos y/o licencias de las respectivas empresas encargadas de la gestión de los residuos.\nb) Actas de entrega para el transporte, almacenamiento, aprovechamiento, tratamiento y/o disposición final, que indiquen: nombre de empresa, fecha de entrega, sitio de entrega, tipo de residuos y cantidad.\nc) Certificados de tratamiento, aprovechamiento y/o disposición final, que indiquen: nombre de empresa que gestionó los residuos, nombre de empresa que entregó los residuos, fechas de recepción y gestión de residuos, tipo de residuo, cantidad, tipo de tratamiento realizado  y/o alternativa de disposición final y sitio donde se gestionó el residuo.\nd) Almacenarse de acuerdo al código de colores y las características y condiciones específicas establecidas en el Manual de Procedimientos para la Gestión Integral de Residuos Hospitalarios y Similares, adoptado por la Resolución 1164 de 2002 del Ministerio de Ambiente y Ministerio de Salud, o aquella que la modifique, derogue o sustituya.\ne) Relacionar los volúmenes generados, tratados y/o dispuestos en el registro (base de datos) solicitada por esta Autoridad.","N/A","Aplica","Aplica","Aplica","Permanente"]
[113,"RESIDUOS","Metas de aprovechamiento (reutilización, tratamiento y reciclaje) de residuos de construcción y demolición - RCD",null,"Dar cumplimiento al parágrafo del artículo 19 de la Resolución 472 de 2017 del Ministerio de Ambiente y Desarrollo Sostenible (modificada por la Resolución 1257 del 2021), o aquella otra que la modifique, derogue o sustituya, en lo relacionado con las metas de aprovechamiento (reutilización, tratamiento y reciclaje) de residuos de construcción y demolición – RCD  para proyectos, obras o actividades sujetos a licenciamiento ambiental, y presentar en los respectivos Informes de Cumplimiento Ambiental - ICA:\n\na) Reporte en el que se indique: porcentaje de material aprovechado, respecto del total utilizado en la obra, tipo de material aprovechado, volumen de material aprovechado, sectores de donde proviene el material, actividades/sectores en los que fue aprovechado, periodo en los que fue realizado.","N/A","Aplica","Aplica","Aplica","Permanente"]
[114,"RESIDUOS","Disposición final de residuos de construcción y demolición - RCD",null,"Disponer los residuos de construcción y demolición – RCD no susceptibles de aprovechamiento de acuerdo con lo establecido en la Resolución 472 de 2017 del Ministerio de Ambiente y Desarrollo Sostenible (modificada por la Resolución 1257 del 2021), o aquella otra que la modifique o sustituya, en los sitios de disposición final de RCD legalmente autorizados, para lo cual el titular del proyecto entregará en los respectivos Informes de Cumplimiento Ambiental – ICA:\n\na) Copia de las autorizaciones, permisos y/o licencias del sitio de disposición final de RCD.\nb) Actas de entrega, que indiquen: nombre de empresa, fecha de entrega, sitio de entrega, tipo de residuo y cantidad.\nc) Certificados de disposición final, que indiquen: nombre de empresa que gestionó los residuos, nombre de empresa que entregó los residuos, fechas de recepción y gestión de residuos, tipo de residuo, cantidad y sitio donde se gestionó el residuo.\nd) Relacionar los volúmenes de RCD generados, aprovechados, tratados y/o dispuestos por tipo de residuo en el registro (base de datos) solicitada por esta Autoridad.","N/A","Aplica","Aplica","Aplica","Permanente"]
[115,"ZONAS DE DISPOSICIÓN DE MATERIAL SOBRANTE DE EXCAVACIONES","Manejo de ZODMEs",null,"Dar cumplimiento a las siguientes condiciones relacionadas con el manejo de las ZODMEs:\n\na) Implementar sistemas de manejo de aguas de escorrentía y sistemas de control de sólidos a la salida de los drenajes del depósito, de tal manera que no se vean afectados cuerpos de aguas, estabilidad del relleno y/o los predios vecinos.\nb) No se podrá disponer en las ZODMEs residuos sólidos convencionales y peligrosos, tales como: orgánicos, chatarra, madera, papel, lodos, combustibles, entre otros no autorizados.\nc) Realizar la compactación y cubrimiento del material mientras se realice la disposición del mismo.\nd) Presentar el origen, volúmenes y tipo de material dispuesto a la fecha de corte de los Informes de Cumplimiento Ambiental – ICA, discriminando el volumen acumulado y dispuesto en el periodo.\ne) Realizar monitoreos [definir la frecuencia, la cual estará en función de la estabilidad del terreno de acuerdo; validar con el estudio geotécnico que presente el proyecto] a través de levantamientos altimétricos y planimétricos de la zona del depósito, a fin de verificar la conformación del relleno. Presentar los resultados de los monitoreos en los Informes de Cumplimiento Ambiental – ICA. \nf) Implementar sistemas de medición de la estabilidad del lleno para identificar oportunamente una posible falla debida al asentamiento generado en el relleno al finalizar la conformación del mismo. Presentar los soportes correspondientes en los Informes de Cumplimiento Ambiental – ICA.\ng) Al finalizar el lleno de la ZODME realizar su revegetalización con especies nativas, o aquella otra actividad pactada con los propietarios de los predios de acuerdo con el uso final que se le vaya a dar al área, cuando estas se encuentren localizadas en predios privados. El titular de la licencia ambiental acreditará documentalmente a la ANLA a través del respecto Informe de Cumplimiento Ambiental - ICA la conformación final de la ZODME.\nh) Luego de la etapa de clausura de la ZODME y mientras el proyecto esté en construcción, continuar con el mantenimiento rutinario de los sistemas de manejo de aguas de escorrentía, sólidos y revegetalización establecidos en la misma, en caso de que esta última aplique. De lo anterior, presentar las actividades adelantadas con registro fotográfico en el respectivo Informe de Cumplimiento Ambiental ICA del periodo reportado.\ni) Presentar en los Informes de Cumplimiento Ambiental – ICA el avance para el respectivo periodo reportado según el modelo de almacenamiento de datos geográficos establecido en la Resolución 2182 de 2016 expedida por el MADS, o aquella que la modifique o sustituya.","N/A","Aplica","N/A","N/A","Permanente"]
[116,"DESMANTELAMIENTO Y ABANDONO","Entrega del estudio del que trata el artículo 2.2.2.3.9.2 del Decreto 1076 del 26 de 2015.",null,"Presentar mediante oficio dirigido a la Subdirección de Seguimiento de Licencias Ambientales por lo menos con tres (3) meses de anticipación al inicio del desmantelamiento y abandono del proyecto, el estudio del que trata el artículo 2.2.2.3.9.2 del Decreto 1076 del 2015, o la norma que lo modifique y/o sustituya.","N/A","N/A","N/A","Aplica","Temporal"]
[117,"DESMANTELAMIENTO Y ABANDONO","Desmonte y cierre de instalaciones temporales y retiro de equipos, materiales y escombros",null,"Al finalizar la fase constructiva, realizar el desmonte y cierre de las instalaciones temporales como campamentos, plantas de triturado, concreto, mezcla asfáltica, fuentes de material y demás áreas utilizadas para la construcción del proyecto, así como el retiro de los equipos de construcción, materiales sobrantes y escombros. Documentar y reportar las medidas y acciones implementadas en los Informes de Cumplimiento Ambiental - ICA.","N/A","N/A","N/A","Aplica","Temporal"]
[118,"COMPENSACIONES DEL MEDIO BIÓTICO","No generar impactos adicionales en el desarrollo de las actividades de compensación",null,"En ningún caso las actividades de compensación podrán generar impactos adicionales a los ya identificados por el proyecto; en este sentido, para la implementación de las actividades de compensación no se podrá hacer uso y/o aprovechamiento de recursos naturales adicionales a los ya aprobados para las actividades en el presente acto administrativo.","N/A","Aplica","Aplica","Aplica","Permanente"]
[119,"COMPENSACIONES DEL MEDIO BIÓTICO","Inicio de actividades aprobadas de compensación",null,"Dar inicio a las actividades de compensación en un periodo máximo de seis (6) meses una vez iniciada la actividad que da origen al impacto y a la respectiva compensación, incluyendo las consideraciones de adicionalidad y/u obligaciones específicas del acto administrativo, de conformidad con el articulo 3 de la Resolución 256 del 22 de febrero de 2018, o aquella norma que la modifique, derogue o sustituya, e informar a esta autoridad mediante oficio dirigido a la Subdirección de Seguimiento de Licencias Ambientales el inicio de las  actividades de compensación.","N/A","Aplica","Aplica","N/A","Temporal"]
[120,"COMPENSACIONES DEL MEDIO BIÓTICO","Presentación del cumplimiento de las formas de implementación\n\nNota 1: Este parágrafo aplica cuando el proyecto tenga formas agrupadas de las obligaciones. Incluir parágrafo en la obligación anterior \"Inicio de actividades aprobadas de compensación\".\nNota 2: En caso de que solo se agrupen obligaciones de compensación, eliminar las obligaciones de inversión de 1% de la obligación.\nNota 3: En caso de que el proyecto agrupe obligaciones de compensaciones e inversión del 1%, se deberá incluir este parágrafo una única vez (verificar que no esté duplicada con las obligaciones de inversión de 1%).",null,"Parágrafo 1: El cumplimiento de objetivos y obligaciones asociadas a las formas agrupadas de implementación de los planes de compensación del medio biótico e inversión forzosa de no menos del 1% a las que se refiere el Manual de Compensaciones del Componente Biótico y el Articulo  2.2.9.3.1.12. del Decreto 1076 de 2015, o aquella norma que la modifique, derogue o sustituya, se presentarán de manera independiente en los Informes de Cumplimiento Ambiental de cada proyecto y de cada obligación correspondiente, bajo el modelo de almacenamiento geográfico establecido en la Resolución 2182 de 2016 del MADS, o la que la modifique, derogue o sustituya."," -"," -"," -"," -"," -"]
[121,"COMPENSACIONES DEL MEDIO BIÓTICO","No superposiciones entre áreas de compensación e inversión del 1%\n\nNota 1: Incluir parágrafo en la obligación anterior \"Inicio de actividades aprobadas de compensación\".",null,"Parágrafo 2: No se deberán presentar superposiciones entre las áreas destinadas para el cumplimiento de las obligaciones de compensación o de inversión forzosa de no menos del 1%, así como tampoco con áreas destinadas al cumplimiento de obligaciones impuestas a cualquier otro expediente, máxime cuando se trate de la misma actividad propuesta para el cumplimiento de la obligación."," -"," -"," -"," -"," -"]
[122,"COMPENSACIONES DEL MEDIO BIÓTICO","Presentación de cronograma de áreas definitivas de compensación",null,"Entregar mediante oficio dirigido a la Subdirección de Seguimiento de Licencias Ambientales - SSLA, el cronograma con las fechas de presentación de las áreas definitivas de compensación a esta Autoridad para su aprobación, previo al inicio de las actividades que generan el impacto, contemplando la condición del inicio de la implementación de las acciones de compensación en un máximo de seis meses después del inicio de las actividades que generan el impacto. Cualquier modificación deberá ser informada y autorizada por la autoridad, quien se pronunciará sobre la pertinencia de las modificaciones solicitadas.","N/A","Aplica","N/A","N/A","Puntual"]
[123,"COMPENSACIONES DEL MEDIO BIÓTICO","Informar ajustes de área a compensar en el plan de compensación",null,"En caso de identificar que, una vez finalizada la actividad que genera la compensación, se incurre en una compensación de menor o mayor área a la aprobada mediante el presente acto administrativo, el titular de la licencia informará a esta autoridad los ajustes al plan de compensación para que en el marco del seguimiento ambiental sea objeto de análisis y aprobación.","N/A","Aplica","Aplica","N/A","Permanente"]
[124,"COMPENSACIONES DEL MEDIO BIÓTICO","Informar ajustes de localización de áreas de compensación",null,"Las áreas definitivas para el desarrollo de las actividades aprobadas de compensación deberán estar inmersas en las áreas preliminares aprobadas mediante el presente acto administrativo, en caso contrario, deberán ser debidamente justificadas garantizando la adicionalidad y las mismas condiciones de modo, tiempo y lugar que fueron objeto de aprobación, con el fin de ser presentadas a esta autoridad para que en el marco del seguimiento ambiental sea objeto de análisis y aprobación de conformidad con lo dispuesto en el articulo 4 de la Resolución 256 del 22 de febrero de 2018 o aquella norma que la modifique, derogue o sustituya.","N/A","Aplica","Aplica","Aplica","Permanente"]
[125,"COMPENSACIONES DEL MEDIO BIÓTICO","Cambio en las acciones, modos, mecanismos y/o formas de compensación aprobada",null,"En caso de cambio en las acciones, sitios, modos, mecanismos y/o formas de compensación aprobadas, presentarlos a esta autoridad para que en el marco del seguimiento ambiental sea objeto de análisis y aprobación, de conformidad con lo dispuesto en el articulo 4 de la Resolución 256 del 22 de febrero de 2018 o aquella norma que la modifique, derogue o sustituya.","N/A","Aplica","Aplica","Aplica","Permanente"]
[126,"COMPENSACIONES DEL MEDIO BIÓTICO","Presentación del informe de avance del plan de compensación",null,"El titular de la licencia ambiental, deberá presentar en los respectivos Informes de Cumplimiento Ambiental - ICA, un informe de avance, el cual debe contener como mínimo: \n\na) Comparación de la caracterización detallada de los polígonos elegidos para llevar a cabo las acciones de compensación del medio biótico, respecto a los resultados obtenidos durante el seguimiento y monitoreo propuesto, para cada uno de los indicadores y realizar el análisis de efectividad respectivo, así como la propuesta de ajuste en caso de resultados desfavorables. \nb) Información geográfica del área compensada a la fecha de presentación del informe de avance, incluyendo la respectiva discriminación por acción de compensación, y porcentaje de avance con respecto al área total a compensar. \nc) Estado de los ecosistemas del área de compensación propuestas para las acciones de restauración, preservación y/o uso sostenible, las cuales deberán ser coherentes con las necesidades del territorio frente a procesos de conservación y restauración ecológica, así como los instrumentos de planificación y ordenamiento territorial.\nd) En caso de proponerse acciones de restauración ecológica bajo el enfoque de restauración, se debe presentar un análisis, a través de los indicadores propuestos, que permitan establecer la trayectoria sucesional del área intervenida y si esta es acorde a la referencia elegida. De ser necesario, se debe proponer el ajuste de las medidas para ser implementadas en el siguiente periodo.\ne) Descripción de las actividades ejecutadas, que incluya los soportes y registro fotográfico que evidencien cada una de las actividades propuestas en la fase de implementación, seguimiento y monitoreo para las acciones aprobadas, señalando: i) el área efectivamente intervenida durante el periodo y ii) el progreso en la implementación del plan de compensación por ecosistema.\nf) Porcentaje de avance de acuerdo al cronograma.\n\nParágrafo: La compensación se dará por cumplida una vez se logre el cumplimiento de los objetivos y metas propuestos por la sociedad en términos ecológicos, biológicos y/o ecosistémicos. ","N/A","Aplica","Aplica","Aplica","Permanente"]
[127,"COMPENSACIONES DEL MEDIO BIÓTICO","No pérdida neta de biodiversidad con respecto a ecosistema de referencia",null,"El titular de la licencia ambiental evidenciará y cuantificará la no pérdida neta de biodiversidad de la que trata el \"Manual de compensaciones del componente biótico\", utilizando como ecosistema de referencia las áreas de afectación que generan las obligaciones de compensación, para lo cual deberá presentar en el primer Informe de Cumplimiento Ambiental - ICA de la fase constructiva, con base en los datos de línea base del estudio de impacto ambiental: \n\na) El cálculo de los indicadores contenidos en el documento \"Indicadores de impacto para el seguimiento de las obligaciones de compensación y planes de inversión del 1%\" para los ecosistemas de referencia. \nb) Las metas actualizadas del plan de compensación en términos de composición, estructura y función de las acciones a implementar, de acuerdo con los resultados de los atributos ecológicos obtenidos de la aplicación de los indicadores en los ecosistemas de referencia.\n\nEn los siguientes Informes de Cumplimiento Ambiental - ICA se deberá presentar el cálculo de los indicadores de impacto para las áreas de compensación, con el fin de establecer el cumplimiento de las metas en términos de la efectividad de las medidas de compensación asociadas a la no pérdida neta de biodiversidad. \n\nParágrafo: En caso de cambios en las áreas u acciones de compensación, las metas deberán ser actualizadas de acuerdo con el resultados de los indicadores de impacto para la composición, estructura y función de los ecosistemas de referencia.","N/A","Aplica","Aplica","Aplica","Permanente"]
[128,"COMPENSACIONES DEL MEDIO BIÓTICO","Exclusividad de las acciones de compensación",null,"Al titular de la licencia en ningún caso le será posible atribuir el cumplimiento de los objetivos de compensación a un tercero.","N/A","Aplica","Aplica","Aplica","Permanente"]
[129,"INVERSIÓN DEL 1%","Informar inicio del uso del recurso hídrico autorizado en el permiso de concesión de aguas",null,"Informar a la ANLA por medio de oficio dirigido a la Subdirección de Seguimiento de Licencias Ambientales, la fecha de inicio del uso del recurso hídrico autorizado en el permiso de concesión de aguas y si a esa fecha se han ejecutado alguno o algunos de los ítems (actividades) enmarcados en el artículo 321 de la ley 1955 del 2019, o aquella que la modifique, derogue o sustituya.","N/A","Aplica","N/A","N/A","Temporal"]
[130,"INVERSIÓN DEL 1%","Presentar las inversiones base de liquidación incurridas en el año inmediatamente anterior",null,"Presentar dentro de los tres (3) meses siguientes a cada vigencia fiscal (plazo máximo a 31 de marzo), certificado de revisor fiscal o contador público, informando las inversiones base de liquidación incurridas en el año inmediatamente anterior una vez se haya iniciado el uso del recurso hídrico autorizado en el permiso de concesión de aguas y la ejecución de alguna o algunas de los ítems (actividades) enmarcados en el artículo 321 de la ley 1955 del 2019, o la ley que la modifique, derogue o sustituya, para ajustar el monto base de liquidación de la inversión forzosa de no menos el 1%, con los montos efectivamente ejecutados y registrados en los libros de contabilidad del proyecto. La certificación debe incluir los costos, gastos y valores capitalizados, y deberá ser detallada de conformidad a los ítems establecidos en el artículo 321 de la Ley 1955 de 2019.\n\nSi las inversiones se efectuaron en dólares informar la TRM utilizada para la conversión a pesos COP para cada año de ejecución del proyecto.","N/A","Aplica","Aplica","N/A","Permanente"]
[131,"INVERSIÓN DEL 1%","Inicio del plan de inversión del 1%",null,"Iniciar el plan de inversión forzosa de no menos del 1% aprobado en un periodo de tiempo no superior de seis (6) meses posteriores a la presentación del primer certificado de revisor fiscal o contador público.","N/A","Aplica","Aplica","N/A","Temporal"]
[132,"INVERSIÓN DEL 1%","Actualización de la liquidación de las inversiones\n\nNota: Incluir parágrafo en la obligación anterior \"Inicio del plan de inversión del 1%\".",null,"Parágrafo: En caso de no ejecutar las inversiones del cronograma por un tiempo superior a un año fiscal, presentar por medio de oficio dirigido a la Subdirección de Seguimiento de Licencias Ambientales de esta autoridad, la actualización del valor de la liquidación de la inversión, de acuerdo con la fórmula señalada en el parágrafo 1 del artículo 321 de la ley 1955 del 25 de mayo de 2019, con plazo máximo de 31 de marzo del año siguiente."," -"," -"," -"," -"," -"]
[133,"INVERSIÓN DEL 1%","Presentar informes de avance del Plan de inversión forzosa de no menos del 1%\n\nNota: Ajustar obligación en caso de que no se haya presentado cronograma de ejecución.",null,"Presentar en los respectivos Informes de Cumplimiento Ambiental - ICA informes de avance de las actividades, los cuales deben incluir como mínimo lo siguiente:\n\na) Descripción de las acciones y actividades desarrolladas respecto al plan de inversión forzosa del 1%, de acuerdo con las líneas de destinación aprobadas.\nb) Avance en la ejecución de las actividades conforme con el cronograma para las acciones y actividades de las líneas de destinación aprobadas.\nc) Descripción del avance detallado del proyecto, indicando cantidades y valores efectivamente ejecutados anexando los soportes técnicos y financieros (factura, contrato o documento equivalente).\nd) Modelo de almacenamiento geográfico según lo establecido en la Resolución 2182 de 2016 de Minambiente, o la que la modifique, derogue o sustituya.","N/A","Aplica","Aplica","Aplica","Permanente"]
[134,"INVERSIÓN DEL 1%","Presentación del cumplimiento de las formas de implementación\n\nNota: Este parágrafo aplica cuando el proyecto tenga formas agrupadas de las obligaciones. Incluir parágrafo en la obligación \"Presentar informes de avance\".",null,"Parágrafo: El cumplimiento de objetivos y obligaciones asociadas a las formas agrupadas de implementación de los planes de compensación del medio biótico e inversión de no menos del 1% a las que se refiere el Manual de Compensaciones del Componente Biótico y el Articulo  2.2.9.3.1.12. del Decreto 1076 de 2015, o aquella norma que la modifique, derogue o sustituya, se presentarán de manera independiente en los Informes de Cumplimiento Ambiental de cada proyecto y de cada obligación correspondiente, incluyendo la información asociada al modelo de almacenamiento geográfico establecido en la Resolución 2182 de 2016 del MADS, o la que la modifique, derogue o sustituya."," -"," -"," -"," -"," -"]
[135,"INVERSIÓN DEL 1%","Seguimiento a la flora en ecosistemas terrestres en áreas de inversión de menos del 1% \n\nNota: Aplica cuando dentro de las líneas de inversión se incluyan acciones de conservación.",null,"Realizar los monitoreos semestrales de flora en áreas de inversión de no menos del 1% (acciones de conservación) para evidenciar el cumplimiento de la línea de inversión propuesta dependiendo de las metas e indicadores establecidos en el plan de seguimiento y monitoreo. Para ello, se puede emplear parcelas permanentes con la forma y tamaño apropiado que sea representativo para el área y ecosistema terrestre sujeto a monitoreo, o cualquier otra metodología que esté debidamente justificada. Los datos obtenidos deben brindar información que permita analizar la estructura, composición y riqueza, entre otras variables. El tiempo de implementación de los monitoreos deberá realizarse hasta que se demuestre el cumplimiento de la meta propuesta de la obligación. La información deberá presentarse de manera acumulada en los respectivos Informes de Cumplimiento Ambiental -ICA, con el análisis de tendencia, comparando los resultados del periodo reportado con los obtenidos en los periodos previos desde la caracterización ambiental.","N/A","Aplica","Aplica","Aplica","Permanente"]
[136,"PLAN DE CONTINGENCIA","Actualización del Plan de Contingencia",null,"Presentar en los Informes de Cumplimiento Ambiental – ICA, la revisión y/o complemento del Plan de Contingencia siguiendo los lineamientos descritos en el Decreto 1081 del 2015 adicionado por el Decreto 2157 de 2017 en el Artículo 2.3.1.5.2.1.1, Numeral 3.1.2, Literal f y el Decreto 1076 de 2015 en el Artículo 2.2.2.3.5.1, Numeral 9 y el Artículo 2.2.2.3.9.3 o aquellos que los modifiquen o sustituyan y en caso de no presentarse un ajuste en el documento, indicar las razones por las cuales no se realiza:\n\na. Ante nuevas exigencias o cambios en la legislación nacional referente al plan de contingencia, en los plazos establecidos en las mismas.\nb. Cuando se introduzcan cambios en los procesos que aumenten la probabilidad de ocurrencia de una contingencia ambiental y/o consecuencia de la materialización del riesgo.  \nc. Ante cambios en las valoraciones de los escenarios de riesgo presentes en el proyecto.\nd. Ante la ocurrencia de una contingencia que evidencie la necesidad de ajuste del plan.\ne. Ante evidencias producto del proceso de seguimiento y control efectuado por la Autoridad Ambiental Competente.","N/A","Aplica","Aplica","Aplica","Permanente"]
[137,"PLAN DE CONTINGENCIA","Reporte de eventos",null,"Reportar los eventos de contingencia a través de la plataforma VITAL de conformidad con lo establecido en el artículo 2do de la Resolución 1767 de 2016 o aquellos que los modifiquen o sustituyan, ya sea que los eventos sean generados del proyecto hacia el medio o del medio hacia el proyecto, presentando en cada uno de los avances (reportes parciales, de recuperación ambiental y final, según corresponda) las medidas, monitoreos, protocolos y/o acciones ejecutadas en el marco de la atención.","N/A","Aplica","Aplica","Aplica","Temporal"]
[138,"PLAN DE CONTINGENCIA","Soportes del monitoreo del riesgo ",null,"Presentar en los Informes de Cumplimiento Ambiental – ICA, los resultados, el análisis y conclusiones de los monitoreos del riesgo asociados al seguimiento de los eventos de origen natural, socio natural y operacional, en donde se involucren los parámetros y frecuencia definidos, así como la articulación con entidades oficiales (SGC, IDEAM, entre otros) y de acuerdo con los resultados, complementar la valoración del riesgo, según corresponda. En caso de no presentar resultados de los monitoreos del riesgo, remitir las razones y soportarlo con las evidencias correspondientes a través de oficios, informes, actas, registros fotográficos, entre otros.","N/A","Aplica","Aplica","Aplica","Permanente"]
[139,"PLAN DE CONTINGENCIA","Monitoreo del riesgo después de eventos de contingencia",null,"Implementar las medidas de monitoreo asociado a las actividades de atención y seguimiento de los eventos de contingencia que sean necesarias, con el objeto de identificar cambios o afectaciones sobre los medios abiótico, biótico y socioeconómico. ","N/A","Aplica","Aplica","Aplica","Temporal"]
[140,"PLAN DE CONTINGENCIA","Soportes de ejecución medidas de reducción del riesgo",null,"Presentar en los Informes de Cumplimiento Ambiental – ICA, los soportes de la ejecución de las actividades definidas para las intervenciones correctivas y prospectivas de las medidas de reducción del riesgo. En caso de no presentarse, remitir las razones y soportarlo con evidencias correspondientes a través de informes, cronogramas, actas, registros fotográficos, entre otros. ","N/A","Aplica","Aplica","N/A","Permanente"]
[141,"PLAN DE CONTINGENCIA","Capacitación, divulgaciones, socialización, simulaciones y simulacros ",null,"Presentar en los Informes de Cumplimiento Ambiental – ICA, los soportes de las capacitaciones dirigidas al personal del proyecto y las divulgaciones, socializaciones, simulaciones y simulacros sobre el plan de contingencia involucrando las entidades de los Consejos Municipales de Gestión de Riesgo de Desastres (CMGRD) y los Consejos Departamentales de Gestión de Riesgo de Desastres (CDGRD) y las comunidades del área de influencia, según corresponda. En caso de no presentarse algunos de los convocados, remitir las razones y soportarlo con las evidencias correspondientes a través de oficios, informes, actas, registros fotográficos, entre otros.","N/A","Aplica","Aplica","N/A","Permanente"]
[142,"GESTIÓN SOCIAL","Información sobre las  competencias de las entidades con funciones de control y seguimiento del proyecto",null,"El titular de la Licencia Ambiental comunicará como mínimo una vez al año a través de canales idóneos a las autoridades municipales, comunidades y demás grupos de interés presentes en el área de Influencia a partir de la notificación del presente acto administrativo: i) los datos del proyecto, obra  o actividad, acto administrativo que otorga licencia para el desarrollo del proyecto, especificando las actividades que autoriza, datos de contacto; ii) las entidades ​que ejercen funciones de control y seguimiento sobre el proyecto, obra o actividad y sus competencias, tanto en temas ambientales como como administrativos. Se deberán presentar las evidencias del cumplimiento de esta obligación de manera anual en los Informes de Cumplimiento Ambiental - ICA.","N/A","Aplica","Aplica","Aplica","Permanente"]
[143,"GESTIÓN SOCIAL","Informar a contratistas y personal del proyecto sobre las obligaciones, prohibiciones y medidas de control de la Resolución que otorga Licencia Ambiental para el proyecto.",null,"Previo al inicio de cada fase del proyecto, informar a todos sus contratistas y a todo el personal del proyecto sobre las obligaciones, prohibiciones y medidas de control de la presente resolución, el Estudio de Impacto Ambiental, el Plan de Manejo Ambiental y la normativa vigente, y exigir el estricto cumplimiento de las mismas. Presentar en los Informes de Cumplimiento Ambiental - ICA, los soportes que evidencien las actividades de información adelantadas, en los que deberá quedar explícito el contenido de la información brindada al personal del proyecto, y demás soportes correspondientes. Lo anterior sin perjuicio a lo establecido en la medidas de manejo ambiental del PMA aprobado.","N/A","Aplica","Aplica","Aplica","Permanente"]
[144,"GESTIÓN SOCIAL","Dar a conocer la presente resolución y las obras y/o actividades que en ella se autorizan a las autoridades municipales, comunidades y demás grupos de interés presentes  en el área de influencia del proyecto.",null,"Previo al inicio de cada una de las fases del proyecto el titular de la licencia ambiental deberá realizar reuniones con cada una de las comunidades del área de influencia del proyecto, garantizando la participación de las organizaciones de la sociedad civil, con el fin de dar a conocer la presente resolución, las obras que en ella se autorizan, los principales impactos, medidas de manejo y de seguimiento y monitoreo y resolver las dudas que se puedan presentar al respecto; de igual manera, se deberán realizar reuniones en los casos de autoridades locales y dignatarios de las JAC que asuman funciones en razón de períodos de cambio de administración. Las convocatorias a estas reuniones se deberán efectuar con suficiente antelación, garantizando el principio de publicidad a través de los diferentes medios de difusión y comunicación oficiales y comunitarios. Se deberá presentar a esta Autoridad mediante los respectivos Informes de Cumplimiento Ambiental - ICA, las constancias de recibido de las convocatorias y las copias de los soportes de estas reuniones en las que se evidencie el proceso, incluyendo listados de asistencia, temáticas desarrolladas, registro fílmico y/o fotográfico, entre otros.","N/A","Aplica","Aplica","Aplica","Permanente"]
[145,"GESTIÓN SOCIAL","Informar a comunidades y autoridades sobre canales de recepción de PQRSDF.",null,"El titular de la presente licencia ambiental deberá informar como mínimo una vez al año a las comunidades, a las organizaciones de la sociedad civil si las hubiere, y autoridades del área de influencia del proyecto, los canales de recepción de PQRSDF (peticiones, quejas, reclamos, sugerencias, denuncias, felicitaciones). De lo anterior, se deberán entregar los respectivos soportes de manera anual en los Informes de Cumplimiento Ambiental - ICA. ","N/A","Aplica","Aplica","Aplica","Permanente"]
[146,"GESTIÓN SOCIAL","Informe de reporte de quejas e inquietudes presentadas.",null,"El titular de la presente licencia ambiental contará con un formato de recepción de PQRSDF (peticiones, quejas, reclamos, sugerencias, denuncias, felicitaciones) y elaborará un informe donde se reporten las quejas e inquietudes presentadas, especificando: municipio, vereda, nombre o comunidad que la interpone, datos de contacto del peticionario, fecha, descripción del caso, a qué tipo de actividad está asociada respecto a la Licencia Ambiental, tipo de queja, zona(s) donde se concentra el mayor número de casos y georreferenciación del sitio o lugar en donde se reporta la PQRSDF. Presentar en los Informes de Cumplimiento Ambiental - ICA, este informe en formato de Excel, o que sea compatible con Sistemas de Información Geográfica, así como, los soportes que evidencien el registro, atención, seguimiento del caso y publicidad de la información.","N/A","Aplica","Aplica","Aplica","Permanente"]
[147,"GESTIÓN SOCIAL","Cumplimiento de las directrices definidas en la Directiva Presidencial 08 del 2020.\n\nNota: Aplica en caso de haberse llevado a cabo un proceso de consulta previa. ",null,"Presentar en los respectivos Informes de Cumplimiento Ambiental - ICA y según las directrices definidas en la Directiva Presidencial 08 del 2020, los soportes que den cuenta del cumplimiento de las medidas de manejo acordadas entre el titular de la licencia ambiental y la comunidad étnica, o aquellas establecidas por la Dirección de la Autoridad Nacional de Consulta Previa - DANCP del Ministerio del Interior, o quien haga sus veces, en el marco de la aplicación del test de proporcionalidad.","N/A","Aplica","Aplica","Aplica","Permanente"]
[148,"VALORACIÓN ECONÓMICA","Análisis de internalización de los impactos ambientales\n\nNota: Aplica para proyectos en los que se propone el análisis de internalización de impactos.",null,"Presentar en cada ICA el seguimiento al análisis de internalización de los impactos ambientales reportando el estado de avance en los indicadores (eficiencia y eficacia) y la medida de manejo propuesta para dicho análisis.","N/A","Aplica","N/A","N/A","Permanente"]
[149,"VALORACIÓN ECONÓMICA","Ajuste del análisis costo / beneficio\n\nNota: Aplica para aquellos proyectos que cuenten con obligaciones en el análisis costo beneficio, desde el acto administrativo.",null,"Presentar en los Informes de Cumplimiento Ambiental - ICA respectivos los ajustes del análisis costo / beneficio a partir de los requerimientos pendientes en el acto administrativo o en el caso de que se presenten modificaciones asociadas al proyecto, teniendo en cuenta los lineamientos del documento Criterios técnicos para el uso de herramientas económicas en los proyectos, obras o actividades objeto de licenciamiento ambiental.","N/A","Aplica","N/A","N/A","Permanente"]
[150,"OBLIGACIONES GENERALES ","Estrategia de recepción de información de los resultados de los monitoreos del uso y aprovechamiento de los recursos naturales\n\nNota: En caso de no contar con obligaciones de transmisión en tiempo real, eliminar la opción 3.",null,"Reportar la información del resultado de los monitoreos del uso y aprovechamiento de los recursos naturales, de conformidad con las condiciones que se describen a continuación:\n\n1. La información geográfica y alfanumérica, cuya frecuencia de presentación y/o entrega se haya definido en el respectivo acto administrativo con una temporalidad superior a la diaria (semanal, quincenal, mensual, bimensual, semestral, etc.), deberá ser radicada a través del Portal de recepción de información - AGIL, el cual permitirá el almacenamiento directo en la Base de Datos Corporativa de acuerdo con el modelo de almacenamiento de datos geográficos establecido en la Resolución 2182 del 2016 de Minambiente o aquella que la modifique, derogue o sustituya.\n2. La información del resultado de los monitoreos, sobre el uso y aprovechamiento de recursos naturales, cuya frecuencia de presentación y/o entrega se haya definido en el respectivo acto administrativo con una temporalidad igual o menor a la diaria (diaria, horaria o minutal), deberá radicarse diariamente de forma consolidada a través de las plantillas de textos plano tipo .txt o .csv (disponibles en la página web de la entidad) por medio del correo electrónico licencias@anla.gov.co con copia a centromonitoreo@anla.gov.co, indicando el asunto del correo, conforme con la siguiente tabla:\n\n(Ver tabla en pestaña 3. Asuntos de radicación, la cual se debe copiar en este espacio)\n\n3. La información que requiera la transmisión continua de datos, cuya frecuencia esté definida en el respectivo acto administrativo en tiempo real o cuasi real, se reportará a través de VPN Site to Site, API REST, o según sea definido conforme con los lineamientos de la Oficina de Tecnologías de la Información - OTI de la Entidad y las posibilidades tecnológicas del titular de la Licencia Ambiental. \n\nParágrafo: La demás información generada por los proyectos deberá entregarse a través del instrumento de seguimiento ambiental habitual (Informe de Cumplimiento Ambiental - ICA) y el mecanismo de recepción disponible (Ventanilla Integral de Trámites Ambientales en Línea - VITAL). ","N/A","Aplica","Aplica","Aplica","Permanente"]
[151,"OBLIGACIONES GENERALES ","Codificación asociada a permisos y obligaciones\n\nNota: El profesional que se encuentre evaluando o haciendo seguimiento al proyecto, deberá solicitar la codificación de permisos y obligaciones al centro de monitoreo a través de correo electrónico centromonitoreo@anla.gov.co una vez definidos los permisos y obligaciones de monitoreo y planes a solicitar en el marco del acto administrativo.",null,"Utilizar la codificación de la ANLA (campo \"ID ANLA\") asignada a los permisos de uso y aprovechamiento de recursos naturales y a las obligaciones impuestas en el presente acto administrativo para la presentación de la información asociada al seguimiento del proyecto.","N/A","Aplica","Aplica","Aplica","Permanente"]
[152,"OBLIGACIONES GENERALES ","Informar sobre la conformación del Departamento de Gestión Ambiental",null,"Presentar en el primer Informe de Cumplimiento Ambiental - ICA copia del documento donde conste la conformación del Departamento de Gestión Ambiental, que incluya funciones y responsabilidades asignadas, en cumplimiento al artículo 2.2.8.11.1.7. del Decreto 1076 de 2015, o aquella que la modifique, derogue o sustituya.","N/A","Aplica","N/A","N/A","Temporal"]
[153,"OBLIGACIONES GENERALES ","Modificación de la Licencia Ambiental, cuando se configure alguna de las causales mencionadas en el Decreto 1076 de 2015",null,"El titular de la presente Licencia Ambiental solicitará a la ANLA la modificación de la licencia ambiental, previa a la ejecución de actividades que configuren alguna de las causales señaladas en el Artículo 2.2.2.3.7.1 del Decreto 1076 de 2015. ","N/A","Aplica","Aplica","Aplica","Permanente"]
[154,"OBLIGACIONES GENERALES ","Cambios menores ",null,"Informar a la ANLA, de manera previa a realizar las actividades consideradas como cambios menores o de ajuste normal dentro del giro ordinario, de conformidad con lo dispuesto en el Capítulo 6, Título 2 , Parte 2, Libro 2 del Decreto 1076 de 2015, o aquella norma que lo modifique o sustituya, actividades que serán objeto de seguimiento. En caso de que las actividades a ejecutar  no se incluyan en el mencionado Decreto, el titular de la licencia solicitará por escrito pronunciamiento de esta autoridad, sobre su viabilidad bajo la modalidad de cambio menor, concepto que se remitirá con destino al expediente.","N/A","Aplica","Aplica","Aplica","Permanente"]
[155,"OBLIGACIONES GENERALES ","Retirar y/o disponer todas las evidencias de los elementos y materiales sobrantes, en todas las áreas intervenidas por el proyecto",null,"Una vez finalizados los trabajos propios de cada obra o actividad parcial, el titular de la presente licencia ambiental retirará y/o dispondrá todas las evidencias de los elementos y materiales sobrantes, en todas las áreas intervenidas por el proyecto, de manera que no se generen impactos ambientales adicionales, se altere el paisaje ni se contribuya al deterioro ambiental.","N/A","Aplica","Aplica","Aplica","Permanente"]
[156,"OBLIGACIONES GENERALES ","Uso de fibras naturales",null,"Cumplir lo establecido en la Resolución 1083 de 1996, del hoy Ministerio de Ambiente y Desarrollo Sostenible, para las actividades listadas en su artículo 1°. Con tal fin, el titular de la licencia presentará en los Informes de Cumplimiento Ambiental -ICA- la siguiente información: \n\na) Localización de la actividad, obra o proyecto en la que se hizo uso de las fibras naturales. \nb) La fibra natural utilizada, el tipo de actividad en la que fue usada y la cantidad medida en Kg. \nc) Indicar el estado de integridad física y de funcionamiento de las obras con este tipo de fibras. \n\nParágrafo: El titular de la licencia ambiental justificará fundadamente, en el Informe de Cumplimiento Ambiental -ICA- correspondiente, las razones técnicas del por qué consideró inviable el uso de fibras naturales en esas actividades. (Uso de fibras naturales). ","N/A","Aplica","Aplica","Aplica","Permanente"]
[157,"OBLIGACIONES GENERALES","Intervención de áreas de dragado\n\nNota: Aplica cuando en el marco de un puerto, se vaya a desarrollar la actividad de dragado.",null,"Realizar las intervenciones del dragado estrictamente en las áreas autorizadas.","N/A","Aplica ","Aplica ","Aplica ","Permanente"]
[158,"OBLIGACIONES GENERALES ","Informar a la ANLA y a las demás Autoridades Ambientales competentes la fecha de iniciación de actividades",null,"Dentro de los diez (10) días calendario previos al inicio de cada una de las fases del proyecto, el titular de la presente licencia ambiental informará a la ANLA, mediante oficio dirigido a la Subdirección de Seguimiento de Licencias Ambientales, y a las demás Autoridades Ambientales regionales y locales en la jurisdicción del proyecto, la fecha de inicio de actividades. En caso de que no se pueda dar inicio al proyecto en la fecha previamente informada, se notificará inmediatamente a esta Autoridad la justificación, así como la nueva fecha de inicio. Enviar a la ANLA copia de los oficios radicados ante las demás autoridades ambientales competentes.","N/A","Aplica","Aplica ","Aplica ","Permanente"]
[159,"OBLIGACIONES GENERALES ","Presentación de ICA de acuerdo con lo establecido en el Manual de Seguimiento Ambiental de Proyectos y la Resolución 077 de 2019.",null,"El titular de la presente licencia ambiental presentará los Informes de Cumplimiento Ambiental -ICA de manera [Espacio para definir periodicidad de ICA de cada fase del proyecto (trimestral, semestral o anual)] de acuerdo con lo establecido en el Manual de Seguimiento Ambiental de Proyectos y lo dispuesto en la Resolución 077 de 2019, modificada por la Resolución 0549 de 2020, o aquellas que las que las modifiquen, deroguen o sustituyan.","N/A","Aplica","N/A","N/A","Permanente"]
[160,"OBLIGACIONES GENERALES ","Presencia de comunidades étnicas ",null,"Si durante la vigencia de esta licencia ambiental, el titular constata la presencia de comunidades étnicas y/o la existencia de territorios étnicos o si se presentan procesos de reclamación por parte de comunidades étnicas en el área de influencia del proyecto, el titular de la licencia ambiental deberá dar aviso por escrito a la Dirección de la Autoridad Nacional de Consulta Previa del Ministerio del Interior, o quien haga sus veces, (con copia a la ANLA), para que en el marco de sus competencias, determine la procedencia del proceso de consulta previa de que trata el artículo 330 de la Constitución Política, de conformidad con el numeral 1 del artículo 16A del Decreto 2353 de 2019. ","N/A","Aplica","Aplica","Aplica","Permanente"]
[161,"OBLIGACIONES GENERALES ","Monitoreos a través de laboratorios acreditados",null,"Realizar los monitoreos a través de laboratorios acreditados por el IDEAM, tanto para la toma de la muestra, como para el análisis de los parámetros monitoreados. Dichos laboratorios, deberán contar con las técnicas de medición que cuenten con los límites de detección de los diferentes parámetros que permitan verificar el cumplimiento normativo de los mismos. En caso de que no existan laboratorios nacionales acreditados para el análisis de algún(os) parámetro(s), los laboratorios acreditados por el IDEAM podrán enviar la muestra a un laboratorio internacional acreditado en su país de origen o por un estándar internacional, mientras se surte el proceso de acreditación en los laboratorios nacionales. Presentar los soportes de la acreditación de todos los laboratorios empleados para la realización de los monitoreos del proyecto en los Informes de Cumplimiento Ambiental - ICA.","N/A","Aplica","N/A","N/A","Permanente"]
[162,"REQUISITOS DEL ACTO ADMINISTRATIVO","Patrimonio arqueológico ",null,"Previo al inicio de las obras se deberá remitir a esta Autoridad copia de la constancia de aprobación del Plan de Manejo Arqueológico. \n\nParágrafo: La intervención de áreas arqueológicas protegidas de sitios arqueológicos u otras categorías establecidas en la normativa que protege el patrimonio cultural de la Nación son de competencia exclusiva del Instituto Colombiano de Antropología e Historia -ICANH-. En consecuencia, la Licencia Ambiental no autoriza la intervención de dichas áreas."," -"," -"," -"," -"," -"]
[163,"REQUISITOS DEL ACTO ADMINISTRATIVO","Patrimonio arqueológico",null,"Si durante el desarrollo del proyecto, se evidencian sitios o vestigios de interés arqueológico dentro del área de influencia, se deberá dar aviso por escrito al Instituto Colombiano de Antropología e Historia -ICANH- (con copia a la ANLA), de conformidad con el numeral 1.4 del artículo 7 de la Ley 1185 de 2008, el Decreto 138 de 2019 y el numeral 1.6. del artículo 11 de la Ley 397 de 1997, modificado por el artículo 131 del Decreto 2106 de 2019, para lo de su competencia."," -"," -"," -"," -"," -"]
[164,"REQUISITOS DEL ACTO ADMINISTRATIVO","La Licencia Ambiental no confiere derechos reales sobre los predios a ser afectados.\n\nNota: El presente texto debe ser usado a manera de parágrafo del articulo en el que se otorga la licencia.",null,"Parágrafo: La Licencia Ambiental que se otorga, no confiere derechos reales sobre los bienes inmuebles que puedan intervenirse o afectarse en la ejecución del proyecto, obra o actividad. Lo anterior, sin perjuicio a lo dispuesto por la Ley 1448 de 2011 o aquella norma que la modifique, deroguen o sustituya, en lo relacionado con restitución de tierras."," -"," -"," -"," -"," -"]
[165,"REQUISITOS DEL ACTO ADMINISTRATIVO","ANLA supervisará la ejecución de las obras y podrá verificar en cualquier momento el cumplimiento de lo dispuesto en la presente Resolución",null,"La ANLA hará control y seguimiento ambiental a la ejecución de proyectos, obras y actividades en los términos del artículo 2.2.2.3.9.1 del Decreto 1076 del 2015, y verificará el cumplimiento de la presente Resolución. "," -"," -"," -"," -"," -"]
[166,"REQUISITOS DEL ACTO ADMINISTRATIVO","Notificar el contenido de la presente Resolución al Representante Legal",null,"Por la Autoridad Nacional de Licencias Ambientales - ANLA, notificar el presente acto administrativo al representante legal o apoderado, o a la persona autorizada por la sociedad XXXXX, de conformidad con los artículos 67 y siguientes del Código de Procedimiento Administrativo y de lo Contencioso Administrativo. \n\nParágrafo: El expediente queda a disposición para su consulta en medio físico o digital. "," -"," -"," -"," -"," -"]
[167,"REQUISITOS DEL ACTO ADMINISTRATIVO","Notificar el contenido de la presente Resolución a terceros intervinientes que lo hayan solicitado expresamente",null,"Por la Autoridad Nacional de Licencias Ambientales - ANLA, notificar el presente acto administrativo a el/la señor(a) XXXXX en su condición de tercer(os) interviniente(s) reconocido(s) dentro de la presente actuación de ser el caso a través del representante legal o apoderado, o a la persona debidamente autorizada, de conformidad con el artículo 71 de la Ley 99 de 1993 y los artículos 67 y siguientes del Código de Procedimiento Administrativo y de lo Contencioso Administrativo. \n\nParágrafo: El expediente queda a disposición para su consulta en medio físico o digital. "," -"," -"," -"," -"," -"]
[168,"REQUISITOS DEL ACTO ADMINISTRATIVO","Comunicar el contenido de la presente Resolución a terceros intervinientes que no hayan solicitado expresamente ser notificados",null,"Por la Autoridad Nacional de Licencias Ambientales - ANLA, comunicar el presente acto administrativo a el/la señor(a) XXXXX en su condición de tercer(os) interviniente(s) reconocido(s) dentro de la presente actuación de ser el caso a través del representante legal o apoderado, o a la persona debidamente autorizada, de conformidad con el artículo 71 de la Ley 99 de 1993."," -"," -"," -"," -"," -"]
[169,"REQUISITOS DEL ACTO ADMINISTRATIVO","Remitir copia de la presente resolución a autoridades y/o entidades que deban ser informadas.",null,"Por la Autoridad Nacional de Licencias Ambientales - ANLA, comunicar el contenido del presente acto administrativo a [Espacio para listar entidades que deban recibir copia de la presente resolución tales como: alcaldías municipales, autoridades ambientales de orden regional y/o local, gobernaciones, procuradurías delegadas para asuntos ambientales, personerías municipales, entre otros]. "," -"," -"," -"," -"," -"]
[170,"REQUISITOS DEL ACTO ADMINISTRATIVO","Publicar  la presente Resolución en la Gaceta Ambiental ",null,"Por la Autoridad Nacional de Licencias Ambientales - ANLA publicar  la presente Resolución en la Gaceta Ambiental de esta Entidad, de conformidad con el artículo 71 de la Ley 99 de 1993. "," -"," -"," -"," -"," -"]
[171,"REQUISITOS DEL ACTO ADMINISTRATIVO","Contra la presente Resolución procede el recurso de reposición",null,"Contra el presente acto administrativo procede el recurso de reposición en los términos establecidos en los artículos 74 y siguientes del Código de Procedimiento Administrativo y de lo Contencioso Administrativo, o la norma que lo modifique, derogue o sustituya."," -"," -"," -"," -"," -"]
[172,"REQUISITOS DEL ACTO ADMINISTRATIVO","Vigencia de la licencia ambiental",null,"La presente Licencia Ambiental, se otorga por el tiempo de duración del proyecto que se autoriza en la presente resolución."," -"," -"," -"," -"," -"]
[173,"REQUISITOS DEL ACTO ADMINISTRATIVO","Pérdida de vigencia de la licencia ambiental",null,"En el caso que, el titular de la licencia ambiental en el término de cinco (5) años contados a partir de la firmeza del presente acto administrativo, no haya dado inicio a la ejecución del proyecto, se procederá a dar aplicación a lo establecido en el artículo 2.2.2.3.8.7. Decreto 1076 de 2015, en relación con la declaratoria de pérdida de vigencia de la licencia ambiental. "," -"," -"," -"," -"," -"]
[174,"REQUISITOS DEL ACTO ADMINISTRATIVO","Aplicación de la Ley 1333 del 2009",null,"El incumplimiento de las obligaciones contenidas en el presente acto administrativo y en las normas ambientales vigentes dará lugar a la imposición y ejecución de las medidas preventivas y sanciones que sean aplicables según el caso, de conformidad con lo establecido en la Ley 1333 del 21 de julio de 2009, o la que modifique, derogue o sustituya."," -"," -"," -"," -"," -"]
[175,"REQUISITOS DEL ACTO ADMINISTRATIVO","Modificar los tiempos de cumplimiento de las obligaciones, sin que ello signifique una novación",null,"En el seguimiento, la Autoridad Nacional de Licencias Ambientales -ANLA- podrá  conceder, por solicitud justificada del titular, nuevos plazos para el cumplimiento de obligaciones, sin que esto implique modificación de la Licencia Ambiental. La modificación del plazo siempre deberá estar técnica y jurídicamente sustentada, previa coordinación ante el Grupo de Actuaciones Sancionatorias ambientales de la Oficina Asesora Jurídica o la dependencia que haga sus veces."," -"," -"," -"," -"," -"]
[176,"REQUISITOS DEL ACTO ADMINISTRATIVO","Informar a la ANLA cuando la empresa y/o sociedad entre en proceso de disolución o régimen de insolvencia o liquidación",null,"En el evento en que el titular de la licencia ambiental entre en proceso de disolución o régimen de insolvencia o liquidación regulados por las normas vigentes, informará inmediatamente de esta situación a esta Autoridad, con fundamento, entre otros, en los artículos 8, 58, 79, 80, 81, 95 numeral 8 de la Constitución Política de 1991, en las Leyes 43 de 1990, 222 de 1995, 1333 de 2009, demás normas vigentes, y en la jurisprudencia aplicable. La sociedad deberá aprovisionar contablemente las obligaciones contingentes que se deriven de la existencia de un procedimiento ambiental sancionatorio conforme con el artículo 40 de la Ley 1333 de 2009 o la norma que la modifique, derogue o sustituya. "," -"," -"," -"," -"," -"]

{"sheet":"OBLIGACIONES APLICABLES","index":2,"n_rows":181,"n_cols":8,"rows_kept":181,"cut":false,"hidden":false,"merged":[[89,6,90,6],[89,7,90,7],[89,1,90,1],[89,2,90,2],[89,3,90,3],[89,4,90,4],[89,5,90,5],[78,6,79,6],[78,7,79,7],[0,1,0,7],[10,2,11,2],[10,1,11,1],[10,3,11,3],[10,4,11,4],[10,5,11,5],[10,6,11,6],[10,7,11,7],[78,1,79,1],[78,2,79,2],[78,3,79,3],[78,4,79,4],[78,5,79,5]]}
[null,"OBLIGACIONES MÍNIMAS APLICABLES AL PROYECTO, OBRA O ACTIVIDAD EN EVALUACIÓN / SEGUIMIENTO\nNota: Dar clic en el botón de Actualizar Anexo y usar el texto de esta hoja para construir el concepto técnico y acto administrativo (Copiar y pegar en cada documento a construir)"]
["Aplica (si / no)","TEMÁTICA","OBLIGACIÓN ESTANDARIZADA","Pre construcción","Construcción","Operación y mantenimiento","Desmantelamiento y abandono","Temporalidad"]
[{"$f":"PUERTOS!D8","v":0},{"$f":"PUERTOS!B8","v":"AIRE"},{"$f":"PUERTOS!E8","v":"Realizar monitoreo de las emisiones atmosféricas generadas en las fuentes puntuales del proyecto de conformidad con lo establecido en el Protocolo  de Control y Vigilancia de la Contaminación Atmosférica Generada por Fuentes Fijas (adoptado por la Resolución 760 de 2010 del MAVDT, ajustado por la Resolución 2153 de 2010, Resolución 591 de 2012, Resolución 1632 de 2012 y Resolución 1807 de 2012, o la norma que la modifique, derogue o sustituya), dando cumplimiento a las siguientes condiciones:\n\na) Para determinar la frecuencia de los monitoreos de emisiones atmosféricas asociadas a fuentes puntuales, realizar un monitoreo al inicio de la operación y dar cumplimiento a lo establecido en el numeral 3.2 y en la tabla No. 9 del Protocolo para el Control y Vigilancia de la Contaminación Atmosférica Generada por Fuentes Fijas. Presentar los resultados del monitoreo inicial, las frecuencias establecidas con su respectiva justificación (determinación de las UCA) y el cumplimiento de altura mínima de descarga de las fuentes autorizadas según el Protocolo en el primer Informe de Cumplimiento Ambiental - ICA. \nb) Medir en cada monitoreo de acuerdo con la actividad industrial realizada, los contaminantes establecidos en la Tabla 2 del Protocolo  de Control y Vigilancia de la Contaminación Atmosférica Generada por Fuentes Fijas, de acuerdo con las actividades desarrolladas por el proyecto en cada una de sus etapas.\nc) Las fuentes de emisión contarán con un sistema de extracción localizada, chimenea, plataforma y puertos de muestreo que permitan realizar la medición directa y demostrar el cumplimiento normativo. La plataforma, diámetro y localización de los puertos de muestreo, se construirán de acuerdo a los métodos y procedimientos adoptados en el Protocolo para el Control y Vigilancia de la Contaminación Atmosférica generada por fuentes fijas última versión.\nd) Entregar en los respectivos Informes de Cumplimiento Ambiental - ICA el informe de los resultados y análisis de las mediciones de emisiones (asociadas a fuentes fijas puntuales), cumpliendo con lo establecido en el numeral 2.2 del Protocolo en mención y empleando los formatos establecidos en el Anexo 2, 3 y 4 del mismo. En dicho informe se compararán las mediciones con los estándares establecidos en la Resolución 909 de 2008, o aquellas que la modifiquen o sustituyan, para los contaminantes de la Tabla 2 según el Protocolo. De sobrepasar los límites de emisión para cada contaminante, el titular de la licencia presentará, las medidas de manejo pertinentes, necesarias para garantizar el cumplimiento de los estándares, las cuales serán informadas en los Informes de Cumplimiento Ambiental - ICA."},{"$f":"PUERTOS!F8","v":"N/A"},{"$f":"PUERTOS!G8","v":"Aplica"},{"$f":"PUERTOS!H8","v":"Aplica"},{"$f":"PUERTOS!I8","v":"N/A"},{"$f":"PUERTOS!J8","v":"Permanente"}]
[{"$f":"PUERTOS!D9","v":0},{"$f":"PUERTOS!B9","v":"AIRE"},{"$f":"PUERTOS!E9","v":"Realizar el mantenimiento preventivo y correctivo de los sistemas de control de las fuentes de emisión, de conformidad con lo establecido en el  Protocolo  para el Control y Vigilancia de la Contaminación Atmosférica Generada por Fuentes Fijas (adoptado por la Resolución 760 de 2010 del MAVDT, ajustado por la Resolución 2153 de 2010, Resolución 591 de 2012, Resolución 1632 de 2012 y Resolución 1807 de 2012, o la norma que la modifique, derogue o sustituya) y presentar en los Informes de Cumplimiento Ambiental - ICA las evidencias de su implementación, así como la ficha técnica del fabricante, y la eficiencia de control relacionando el respectivo equipo contaminante."},{"$f":"PUERTOS!F9","v":"N/A"},{"$f":"PUERTOS!G9","v":"Aplica"},{"$f":"PUERTOS!H9","v":"Aplica"},{"$f":"PUERTOS!I9","v":"N/A"},{"$f":"PUERTOS!J9","v":"Permanente"}]
[{"$f":"PUERTOS!D10","v":0},{"$f":"PUERTOS!B10","v":"AIRE"},{"$f":"PUERTOS!E10","v":"Actualizar el inventario de emisiones atmosféricas generadas por el proyecto como mínimo una vez al año o cada vez que se presenten cambios en los procesos y/o actividades que generan emisiones (por ejemplo, introducción de nuevas fuentes), teniendo en cuenta lo siguiente:\n\na) Para las fuentes fijas puntuales que cuenten con las condiciones técnicas de medición, realizar la estimación de emisiones a partir de medición directa, dando cumplimiento a los criterios establecidos en el Protocolo para el Control y Vigilancia de la Contaminación Atmosférica Generada por Fuentes Fijas (adoptado por la Resolución 760 de 2010 del MAVDT, ajustado por la Resolución 2153 de 2010, Resolución 591 de 2012, Resolución 1632 de 2012 y Resolución 1807 de 2012, o la norma que la modifique, derogue o sustituya).\nb) Para fuentes fijas puntuales a las que no les aplique la medición directa por aspectos técnicos o de seguridad, y fuentes dispersas de área, aplicar métodos alternativos como factores de emisión y balance de masas, teniendo en cuenta las metodologías para el uso de factores de emisión desarrolladas por entidades oficiales, centros de investigación o academia (AP-42 Agencia de Protección Ambiental de los Estados Unidos US-EPA, National Pollutant Inventory - NPI, entre otras), las cuales están referenciadas en la Guía para la Elaboración de Inventarios de Emisiones Atmosféricas del MADS.\nc) Para fuentes móviles se podrán utilizar modelos de emisión de fuentes móviles (ej. IVE, MOBILE, MOVES y/o COPERT) combinados con variables locales (distancias viajadas por la flota, velocidades, etc.), o factores de emisión usados internacionalmente (EPA y Unión Europea). El aforo vehicular a realizar tiene como propósito la identificación de las fuentes móviles que transitan por las vías del proyecto o que se encuentran en el área de influencia. El levantamiento de información de la flota vehicular como mínimo deber ser de (ocho (8) horas / veinticuatro (24) horas continuas por día, en día hábil y festivo. Seleccionar de acuerdo con los horarios de construcción y operación aplicable al POA). Se deberá realizar la identificación y características del punto de aforo y la clasificación de los vehículos por peso y tipo de combustible. Se deberá presentar un informe con los resultados del inventario de fuentes y emisiones, y se deberá anexar las memorias de cálculos con la estimación de emisiones de los contaminantes considerados, los cálculos y suposiciones realizados.\nd) Presentar el inventario con y sin las eficiencias de las medidas de control en el cálculo de las emisiones. Para cada contaminante se deberá justificar las eficiencias de control con las respectivas evidencias documentales.\ne) Reportar la actualización en los respectivos Informes de Cumplimiento Ambiental - ICA, el cual contendrá como mínimo: Metodología empleada; Información georreferenciada de las fuentes; Tipo de fuente; Tipo combustible empleado; Consumo de combustible por cada fuente (nominal en base horaria y total acumulado anual); Tiempos de operación (horas/año); Sistemas de control de emisiones (discriminando sistema y tipo de contaminante); Porcentaje de eficiencia de los sistemas; Emisiones desagregadas  por actividad; Para fuentes fijas puntuales se requieren los datos de altura y diámetro de las chimeneas;  Identificar y presentar un análisis de las fuentes de emisiones atmosféricas del proyecto que se asocian con los contaminantes monitoreados a nivel de inmisión, especialmente para los contaminantes no criterio que puedan emitirse en las etapas de su desarrollo, con base información cuantitativa y cualitativa generada para el componente atmosférico, y otros medios y componentes; y fuentes de información utilizada.\nf) Anexar los archivos del inventario de fuentes diferenciando claramente la metodología y los cálculos (formatos accesibles .xls no protegidos), de las fuentes de contaminantes criterio y/o tóxicos (fijas puntuales y dispersas o difusas) con las consideraciones sobre la estimación."},{"$f":"PUERTOS!F10","v":"N/A"},{"$f":"PUERTOS!G10","v":"Aplica"},{"$f":"PUERTOS!H10","v":"Aplica"},{"$f":"PUERTOS!I10","v":"N/A"},{"$f":"PUERTOS!J10","v":"Permanente"}]
[{"$f":"PUERTOS!D11","v":0},{"$f":"PUERTOS!B11","v":"AIRE"},{"$f":"PUERTOS!E11","v":"Modelar la dispersión de contaminantes atmosféricos, al menos una vez al año o cada vez que se presenten cambios en los procesos y/o actividades que generan emisiones (por ejemplo, introducción de nuevas fuentes), en tanto el Ministerio de Ambiente y Desarrollo Sostenible adopte el Protocolo de Modelización de Contaminantes Atmosféricos, se deberán realizar bajo las siguientes condiciones:\n\na) Emplear un sistema de modelación actualizado avalado por la EPA que represente adecuadamente las condiciones de dispersión en el área de influencia del proyecto.\nb) Considerar las configuraciones recomendadas por el ente desarrollador para el sistema de modelación utilizado. \nc) Modelar como mínimo PM10, PM2,5 (relacionar demás contaminantes de interés según las fuentes de emisión del proyecto), de acuerdo con el Protocolo para el Monitoreo y Seguimiento de la Calidad del Aire del MAVDT del 2010 (adoptado por la Resolución 650 de 2010, y ajustado por la Resolución 2154 de 2010), Resolución 2254 del 2017 del MADS o aquella que la modifique, derogue o sustituya.\nd) Identificar los receptores de interés, usos del suelo, topografía, ventana de modelación y resolución de malla a emplear en la modelación.\ne) Efectuar un análisis de la información meteorológica obtenida de estaciones automáticas del IDEAM. Cuando esto no sea posible, la modelación se apoyará en información meteorológica obtenida de otras estaciones automáticas (anexando la justificación técnica de la escogencia de estaciones diferentes a las del IDEAM) o en su defecto a partir de información resultante de modelos meteorológicos de pronóstico para el año calendario inmediatamente anterior al estudio. Para las variables aplicables, tener en cuenta lo determinado en la guía de la EPA \"Meteorological Monitoring Guidance for Regulatory Modeling Applications - EPA 454/R 99 005\".\nf) Presentar los resultados de los escenarios a modelar (sin sistemas de control y con sistemas de control) para el año inmediatamente anterior a la presentación del Informe de Cumplimiento Ambiental - ICA.\ng) Presentar el informe de la modelación de la dispersión de contaminantes atmosféricos en los respectivos Informes de Cumplimiento Ambiental - ICA como mínimo con la siguiente información:\ni) Diagrama de flujo de los procesos que generan emisiones atmosféricas. \nii) Descripción del modelo empleado incluyendo los resultados de las concentraciones obtenidas para los receptores sensibles y gráficas de isopletas georreferenciadas, donde se muestre la ubicación de las fuentes de emisión y de los receptores.\niii) Datos de entrada de la modelación: descripción y ubicación de la región de impacto, identificación y ubicación georreferenciado de las fuentes de emisión y de los posibles receptores, archivo geográfico con la topografía de la región y tipo de uso del suelo, información y análisis de la meteorología  (archivos nativos p. ej. .SAM, .UA, .PFL, .SFC y accesibles .csv, xls, .txt no protegidos) y de la calidad del aire en la región (en caso de no existir dicha información, utilizar la información de calidad de aire más reciente), análisis sobre potenciales receptores, contaminantes emitidos y descripción del método de cuantificación de las emisiones, que permitan la reproducción total del modelo. \niv) Reporte de los criterios, características del modelo, alcances y tamaño de mallas empleados para la modelación. Anexar los archivos de entrada y salida de los procesadores y pre procesadores empleados en la modelación, en los formatos originales de entrada y salida del modelo (archivos nativos p. ej. .ADI, .SOU, .ROU, .ADO, y accesibles .csv, xls, .txt no protegidos), de forma que se permita la reproducción total del modelo.\nv) Técnicas de validación de la modelación y la concentración de fondo tenidas en cuenta, así como de los resultados obtenidos. \nvi) Análisis, conclusiones y anexos."},{"$f":"PUERTOS!F11","v":"N/A"},{"$f":"PUERTOS!G11","v":"Aplica"},{"$f":"PUERTOS!H11","v":"Aplica"},{"$f":"PUERTOS!I11","v":"N/A"},{"$f":"PUERTOS!J11","v":"Permanente"}]
[{"$f":"PUERTOS!D12","v":0},{"$f":"PUERTOS!B12","v":"AIRE"},{"$f":"PUERTOS!E12","v":"Realizar monitoreos de calidad del aire con los criterios establecidos para un (Sistema de Vigilancia de Calidad de Aire Industrial Fijo / Indicativo - SVCAI. Seleccionar el sistema de acuerdo con la complejidad del proyecto) según el Protocolo para el Monitoreo y Seguimiento de la Calidad del Aire del MAVDT del 2010 (adoptado por la Resolución 650 de 2010, y ajustado por la Resolución 2154 de 2010, o la norma que la modifique, derogue o sustituya), y entregar los respectivos soportes en los Informes de Cumplimiento Ambiental - ICA, teniendo en cuenta lo siguiente:\n\na) Documento donde se argumente la selección de la localización de las estaciones que conformen el Sistema de Vigilancia de Calidad de Aire, teniendo en cuenta los criterios establecidos en el Protocolo para el Monitoreo y Seguimiento de la Calidad del Aire del MAVDT (2010). Esta obligación se presentará en el primer Informe de Cumplimiento Ambiental - ICA.\nb) Información meteorológica: debe hacer referencia al año calendario inmediatamente anterior al estudio, la cual debe ser previamente validada de acuerdo a los estándares establecidos por la EPA, de igual forma se deberá entregar la información meteorológica de la campaña de monitoreo (Quality Assurance Handbook for Air Pollution Measurement Systems Volumen IV: Meteorological Measurement Versión 2.0 EPA-454/B-08-002). Anexar los archivos georreferenciados de acuerdo con el modelo de almacenamiento geográfico establecido en la Resolución 2182 de 2016 del MADS, o la que la modifique, derogue o sustituya.\nc) Reportes de laboratorio (que incluya datos diarios u horarios dependiendo de la tecnología de la estación de monitoreo - manual o automática).\nd) Comparación de las mediciones con los niveles máximos permisibles establecidos en la Resolución 2254 de 2017 del MADS, o aquella que la modifique, derogue o sustituya, y con la línea base presentada en el EIA para los contaminantes evaluados. Los contaminantes a registrar serán los establecidos en la Resolución  2254 de 2017 del MADS, o aquella que la modifique o sustituya, aplicables según la actividad industrial desarrollada y las fuentes de emisión identificadas. \ne) Informe de las acciones implementadas para garantizar el cumplimiento de los estándares en caso de sobrepasar los límites de inmisión para cada contaminante.\nf) Informe que incluya como mínimo los contenidos establecidos en el Protocolo para el Monitoreo y Seguimiento de la Calidad del Aire del MAVDT (2010) - Manual de operación, según el sistema de vigilancia de calidad del aire aplicable."},{"$f":"PUERTOS!F12","v":"N/A"},{"$f":"PUERTOS!G12","v":"Aplica"},{"$f":"PUERTOS!H12","v":"Aplica"},{"$f":"PUERTOS!I12","v":"N/A"},{"$f":"PUERTOS!J12","v":"Permanente"}]
[{"$f":"PUERTOS!D13","v":0},{"$f":"PUERTOS!B13","v":"AIRE"},{"$f":"PUERTOS!E13","v":"De acuerdo con lo establecido en la Resolución 2254 del 2017 del MADS, para Sistemas de Vigilancia de la Calidad del Aire - SVCA que realicen monitoreos con una periodicidad permanente (continua en el tiempo durante la vida útil del proyecto) reportar al Subsistema de Información sobre Calidad de Aire - SISAIRE los datos validados resultantes de las mediciones de calidad de aire y variables meteorológicas. Tener en cuenta lo establecido en la Resolución 651 del 29 de marzo 2010 o aquella que la modifique, derogue o sustituya y presentar las evidencias del cargue a dicho sistema."},{"$f":"PUERTOS!F13","v":"N/A"},{"$f":"PUERTOS!G13","v":"Aplica"},{"$f":"PUERTOS!H13","v":"Aplica"},{"$f":"PUERTOS!I13","v":"N/A"},{"$f":"PUERTOS!J13","v":"Permanente"}]
[{"$f":"PUERTOS!D14","v":0},{"$f":"PUERTOS!B14","v":"AIRE"},{"$f":"PUERTOS!E14","v":"Presentar en el primer Informe de Cumplimiento Ambiental - ICA de la fase constructiva el plan de riego asociado a la humectación de vías de acceso y zonas descubiertas sin pavimentar (internas del proyecto), el cual debe incluir lo siguiente:\n\na) Rutas y zonas por regar. \nb) Métodos de riego empleados, los cuales deberán garantizar la mayor área de humectación y el menor consumo de agua. \nc) Agua a emplear en las actividades de humectación, la cual deberá dar cumplimiento a lo establecido en la normatividad vigente, y las obligaciones establecidas sobre (Espacio para indicar los permisos/autorizaciones respectivas que se hayan autorizado al proyecto y que estén relacionados con el agua que será empleada para la humectación de vías: vertimientos al suelo, concesión de aguas, compra de agua, aguas lluvias, recirculación en suelo soporte de infraestructura, entre otras).\nd) En caso de emplear aditivos u otros materiales, deberán ser inocuos y no presentar problemas de compactación u otros impactos al suelo superficial, por infiltración o escorrentía ante eventuales precipitaciones. \ne) Indicadores asociados con las actividades de humectación en función del área regada, las cantidades de agua empleadas y la cantidad de material particulado mitigado."},{"$f":"PUERTOS!F14","v":"N/A"},{"$f":"PUERTOS!G14","v":"Aplica"},{"$f":"PUERTOS!H14","v":"N/A"},{"$f":"PUERTOS!I14","v":"N/A"},{"$f":"PUERTOS!J14","v":"Temporal"}]
[{"$f":"PUERTOS!D15","v":0},{"$f":"PUERTOS!B15","v":"AIRE"},{"$f":"PUERTOS!E15","v":"Presentar los soportes de implementación del plan de riego en vías en los respectivos Informes de Cumplimiento Ambiental - ICA, incluyendo: i) evidencias de la ejecución de las medidas con los volúmenes de agua empleados, su origen, métodos de riego empleados, áreas y vías en las cuales fue realizado y ii) análisis de la información meteorológica para el balance hídrico de evaporación-precipitación en los periodos de riego."},{"$f":"PUERTOS!F15","v":"N/A"},{"$f":"PUERTOS!G15","v":"Aplica"},{"$f":"PUERTOS!H15","v":"Aplica"},{"$f":"PUERTOS!I15","v":"N/A"},{"$f":"PUERTOS!J15","v":"Permanente"}]
[{"$f":"PUERTOS!D16","v":0},{"$f":"PUERTOS!B16","v":"CAMBIO CLIMÁTICO"},{"$f":"PUERTOS!E16","v":"Presentar el Plan Integral de Gestión de Cambio Climático del proyecto (PIGCCp) y los anexos correspondientes en el Informe de Cumplimiento Ambiental – ICA, antes del inicio de las actividades de construcción / al año de la ejecutoria del acto administrativo que acoja esta obligación (ajustar según aplique para otorgamiento de licencia, modificación de licencia o ajuste vía seguimiento), el cual contendrá como mínimo lo siguiente: \n\n1. Objetivos y metas orientados a establecer las acciones de gestión al cambio climático. \n2. La metodología seleccionada para las estimaciones de emisiones y/o remociones GEI del proyecto teniendo en cuenta los criterios que defina el Ministerio de Ambiente y Desarrollo Sostenible (MinAmbiente) y, en caso de que no estén establecidos los criterios metodológicos del inventario GEI por el MinAmbiente, se deberá presentar la metodología o modelo de cuantificación acorde con la Norma Técnica Colombiana NTC-ISO 14064-1 en su versión más reciente o del estándar de reporte de inventario GEI que la Sociedad considere acorde para el proyecto, justificando la selección del estándar y describiendo la metodología o modelo de cuantificación. \n3. La cuantificación del inventario de las emisiones y remociones directas e indirectas de gases efecto invernadero (GEI), teniendo en cuenta:\n\na) Las sustancias dióxido de carbono (CO2), óxido nitroso (N2O), metano (CH4), hidrofluorocarbonos (HFC), perfluorocarbonos (PFC), Trifluoruro de nitrógeno (NF3) y Hexafluoruro de Azufre (SF6), u otras sustancias con potencial de calentamiento global que sean identificadas, en toneladas de CO2eq.\nb) El informe del inventario contemplando los criterios que defina el Ministerio de Ambiente y Desarrollo Sostenible (MinAmbiente), la Norma Técnica Colombiana NTC-ISO 14064-1 en su versión más reciente o el estándar de reporte de inventario GEI que el titular del instrumento de manejo y control ambiental haya seleccionado. \nc) En caso de que por la naturaleza del proyecto no se requiera de la estimación de alguna(s) de las sustancias, alcances o categorías de acuerdo con el estándar del inventario seleccionado, justificar técnicamente. \nd) Los resultados del inventario en hoja de cálculo (Excel editable), junto con su respectivo análisis, la cual deberá contemplar como mínimo: puntos de emisión ID, alcance o categoría según el estándar del inventario seleccionado, tipo de fuente generadora GEI, nombre fuente de emisión GEI, características de la fuente de GEI, categoría IPCC equivalente, Nombre de la sustancia, método de determinación de la emisión, emisión (carga emitida) determinada (kg/año), potencial de calentamiento global, emisión (tonelada de CO2e/año), fuentes de información de los datos empleados y trazabilidad de los cálculos realizados y tipo de verificación GEI (primera, segunda o tercera parte).\n\n4. Las acciones de mitigación y estimado de reducción de GEI proyectadas en el tiempo de vida útil del proyecto autorizado, en hoja de cálculo (Excel editable), contemplando como mínimo: Nombre de la medida, objetivo, descripción de la medida y acciones a seguir, potencial de mitigación de la medida (toneladas de CO2 eq), indicador propuesto, fuentes de información de los datos empleados y trazabilidad de los cálculos realizados, fecha de inicio y fin de implementación.\n5. Complementar el análisis de variabilidad climática, con el análisis de vulnerabilidad al cambio climático y riesgo climático de acuerdo con las directrices del Panel Intergubernamental de Cambio Climático (IPCC) y bajo la metodología que el titular del instrumento de manejo y control ambiental considere acorde para el análisis correspondiente. La metodología deberá ser especificada y deberá mostrar la identificación de amenazas, vulnerabilidades y riesgos climáticos, así como su ponderación y la priorización de acciones que se proponen realizar en temas de adaptación al cambio climático para el proyecto. \n6. Las acciones de adaptación al cambio climático y la variabilidad climática, proyectadas en el tiempo de vida útil del proyecto autorizado, que contribuyan a la reducción del riesgo sobre los recursos naturales renovables o al ambiente y/o proyecto. Se debe presentar como anexo un (Excel editable) contemplando como mínimo: Nombre de la medida, amenaza que atiende, riesgo climático por controlar con la medida, objetivo, descripción de la medida y acciones a seguir, unidad de medida de control y/o seguimiento, información espacial de la implementación de la medida de adaptación, Indicador propuesto, fuentes de información de los datos empleados y trazabilidad de los cálculos realizados, fecha de inicio y fin de implementación. \n7. Las acciones de mitigación de GEI y adaptación al cambio climático deberán contar con indicadores cuantitativos y cualitativos, de cumplimiento, eficacia y efectividad, que contengan como mínimo lo siguiente: nombre de cada indicador, unidad de medida, frecuencia de medición o de cálculo, definición, fórmula y metodología de medición o cálculo, describiendo los procedimientos utilizados para la medición y relacionando los instrumentos necesarios, fuentes de información de las variables que requiere, responsable de la medición o cálculo (sección, dependencia o persona) y criterios para el análisis e interpretación de resultados. Estos indicadores se presentarán para cada etapa del proyecto de acuerdo con el tiempo de vida útil del proyecto autorizado.\n8. Cronograma y localización de la aplicación de las acciones de gestión de cambio climático. "},{"$f":"PUERTOS!F16","v":"Aplica"},{"$f":"PUERTOS!G16","v":"Aplica"},{"$f":"PUERTOS!H16","v":"N/A"},{"$f":"PUERTOS!I16","v":"N/A"},{"$f":"PUERTOS!J16","v":"Temporal"}]
[{"$f":"PUERTOS!D17","v":0},null,null,null,{"$f":"PUERTOS!G17","v":0},{"$f":"PUERTOS!H17","v":0},{"$f":"PUERTOS!I17","v":0},{"$f":"PUERTOS!J17","v":0}]
[{"$f":"PUERTOS!D18","v":0},{"$f":"PUERTOS!B18","v":"CAMBIO CLIMÁTICO"},{"$f":"PUERTOS!E18","v":"Presentar de manera anual en los correspondientes Informes de Cumplimiento Ambiental - ICA, de acuerdo con la implementación del Plan Integral de Gestión de Cambio Climático del Proyecto (PIGCCp) presentado bajo el articulo XXX (relacionar el numeral corresponda de acuerdo como se enumeró en el acto administrativo), lo siguiente:\n\na) La actualización anual del inventario de las emisiones y remociones directas e indirectas de gases efecto invernadero (GEI).\nb) El informe del avance de la implementación y/o actualización de las acciones de mitigación y estimado de reducción de GEI con la hoja de cálculo (Excel editable).\nc) El informe del avance de la implementación y/o actualización de las acciones de adaptación al cambio climático y la variabilidad climática con la hoja de cálculo (Excel editable). "},{"$f":"PUERTOS!F18","v":"N/A"},{"$f":"PUERTOS!G18","v":"Aplica"},{"$f":"PUERTOS!H18","v":"Aplica"},{"$f":"PUERTOS!I18","v":"Aplica"},{"$f":"PUERTOS!J18","v":"Permanente"}]
[{"$f":"PUERTOS!D19","v":0},{"$f":"PUERTOS!B19","v":"CAMBIO CLIMÁTICO"},{"$f":"PUERTOS!E19","v":"Complementar y/o actualizar el Plan integral de gestión de Cambio Climático del proyecto (PIGCCp) requerido mediante Artículo XXX de la Resolución XXX del dd-mm-aaaa (relacionar el acto administrativo bajo el cual se impuso la obligación de cambio climático por primera vez) incluyendo las actividades y obras objeto de la presente modificación, de acuerdo con las especificaciones del contenido mínimo establecido para este Plan. Esta información, debe ser presentada en el Informe de Cumplimiento Ambiental - ICA posterior a la expedición del presente acto administrativo que aprueba a modificación del proyecto."},{"$f":"PUERTOS!F19","v":"N/A"},{"$f":"PUERTOS!G19","v":"Aplica"},{"$f":"PUERTOS!H19","v":"Aplica"},{"$f":"PUERTOS!I19","v":"Aplica"},{"$f":"PUERTOS!J19","v":"Temporal"}]
[{"$f":"PUERTOS!D20","v":0},{"$f":"PUERTOS!B20","v":"RUIDO"},{"$f":"PUERTOS!E20","v":"Realizar los monitoreos de ruido ambiental y entregar los respectivos soportes en los Informes de Cumplimiento Ambiental - ICA, teniendo en cuenta lo siguiente:\n\na) Los monitoreos de ruido deben cumplir con los parámetros y procedimientos establecidos en la Resolución 0627 de 2006 del MAVDT y el estándar internacional ISO 1996 incluyendo el análisis de bajas frecuencias, o aquellas que la modifiquen, deroguen o sustituyan.\nb) Durante las etapas de construcción, operación y desmantelamiento, realizar monitoreos de ruido ambiental durante dos (2) días a la semana, garantizando que uno de estos días sea dominical, durante (relacionar la duración del monitoreo de acuerdo con la nota 1). La periodicidad del monitoreo será semestral para la fase constructiva y de desmantelamiento y abandono y anual para la fase operativa. Los puntos de monitoreo deben tener una adecuada micro localización evitando obstáculos entre la fuente y el punto de muestreo. La ubicación de los equipos debe permitir en lo posible una relación señal ruido que permita la identificación de la fuente objeto de estudio sobre el ruido ambiente. \nc) Los puntos de monitoreo deberán coincidir con los puntos monitoreados en la línea base presentada en el EIA, y en caso de que se presenten nuevos potenciales receptores de interés, considerar puntos adicionales de monitoreo, los cuales se localizarán estratégicamente respecto a la ubicación de estos receptores.\nd) Los niveles de presión sonora de cada uno de los puntos de monitoreo, deben ser presentados con el nivel total y discriminados en bandas de tercios de octava para cada hora de medición.\ne) Los monitoreos deben caracterizar los periodos de operación más representativos dentro de cada periodo de reporte, en este sentido se debe considerar la medición de manera simultánea en todos los puntos a fin de tener una trazabilidad en el tiempo y espacio de cada escenario evaluado. Se deberá contar tantos equipos como puntos de muestreo para realizar las mediciones simultáneas y continuas durante todo el desarrollo del monitoreo.\nf) Los monitoreos de ruido deben aportar las correcciones de ruido asociadas al tipo de fuente, así como incertidumbre de medida de acuerdo con lo estipulado en la Resolución 0627 del MADS e ISO 1996 a fin de estimar los efectos que puedan generarse por la operación de la fuente objeto de estudio para todas y cada una de las etapas del proyecto.\ng) Presentar en los respectivos Informes de Cumplimiento Ambiental - ICA los informes de los monitoreos de ruido, incluyendo la información requerida en el Artículo 21 de la Resolución 0627 de 2006. Incluir en el informe la comparación de las mediciones con los estándares máximos permisibles establecidos en la Resolución 0627 de 2006 (o la que la modifique, derogue o sustituya), con la línea base presentada en el instrumento de manejo y control ambiental para ruido ambiental y con las mediciones de emisión de ruido para cada hora monitoreada.\nh) Georreferenciar en mapas temáticos los puntos de monitoreo sobre la información de uso actual de suelo (Capa UsoActualSuelo - V1403 del Modelo de almacenamiento geográfico establecido en la Resolución 2182 de 2016 del MADS, o la que la modifique o sustituya) y de los instrumentos de ordenamiento territorial del área de influencia con la respectiva justificación de la selección de los sectores de ruido establecidos en la Resolución 627 de 2006, cada que se actualice la información de uso actual de suelo (Capa UsoActualSuelo del MAG) y de los instrumentos de ordenamiento territorial y/o se incluyan nuevos puntos de monitoreo. Presentar esta información en los respectivos Informes de Cumplimiento Ambiental - ICA.\ni) Actualizar el inventario de potenciales receptores de interés (asentamientos poblacionales, viviendas, infraestructura social y ecosistemas estratégicos) del proyecto y presentarlo cuando se presenten cambios."},{"$f":"PUERTOS!F20","v":"N/A"},{"$f":"PUERTOS!G20","v":"Aplica"},{"$f":"PUERTOS!H20","v":"Aplica"},{"$f":"PUERTOS!I20","v":"Aplica"},{"$f":"PUERTOS!J20","v":"Permanente"}]
[{"$f":"PUERTOS!D21","v":0},{"$f":"PUERTOS!B21","v":"RUIDO"},{"$f":"PUERTOS!E21","v":"Realizar los monitoreos de emisión de ruido y entregar los respectivos soportes en los Informes de Cumplimiento Ambiental - ICA, teniendo en cuenta lo siguiente:\n\na) Seleccionar puntos en los límites industriales de la operación donde se identifique la mayor emisión de ruido para realizar los monitoreos de emisión.\nb) Cumplir con los parámetros y procedimientos establecidos en la Resolución 0627 de 2006 del MAVDT o aquellas que la modifiquen, deroguen o sustituyan, para lo cual deberá contemplarse monitoreos con las fuentes prendidas (y apagadas de ser posible).\nc)Realizar los monitoreos de emisión de ruido dentro de la campaña de monitoreo de ruido ambiental, en los periodos de operación más representativos en tiempo y lugar de la actividad, al menos durante (relacionar la duración del monitoreo de acuerdo con la nota 2). \nd) Georreferenciar en mapas temáticos los puntos de monitoreo sobre la información de uso actual de suelo (Capa UsoActualSuelo - V1403 del Modelo de almacenamiento geográfico establecido en la Resolución 2182 de 2016 del MADS, o la que la modifique o sustituya)  y de los instrumentos de ordenamiento territorial del área de influencia con la respectiva justificación de la selección de los sectores de ruido establecidos en el Artículo 9 y su parágrafo primero de la Resolución 627 de 2006, cada que se actualice la información de uso actual de suelo (Capa UsoActualSuelo del MAG) y los instrumentos de ordenamiento territorial y/o se incluyan nuevos puntos de monitoreo. Presentar esta información en los respectivos Informes de Cumplimiento Ambiental - ICA.\ne) Presentar en los respectivos Informes de Cumplimiento Ambiental - ICA los informes de los monitoreos de ruido, incluyendo la información requerida en el Artículo 21 de la Resolución 0627 de 2006. Incluir en el informe la comparación de las mediciones con los estándares máximos permisibles establecidos en la Resolución 0627 de 2006 (o la que la modifique, derogue o sustituya) y con los monitoreos de ruido ambiental."},{"$f":"PUERTOS!F21","v":"N/A"},{"$f":"PUERTOS!G21","v":"Aplica"},{"$f":"PUERTOS!H21","v":"Aplica"},{"$f":"PUERTOS!I21","v":"Aplica"},{"$f":"PUERTOS!J21","v":"Permanente"}]
[{"$f":"PUERTOS!D22","v":0},{"$f":"PUERTOS!B22","v":"RUIDO"},{"$f":"PUERTOS!E22","v":"Actualizar los inventarios de fuentes de manera anual para la fase constructiva o cada vez que se presenten cambios en el inventario de fuentes generadoras de ruido y/o de potenciales receptores de interés a los inicialmente identificados,, dando cumplimiento a las siguientes condiciones y presentar los respectivos soportes en los Informes de Cumplimiento Ambiental - ICA:\n\na) Realizar un inventario de fuentes de emisión de ruido en el área del proyecto de tipo puntual, lineal o de área identificando ubicación, trazados internos, horas de operación por periodo de acuerdo con los horarios estipulados en el Artículo 2 de la resolución 627 de 2006 del MADS.\nb) Para las fuentes a las cuales no se les realice mediciones de caracterización de potencia bajo estándares internacionales, se debe aportar las respectivas fichas técnicas de todas y cada una de las fuentes identificadas, con i) la capacidad, ii) potencia, iii) dimensiones, iv) niveles de emisión de ruido a distancias conocidas, especificando la ponderación (p. ej. dB(A) o dB(Z)), v) potencia acústica de las fuentes preferiblemente con una resolución de 1/3 de octava. De no contar con dicha información, obtener información de fuentes secundarias, tales como base de datos, con el origen de la información, los niveles Lw y los valores que componen el espectro en frecuencia en 1/1 octava o 1/3 de octava; de ser posible y durante la etapa operativa se debe caracterizar dicho parámetro a la luz de un estándar internacional que permita la adecuada caracterización y evaluación de la emisión de la fuente.\nc) Para fuentes de tráfico, inventariar los tipos de vías previamente identificadas en el área de influencia y caracterizar el tráfico vehicular asociado, teniendo en cuenta las dinámicas o variaciones temporales del volumen del tráfico con una resolución de (ocho (8) horas / veinticuatro (24) horas continuas por día, en día hábil y festivo. Seleccionar de acuerdo con los horarios de construcción y operación aplicable al POA) incluyendo los periodos de mayor y menor flujo y clasificación del parque automotor que transite por las vías por peso, velocidad de diseño de las vías identificadas, identificación y características del punto de aforo (como mínimo ancho de calzada, número de carriles, pendiente), tipo de rodadura (pavimentada o destapada) u otras variables solicitadas por el método de modelación empleado.\nd) Georreferenciar el inventario de fuentes, vías y receptores y proyectarlo en mapas temáticos. De igual manera, adjuntar la información espacial asociada a estos en los anexos de los diferentes documentos o memorias técnicas. Así mismo, se deben presentar los archivos georreferenciados de acuerdo con el modelo de almacenamiento geográfico establecido en la Resolución 2182 de 2016 del MADS, y/o la que las modifiquen, deroguen o sustituyan.\ne) Incorporar los inventarios de ruido en los análisis de los monitoreos de ruido y los modelos de niveles de presión sonora."},{"$f":"PUERTOS!F22","v":"N/A"},{"$f":"PUERTOS!G22","v":"Aplica"},{"$f":"PUERTOS!H22","v":"Aplica"},{"$f":"PUERTOS!I22","v":"Aplica"},{"$f":"PUERTOS!J22","v":"Permanente"}]
[{"$f":"PUERTOS!D23","v":0},{"$f":"PUERTOS!B23","v":"RUIDO"},{"$f":"PUERTOS!E23","v":"Realizar la modelación de ruido de manera anual para la fase constructiva o cada vez que se presenten cambios en el inventario de fuentes generadoras de ruido y/o de potenciales receptores de interés a los inicialmente identificados, y presentar en los respectivos Informes de Cumplimiento Ambiental - ICA:\n\na) Cartografía detallada de la zona, que incluya: curvas de nivel y modelo digital de elevación de terreno que contengan las fuentes de interés y que abarquen hasta los receptores; la resolución debe ser representativa del terreno a una escala detallada en fuentes y receptores tomando como referencia lo establecido en la ISO9613 y la ISO17534, así mismo, presentar la distribución en plano (layout) del área que permita la identificación cartográfica de las fuentes o áreas de operación.\nb) Método de cálculo implementado según el modelo.\nc) Meteorología y condiciones de propagación del ruido (temperatura, velocidad, dirección del viento y presión atmosférica).\nd) Cálculo de niveles de ruido sobre los receptores previamente identificados en la caracterización y aporte de la fuente sobre el ruido ambiente en el dominio de simulación del proyecto.\ne) Los escenarios a simular deben considerar periodo diurno y nocturno. Detallar las suposiciones, alcances y limitaciones consideradas en la modelación.\nf) Análisis de resultados que permitan identificar los aportes sobre los receptores, tomando como referencia los estándares máximos permisibles establecidos en la Resolución 0627 de 2006, o aquella que la modifique, derogue o sustituya.\ng) Adjuntar los datos de entrada y salida del modelo, memorias de cálculo y demás soportes de la modelación como archivos nativos, shape file, DWG.\nh) En caso de existir una afectación sobre los receptores previamente identificados, proponer medidas o sistemas de control adecuadas según el caso y viabilidad de estas de acuerdo con la operación, y presentar: cálculos y descripción del procedimiento de obtención del sistema de control empleado, representación en mapas de ruido y sistemas de control propuesto, así como un monitoreo que evidencie la efectividad de la barrera tomando como referencia estándares internacionales."},{"$f":"PUERTOS!F23","v":"N/A"},{"$f":"PUERTOS!G23","v":"Aplica"},{"$f":"PUERTOS!H23","v":"Aplica"},{"$f":"PUERTOS!I23","v":"Aplica"},{"$f":"PUERTOS!J23","v":"Permanente"}]
[{"$f":"PUERTOS!D24","v":0},{"$f":"PUERTOS!B24","v":"RUIDO"},{"$f":"PUERTOS!E24","v":"Implementar las medidas de control y mitigación de ruido, y presentar en los Informes de Cumplimiento Ambiental - ICA los soportes que evidencien el cumplimiento de lo siguiente:\n\na) Los niveles de emisión de ruido deben compararse con los límites establecidos en la Resolución 0627 de 2006, o la que la modifique, derogue o sustituya, para aquellas fuentes de emisiones sonoras representativas, teniendo en cuenta para ello la trascendencia al uso de suelo de mayor restricción, asegurando que las medidas planteadas y adoptadas sean técnicamente viables. La Sociedad deberá demostrar que las emisiones sonoras no generan aportes adicionales sobre los niveles de ruido ambiental caracterizados en la línea base, en los receptores sensibles como viviendas y puntos de interés faunístico implementando, en caso necesario, medidas de control adecuadas.\nb) Describir las medidas asociadas a los sistemas de control implementadas sobre las fuentes de emisión de ruido relacionando su tipología (p. eje. pantalla, silenciador, encapsulamiento entre otros) y eficiencia asociada, dicha información debe estar acompañada y soportada por medio de documento técnico.\nc) Relacionar las prácticas encaminadas a la diminución de ruido desde y hacia el entorno identificando la fuente y el proceso empleado."},{"$f":"PUERTOS!F24","v":"N/A"},{"$f":"PUERTOS!G24","v":"Aplica"},{"$f":"PUERTOS!H24","v":"Aplica"},{"$f":"PUERTOS!I24","v":"Aplica"},{"$f":"PUERTOS!J24","v":"Permanente"}]
[{"$f":"PUERTOS!D25","v":0},{"$f":"PUERTOS!B25","v":"EXPLORACIÓN DE AGUAS SUBTERRÁNEAS"},{"$f":"PUERTOS!E25","v":"Finalizada la perforación del pozo de exploración realizar una prueba de bombeo, la cual cumplirá con las siguientes condiciones:\n\na) Duración mínima de bombeo de 24 horas continuas o hasta alcanzar la estabilización del nivel piezométrico.\nb) Realizarse escalonada y a caudal constante, registrando niveles durante el bombeo y la recuperación, hasta alcanzar al menos el 90% del nivel estático.\nc) Para la caracterización hidráulica de los acuíferos incluir pozos de observación/piezómetros que capten de los mismos niveles acuíferos del pozo exploratorio. Para ello, construir al menos un pozo de observación /piezómetro para ese fin o emplear pozos aledaños existentes de los que se conozca el diseño y que estén dentro del radio de influencia del cono de abatimiento previsto para el pozo exploratorio. \nd) Medir los niveles estáticos y dinámicos tanto en el pozo bombeado como en el(los) pozo(s) de observación/piezómetro(s).\ne) La frecuencia de medición de niveles (abatimiento y recuperación) en el pozo de captación y pozo(s) de observación/piezómetro(s), debe garantizar alrededor de 10 observaciones por ciclo logarítmico del tiempo para elaborar la curva de abatimiento versus tiempo.\nf) Asegurar que el agua producto de la(s) prueba(s) de bombeo, se disponga en el suelo o en una fuente de agua superficial una vez terminada la prueba, garantizando las medidas adecuadas para su disposición, sin impactar el sistema receptor. Por ningún motivo, se podrá dar un uso diferente a esta agua."},{"$f":"PUERTOS!F25","v":"N/A"},{"$f":"PUERTOS!G25","v":"Aplica"},{"$f":"PUERTOS!H25","v":"Aplica"},{"$f":"PUERTOS!I25","v":"N/A"},{"$f":"PUERTOS!J25","v":"Temporal"}]
[{"$f":"PUERTOS!D26","v":0},{"$f":"PUERTOS!B26","v":"EXPLORACIÓN DE AGUAS SUBTERRÁNEAS"},{"$f":"PUERTOS!E26","v":"Realizar la caracterización fisicoquímica y microbiológica del agua subterránea una vez finalice el bombeo, cumpliendo con las siguientes condiciones:\n\na) Medir las siguientes características físicas de el(los) pozo(s) de observación/piezómetro(s): profundidad, nivel topográfico y nivel piezométrico donde se toma la muestra.\nb) Medir los siguientes parámetros fisicoquímicos y microbiológicos: pH, conductividad eléctrica, temperatura, potencial rédox, oxígeno disuelto, sólidos disueltos totales, color, turbiedad, alcalinidad, dureza, aniones y cationes (Na+, K+, Mg++, Ca++, Fe total, SO4=, Cl-, NO3-, CO3=, HCO3-), coliformes totales, coliformes termotolerantes y E. Coli. Presentar al término del permiso de exploración de aguas subterráneas, los reportes de laboratorio, las cadenas de custodia y el análisis de resultados de conformidad con el uso para el cual se vaya a destinar el recurso hídrico.\nc) Calcular y presentar el valor del error analítico (%) a partir de la sumatoria de aniones y cationes.  Solo podrán reportarse las caracterizaciones de muestras que tengan errores analíticos inferiores a ±10%. Presentar dichos cálculos al término del permiso de exploración de aguas subterráneas."},{"$f":"PUERTOS!F26","v":"N/A"},{"$f":"PUERTOS!G26","v":"Aplica"},{"$f":"PUERTOS!H26","v":"Aplica"},{"$f":"PUERTOS!I26","v":"N/A"},{"$f":"PUERTOS!J26","v":"Temporal"}]
[{"$f":"PUERTOS!D27","v":0},{"$f":"PUERTOS!B27","v":"EXPLORACIÓN DE AGUAS SUBTERRÁNEAS"},{"$f":"PUERTOS!E27","v":"Presentar el informe final de exploración de agua subterránea en un plazo de sesenta (60) días hábiles al término del permiso de exploración de aguas subterráneas, de acuerdo con el artículo 2.2.3.2.16.10 del Decreto 1076 de 2015, el cual incluirá adicional a lo exigido en dicho numeral: \n\na) Registro eléctrico (resistividad, Gamma Ray y Potencial Espontáneo). \nb) Diseño definitivo de el(los) pozo(s): nivel topográfico, diámetro, materiales, longitud y ubicación de filtros y sellos hidráulicos.\nc) Informe de ejecución y resultados de las pruebas de bombeo, incluyendo: nivel estático, dinámico y caudal de la prueba, cálculo de abatimiento y cono de abatimiento, formatos de campo que den soporte a la información presentada, descripción de los pozos de observación empleados en la prueba de bombeo y memoria de cálculo de los parámetros hidrogeológicos que incluya: análisis diagnóstico de la prueba, ecuación del pozo, transmisividad, coeficiente de almacenamiento, conductividad hidráulica, caudal recomendado de explotación y rendimiento del pozo.\nd) Análisis hidrogeoquímico empleando métodos gráficos adecuados (Piper, Stiff, u otro), relaciones inter paramétricas y correlación de la química del agua con el conocimiento geológico, geoquímico e hidrogeológico.  \ne) \"Formato de Hoja de Vida de Pozo de Captación - Aguas Subterráneas\" actualizado.\nf) \"Formato de Hoja de Vida de Pozo de Observación/Piezómetro - Aguas Subterráneas\" actualizado."},{"$f":"PUERTOS!F27","v":"N/A"},{"$f":"PUERTOS!G27","v":"Aplica"},{"$f":"PUERTOS!H27","v":"Aplica"},{"$f":"PUERTOS!I27","v":"N/A"},{"$f":"PUERTOS!J27","v":"Temporal"}]
[{"$f":"PUERTOS!D28","v":0},{"$f":"PUERTOS!B28","v":"CONCESIÓN AGUAS SUBTERRÁNEAS"},{"$f":"PUERTOS!E28","v":"Realizar un registro diario del caudal captado a través de la instalación de equipos de medición que se encuentren debidamente calibrados. La elección del medidor, calibración, instalación y mantenimiento de los equipos de medición debe cumplir con lo dispuesto en la NTC-ISO 4064 1-2-3: 2016, o aquellas que la modifiquen, deroguen o sustituyan. El registro consolidado se entregará conforme el modelo de almacenamiento geográfico establecido en la Resolución 2182 del 2016 del MADS, o aquella norma que la modifique, derogue o sustituya. Adicionalmente, entregar los registros de campo, dentro de los que se debe incluir un registro fotográfico mes vencido del caudal captado a través del medidor de flujo, y los certificados de calibración de los equipos de medición de caudal. "},{"$f":"PUERTOS!F28","v":"N/A"},{"$f":"PUERTOS!G28","v":"Aplica"},{"$f":"PUERTOS!H28","v":"Aplica"},{"$f":"PUERTOS!I28","v":"Aplica"},{"$f":"PUERTOS!J28","v":"Permanente"}]
[{"$f":"PUERTOS!D29","v":0},{"$f":"PUERTOS!B29","v":"CONCESIÓN AGUAS SUBTERRÁNEAS"},{"$f":"PUERTOS!E29","v":"Realizar una vez al mes mediciones del nivel estático y dinámico del pozo, así como la medición de parámetros in situ (pH, temperatura, conductividad eléctrica, oxígeno disuelto y sólidos disueltos totales), y presentar en los respectivos Informes de Cumplimiento Ambiental - ICA: \n\na) Base de datos con la información solicitada de manera acumulada, en hoja de cálculo, analizando la tendencia y comportamiento de los niveles y variables químicas in situ solicitadas.\nb) Registros de campo de la toma de datos, para el periodo reportado.\nc) Certificados de calibración del(los) equipo(s) de medición vigentes según la periodicidad que establezca el fabricante del equipo. "},{"$f":"PUERTOS!F29","v":"N/A"},{"$f":"PUERTOS!G29","v":"Aplica"},{"$f":"PUERTOS!H29","v":"Aplica"},{"$f":"PUERTOS!I29","v":"Aplica"},{"$f":"PUERTOS!J29","v":"Permanente"}]
[{"$f":"PUERTOS!D30","v":0},{"$f":"PUERTOS!B30","v":"CONCESIÓN AGUAS SUBTERRÁNEAS"},{"$f":"PUERTOS!E30","v":"Realizar dos monitoreos al año, uno en época de máximas y otro en época de mínimas precipitaciones en el pozo de observación/piezómetro. En caso de que por condiciones de variabilidad climática no sea posible realizar los monitoreos en dichas épocas, justificar en el correspondiente ICA su ejecución en épocas de transición. Por otro lado, en caso de que el pozo de observación/piezómetro no se haya construido dentro del permiso de exploración de aguas subterráneas debido a la existencia de pozos aledaños dentro de la misma cuenca subterránea que permitieron conocer las características hidráulicas del acuífero, realizarlos en el pozo de captación de agua subterránea autorizado, bajo las siguientes condiciones:\n\na) Medir como mínimo los siguientes parámetros fisicoquímicos y microbiológicos: pH, temperatura, potencial rédox, color, turbiedad, alcalinidad, dureza, conductividad eléctrica, oxígeno disuelto, sólidos disueltos totales, aniones y cationes (Na+, K+, Mg++, Ca++, Fe total, SO4=, Cl-, NO3-, CO3=, HCO3-), coliformes totales, coliformes termotolerantes y E. Coli. Presentar en los Informes de Cumplimiento Ambiental - ICA, los reportes de laboratorio, que incluyan la descripción metodología de toma de muestras y preservación, y las cadenas de custodia.\nb) Calcular y presentar el valor del error analítico (%) a partir de la sumatoria de aniones y cationes. Solo podrán reportarse las caracterizaciones de muestras que tengan errores analíticos inferiores a ±10%. Presentar dichos cálculos en los Informes de Cumplimiento Ambiental - ICA."},{"$f":"PUERTOS!F30","v":"N/A"},{"$f":"PUERTOS!G30","v":"Aplica"},{"$f":"PUERTOS!H30","v":"Aplica"},{"$f":"PUERTOS!I30","v":"Aplica"},{"$f":"PUERTOS!J30","v":"Permanente"}]
[{"$f":"PUERTOS!D31","v":0},{"$f":"PUERTOS!B31","v":"CONCESIÓN AGUAS SUBTERRÁNEAS"},{"$f":"PUERTOS!E31","v":"Presentar los informes de los monitoreos de calidad de agua subterránea y de niveles piezométricos en los respectivos Informes de Cumplimiento Ambiental - ICA, los cuales contendrán como mínimo:\n\na) Análisis de calidad del agua y de niveles estáticos y dinámicos, los cuales se realizarán en una base temporal evaluando el comportamiento de cada variable a través del tiempo y comparándolo con los parámetros medidos en la línea base presentada.\nb) Análisis hidrogeoquímico empleando métodos gráficos adecuados (Piper, Stiff, u otro), relaciones inter paramétricas y correlación de la química del agua con el conocimiento geológico, geoquímico, hidrogeológico y su evolución temporal, identificando un posible cambio de fase hidrogeoquímica respecto a la identificada en la línea base.\nc) \"Formato de Hoja de Vida de Pozo de Captación - Aguas Subterráneas\" actualizado.\nd) \"Formato de Hoja de Vida de Pozo de Observación/Piezómetro - Aguas Subterráneas\" actualizado (si aplica)."},{"$f":"PUERTOS!F31","v":"N/A"},{"$f":"PUERTOS!G31","v":"Aplica"},{"$f":"PUERTOS!H31","v":"Aplica"},{"$f":"PUERTOS!I31","v":"Aplica"},{"$f":"PUERTOS!J31","v":"Permanente"}]
[{"$f":"PUERTOS!D32","v":0},{"$f":"PUERTOS!B32","v":"CONCESIÓN AGUAS SUBTERRÁNEAS"},{"$f":"PUERTOS!E32","v":"Instalar un aviso informativo de fácil visibilidad en el sitio de captación autorizado, incluyendo la información de la licencia ambiental respecto a la concesión de aguas subterráneas: número, fecha de la resolución que otorga la concesión de aguas, nombre del titular de la licencia, información de contacto, coordenadas del punto de captación y el caudal autorizado de captación."},{"$f":"PUERTOS!F32","v":"N/A"},{"$f":"PUERTOS!G32","v":"Aplica"},{"$f":"PUERTOS!H32","v":"Aplica"},{"$f":"PUERTOS!I32","v":"Aplica"},{"$f":"PUERTOS!J32","v":"Permanente"}]
[{"$f":"PUERTOS!D33","v":0},{"$f":"PUERTOS!B33","v":"CONCESIÓN AGUAS SUBTERRÁNEAS"},{"$f":"PUERTOS!E33","v":"Cuando finalice la captación de agua subterránea, clausurar los pozos de observación y de captación de acuerdo a los lineamientos establecidos en la NTC 5539:2007 y/o conforme a las actualizaciones que se hagan de esta. Presentar informe respectivo y reporte de esta novedad en el \"Formato de Hoja de Vida de Pozo de Captación - Aguas Subterráneas\" y en el \"Formato de Hoja de Vida de Pozo de Observación/Piezómetro - Aguas Subterráneas\", si aplica."},{"$f":"PUERTOS!F33","v":"N/A"},{"$f":"PUERTOS!G33","v":"N/A"},{"$f":"PUERTOS!H33","v":"N/A"},{"$f":"PUERTOS!I33","v":"Aplica"},{"$f":"PUERTOS!J33","v":"Temporal"}]
[{"$f":"PUERTOS!D34","v":0},{"$f":"PUERTOS!B34","v":"CONCESIÓN AGUAS SUBTERRÁNEAS"},{"$f":"PUERTOS!E34","v":"Presentar en los Informes de Cumplimiento Ambiental - ICA, según el  periodo reportado, los soportes que evidencien el cumplimiento de las metas e indicadores establecidas en el Programa de Uso Eficiente y Ahorro de Agua - PUEAA reglamentado bajo la 2.2.3.2.1.1.5 del Decreto 1076 del 2015 (Resolución 1257 del 2018), o aquella que la modifique, derogue o sustituya."},{"$f":"PUERTOS!F34","v":"N/A"},{"$f":"PUERTOS!G34","v":"Aplica"},{"$f":"PUERTOS!H34","v":"Aplica"},{"$f":"PUERTOS!I34","v":"Aplica"},{"$f":"PUERTOS!J34","v":"Permanente"}]
[{"$f":"PUERTOS!D35","v":0},{"$f":"PUERTOS!B35","v":"CONCESIÓN AGUAS SUPERFICIALES CONTINENTALES"},{"$f":"PUERTOS!E35","v":"Realizar un registro diario del caudal captado para captaciones permanentes e intermitentes a través de la instalación de equipos de medición que se encuentren debidamente calibrados. La elección del medidor, calibración, instalación y mantenimiento de los equipos de medición debe cumplir con lo dispuesto en la NTC-ISO 4064 1-2-3: 2016, o aquellas que la modifiquen, deroguen o sustituyan. El registro consolidado se entregará en los respectivos Informes de Cumplimiento Ambiental - ICA de acuerdo con el modelo de almacenamiento geográfico establecido en la Resolución 2182 del 2016 del MADS, o aquella norma que la modifique, derogue o sustituya."},{"$f":"PUERTOS!F35","v":"N/A"},{"$f":"PUERTOS!G35","v":"Aplica"},{"$f":"PUERTOS!H35","v":"Aplica"},{"$f":"PUERTOS!I35","v":"Aplica"},{"$f":"PUERTOS!J35","v":"Permanente"}]
[{"$f":"PUERTOS!D36","v":0},{"$f":"PUERTOS!B36","v":"CONCESIÓN AGUAS SUPERFICIALES CONTINENTALES"},{"$f":"PUERTOS!E36","v":"Realizar mediciones de nivel y caudal del cuerpo de agua donde se realiza la captación bajo las siguientes condiciones:\n\na) Localizar una sección transversal estable en un punto inmediatamente aguas arriba del sitio de la captación, teniendo en cuenta que no haya aportes o extracciones significativas de caudal (naturales o antrópicas), siguiendo los lineamientos establecidos por el Protocolo para el Monitoreo y Seguimiento del Agua (IDEAM, 2007), o aquel que lo modifique, derogue o sustituya, para la medición de caudal e instalar allí un medidor de nivel en el que se establezca el nivel correspondiente al caudal ambiental. Presentar en los Informes de Cumplimiento Ambiental - ICA los métodos seleccionados para medición de caudal y nivel y su justificación, de acuerdo con los métodos establecidos en el Protocolo en mención.\nb) Realizar las mediciones de niveles de la siguiente manera: para captaciones permanentes, con una frecuencia semanal durante todo el año y para captaciones intermitentes, inmediatamente antes del inicio de la captación y durante el periodo de la captación (definir la frecuencia de acuerdo con el tiempo en que se vaya a realizar la captación). A partir de la curva de calibración, presentar el cálculo de los caudales correspondientes. Presentar la base de datos en los respectivos Informes de Cumplimiento Ambiental - ICA.\nc) Realizar la calibración de la curva nivel-caudal de la sección transversal del cuerpo de agua, siguiendo lo establecido en el Protocolo en mención, dos veces al año considerando épocas de máximas y mínimas precipitaciones, de acuerdo con la variación hidrológica presentada en el EIA. En caso de que por condiciones de variabilidad climática no sea posible realizar la calibración de la curva nivel-caudal en dichas épocas, justificar en el correspondiente ICA su ejecución en épocas de transición. De la misma manera, realizar una vez al año el levantamiento de la sección transversal donde se calibró la curva nivel-caudal, y en caso de que identifique un cambio significativo en la geometría de la sección transversal presentada históricamente, proyectar los ajustes necesarios de la curva. Presentar los respectivos soportes en los Informes de Cumplimiento Ambiental - ICA.\nd) Presentar en los Informes de Cumplimiento Ambiental - ICA el análisis de la información acumulada y su comparación con los caudales obtenidos en la línea base (caudales medios, mínimos, máximos mensuales multianuales y caudales ambientales)."},{"$f":"PUERTOS!F36","v":"N/A"},{"$f":"PUERTOS!G36","v":"Aplica"},{"$f":"PUERTOS!H36","v":"Aplica"},{"$f":"PUERTOS!I36","v":"Aplica"},{"$f":"PUERTOS!J36","v":"Permanente"}]
[{"$f":"PUERTOS!D37","v":0},{"$f":"PUERTOS!B37","v":"CONCESIÓN AGUAS SUPERFICIALES CONTINENTALES"},{"$f":"PUERTOS!E37","v":"Realizar monitoreos físico químicos del recurso hídrico mínimo dos veces al año en el cuerpo de agua donde se realiza la captación, considerando épocas de máximas y mínimas precipitaciones. En caso de que por condiciones de variabilidad climática no sea posible realizar los monitoreos en dichas épocas, justificar en el correspondiente ICA su ejecución en épocas de transición. Realizar dichos monitoreos siguiendo los lineamientos establecidos en la Guía para el Monitoreo de Vertimientos, Aguas Superficiales y Subterráneas del 2002 del IDEAM o cualquiera que lo modifique, derogue o sustituya, cumpliendo con las siguientes condiciones:\n\na) Tomar una muestra integrada en la sección transversal establecida de acuerdo con los lineamientos de la Guía en mención.\nb) Realizar los monitoreos aguas arriba y aguas abajo del punto de captación, teniendo en cuenta que no haya aportes o extracciones significativas de caudal (naturales o antrópicas) entre los puntos de medición y el punto de captación.\nc) Registrar en cada monitoreo calidad como mínimo los siguientes parámetros: temperatura, pH, conductividad, oxígeno disuelto, DBO(5), DQO, grasas y aceites, turbiedad, alcalinidad, dureza y coliformes totales, coliformes termotolerantes y E. Coli. \nd) Presentar en los Informes de Cumplimiento Ambiental - ICA, los reportes de laboratorio, las cadenas de custodia y el análisis multitemporal de los resultados que refleje la tendencia de la calidad del medio afectado por la concesión y su comparación con la línea base presentada en el estudio de viabilidad ambiental.\ne) Registrar el estado del tiempo (nubosidad, temperatura del aire, velocidad del viento, humedad relativa, temperatura del punto de rocío) durante el monitoreo."},{"$f":"PUERTOS!F37","v":"N/A"},{"$f":"PUERTOS!G37","v":"Aplica"},{"$f":"PUERTOS!H37","v":"Aplica"},{"$f":"PUERTOS!I37","v":"Aplica"},{"$f":"PUERTOS!J37","v":"Permanente"}]
[{"$f":"PUERTOS!D38","v":0},{"$f":"PUERTOS!B38","v":"CONCESIÓN AGUAS SUPERFICIALES CONTINENTALES"},{"$f":"PUERTOS!E38","v":"Suspender las actividades de captación cuando el caudal aguas arriba del punto de captación sea igual o inferior al caudal ambiental (cuando el caudal ambiental del cuerpo de agua donde se realiza la captación no se encuentre reglamentado por la autoridad regional, este deberá calcularse de manera mensual y para la condición climatológica normal, húmeda y seca), e informar a la autoridad ambiental competente y a la ANLA, dentro de las 24 h posteriores a la situación y por los medios legalmente establecidos, sobre la suspensión de actividades. Para ello, el titular de la presente licencia ambiental, implementará un sistema que permita validar el nivel del caudal previo a la actividad de captación. Así mismo, informar a la autoridad ambiental competente y a la ANLA dentro de las 24 horas posteriores a la reactivación de la captación."},{"$f":"PUERTOS!F38","v":"N/A"},{"$f":"PUERTOS!G38","v":"Aplica"},{"$f":"PUERTOS!H38","v":"Aplica"},{"$f":"PUERTOS!I38","v":"Aplica"},{"$f":"PUERTOS!J38","v":"Temporal"}]
[{"$f":"PUERTOS!D39","v":0},{"$f":"PUERTOS!B39","v":"CONCESIÓN AGUAS SUPERFICIALES CONTINENTALES"},{"$f":"PUERTOS!E39","v":"Instalar un aviso informativo de fácil visibilidad en el lugar de acceso a los sitios de captación autorizados, el cual incluya la información de la licencia ambiental respecto a  la concesión de aguas: número y fecha de la resolución que otorga la concesión, titular de la licencia, información de contacto, nombre de la fuente hídrica, coordenadas del punto de captación autorizada en la resolución, caudal autorizado de captación y caudal ambiental de la fuente."},{"$f":"PUERTOS!F39","v":"N/A"},{"$f":"PUERTOS!G39","v":"Aplica"},{"$f":"PUERTOS!H39","v":"Aplica"},{"$f":"PUERTOS!I39","v":"Aplica"},{"$f":"PUERTOS!J39","v":"Permanente"}]
[{"$f":"PUERTOS!D40","v":0},{"$f":"PUERTOS!B40","v":"CONCESIÓN AGUAS SUPERFICIALES CONTINENTALES"},{"$f":"PUERTOS!E40","v":"Para la captación del recurso mediante motobomba adosada a carrotanque, se deberá tener en cuenta:\n\na) Ubicar los carrotanques empleados para realizar las captaciones fuera de la ronda de protección del cuerpo a captar.\nb) Las zonas donde se parqueen los vehículos deberán garantizar la estabilidad de los taludes de las márgenes del cuerpo de agua de donde se realice la captación. \nc) El sitio donde se parqueen los vehículos garantizarán condiciones de impermeabilización y sistema de control de fluidos ante eventuales fugas y derrames de los vehículos.\nd) El vehículo deberá contar con un sistema de micromedición para controlar el caudal captado.\ne) Las motobombas y vehículos transportadores del agua deberán contar con los mantenimientos preventivos. Presentar en los Informes de Cumplimiento Ambiental - ICA los respectivos soportes. \nf) Diligenciar las planillas en campo, que incluyan: placa de vehículo, fecha, hora de inicio y final de la captación y lectura inicial y final del sistema de medición de caudal. Presentar las planillas en los Informes de Cumplimiento Ambiental - ICA."},{"$f":"PUERTOS!F40","v":"N/A"},{"$f":"PUERTOS!G40","v":"Aplica"},{"$f":"PUERTOS!H40","v":"Aplica"},{"$f":"PUERTOS!I40","v":"Aplica"},{"$f":"PUERTOS!J40","v":"Permanente"}]
[{"$f":"PUERTOS!D41","v":0},{"$f":"PUERTOS!B41","v":"CONCESIÓN AGUAS SUPERFICIALES CONTINENTALES"},{"$f":"PUERTOS!E41","v":"Para captación del recurso mediante equipo de bombeo fijo, se deberá tener en cuenta:\n\na) Ubicar el equipo de bombeo fijo sobre una base impermeabilizada fuera de la ronda de protección del cuerpo a captar y/o zonificación de manejo, la cual debe contar con techo, cerramiento, equipos para atender posibles conatos de incendios, kits para atender derrames de combustible, canales perimetrales que descolen en un tanque de almacenamiento para su posterior retiro, tratamiento y disposición final como residuo peligroso.\nb) El equipo de bombeo, deberá contar con un sistema de micromedición para controlar el caudal captado.\nc) Las motobombas deberán contar con los mantenimientos preventivos. Presentar en los Informes de Cumplimiento Ambiental - ICA los respectivos soportes. "},{"$f":"PUERTOS!F41","v":"N/A"},{"$f":"PUERTOS!G41","v":"Aplica"},{"$f":"PUERTOS!H41","v":"Aplica"},{"$f":"PUERTOS!I41","v":"Aplica"},{"$f":"PUERTOS!J41","v":"Permanente"}]
[{"$f":"PUERTOS!D42","v":0},{"$f":"PUERTOS!B42","v":"CONCESIÓN AGUAS SUPERFICIALES CONTINENTALES"},{"$f":"PUERTOS!E42","v":"Presentar en los Informes de Cumplimiento Ambiental - ICA, según el  periodo reportado, los soportes que evidencien el cumplimiento de las metas e indicadores establecidas en el Programa de Uso Eficiente y Ahorro de Agua - PUEAA reglamentado bajo la 2.2.3.2.1.1.5 del Decreto 1076 del 2015 (Resolución 1257 del 2018), o aquella que la modifique, derogue o sustituya."},{"$f":"PUERTOS!F42","v":"N/A"},{"$f":"PUERTOS!G42","v":"Aplica"},{"$f":"PUERTOS!H42","v":"Aplica"},{"$f":"PUERTOS!I42","v":"Aplica"},{"$f":"PUERTOS!J42","v":"Permanente"}]
[{"$f":"PUERTOS!D43","v":0},{"$f":"PUERTOS!B43","v":"VERTIMIENTO EN AGUA SUPERFICIAL"},{"$f":"PUERTOS!E43","v":"Realizar mediciones de nivel y caudal del cuerpo de agua receptor del vertimiento siguiendo los lineamientos establecidos en el Protocolo para el Monitoreo y Seguimiento del Agua (IDEAM, 2007) o aquel que lo modifique, derogue o sustituya, y bajo las siguientes condiciones:\n\na) Localizar una sección transversal estable de acuerdo con los lineamientos establecidos en el Protocolo para la medición de caudal e instalar allí un medidor de nivel.\nb) Realizar las mediciones de caudal aguas arriba y aguas abajo del vertimiento con una frecuencia mensual durante el tiempo en el que se realice el vertimiento, teniendo en cuenta que no haya aportes o extracciones significativas de caudal (naturales o antrópicas) entre los puntos de medición y el punto de vertimiento. Presentar la base de datos en los respectivos Informes de Cumplimiento Ambiental - ICA.\nc) Realizar la calibración de la curva nivel-caudal de la sección transversal del cuerpo de agua, siguiendo lo establecido en el Protocolo en mención, dos veces al año considerando épocas de máximas y mínimas precipitaciones, de acuerdo con la variación hidrológica presentada en el EIA. En caso de que por condiciones de variabilidad climática no sea posible realizar la calibración de la curva nivel-caudal en dichas épocas, justificar en el correspondiente ICA su ejecución en épocas de transición. De la misma manera, realizar una vez al año el levantamiento de la sección transversal donde se calibró la curva nivel-caudal, y en caso de que identifique un cambio significativo en la geometría de la sección transversal presentada históricamente, proyectar los ajustes necesarios de la curva. Presentar los respectivos soportes en los Informes de Cumplimiento Ambiental - ICA."},{"$f":"PUERTOS!F43","v":"N/A"},{"$f":"PUERTOS!G43","v":"Aplica"},{"$f":"PUERTOS!H43","v":"Aplica"},{"$f":"PUERTOS!I43","v":"Aplica"},{"$f":"PUERTOS!J43","v":"Permanente"}]
[{"$f":"PUERTOS!D44","v":0},{"$f":"PUERTOS!B44","v":"VERTIMIENTO EN AGUA SUPERFICIAL"},{"$f":"PUERTOS!E44","v":"Cuando el permiso de vertimientos esté condicionado en ciertas épocas del año debido a las características del régimen de caudal, implementar un sistema de medición de caudales debidamente calibrado sobre la fuente hídrica receptora con frecuencia de medición diaria, con el fin de restringir el vertimiento de acuerdo con las condiciones hidrológicas autorizadas. "},{"$f":"PUERTOS!F44","v":"N/A"},{"$f":"PUERTOS!G44","v":"Aplica"},{"$f":"PUERTOS!H44","v":"Aplica"},{"$f":"PUERTOS!I44","v":"Aplica"},{"$f":"PUERTOS!J44","v":"Permanente"}]
[{"$f":"PUERTOS!D45","v":0},{"$f":"PUERTOS!B45","v":"VERTIMIENTO EN AGUA SUPERFICIAL"},{"$f":"PUERTOS!E45","v":"Suspender las actividades de vertimiento cuando se presente alguna de las siguientes situaciones:\n\na) La reparación y reinicio de los sistemas de tratamiento requieran más de tres (3) horas diarias (artículo 2.2.3.3.4.15 del Decreto 1076 de 2015).\nb) El caudal medido sobre la fuente receptora sea menor que el caudal ambiental (cuando el caudal ambiental del cuerpo de agua donde se realiza el vertimiento no se encuentre reglamentado por la autoridad regional, deberá tenerse en cuenta el calculado por el proyecto en el EIA). Para ello, el titular de la licencia ambiental, implementará un sistema que permita validar el nivel del caudal previo a la actividad del vertimiento. \n\nInformar a la autoridad ambiental regional y a la ANLA, dentro de las 24 h posteriores a la situación y por los medios legalmente establecidos, sobre la suspensión de actividades y/o la puesta en marcha del Plan de Gestión del Riesgo para el Manejo de Vertimientos. Así mismo, informar a la autoridad ambiental competente y a la ANLA dentro de las 24 horas posteriores a la reactivación del vertimiento."},{"$f":"PUERTOS!F45","v":"N/A"},{"$f":"PUERTOS!G45","v":"Aplica"},{"$f":"PUERTOS!H45","v":"Aplica"},{"$f":"PUERTOS!I45","v":"Aplica"},{"$f":"PUERTOS!J45","v":"Permanente"}]
[{"$f":"PUERTOS!D46","v":0},{"$f":"PUERTOS!B46","v":"VERTIMIENTO EN AGUA SUPERFICIAL"},{"$f":"PUERTOS!E46","v":"Realizar monitoreos de calidad del recurso hídrico dos veces al año en el cuerpo de agua donde se realiza el vertimiento, considerando épocas de máximas y mínimas precipitaciones. En caso de que por condiciones de variabilidad climática no sea posible realizar los monitoreos en dichas épocas, justificar en el correspondiente ICA su ejecución en épocas de transición. Dichos monitoreos se realizarán mediante la toma de muestras integradas en la sección transversal siguiendo los lineamientos establecidos en la Guía para el Monitoreo de Vertimientos, Aguas Superficiales y Subterráneas del 2002 del IDEAM, o cualquiera que la modifique, derogue o sustituya, dando cumplimiento a las siguientes condiciones:\n\na) Realizar una medición de nivel y caudal aguas arriba y aguas abajo del vertimiento de manera simultánea a la toma de muestras, teniendo en cuenta que no haya aportes o extracciones significativas de caudal (naturales o antrópicas) entre los puntos de medición y el punto de vertimiento. Presentar la base de datos en los respectivos Informes de Cumplimiento Ambiental - ICA.\nb) Realizar el monitoreo aguas arriba y aguas abajo siguiendo la masa de agua: 1) Aguas arriba del punto de vertimiento y 2) Aguas abajo del vertimiento, en un punto situado después de la distancia de mezcla completa estimada desde el sitio de la descarga. Estos puntos deberán coincidir con los definidos en la línea base ambiental.\nc) Registrar en cada monitoreo los parámetros establecidos en la Resolución 631 de 2015 o aquella que la modifique, derogue o sustituya. De igual manera, se deben contemplar los parámetros establecidos en los Planes de Ordenamiento y Manejo de Cuencas Hidrográficas - POMCAs y en los Planes de Ordenamiento del Recurso Hídrico - PORH. \nd) Monitorear las siguientes comunidades hidrobiológicas: perifiton, bentos y fauna íctica para cuerpos lóticos, y adicionalmente plancton y macrófitas para cuerpos lénticos. \ne) Registrar el estado del tiempo (nubosidad, temperatura del aire, velocidad del viento, humedad relativa, temperatura del punto de rocío) durante el monitoreo.\nf) Presentar en los Informes de Cumplimiento Ambiental - ICA, los reportes de laboratorio, las cadenas de custodia y el análisis de la tendencia de la calidad del medio afectado por el vertimiento, comparándola con la línea base presentada.\ng) Cuando entre el punto de monitoreo y el punto de vertimiento se presenten aportes o extracciones, estas se monitorearán y cuantificarán (calidad y cantidad). Presentar los respectivos soportes en los Informes de Cumplimiento Ambiental - ICA. "},{"$f":"PUERTOS!F46","v":"N/A"},{"$f":"PUERTOS!G46","v":"Aplica"},{"$f":"PUERTOS!H46","v":"Aplica"},{"$f":"PUERTOS!I46","v":"Aplica"},{"$f":"PUERTOS!J46","v":"Permanente"}]
[{"$f":"PUERTOS!D47","v":0},{"$f":"PUERTOS!B47","v":"VERTIMIENTO EN AGUA SUPERFICIAL"},{"$f":"PUERTOS!E47","v":"Realizar monitoreos de las aguas residuales (domésticas y no domésticas) a la salida del sistema de tratamiento, mediante un muestreo compuesto de 24 horas (o durante el tiempo en que se realice el vertimiento) con mediciones horarias, siguiendo lo establecido en la Guía para el Monitoreo de Vertimientos, Aguas Superficiales y Subterráneas del 2002 del IDEAM, o cualquiera que la modifique, derogue o sustituya, dando cumplimiento a las siguientes condiciones:\n\na) La periodicidad de la realización de los monitoreos de ARD y ARnD deberá ser cada dos meses. \nb) La fecha de realización del monitoreo del vertimiento debe coincidir con la fecha de realización del monitoreo de calidad del cuerpo receptor.\nc) Registrar en cada monitoreo del vertimiento los parámetros establecidos en la Resolución 631 de 2015 o aquella que la modifique, derogue o sustituya. \nd) Presentar en los Informes de Cumplimiento Ambiental - ICA, los reportes de laboratorio, las cadenas de custodia y el análisis de los resultados de los monitoreos, que incluya las correlaciones entre variaciones de proceso y variaciones en las mediciones, así como la comparación en los resultados con los límites establecidos en la normatividad mencionada."},{"$f":"PUERTOS!F47","v":"N/A"},{"$f":"PUERTOS!G47","v":"Aplica"},{"$f":"PUERTOS!H47","v":"Aplica"},{"$f":"PUERTOS!I47","v":"Aplica"},{"$f":"PUERTOS!J47","v":"Permanente"}]
[{"$f":"PUERTOS!D48","v":0},{"$f":"PUERTOS!B48","v":"VERTIMIENTO EN AGUA SUPERFICIAL"},{"$f":"PUERTOS!E48","v":"Presentar en los respectivos Informes de Cumplimiento Ambiental - ICA la validación del modelo de calidad del agua dos años después de iniciado el vertimiento, teniendo en cuenta las condiciones desarrolladas en ese periodo para los cuerpos de agua donde se autoriza el vertimiento, siguiendo lo establecido en la Guía Nacional de Modelación del Recurso Hídrico para Aguas Superficiales Continentales, adoptada por la Resolución 959 de 2018 del Ministerio de Ambiente y Desarrollo Sostenible, o aquella que la modifique, derogue o sustituya, dando cumplimiento a las siguientes condiciones:\n\na) Registrar en cada monitoreo los parámetros físicos, químicos, microbiológicos e hidrobiológicos establecidos en la Guía Nacional de Modelación del Recurso Hídrico para Aguas Superficiales Continentales. En caso de que por la naturaleza del proyecto, requiera de la exclusión de algún(nos) parámetros(s) justificar mediante balances de materia o de masa y/o con la realización de la respectiva caracterización que demuestre que estos no se encuentran presentes en sus aguas residuales.  Dentro de la justificación, puede hacer uso de la información de las hojas técnicas de las materias primas e insumos empleados en el proceso. \nb) Presentar en los Informes de Cumplimiento Ambiental - ICA, los reportes de laboratorio, las cadenas de custodia y el análisis de la tendencia de la calidad del medio afectado por el vertimiento, comparándola con la línea base presentada en el EIA.\nc) La fecha de realización de los monitoreos insumo para la actualización del modelo, debe coincidir con la fecha de realización de los monitoreos de calidad del cuerpo receptor y serán complemento de los parámetros monitoreados en el cuerpo de agua receptor.\nd) Realizar el monitoreo en tres puntos siguiendo la masa de agua: 1) Aguas arriba del punto de vertimiento, 2) Aguas abajo del vertimiento, en un punto situado después de la distancia de mezcla completa estimada desde el sitio de la descarga y 3) Al final del tramo seleccionado para modelación (la longitud del tramo de modelación debe ser la misma que la definida en el EIA).\n\nEn caso de que se presenten cambios en las fuentes de agua receptoras (régimen hidrológico, hidráulica, nuevos puntos de vertimientos, nuevos puntos de captación, etc.) se deberá validar el modelo y presentar a esta Autoridad en los respectivos Informes de Cumplimiento Ambiental - ICA."},{"$f":"PUERTOS!F48","v":"N/A"},{"$f":"PUERTOS!G48","v":"Aplica"},{"$f":"PUERTOS!H48","v":"Aplica"},{"$f":"PUERTOS!I48","v":"Aplica"},{"$f":"PUERTOS!J48","v":"Permanente"}]
[{"$f":"PUERTOS!D49","v":0},{"$f":"PUERTOS!B49","v":"VERTIMIENTO EN AGUA SUPERFICIAL"},{"$f":"PUERTOS!E49","v":"Presentar en los Informes de Cumplimiento Ambiental - ICA, los soportes que evidencien las actividades de mantenimiento preventivo o correctivo efectuadas al sistema de tratamiento de aguas residuales (minuta u hoja de vida del sistema de tratamiento e informes de disposición de lodos producto del mantenimiento), en cumplimiento del artículo 2.2.3.3.4.16 del Decreto 1076 de 2015, o aquel que lo modifique, derogue o sustituya."},{"$f":"PUERTOS!F49","v":"N/A"},{"$f":"PUERTOS!G49","v":"Aplica"},{"$f":"PUERTOS!H49","v":"Aplica"},{"$f":"PUERTOS!I49","v":"Aplica"},{"$f":"PUERTOS!J49","v":"Permanente"}]
[{"$f":"PUERTOS!D50","v":0},{"$f":"PUERTOS!B50","v":"VERTIMIENTO EN AGUA SUPERFICIAL"},{"$f":"PUERTOS!E50","v":"Instalar un aviso informativo de fácil visibilidad en el lugar del vertimiento autorizado, el cual incluya la información de la licencia ambiental respecto al permiso de vertimiento: número y fecha de la resolución que autoriza el permiso de vertimiento, titular de la licencia, información de contacto, nombre de la fuente hídrica, coordenadas del punto de vertimiento autorizado en la resolución, caudal del vertimiento autorizado (l/s) y caudal ambiental de la fuente."},{"$f":"PUERTOS!F50","v":"N/A"},{"$f":"PUERTOS!G50","v":"Aplica"},{"$f":"PUERTOS!H50","v":"Aplica"},{"$f":"PUERTOS!I50","v":"Aplica"},{"$f":"PUERTOS!J50","v":"Permanente"}]
[{"$f":"PUERTOS!D51","v":0},{"$f":"PUERTOS!B51","v":"VERTIMIENTO AL MAR"},{"$f":"PUERTOS!E51","v":"Realizar monitoreos de las aguas residuales no domésticas a la salida del sistema de tratamiento, mediante un muestreo compuesto de 24 horas (o durante el tiempo en que se realice el vertimiento) con mediciones horarias, siguiendo lo establecido en la Guía para el Monitoreo de Vertimientos, Aguas Superficiales y Subterráneas del 2002 del IDEAM, o cualquiera que la modifique o sustituya, dando cumplimiento a las siguientes condiciones:\n\na) La periodicidad de la realización de los monitoreos de ARnD deberá ser cada dos meses. \nb) Monitorear los parámetros establecidos en la Resolución 883 del 2018 o aquella que la modifique o sustituya, y compararlos con los límites máximos permisibles establecidos en esta resolución. Así mismo, realizar el análisis de las variaciones de las mediciones. Presentar los soportes en los respectivos Informes de Cumplimiento Ambiental - ICA.\nc) Presentar los reportes de laboratorio y las cadenas de custodia originales, a su vez, los resultados analíticos deben ser presentados en formato Excel en los respectivos Informes de Cumplimiento Ambiental.\nd) Calcular y analizar la carga contaminante para cada parámetro monitoreado en función del caudal vertido. Presentar los soportes en los respectivos Informes de Cumplimiento Ambiental - ICA.\ne) Conformar una base de datos en hoja de cálculo que incluya: fechas, caudales del vertimiento, regímenes de descarga (hora/día), periodos de descarga (días/mes), volumen total vertido en cada período monitoreado, velocidad y dirección de las corrientes."},{"$f":"PUERTOS!F51","v":"N/A"},{"$f":"PUERTOS!G51","v":"Aplica"},{"$f":"PUERTOS!H51","v":"Aplica"},{"$f":"PUERTOS!I51","v":"Aplica"},{"$f":"PUERTOS!J51","v":"Permanente"}]
[{"$f":"PUERTOS!D52","v":0},{"$f":"PUERTOS!B52","v":"VERTIMIENTO AL MAR"},{"$f":"PUERTOS!E52","v":"Actualizar una vez al año y presentar en los respectivos Informes de Cumplimiento Ambiental – ICA el modelo de calidad del agua marina de acuerdo con: resultados de los monitoreos de calidad del agua marina, resultados de monitoreos del vertimiento, caudal de descarga, carga contaminante y aspectos oceanográficos."},{"$f":"PUERTOS!F52","v":"N/A"},{"$f":"PUERTOS!G52","v":"Aplica"},{"$f":"PUERTOS!H52","v":"Aplica"},{"$f":"PUERTOS!I52","v":"Aplica"},{"$f":"PUERTOS!J52","v":"Permanente"}]
[{"$f":"PUERTOS!D53","v":0},{"$f":"PUERTOS!B53","v":"VERTIMIENTO AL MAR"},{"$f":"PUERTOS!E53","v":"No desarrollar actividades de vertimiento cuando se presenten las situaciones de las que trata el artículo 2.2.3.3.4.15 del Decreto 1076 de 2015, e informar a la autoridad ambiental regional y a la ANLA, dentro de las 24 horas posteriores a la situación y por los medios legalmente establecidos, sobre la suspensión de actividades y/o la puesta en marcha del Plan de Gestión del Riesgo para el Manejo de Vertimientos, cuando la reparación y reinicio de los sistemas de tratamiento requieran más de tres (3) horas diarias."},{"$f":"PUERTOS!F53","v":"N/A"},{"$f":"PUERTOS!G53","v":"Aplica"},{"$f":"PUERTOS!H53","v":"Aplica"},{"$f":"PUERTOS!I53","v":"Aplica"},{"$f":"PUERTOS!J53","v":"Permanente"}]
[{"$f":"PUERTOS!D54","v":0},{"$f":"PUERTOS!B54","v":"VERTIMIENTO AL MAR"},{"$f":"PUERTOS!E54","v":"Presentar en los Informes de Cumplimiento Ambiental - ICA, los soportes que evidencien las actividades de mantenimiento preventivo o correctivo efectuadas al sistema de tratamiento de aguas residuales (minuta u hoja de vida del sistema de tratamiento e informe técnico del mantenimiento y de la disposición de lodos producto del mismo), en cumplimiento del artículo 2.2.3.3.4.16 del Decreto 1076 de 2015."},{"$f":"PUERTOS!F54","v":"N/A"},{"$f":"PUERTOS!G54","v":"Aplica"},{"$f":"PUERTOS!H54","v":"Aplica"},{"$f":"PUERTOS!I54","v":"Aplica"},{"$f":"PUERTOS!J54","v":"Permanente"}]
[{"$f":"PUERTOS!D55","v":0},{"$f":"PUERTOS!B55","v":"VERTIMIENTO EN SUELO"},{"$f":"PUERTOS!E55","v":"Realizar la instalación de la red piezométrica para monitoreo de aguas subterráneas en la zona de riego/aspersión autorizada antes de la puesta en marcha del sistema de vertimiento en suelos, dando cumplimiento a lo siguiente:\n\na) Contemplar un número representativo de piezómetros, para lo cual presentará la justificación técnica del número de piezómetros a implementar en el Plan de Manejo Ambiental Específico.\nb) Localizarse aguas arriba y aguas abajo del área de vertimiento de acuerdo a la dirección del flujo local de las aguas subterráneas. \nc) Los pozos de observación/piezómetros se deberán nivelar topográficamente. \nd) Los pozos deberán  contar con un mecanismo de protección que impida el ingreso de sustancias en su interior."},{"$f":"PUERTOS!F55","v":"N/A"},{"$f":"PUERTOS!G55","v":"Aplica"},{"$f":"PUERTOS!H55","v":"N/A"},{"$f":"PUERTOS!I55","v":"N/A"},{"$f":"PUERTOS!J55","v":"Temporal"}]
[{"$f":"PUERTOS!D56","v":0},{"$f":"PUERTOS!B56","v":"VERTIMIENTO EN SUELO"},{"$f":"PUERTOS!E56","v":"Clausurar los pozos de observación/piezómetros, de acuerdo con los lineamientos establecidos en la NTC 5539:2007 -sección 4.10- y/o conforme a las actualizaciones que se hagan de esta, una vez se finalicen los vertimientos en suelos y se compruebe de manera previa mediante un monitoreo de calidad de aguas subterráneas con base en la caracterización en la línea base, que no existen impactos residuales por la ejecución del vertimiento. Presentar los soportes que evidencien la no afectación al recurso agua, el informe de las actividades de clausura y el reporte de esta novedad en el \"Formato de Hoja de Vida de Pozo de Observación/Piezómetro - Aguas Subterráneas\" en los respectivos Informes de Cumplimiento Ambiental - ICA."},{"$f":"PUERTOS!F56","v":"N/A"},{"$f":"PUERTOS!G56","v":"N/A"},{"$f":"PUERTOS!H56","v":"N/A"},{"$f":"PUERTOS!I56","v":"Aplica"},{"$f":"PUERTOS!J56","v":"Temporal"}]
[{"$f":"PUERTOS!D57","v":0},{"$f":"PUERTOS!B57","v":"VERTIMIENTO EN SUELO"},{"$f":"PUERTOS!E57","v":"Para aguas residuales no domésticas - ARnD tratadas, realizar monitoreos fisicoquímicos y biológicos del suelo receptor, antes de iniciar el vertimiento y dos veces al año después de iniciado considerando épocas de máximas y mínimas precipitaciones. En caso de que por condiciones de variabilidad climática no sea posible realizar los monitoreos en dichas épocas, justificar en el correspondiente ICA su ejecución en épocas de transición. Dar cumplimiento a las siguientes condiciones:\n\na) Realizar la toma de muestras puntuales y análisis de parámetros fisicoquímicos y biológicos establecidos en el artículo 2.2.3.3.4.9 del Decreto 1076 de 2015, o aquel que lo modifique, derogue o sustituya, en cada área de disposición. \nb) Presentar en los Informes de Cumplimiento Ambiental - ICA, los reportes de laboratorio, las cadenas de custodia y el análisis de resultados de monitoreos en una base temporal para cada variable, empleando gráficas de tendencia de concentración versus tiempo (actualizar las gráficas con la información recolectada en cada muestreo); el análisis debe estar orientado a medir el cambio en las propiedades iniciales del suelo (línea base) por efectos del vertimiento en cada sitio de muestra analizada.\nc) Realizar la toma de muestras con base en los criterios definidos por las autoridades competentes. "},{"$f":"PUERTOS!F57","v":"N/A"},{"$f":"PUERTOS!G57","v":"Aplica"},{"$f":"PUERTOS!H57","v":"Aplica"},{"$f":"PUERTOS!I57","v":"Aplica"},{"$f":"PUERTOS!J57","v":"Permanente"}]
[{"$f":"PUERTOS!D58","v":0},{"$f":"PUERTOS!B58","v":"VERTIMIENTO EN SUELO"},{"$f":"PUERTOS!E58","v":"Para aguas residuales no domésticas - ARnD tratadas, realizar monitoreos fisicoquímicos y microbiológicos de las aguas subterráneas en cada uno de los pozos de observación/piezómetros instalados, antes de iniciar el vertimiento y dos veces al año después de iniciado en cada uno de los pozos de observación/piezómetros instalados, considerando épocas de máximas y mínimas precipitaciones. En caso de que por condiciones de variabilidad climática no sea posible realizar los monitoreos en dichas épocas, justificar en el correspondiente ICA su ejecución en épocas de transición. Dar cumplimiento a las siguientes condiciones:\n\na) Realizar la toma de muestras puntuales y análisis de parámetros fisicoquímicos y biológicos establecidos en el artículo 2.2.3.3.4.9 del Decreto 1076 de 2015, o aquel que lo modifique, derogue o sustituya, y de los iones y cationes (Na+, K+, Mg++, Ca++, Fe++, SO4=, Cl-, NO3-, CO3=, HCO3-). \nb) Calcular y presentar el valor del error analítico (%) a partir de la sumatoria de aniones y cationes.  Solo podrán reportarse las caracterizaciones de muestras que tengan errores analíticos inferiores a ±10%. Presentar dichos cálculos en los Informes de Cumplimiento Ambiental – ICA.\nc) Realizar la toma de muestras siguiendo la Guía para el Monitoreo de Vertimientos, Aguas Superficiales y Subterráneas del 2002 del IDEAM o aquella que lo modifique, derogue o sustituya.\nd) Llevar un registro del nivel freático de cada pozo de observación/piezómetro de la red instalada, con el fin de analizar la variación del nivel freático del área de vertimiento, comparándolo con el caudal vertido y el régimen de precipitación. Presentar los soportes en los Informes de Cumplimiento Ambiental – ICA.\t\ne) Presentar en los Informes de Cumplimiento Ambiental - ICA, los reportes de laboratorio, las cadenas de custodia y el análisis de resultados de monitoreos en una base temporal para cada variable, empleando gráficas de tendencia de concentración versus tiempo (actualizar las gráficas con la información recolectada en cada muestreo). En caso de que por acción del vertimiento se presente un cambio en las características del agua subterránea, el titular de la licencia ambiental suspenderá el vertimiento y propondrá las medidas a que haya lugar."},{"$f":"PUERTOS!F58","v":"N/A"},{"$f":"PUERTOS!G58","v":"Aplica"},{"$f":"PUERTOS!H58","v":"Aplica"},{"$f":"PUERTOS!I58","v":"Aplica"},{"$f":"PUERTOS!J58","v":"Permanente"}]
[{"$f":"PUERTOS!D59","v":0},{"$f":"PUERTOS!B59","v":"VERTIMIENTO EN SUELO"},{"$f":"PUERTOS!E59","v":"Para aguas residuales domésticas - ARD tratadas, realizar monitoreos fisicoquímicos y biológicos del suelo receptor, antes de iniciar el vertimiento y dos veces al año después de iniciado, considerando épocas de máximas y mínimas precipitaciones. En caso de que por condiciones de variabilidad climática no sea posible realizar los monitoreos en dichas épocas, justificar en el correspondiente ICA su ejecución en épocas de transición. Dar cumplimiento a las siguientes condiciones:\n\na) Realizar la toma de muestras puntuales y análisis de parámetros: textura (porcentaje de arena, limo y arcilla), densidad real, densidad aparente, materia orgánica, pH, cloruros, conductividad eléctrica, capacidad de intercambio catiónico, grasas y aceites, bario, cadmio, mercurio, bacterias totales y HTP, en cada área de disposición. \nb) Realizar la toma de muestras con base en los criterios definidos por las autoridades competentes. \nc) Presentar en los Informes de Cumplimiento Ambiental - ICA, los reportes de laboratorio, las cadenas de custodia y el análisis de resultados de monitoreos en una base temporal para cada variable, empleando gráficas de tendencia de concentración versus tiempo (actualizar las gráficas con la información recolectada en cada muestreo); el análisis estará orientado a medir el cambio en las propiedades iniciales del suelo (línea base) por efectos del vertimiento en cada sitio de muestra analizada, así como con los límites genéricos basados en riesgos (LGBR) de la EPA (https://www.epa.gov/risk/regional-screening-levels-rsls-generic-tables,  Niveles de Detección Regional (RSLs) - Niveles de Detección (TR = 1E-06 THQ = 1.0) - Tabla resumen - Suelo Industrial)."},{"$f":"PUERTOS!F59","v":"N/A"},{"$f":"PUERTOS!G59","v":"Aplica"},{"$f":"PUERTOS!H59","v":"Aplica"},{"$f":"PUERTOS!I59","v":"Aplica"},{"$f":"PUERTOS!J59","v":"Permanente"}]
[{"$f":"PUERTOS!D60","v":0},{"$f":"PUERTOS!B60","v":"VERTIMIENTO EN SUELO"},{"$f":"PUERTOS!E60","v":"Para aguas residuales domésticas - ARD tratadas, realizar monitoreos fisicoquímicos y microbiológicos de las aguas subterráneas en cada uno de los pozos de observación/piezómetros instalados, antes de iniciar el vertimiento y dos veces al año después de iniciado en cada uno de los pozos de observación/piezómetros instalados, considerando épocas de máximas y mínimas precipitaciones. En caso de que por condiciones de variabilidad climática no sea posible realizar los monitoreos en dichas épocas, justificar en el correspondiente ICA su ejecución en épocas de transición. Dar cumplimiento a las siguientes condiciones:\n \na) Realizar la toma de muestras puntuales y análisis de parámetros fisicoquímicos y biológicos establecidos en el artículo 2.2.3.3.4.9 del Decreto 1076 de 2015, o aquel que lo modifique, derogue o sustituya.  \nb) Calcular y presentar el valor del error analítico (%) a partir de la sumatoria de aniones y cationes.  Solo podrán reportarse las caracterizaciones de muestras que tengan errores analíticos inferiores a ±10%. Presentar dichos cálculos en los Informes de Cumplimiento Ambiental – ICA.\nc) Realizar la toma de muestras siguiendo la Guía para el Monitoreo de Vertimientos, Aguas Superficiales y Subterráneas del 2002 del IDEAM o aquella que lo modifique, derogue o sustituya. \nd) Llevar un registro del nivel freático de cada pozo de observación/piezómetro de la red instalada, con el fin de analizar la variación del nivel freático del área de vertimiento, teniendo en cuenta el caudal vertido y el régimen de precipitación. Presentar los soportes en los Informes de Cumplimiento Ambiental – ICA. \ne) Presentar en los Informes de Cumplimiento Ambiental - ICA, los reportes de laboratorio, las cadenas de custodia y el análisis de resultados de monitoreos en una base temporal para cada variable, empleando gráficas de tendencia de concentración versus tiempo (actualizar las gráficas con la información recolectada en cada muestreo). "},{"$f":"PUERTOS!F60","v":"N/A"},{"$f":"PUERTOS!G60","v":"Aplica"},{"$f":"PUERTOS!H60","v":"Aplica"},{"$f":"PUERTOS!I60","v":"Aplica"},{"$f":"PUERTOS!J60","v":"Permanente"}]
[{"$f":"PUERTOS!D61","v":0},{"$f":"PUERTOS!B61","v":"VERTIMIENTO EN SUELO"},{"$f":"PUERTOS!E61","v":"Realizar monitoreos de aguas residuales no domésticas - ARnD cada dos meses a la salida del sistema de tratamiento, mediante un muestreo compuesto de 24 horas (o durante el tiempo en que se realice el vertimiento) con mediciones horarias, dando cumplimiento a las siguientes condiciones:\n\na) Realizar el monitoreo del vertimiento de conformidad con lo establecido en la Guía para el Monitoreo de Vertimientos, Aguas Superficiales y Subterráneas del 2002 del IDEAM, o cualquiera que la modifique, derogue o sustituya.\nb) Registrar en cada monitoreo del vertimiento, los parámetros establecidos en los artículos 2.2.3.3.9.14. y 2.2.3.3.9.16. del Decreto 1076 de 2015, o aquel que lo modifique, derogue o sustituya. \nc) Presentar en los Informes de Cumplimiento Ambiental - ICA, los reportes de laboratorio, las cadenas de custodia y el análisis de los resultados de los monitoreos. "},{"$f":"PUERTOS!F61","v":"N/A"},{"$f":"PUERTOS!G61","v":"Aplica"},{"$f":"PUERTOS!H61","v":"Aplica"},{"$f":"PUERTOS!I61","v":"Aplica"},{"$f":"PUERTOS!J61","v":"Permanente"}]
[{"$f":"PUERTOS!D62","v":0},{"$f":"PUERTOS!B62","v":"VERTIMIENTO EN SUELO"},{"$f":"PUERTOS!E62","v":"Realizar monitoreos de las aguas residuales domésticas - ARD cada dos meses a la salida del sistema de tratamiento, mediante un muestreo compuesto de 24 horas (o durante el tiempo en que se realice el vertimiento) con mediciones horarias, dando cumplimiento a las siguientes condiciones:\n\na) Realizar el monitoreo del vertimiento de conformidad con lo establecido en la Guía para el Monitoreo de Vertimientos, Aguas Superficiales y Subterráneas del 2002 del IDEAM, o cualquiera que la modifique, derogue o sustituya.\nb) Realizar la toma de muestras puntuales y análisis de parámetros establecidos en la Resolución 699 del 06 de julio de 2021, o aquel que lo modifique, derogue o sustituya, en cada área de disposición. \nc) Presentar en los Informes de Cumplimiento Ambiental - ICA, los reportes de laboratorio, las cadenas de custodia y el análisis de los resultados de los monitoreos. "},{"$f":"PUERTOS!F62","v":"N/A"},{"$f":"PUERTOS!G62","v":"Aplica"},{"$f":"PUERTOS!H62","v":"Aplica"},{"$f":"PUERTOS!I62","v":"Aplica"},{"$f":"PUERTOS!J62","v":"Permanente"}]
[{"$f":"PUERTOS!D63","v":0},{"$f":"PUERTOS!B63","v":"VERTIMIENTO EN SUELO"},{"$f":"PUERTOS!E63","v":"Presentar en los respectivos Informes de Cumplimiento Ambiental - ICA la validación del modelo numérico del flujo y transporte de solutos en el suelo para aguas residuales no domésticas del que trata el artículo 2.2.3.3.4.9 del Decreto 1076 de 2015, o la norma que lo modifique, derogue o sustituya, dos años después de iniciado el vertimiento."},{"$f":"PUERTOS!F63","v":"N/A"},{"$f":"PUERTOS!G63","v":"Aplica"},{"$f":"PUERTOS!H63","v":"Aplica"},{"$f":"PUERTOS!I63","v":"Aplica"},{"$f":"PUERTOS!J63","v":"Permanente"}]
[{"$f":"PUERTOS!D64","v":0},{"$f":"PUERTOS!B64","v":"VERTIMIENTO EN SUELO"},{"$f":"PUERTOS!E64","v":"Mantener actualizado el \"Formato de Hoja de Vida de Pozo de Observación/Piezómetro - Aguas Subterráneas\" de cada pozo instalado, los cuales se presentarán en los respectivos Informes de Cumplimiento Ambiental - ICA."},{"$f":"PUERTOS!F64","v":"N/A"},{"$f":"PUERTOS!G64","v":"Aplica"},{"$f":"PUERTOS!H64","v":"Aplica"},{"$f":"PUERTOS!I64","v":"Aplica"},{"$f":"PUERTOS!J64","v":"Permanente"}]
[{"$f":"PUERTOS!D65","v":0},{"$f":"PUERTOS!B65","v":"VERTIMIENTO EN SUELO"},{"$f":"PUERTOS!E65","v":"No desarrollar las actividades de vertimiento cuando se presenten las situaciones de las que trata el artículo 2.2.3.3.4.15 del Decreto 1076 de 2015, e informar a la autoridad ambiental regional y a la ANLA, dentro de las 24 h posteriores a la situación y por los medios legalmente establecidos, sobre la suspensión de actividades y/o la puesta en marcha del Plan de Gestión del Riesgo para el Manejo de Vertimientos, cuando la reparación y reinicio de los sistemas de tratamiento requieran más de tres (3) horas diarias."},{"$f":"PUERTOS!F65","v":"N/A"},{"$f":"PUERTOS!G65","v":"Aplica"},{"$f":"PUERTOS!H65","v":"Aplica"},{"$f":"PUERTOS!I65","v":"Aplica"},{"$f":"PUERTOS!J65","v":"Permanente"}]
[{"$f":"PUERTOS!D66","v":0},{"$f":"PUERTOS!B66","v":"VERTIMIENTO EN SUELO"},{"$f":"PUERTOS!E66","v":"Presentar en los Informes de Cumplimiento Ambiental - ICA, los soportes que evidencien las actividades de mantenimiento preventivo o correctivo efectuadas al sistema de tratamiento de aguas residuales (minuta u hoja de vida del sistema de tratamiento e informe técnico del mantenimiento y de la disposición de lodos producto del mismo), en cumplimiento del artículo 2.2.3.3.4.16 del Decreto 1076 de 2015, o la norma que lo modifique, derogue o sustituya."},{"$f":"PUERTOS!F66","v":"N/A"},{"$f":"PUERTOS!G66","v":"Aplica"},{"$f":"PUERTOS!H66","v":"Aplica"},{"$f":"PUERTOS!I66","v":"Aplica"},{"$f":"PUERTOS!J66","v":"Permanente"}]
[{"$f":"PUERTOS!D67","v":0},{"$f":"PUERTOS!B67","v":"VERTIMIENTO EN SUELO"},{"$f":"PUERTOS!E67","v":"Instalar un aviso informativo de fácil visibilidad en el lugar del vertimiento autorizado, el cual incluya la información de la licencia ambiental respecto al permiso de vertimiento: número y fecha de la resolución que otorga el permiso de vertimiento, titular de la licencia, información de contacto, coordenadas del punto de vertimiento autorizado en la resolución y  caudal del vertimiento autorizado (l/s)."},{"$f":"PUERTOS!F67","v":"N/A"},{"$f":"PUERTOS!G67","v":"Aplica"},{"$f":"PUERTOS!H67","v":"Aplica"},{"$f":"PUERTOS!I67","v":"Aplica"},{"$f":"PUERTOS!J67","v":"Permanente"}]
[{"$f":"PUERTOS!D68","v":0},{"$f":"PUERTOS!B68","v":"APROVECHAMIENTO FORESTAL"},{"$f":"PUERTOS!E68","v":"Reportar en los informes de cumplimiento ambiental - ICA - el inventario forestal e informe detallado del aprovechamiento forestal adelantado durante el periodo a ser reportado. Presentar la información documental conforme a los lineamientos establecidos en el Manual de Seguimiento Ambiental de Proyectos y bajo el modelo de almacenamiento geográfico adoptado en la Resolución 2182 del 23 de diciembre de 2016, o aquella que la modifique, derogue o sustituya. Detallar en cada informe volúmenes totales y comerciales de aprovechamiento forestal efectivamente removidos por tipo de obra y tipo de cobertura, volúmenes acumulados (Cuando el aprovechamiento forestal se reporta en varios ICA´s), individuos arbóreos aprovechados (nombre común, nombre científico y familia de la especie) con la respectiva ubicación en coordenadas planas con datum y origen, y el área de aprovechamiento (municipio, vereda, predio y polígono de aprovechamiento)."},{"$f":"PUERTOS!F68","v":"N/A"},{"$f":"PUERTOS!G68","v":"Aplica"},{"$f":"PUERTOS!H68","v":"N/A"},{"$f":"PUERTOS!I68","v":"N/A"},{"$f":"PUERTOS!J68","v":"Permanente"}]
[{"$f":"PUERTOS!D69","v":0},{"$f":"PUERTOS!B69","v":"APROVECHAMIENTO FORESTAL"},{"$f":"PUERTOS!E69","v":"Cuando se requiera de la remoción de árboles aislados en un volumen igual o menor a veinte metros cúbicos (20 m³) de conformidad con el articulo 2.2.1.1.9.6. del decreto 1076 de 2015, la sociedad XXX reportará las actividades adelantadas en el respectivo informe de cumplimiento ambiental y no podrá superar el volumen mencionado durante el desarrollo de todas las actividades contempladas en el proyecto."},{"$f":"PUERTOS!F69","v":"N/A"},{"$f":"PUERTOS!G69","v":"Aplica"},{"$f":"PUERTOS!H69","v":"Aplica"},{"$f":"PUERTOS!I69","v":"N/A"},{"$f":"PUERTOS!J69","v":"Temporal"}]
[{"$f":"PUERTOS!D70","v":0},{"$f":"PUERTOS!B70","v":"APROVECHAMIENTO FORESTAL"},{"$f":"PUERTOS!E70","v":"Disponer los residuos vegetales resultantes de las actividades de aprovechamiento forestal (hojas, ramas, raíces) de tal forma que no se intervenga en la dinámica natural de ecosistemas estratégicos o drenajes naturales, dando cumplimiento a lo establecido en las medidas del Plan de Manejo Ambiental y documentando su implementación y georreferenciación en los Informes de Cumplimiento Ambiental - ICA respectivos."},{"$f":"PUERTOS!F70","v":"N/A"},{"$f":"PUERTOS!G70","v":"Aplica"},{"$f":"PUERTOS!H70","v":"N/A"},{"$f":"PUERTOS!I70","v":"N/A"},{"$f":"PUERTOS!J70","v":"Temporal"}]
[{"$f":"PUERTOS!D71","v":0},{"$f":"PUERTOS!B71","v":"APROVECHAMIENTO FORESTAL"},{"$f":"PUERTOS!E71","v":"No realizar quemas a cielo abierto de los productos, subproductos y/o residuos vegetales resultantes del aprovechamiento forestal."},{"$f":"PUERTOS!F71","v":"N/A"},{"$f":"PUERTOS!G71","v":"Aplica"},{"$f":"PUERTOS!H71","v":"N/A"},{"$f":"PUERTOS!I71","v":"N/A"},{"$f":"PUERTOS!J71","v":"Permanente"}]
[{"$f":"PUERTOS!D72","v":0},{"$f":"PUERTOS!B72","v":"APROVECHAMIENTO FORESTAL"},{"$f":"PUERTOS!E72","v":"Dar cumplimiento a lo establecido en las medidas de manejo aprobadas en el presente acto administrativo, tendientes a garantizar la protección y conservación, mediante las alternativas existentes para tal fin, de las especies endémicas, en veda nacional o regional o en alguna categoría de amenaza de acuerdo con la lista roja de la UICN, los libros rojos de los institutos de investigación Humboldt y SINCHI, la Resolución 1912 del 15 de septiembre de 2017 o aquellas normas que la modifiquen, deroguen o sustituyan, o que se encuentren en algún apéndice del CITES (Convenio sobre el comercio internacional de especies amenazadas). Documentar y presentar su implementación en los informes de cumplimiento ambiental - ICA-, incluyendo la respectiva georreferenciación y registro fotográfico."},{"$f":"PUERTOS!F72","v":"N/A"},{"$f":"PUERTOS!G72","v":"Aplica"},{"$f":"PUERTOS!H72","v":"Aplica"},{"$f":"PUERTOS!I72","v":"N/A"},{"$f":"PUERTOS!J72","v":"Permanente"}]
[{"$f":"PUERTOS!D73","v":0},{"$f":"PUERTOS!B73","v":"APROVECHAMIENTO FORESTAL"},{"$f":"PUERTOS!E73","v":"Los productos obtenidos del aprovechamiento forestal no podrán ser comercializados y solo podrán ser utilizados en las actividades propias del proyecto y/o entregarse a titulo de donación, determinando de manera prevalente como titular al propietario del predio o a las comunidades, organizaciones sociales y/o autoridades territoriales del área de influencia. Presentar en los Informes de Cumplimiento Ambiental - ICA- respectivos, el destino de los productos (donación y/o uso), el cual estará soportado mediante actas de donación o reportes de su uso en actividades del proyecto, según corresponda, volúmenes obtenidos del aprovechamiento, volúmenes donados y/o usados en las actividades del proyecto y registro fotográfico."},{"$f":"PUERTOS!F73","v":"N/A"},{"$f":"PUERTOS!G73","v":"Aplica"},{"$f":"PUERTOS!H73","v":"N/A"},{"$f":"PUERTOS!I73","v":"N/A"},{"$f":"PUERTOS!J73","v":"Temporal"}]
[{"$f":"PUERTOS!D74","v":0},{"$f":"PUERTOS!B74","v":"RECOLECCIÓN DE ESPECÍMENES DE ESPECIES SILVESTRES DE LA\nBIODIVERSIDAD"},{"$f":"PUERTOS!E74","v":"Presentar en el respectivo informe de cumplimiento ambiental - ICA - las actividades realizadas de recolección, incluyendo la relación del material recolectado, removido o extraído temporal o definitivamente del medio silvestre y la metodología implementada. Presentar la información documental conforme a los lineamientos establecidos en el Manual de Seguimiento Ambiental de Proyectos y de acuerdo con el modelo de almacenamiento geográfico establecido en la Resolución 2182 de 2016 del MADS, o la que la modifique, deroguen o sustituya."},{"$f":"PUERTOS!F74","v":"N/A"},{"$f":"PUERTOS!G74","v":"Aplica"},{"$f":"PUERTOS!H74","v":"Aplica"},{"$f":"PUERTOS!I74","v":"N/A"},{"$f":"PUERTOS!J74","v":"Permanente"}]
[{"$f":"PUERTOS!D75","v":0},{"$f":"PUERTOS!B75","v":"FAUNA"},{"$f":"PUERTOS!E75","v":"Realizar monitoreos trimestrales en la fase constructiva y semestrales en la fase operativa a las comunidades marinos costeras del area de influencia del proyecto, teniendo en cuenta las siguientes condiciones: \n\na) Monitorear las comunidades de flora y fauna asociada a los ecosistemas pelágicos, litoral rocoso y arenoso, fondos blandos, duros y macroalgas, praderas de pastos marinos, manglares, corales de aguas someras y profundas, incluyendo especies de importancia de interés ecológico y económico, especies migratorias (megafauna y aves), así como aquellos que se encuentren en alguna categoría de amenaza o en la lista roja.\nb) En caso de que se hayan identificado especies migratorias (megafauna y aves) desde el EIA, deberá presentarse el monitoreo correspondiente a las especies más representativas en el último periodo en que estas migraron al área de influencia del proyecto previo a su construcción. Durante la fase constructiva y operativa realizar dichos monitoreos según los periodos migratorios identificados. \nc) El monitoreo debe garantizar que la recolección de información sea representativa en términos espaciales, temporales, de composición y estructura para cada uno de las comunidades presentes.\nd) En caso de que, una vez obtenida la licencia ambiental, el proyecto demore más de 1 año en iniciar la fase constructiva del mismo, deberá realizar tres meses antes del inicio de esta fase los monitoreos a las comunidades marino costeras, con e fin de tener una caracterización más actualizada para poder realizar las comparaciones a las que hay a lugar. \ne) Los puntos de monitoreo deben ser los mismos empleados en la caracterización ambiental y de preferencia que coincidan con los mismos puntos de los monitoreos fisicoquímicos y microbiológicos de agua y sedimentos, en caso de adicionar nuevos puntos se debe justificar su representatividad. Garantizar que existan puntos de monitoreo en áreas de alta sensibilidad según la zonificación ambiental del área de influencia del proyecto, que se encuentren adyacentes a las áreas puntuales de intervención que, si bien no se van a intervenir, se deben monitorear para determinar que los impactos generados por el proyecto no afecten su estructura, composición y función durante su vida útil.\nf) Realizar la comparación de los resultados obtenidos con la línea base y con los monitoreos que se vayan realizando conforme el avance de las obras para analizar la tendencia del medio, a través de índices ecológicos y análisis estadísticos, que permitan conocer las variaciones de la composición y estructura de las comunidades. Así mismo, correlacionar los resultados de los datos obtenidos en el muestreo de los parámetros fisicoquímicos y microbiológicos.\ng) Georreferenciar los puntos donde se realiza el monitoreo, y almacenar la información obtenida de los monitoreos, de acuerdo con modelo de almacenamiento geográfico establecido en la Resolución 2182 de 2016 de Minambiente, o la que la modifique o sustituya.\nh) Presentar los resultados y análisis en los Informes de Cumplimiento Ambiental - ICA-, incluyendo el registro fílmico y/o fotográfico."},{"$f":"PUERTOS!F75","v":"Aplica"},{"$f":"PUERTOS!G75","v":"Aplica"},{"$f":"PUERTOS!H75","v":"Aplica"},{"$f":"PUERTOS!I75","v":"Aplica"},{"$f":"PUERTOS!J75","v":"Permanente"}]
[{"$f":"PUERTOS!D76","v":0},{"$f":"PUERTOS!B76","v":"FAUNA"},{"$f":"PUERTOS!E76","v":"Realizar monitoreos trimestrales en la fase constructiva y semestrales en la fase operativa a las comunidades de flora y fauna de los ecosistemas terrestres del área de influencia del proyecto, teniendo en cuenta las siguientes condiciones:\n\na) El monitoreo debe garantizar que la recolección de información sea representativa en términos espaciales, temporales, de composición y estructura para cada uno de las comunidades presentes.\nb) En caso de que, una vez obtenida la licencia ambiental, el proyecto demore más de 1 año en iniciar la fase constructiva del mismo, deberá realizar tres meses antes del inicio de esta fase los monitoreos a las comunidades de los ecosistemas terrestres, con e fin de tener una caracterización más actualizada para poder realizar las comparaciones a las que hay a lugar. \nc) Los puntos de monitoreo deben ser los mismos empleados en la caracterización ambiental, en caso de adicionar nuevos puntos se debe justificar su representatividad. Garantizar que existan puntos de monitoreo en áreas de alta sensibilidad según la zonificación ambiental del área de influencia del proyecto, que se encuentren adyacentes a las áreas puntuales de intervención que, si bien no se van a intervenir, se deben monitorear para determinar que los impactos generados por el proyecto no afecten su estructura, composición y función durante su vida útil.\nd) Realizar la comparación de los resultados obtenidos con la línea base y con los monitoreos que se vayan realizando conforme el avance de las obras para analizar la tendencia del medio, a través de índices ecológicos y análisis estadísticos, que permitan conocer las variaciones de la composición y estructura de las comunidades.\ne) Georreferenciar los puntos donde se realiza el monitoreo, y almacenar la información obtenida de los monitoreos, de acuerdo con modelo de almacenamiento geográfico establecido en la Resolución 2182 de 2016 de Minambiente, o la que la modifique o sustituya.\nf) Presentar los resultados y análisis en los Informes de Cumplimiento Ambiental - ICA-, incluyendo el registro fílmico y/o fotográfico."},{"$f":"PUERTOS!F76","v":"Aplica"},{"$f":"PUERTOS!G76","v":"Aplica"},{"$f":"PUERTOS!H76","v":"Aplica"},{"$f":"PUERTOS!I76","v":"Aplica"},{"$f":"PUERTOS!J76","v":"Permanente"}]
[{"$f":"PUERTOS!D77","v":0},{"$f":"PUERTOS!B77","v":"FAUNA"},{"$f":"PUERTOS!E77","v":"Realizar monitoreos trimestrales  en la fase constructiva y semestrales en la fase operativa a las comunidades de los ecosistemas acuáticos continentales del área de influencia del proyecto, teniendo en cuenta loas siguientes condiciones:\n\na) El monitoreo debe garantizar que la recolección de información sea representativa en términos espaciales, temporales, de composición y estructura para cada uno de las comunidades presentes.\nb) Los muestreos para el seguimiento de las comunidades, se deben realizar con una frecuencia trimestral en la fase constructiva y semestral en la operativa. En caso de que, una vez obtenida la licencia ambiental, el proyecto demore más de 1 año en iniciar la fase constructiva del mismo, deberá realizar tres meses antes del inicio de esta fase los monitoreos a las comunidades de los ecosistemas acuáticos continentales, con e fin de tener una caracterización más actualizada para poder realizar las comparaciones a las que hay a lugar. \nc) Los puntos de monitoreo deben ser los mismos empleados en la caracterización ambiental y de preferencia que coincidan con los mismos puntos de los monitoreos fisicoquímicos y microbiológicos de agua y sedimentos, en caso de adicionar nuevos puntos se debe justificar su representatividad. Garantizar que existan puntos de monitoreo en áreas de alta sensibilidad según la zonificación ambiental del área de influencia del proyecto, que se encuentren adyacentes a las áreas puntuales de intervención que, si bien no se van a intervenir, se deben monitorear para determinar que los impactos generados por el proyecto no afecten su estructura, composición y función durante su vida útil.\nd) Realizar la comparación de los resultados obtenidos con la línea base y con los monitoreos que se vayan realizando conforme el avance de las obras para analizar la tendencia del medio, a través de índices ecológicos y análisis estadísticos, que permitan conocer las variaciones de la composición y estructura de las comunidades. Así mismo, correlacionar los resultados de los datos obtenidos en el muestreo de los parámetros fisicoquímicos y microbiológicos. \ne) Georreferenciar los puntos donde se realiza el monitoreo, y almacenar la información obtenida de los monitoreos, de acuerdo con modelo de almacenamiento geográfico establecido en la Resolución 2182 de 2016 de Minambiente, o la que la modifique o sustituya.\nf) Presentar los resultados y análisis en los Informes de Cumplimiento Ambiental - ICA-, incluyendo el registro fílmico y/o fotográfico."},{"$f":"PUERTOS!F77","v":"Aplica"},{"$f":"PUERTOS!G77","v":"Aplica"},{"$f":"PUERTOS!H77","v":"Aplica"},{"$f":"PUERTOS!I77","v":"Aplica"},{"$f":"PUERTOS!J77","v":"Permanente"}]
[{"$f":"PUERTOS!D78","v":0},{"$f":"PUERTOS!B78","v":"FAUNA"},{"$f":"PUERTOS!E78","v":"Implementar en el área de influencia del componente fauna, técnicas complementarias de detección de fauna como bioacústica pasiva y activa en espectro audible y/o ultrasonido, cumpliendo con las siguientes condiciones:\n\na) El monitoreo debe realizarse con la misma frecuencia en que se realizan los monitoreos de fauna vertebrada, de tal manera que cubran dos épocas climáticas (altas y bajas precipitaciones), quedando cubierta la migración de la fauna en alguno de los dos periodos evaluados. \nb) Para el muestreo acústico activo, se deben realizar recorridos por unidad de cobertura en los mismos puntos de muestreo de la caracterización de fauna o en las unidades de muestreo aprobadas en la licencia ambiental. Se deben realizar réplicas de tal manera que se cubran los picos de actividad de fauna en cada unidad de muestreo garantizando que el esfuerzo de muestreo para los grupos de fauna analizados con esta técnica de muestreo sea representativo por cobertura, en términos espaciales y temporales. La representatividad del muestreo se determinará según el cumplimiento de la asíntota en las curvas de acumulación, obteniendo por lo menos un valor ≥ 85% en los diferentes estimadores.\nc) En el caso de implementar muestreo acústico pasivo, se deben instalar detectores pasivos entre 1,5 a 3 metros de altura sobre el nivel del suelo y en el caso que se requiera, instalar detectores a la altura del dosel de la vegetación por cobertura del área de influencia del componente fauna. Los detectores deben estar configurados para grabar entre 1 a 3 min cada 10 a 30 minutos de manera continua y el esfuerzo de muestreo debe ser representativo en términos espaciales y temporales por cobertura o por unidad de análisis aprobada en la licencia ambiental. La representatividad del muestreo se determinará según el cumplimiento de la asíntota en las curvas de acumulación, obteniendo por lo menos un valor ≥ 85% en los diferentes estimadores. \nd) Realizar pruebas estadísticas multivariadas comparativas entre los registros obtenidos (riqueza, actividad acústica espacial y temporal, abundancia), las unidades de muestreo, la ubicación de las obras generadoras del ruido y con la línea base e histórico de los monitoreos anteriores en las diferentes etapas del proyecto y temporadas climáticas según corresponda. Garantizando como mínimo un esfuerzo de muestreo igual al realizado durante la línea base.\ne) Presentar la siguiente información en los respectivos Informes de Cumplimiento Ambiental: i) Riqueza de especies, ii) Actividad acústica por especie y/o sonotipo, a escala temporal y espacial (punto de muestreo, cobertura o área priorizada, según corresponda), iii) Parámetros acústicos por especies y/o sonotipo (frecuencias mínima, máxima, máxima energía, duración y clasificación del sonido según el grupo taxonómico) y vi) Oscilogramas y espectrogramas por especie y/o sonotipo detectado.\n"},{"$f":"PUERTOS!F78","v":"N/A"},{"$f":"PUERTOS!G78","v":"Aplica"},{"$f":"PUERTOS!H78","v":"Aplica"},{"$f":"PUERTOS!I78","v":"Aplica"},{"$f":"PUERTOS!J78","v":"Permanente"}]
[{"$f":"PUERTOS!D79","v":0},{"$f":"PUERTOS!B79","v":"FAUNA"},{"$f":"PUERTOS!E79","v":"Establecer los grupos o especies de fauna más sensibles frente al impacto de la alteración en los niveles de presión sonora, indicando las áreas con mayor sensibilidad a la expresión de este impacto. La evaluación del ruido sobre la fauna se puede realizar siguiendo las recomendaciones del documento “Criterio de Evaluación en el SEIA: Evaluación de Impactos por Ruido Sobre Fauna Nativa” del Servicio de Evaluación Ambiental (SEA) en Chile, 2022 y del articulo “Evaluación de impacto acústico por ruido sobre la fauna nativa terrestre en el marco del Sistema de Evaluación de Impacto Ambiental (SEIA) en Chile” por Montenegro et al, 2020 y/o información científica actualizada. La evaluación de impacto por ruido debe realizarse en las mismas temporadas climáticas en que se realizan los monitoreos de fauna y entregarse en los respectivos Informes de Cumplimiento Ambiental – ICA, cumpliendo adicionalmente con lo siguiente:\n\na) Con la información obtenida de esta metodología, se deberá monitorear las áreas de generación del impacto sobre la biodiversidad, considerando las diferentes etapas y actividades del proyecto. Para tal efecto, se deberán considerar los modelos de ruido en el escenario sin control, generando monitoreos en las áreas donde se reporta mayor potencial de afectación.\nb) Identificar los umbrales de afectación por ruido sobre los grupos taxonómicos de fauna caracterizados, para lo cual se podrá tomar como referencia información secundaria disponible.\nc) Presentar el listado de riqueza de especies compilado de todos los monitoreos ejecutados durante el proyecto en donde se identifique categorías tróficas, endemismos, migración y estado de conservación según CITES, IUCN y MADS resolución 1912 o aquella que la modifique o sustituya identificando las especies/ grupos afectados por la generación de ruido y las preferencias de hábitat de estas en el área de influencia.\nd) Monitorear las áreas o hábitats con sensibilidad a la afectación por emisión acústica, teniendo en cuanta las especies presentes y la función ecosistémica que proveen.\ne) Plantear medidas de manejo para controlar los impactos del aumento de los niveles de presión sonora sobre la fauna, incluyendo monitoreos que validen i) la efectividad en el control de la emisión de ruido y ii) los cambios en los comportamientos de las especies identificadas como sensibles al impacto durante las diferentes etapas del proyecto. \nf) Presentar la siguiente información de cada uno de los monitoreos:  i) Riqueza de especies, ii) Actividad acústica por especie y/o sonotipo, a escala temporal (picos de actividad) y espacial (por punto de muestreo, cobertura, emplazamiento de fuentes generadoras y representarlo cartográficamente), iii) Parámetros acústicos por especies y/o sonotipo (frecuencias mínima, máxima, máxima energía, duración y clasificación del sonido según el grupo taxonómico), iv) Oscilogramas y espectrogramas por especie y/o sonotipo detectado y v) Los soportes de audio por especie y/o sonotipo que permitan validar las tasas de muestreo reportadas.\n\nLa información deberá presentarse de manera acumulada en los respectivos Informes de Cumplimiento Ambiental -ICA, con el análisis de tendencia, comparando los resultados del periodo reportado con los obtenidos en los periodos previos desde la caracterización ambiental."},{"$f":"PUERTOS!F79","v":"N/A"},{"$f":"PUERTOS!G79","v":"Aplica"},{"$f":"PUERTOS!H79","v":"Aplica"},{"$f":"PUERTOS!I79","v":"Aplica"},{"$f":"PUERTOS!J79","v":"Permanente"}]
[{"$f":"PUERTOS!D80","v":0},{"$f":"PUERTOS!B80","v":"FAUNA"},{"$f":"PUERTOS!E80","v":"Presentar un estudio ecológico de los sitios de reubicación de fauna y flora, en el primer Informe de Cumplimiento Ambiental - ICA de la fase constructiva, el cual incluya:\n\na) Oferta de hábitat.\nb) Tipo de cobertura vegetal y/o de fondo marino.\nc) Corredores biológicos, área y accesibilidad.\nd) Análisis de la capacidad de carga de los ecosistemas que recibirán las especies de fauna y flora. Se podrán emplear especies focales a partir de los impactos generados por el proyecto. \nf) Dichas áreas deberán encontrarse dentro del área de influencia del proyecto, garantizando que las especies reubicadas no sean afectadas por los impactos de la ejecución del proyecto. En caso de que no sea posible, justificar las razones de la selección en sitios fuera de la misma, manteniendo condiciones similares para garantizar la sobrevivencia de la flora y fauna reubicada."},{"$f":"PUERTOS!F80","v":"N/A"},{"$f":"PUERTOS!G80","v":"Aplica"},{"$f":"PUERTOS!H80","v":"N/A"},{"$f":"PUERTOS!I80","v":"N/A"},{"$f":"PUERTOS!J80","v":"Temporal"}]
[{"$f":"PUERTOS!D81","v":0},{"$f":"PUERTOS!B81","v":"FAUNA"},{"$f":"PUERTOS!E81","v":"En caso de requerir realizar actividades de rescate y reubicación de los diferentes individuos de especies de fauna y flora silvestre presentes en áreas intervenidas por el proyecto, documentar en los respectivos Informes de Cumplimiento Ambiental - ICA:\n\na) Especies reubicadas y actividades ejecutadas, incluyendo metodologías empleadas de rescate y liberación.\nb) Localización de los sitios de reubicación de fauna y flora, haciendo uso del modelo de almacenamiento geográfico establecido en la Resolución 2182 de 2016 del MADS, o aquella norma que la modifique o sustituya.\nc) Seguimiento y monitoreo de las especies reubicadas y un análisis de su condición, que permita corroborar la efectividad de la reubicación. \nd) Para fauna marina con movimiento propio, se deberá reportar la información fílmica y fotográfica que acredite su reubicación desde las áreas afectadas hasta las áreas de recepción. \ne) Garantizar la reubicación del 100% de los individuos pertenecientes a especies con alguna categoría de amenaza, según la Resolución 1912 de 2017 de Minambiente, o aquella norma que la modifique o sustituya, libros rojos de Colombia y la Unión Internacional para la Conservación de la Naturaleza - IUCN.\nd) Coordinación de las actividades realizadas con personal de las autoridades ambientales locales y/o regionales respectivas."},{"$f":"PUERTOS!F81","v":"N/A"},{"$f":"PUERTOS!G81","v":"Aplica"},{"$f":"PUERTOS!H81","v":"Aplica"},{"$f":"PUERTOS!I81","v":"Aplica"},{"$f":"PUERTOS!J81","v":"Permanente"}]
[{"$f":"PUERTOS!D82","v":0},{"$f":"PUERTOS!B82","v":"FAUNA"},{"$f":"PUERTOS!E82","v":"Establecer un sistema de pasos de fauna teniendo en cuenta para su diseño, construcción, seguimiento y mantenimiento los análisis de conectividad funcional de línea base y los actualizados de forma progresiva para el proyecto, así como los lineamientos de Infraestructura Verde Vial para Colombia (MADS, FCDS & WWF, 2020), el documento \"Atropellamiento de fauna silvestre en Colombia. Guía para entender y diagnosticar este impacto\" (Jaramillo-Fayad et al. 2021) y otras fuentes que sirvan de orientación. El sistema de pasos de fauna deberá ser presentado en el primer ICA de la fase constructiva.\n\nParágrafo 1: Para las vías existentes que se encuentren dentro del área de influencia del proyecto y que vayan a ser empleadas por el proyecto, se deberá tener en cuenta para el diseño de medidas complementarias, los análisis de conectividad funcional y el análisis de puntos calientes - hotspot, para determinar la susceptibilidad frente a los impactos de atropellamiento, mortalidad de fauna y efecto barrera para la dispersión, o su equivalente de acuerdo con el ejercicio de estandarización de impactos ambientales."},{"$f":"PUERTOS!F82","v":"N/A"},{"$f":"PUERTOS!G82","v":"Aplica"},{"$f":"PUERTOS!H82","v":"N/A"},{"$f":"PUERTOS!I82","v":"N/A"},{"$f":"PUERTOS!J82","v":"Temporal"}]
[{"$f":"PUERTOS!D83","v":0},{"$f":"PUERTOS!B83","v":"FAUNA"},{"$f":"PUERTOS!E83","v":"Realizar seguimiento al cumplimiento y efectividad del sistema de pasos de fauna a partir de dos aspectos: i) monitoreo de los pasos de fauna, relacionando el uso o no uso de los mismos (i.e. huellas, fototrampeo, entre otros) y ii) con el monitoreo del atropellamiento o mortalidad de fauna sobre la vía o de individuos que transiten sobre la vía, con el propósito de identificar la pertinencia de complementar y/o modificar el sistema de pasos de fauna. Presentar los respectivos soportes en los Informes de Cumplimiento Ambiental – ICA."},{"$f":"PUERTOS!F83","v":"N/A"},{"$f":"PUERTOS!G83","v":"Aplica"},{"$f":"PUERTOS!H83","v":"Aplica"},{"$f":"PUERTOS!I83","v":"Aplica"},{"$f":"PUERTOS!J83","v":"Permanente"}]
[{"$f":"PUERTOS!D84","v":0},{"$f":"PUERTOS!B84","v":"FAUNA"},{"$f":"PUERTOS!E84","v":"Actualizar y/o generar modelos multiespecie de conectividad ecológica funcional los cuales pueden ser complementados con otros modelos que se consideren adecuados para las particularidades del proyecto (ej.: modelos de distribución potencial, calidad de hábitat, modelos de idoneidad), sin que estos reemplacen los análisis de conectividad.  a escala 1:10.000 o más detallada, en donde se tenga en consideración:\n\na) La selección de especies debe tener en cuenta: sensibilidad a los impactos generados por el proyecto, rol ecológico, heterogeneidad de requerimientos de hábitats, proporción del paisaje ocupado por la especie, requerimientos a nivel poblacional, y estado de amenaza o endemismo. \nb) Los modelos deben incluir la información del monitoreo biótico (riqueza de especies, y el uso de hábitat de las especies), siendo posible definir los momentos donde es procedente modelar según información de patrones de actividad acústica, épocas de migración, etapa del proyecto, entre otros. En el caso de modelos de conectividad ecológica, se deberán tener en cuenta los rangos de hogar y distancia de dispersión de las especies seleccionadas según las condiciones de transformación del territorio, para lo cual se puede utilizar información secundaria como soporte en la definición de dichos datos.\nc) Los modelos de conectividad ecológica elaborados para cada especie seleccionada deben identificar las áreas de importancia para la conectividad (núcleo, corredor, otros) siendo posible seguir lo propuesto por Beier et al. (2007), Bodin & Saura (2010), Bodin & Saura (2010), Saura et al. (2011), Carrol et al. (2012) y Mateo-Sánchez et al. (2015). Adicionalmente, se debe presentar la valoración de las variables consideradas para la elaboración de los insumos de análisis (por ejemplo: matriz de resistencia) e identificar rutas de menor costo y densidad de corredores biológicos para las especies priorizadas siendo posible seguir  lo propuesto por Bunn et al. (2000), McRae et al. (2008) y Etherington (2016). \nd) La modelación biótica debe ser integrada con las variables y modelos abióticos que apliquen para la evaluación de los impactos sobre la biodiversidad, como modelaciones generadas para el recurso hídrico superficial, calidad de agua y atmosféricas (como ruido, contaminantes atmosféricos, viento) teniendo en cuenta los escenarios más críticos.\ne) Para el caso de las especies acuáticas, los modelos de conectividad deberán incluir un análisis de la potencial afectación a la conectividad lateral y longitudinal, que tenga en cuenta la idoneidad de hábitat de las especies, el potencial de movilización a través del medio y los resultados de los monitoreos de dichas especies. Para tal efecto, se deben considerar las condiciones morfodinámicas, de calidad y cantidad del recurso hídrico superficial integrando los resultados de los modelos físicos, considerando los mismos escenarios evaluados en dichos modelos haciendo énfasis en los momentos del ciclo hidrológico con mayor movilidad para las especies según los requerimientos de hábitat y los tiempos de construcción y operación del proyecto. \nf) Se deben presentar en un anexo los ejecutables, esquema de modelación, las variables y covariables de entrada para la elaboración de la modelación, valoración y matriz de resistencia en el caso de modelos de conectividad ecológica, las salidas gráficas y cartográficas de los resultados de los modelos, de tal manera que puedan ser replicados los ejercicios de modelación. \ng) Realizar el análisis comparativo de los modelos bióticos durante las diferentes etapas del proyecto, identificando los cambios en las áreas de interés ecológico (ej.: áreas núcleo, corredores potenciales de movimiento de especies), e identificando los sitios donde se generó la mayor afectación en cada etapa y la efectividad de las medidas de manejo planteadas para la atención de dichos impactos. \n\nPresentar dicha información en el correspondiente Informe de Cumplimiento Ambiental – ICA."},{"$f":"PUERTOS!F84","v":"N/A"},{"$f":"PUERTOS!G84","v":"Aplica"},{"$f":"PUERTOS!H84","v":"Aplica"},{"$f":"PUERTOS!I84","v":"Aplica"},{"$f":"PUERTOS!J84","v":"Permanente"}]
[{"$f":"PUERTOS!D85","v":0},null,{"$f":"PUERTOS!E85","v":0},{"$f":"PUERTOS!F85","v":0},{"$f":"PUERTOS!G85","v":0},{"$f":"PUERTOS!H85","v":0},{"$f":"PUERTOS!I85","v":0},{"$f":"PUERTOS!J85","v":0}]
[{"$f":"PUERTOS!D86","v":0},{"$f":"PUERTOS!B86","v":"FLORA"},{"$f":"PUERTOS!E86","v":"Actualizar anualmente y en la misma temporada climática el mapa de coberturas de la tierra del área de influencia biótica del proyecto, a escala 1:10.000  o más detallada, en caso de ejecutarse actividades de remoción de cobertura vegetal. La información deberá ser presentada en el respectivo Informe de Cumplimiento Ambiental -ICA-, acompañada de la presentación de un análisis multitemporal de cambios de las coberturas incluyendo el análisis de tendencias de los índices de fragmentación a nivel de parche, clase y paisaje, tomando como referencia la caracterización ambiental."},{"$f":"PUERTOS!F86","v":"N/A"},{"$f":"PUERTOS!G86","v":"Aplica"},{"$f":"PUERTOS!H86","v":"Aplica"},{"$f":"PUERTOS!I86","v":"Aplica"},{"$f":"PUERTOS!J86","v":"Permanente"}]
[{"$f":"PUERTOS!D87","v":0},{"$f":"PUERTOS!B87","v":"VEDAS"},{"$f":"PUERTOS!E87","v":"Rescatar las especies de orquídeas y bromelias en veda nacional  según la Res.0213 de 1977 del INDERENA, u otra que modifique o sustituya; y las especies herbáceas o arbustivas en condición de veda regional, se deberá garantizar un rescate y sobrevivencia porcentual por especie de conformidad con lo establecido en la siguiente tabla. Dichos porcentajes responden a características intrínsecas de cada especie (botánicas, fisiológicas, ecológicas, de distribución, grado de amenaza, endemismo y/o usos locales).\n\n[Incluir tabla de porcentajes por especies]\n\n\nEn los casos cuya determinación se haya realizado a nivel de familia, género o “confertus” y “affín”, se debe rescatar el 100% de los individuos o agregados, aplicando el principio de precaución, dadas las condiciones de riqueza, endemismo y amenaza de estos grupos taxonómicos en el país y el desconocimiento de la identidad taxonómica de la especie registrada en el proyecto; por lo tanto, el porcentaje de sobrevivencia será diferencial, dado que depende principalmente de la capacidad de adaptación del género específico y de los requerimientos de hábitat puntuales, se debe garantizar una sobrevivencia del [establecer el porcentaje, entre el 70% y 80%].\n\nReportar en los respectivos Informes de Cumplimiento Ambiental - ICA, los avances o la totalidad del rescate (s) ejecutados, entregando de manera detallada la totalidad (100%) de individuos o agregados registrados en el área de intervención y las actividades de seguimiento para estas especies vasculares rescatadas bajo el “Modelo base de datos de rescate de especies vasculares en veda nacional y preferencia de forofitos”, disponible en el sitio web: https://www.anla.gov.co/01_anla/proyectos/nuevo-licenciamiento-ambiental/elaboracion-ica-y-control-y-seguimiento . "},{"$f":"PUERTOS!F87","v":"N/A"},{"$f":"PUERTOS!G87","v":"Aplica"},{"$f":"PUERTOS!H87","v":"N/A"},{"$f":"PUERTOS!I87","v":"N/A"},{"$f":"PUERTOS!J87","v":"Permanente"}]
[{"$f":"PUERTOS!D88","v":0},{"$f":"PUERTOS!B88","v":"VEDAS"},{"$f":"PUERTOS!E88","v":"Reportar en los respectivos Informes de Cumplimiento Ambiental - ICA, las actividades de seguimiento a la totalidad de individuos o agregados de especies vasculares trasladadas y reubicadas bajo el \"Modelo base de datos consolidada de seguimiento, monitoreo y mantenimiento de especies vasculares trasladadas y reubicadas”, disponible en el sitio web: https://www.anla.gov.co/01_anla/proyectos/nuevo-licenciamiento-ambiental/elaboracion-ica-y-control-y-seguimiento; así como, el cumplimiento del plan de mantenimiento y monitoreo para el tiempo de implementación de la medida de manejo, y el seguimiento a los indicadores y metas para lograr la sobrevivencia y adaptabilidad de los individuos o agregados de la especies en las áreas receptoras para estas poblaciones. "},{"$f":"PUERTOS!F88","v":"N/A"},{"$f":"PUERTOS!G88","v":"Aplica"},{"$f":"PUERTOS!H88","v":"Aplica"},{"$f":"PUERTOS!I88","v":"N/A"},{"$f":"PUERTOS!J88","v":"Permanente"}]
[{"$f":"PUERTOS!D89","v":0},{"$f":"PUERTOS!B89","v":"VEDAS"},{"$f":"PUERTOS!E89","v":"Rescatar al 100% las especies vasculares en veda nacional y regional de especies arbóreas (brinzal) y helechos arborescentes (≤ 2 metros), garantizando la sobrevivencia porcentual para los individuos de conformidad con las características intrínsecas de cada especie (botánicas, fisiológicas, ecológicas, de distribución, grado de amenaza, endemismo y/o usos locales). Reportar en los respectivos Informes de Cumplimiento Ambiental - ICA, los avances o la totalidad del rescate (s) ejecutado(s), entregando de manera detallada la totalidad (100%) de individuos  registrados en el área de intervención, las actividades de mantenimiento, seguimiento y monitoreo para estas especies rescatadas y trasladadas, así como el cumplimiento y el análisis del comportamiento de la sobrevivencia y adaptabilidad de los individuos en las áreas receptoras de estas poblaciones.\n\n[Incluir tabla de porcentajes de sobrevivencia por especie]\n"},{"$f":"PUERTOS!F89","v":"N/A"},{"$f":"PUERTOS!G89","v":"Aplica"},{"$f":"PUERTOS!H89","v":"N/A"},{"$f":"PUERTOS!I89","v":"N/A"},{"$f":"PUERTOS!J89","v":"Permanente"}]
[{"$f":"PUERTOS!D90","v":0},{"$f":"PUERTOS!B90","v":"VEDAS"},{"$f":"PUERTOS!E90","v":"Realizar la reposición de acuerdo con los criterios establecidos en los lineamientos técnicos de Circular 820-2-808 de 2019 del MADS, o aquella que la modifique o sustituya  y/o las condiciones puntuales de los actos administrativos respectivos de cada autoridad ambiental, como base para determinar el factor de reposición (Fr) para la especie arbórea (fustal y latizal) y helechos arborescentes (˃ 2 metros) en veda que se reporten en el área de intervención del proyecto, garantizando la sobrevivencia porcentual para los individuos de conformidad con las características intrínsecas de cada especie (botánicas, fisiológicas, ecológicas, de distribución, grado de amenaza, endemismo y/o usos locales). Reportar en los respectivos Informes de Cumplimiento Ambiental - ICA, los avances o la totalidad del censo realizado, entregando de manera detallada la totalidad (100%) de individuos registrados por especie en el área de intervención, el análisis definitivo de la aplicación de los factores de reposición por especie para generar la cantidad de individuos a sembrar, las actividades de mantenimiento, seguimiento y monitoreo, así como el cumplimiento y el análisis del comportamiento de la sobrevivencia y adaptabilidad de los individuos en las áreas receptoras de estas poblaciones.  \n\n[Incluir tabla de porcentajes de sobrevivencia por especie]"},{"$f":"PUERTOS!F90","v":"N/A"},{"$f":"PUERTOS!G90","v":"Aplica"},{"$f":"PUERTOS!H90","v":"Aplica"},{"$f":"PUERTOS!I90","v":"N/A"},{"$f":"PUERTOS!J90","v":"Permanente"}]
[{"$f":"PUERTOS!D91","v":0},{"$f":"PUERTOS!B91","v":"VEDAS"},{"$f":"PUERTOS!E91","v":"Presentar una caracterización florística de los áreas de reubicación y reposición definitivas para especies vasculares en veda (orquídeas, bromelias, helechos arborescentes, especies herbáceas y arbóreas) en el primer Informe de Cumplimiento Ambiental - ICA de la fase constructiva, que incluya:\na. Localización de estas dentro del área de influencia del proyecto, garantizando que las especies reubicadas no sean afectadas por los impactos de la ejecución del proyecto. En caso de que no sea posible, justificar las razones de la selección en sitios fuera de la misma, manteniendo condiciones similares para garantizar la sobrevivencia de la flora trasladada.\nb. Descripción de los ecosistemas receptores, estos deben contar con características físico-bióticas similares a los ecosistemas impactados por las obras y actividades de donde serán extraídos los individuos o agregados de estas especies.\nc. Evaluar y analizar la capacidad de recepción de estas poblaciones de flora en sus diferentes hábitos de crecimiento, teniendo en cuenta la potencialidad de diversos sustratos (árboles receptores-forofitos y otros). \nd. Georreferenciar y almacenar la localización de las áreas, puntos de reubicación y reposición específicos (forofitos, diseños florísticos, siembras puntuales, parcelas de siembra, entre otros) conforme el modelo de almacenamiento geográfico establecido en la Resolución 2182 de 2016 del MADS, o la norma que la modifique o sustituya."},{"$f":"PUERTOS!F91","v":"N/A"},{"$f":"PUERTOS!G91","v":"Aplica"},{"$f":"PUERTOS!H91","v":"Aplica"},{"$f":"PUERTOS!I91","v":"N/A"},{"$f":"PUERTOS!J91","v":"Permanente"}]
[{"$f":"PUERTOS!D92","v":0},{"$f":"PUERTOS!B92","v":"VEDAS"},{"$f":"PUERTOS!E92","v":"Realizar el cálculo del área de retribución por afectación a los hábitats de especies no vasculares y líquenes en veda bajo el instrumento de “Cálculo del área de retribución por afectación a especies no vasculares y líquenes en veda y sus criterios de evaluación”, disponible en el sitio web: https://www.anla.gov.co/01_anla/proyectos/nuevo-licenciamiento-ambiental/elaboracion-ica-y-control-y-seguimiento. "},{"$f":"PUERTOS!F92","v":"N/A"},{"$f":"PUERTOS!G92","v":"Aplica"},{"$f":"PUERTOS!H92","v":"N/A"},{"$f":"PUERTOS!I92","v":"N/A"},{"$f":"PUERTOS!J92","v":"Permanente"}]
[{"$f":"PUERTOS!D93","v":0},{"$f":"PUERTOS!B93","v":"VEDAS"},{"$f":"PUERTOS!E93","v":"Para el (las) área (s) de retribución definitiva por afectación a los hábitats de especies no vasculares y líquenes en veda, se debe entregar y relacionar en el primer Informe de Cumplimiento Ambiental - ICA de la fase constructiva\n\na. Localización de estas dentro del área de influencia del proyecto. En caso de que no sea posible, justificar las razones de la selección en sitios fuera de la misma, y garantizar el tiempo de implementación de la medida en todas sus fases en el (las) área (s) seleccionada(s).\nb. El plan de rehabilitación ecológica, bajo criterios y metas definidas de restauración para propender el restablecimiento de hábitats para estas especies, que contenga objetivos, metas, diagnóstico del área (físico-biótica), planeación de actividades, gestión adaptativa, plan de seguimiento y monitoreo con metas e indicadores."},{"$f":"PUERTOS!F93","v":"N/A"},{"$f":"PUERTOS!G93","v":"Aplica"},{"$f":"PUERTOS!H93","v":"N/A"},{"$f":"PUERTOS!I93","v":"N/A"},{"$f":"PUERTOS!J93","v":"Permanente"}]
[{"$f":"PUERTOS!D94","v":0},{"$f":"PUERTOS!B94","v":"VEDAS"},{"$f":"PUERTOS!E94","v":"Reportar en los respectivos Informes de Cumplimiento Ambiental - ICA, el avance de las actividades de restauración ejecutadas en áreas de retribución para definir el progreso de la colonización de la especies de briofitos y líquenes, el cumplimiento del plan de mantenimiento y monitoreo, el seguimiento a los indicadores y metas para lograr la sobrevivencia y adaptabilidad de los individuos sembrados, y demás estrategias."},{"$f":"PUERTOS!F94","v":"N/A"},{"$f":"PUERTOS!G94","v":"Aplica"},{"$f":"PUERTOS!H94","v":"Aplica"},{"$f":"PUERTOS!I94","v":"N/A"},{"$f":"PUERTOS!J94","v":"Permanente"}]
[{"$f":"PUERTOS!D95","v":0},{"$f":"PUERTOS!B95","v":"CALIDAD AGUA MARINA"},{"$f":"PUERTOS!E95","v":"Realizar monitoreos trimestrales en la fase constructiva y semestrales en la fase operativa en área y profundidad de las características fisicoquímicas y microbiológicas del agua marina, siguiendo los lineamientos establecidos en la Guía para el Monitoreo y Seguimiento del Agua, elaborada por el IDEAM (2004) y las recomendaciones previstas en el Manual de Técnicas Analíticas para la Determinación de Parámetros Fisicoquímicos y Contaminantes Marinos del INVEMAR (2003), Plan nacional de dragados de Minambiente (2017), o aquellos que los modifiquen o sustituyan, dando cumplimiento a las siguientes condiciones:\n\na) En la ejecución de los monitoreos, en lo posible cubrir las dos épocas climáticas (altas y bajas precipitaciones).  En caso de que, una vez obtenida la licencia ambiental, el proyecto demore más de 1 año en iniciar la fase constructiva del mismo, deberá realizar tres meses antes del inicio de esta fase los monitoreos de las características de calidad de agua marina, con el fin de tener una caracterización más actualizada para poder realizar las comparaciones a las que hay a lugar.\nb) Los parámetros a determinar son, físicos: temperatura, color, sólidos suspendidos totales, sólidos disueltos totales, sólidos sedimentables, conductividad eléctrica, pH, turbidez; químicos: salinidad, oxígeno disuelto (OD), conductividad, demanda química de oxígeno (DQO), demanda biológica de oxígeno (DBO), carbono orgánico total, nitritos, nitratos, nitrógeno total Kjeldahl, fenoles, fosfatos, grasa y aceites, fosforo total, tensoactivos (SAAM), fenoles, hidrocarburos totales, hidrocarburos aromáticos policíclicos, hidrocarburos disueltos dispersos, alcalinidad y acidez, dureza cálcica y total, metales y metaloides (arsénico, bario, cadmio, cinc, cromo, cobre, mercurio, níquel, plata, plomo, selenio), clorofila a y b; microbiológicos: coliformes totales, coliformes termotolerantes y E. Coli.\nc) Las mediciones en el perfil de la columna de agua deben priorizar la mayor estratificación posible (temperatura, densidad, oxígeno disuelto). La determinación de los parámetros establecidos debe realizarse en por lo menos 2 puntos de la columna de agua y complementar con puntos superficiales y de profundidad, de tal forma que se pueda describir de forma adecuada los parámetros que se estén midiendo.\nd) Los puntos de monitoreo deben corresponder a los mismos monitoreados en la caracterización ambiental, en caso de adicionar nuevos puntos se debe justificar su representatividad. Si el proyecto realiza vertimientos al mar, se deben incluir puntos adicionales de monitoreo para el seguimiento de la calidad del agua marina en áreas próximas a las descargas.\ne) A partir de los resultados de los monitoreos establecer los perfiles verticales de temperatura (termoclina), oxígeno disuelto (oxiclina) y de la salinidad (haloclina), analizando su cambio en el transcurso del proyecto.\nf) Los monitoreos de calidad de agua marina deberán realizarse simultáneamente con los monitoreos de calidad de sedimentos marinos y monitoreos hidrobiológicos.\ng) Presentar en los respectivos Informes de Cumplimiento Ambiental - ICA los reportes de laboratorio, las cadenas de custodia originales y el respectivo análisis.\nh) El análisis deberá incluir: i) la comparación con la caracterización ambiental presentada en el EIA y los monitoreos que se vayan realizando conforme el avance de las obras para determinar la tendencia de la calidad del agua marina; ii) la comparación de los resultados de los parámetros medidos con aquellos que se encuentren dentro de los criterios de calidad establecidos en el artículo 18 del Decreto 703 del 2018 y con criterios de referencia para sustancias orgánicas e inorgánicas en el agua utilizados por la Agencia para la Administración de Océanos y Atmósfera de los Estados Unidos - NOAA (https://response.restoration.noaa.gov/environmental-restoration/environmental-assessment-tools/squirt-cards.html); iii) la correlación de los resultados obtenidos en el muestreo con los parámetros de sedimentos marino y los hidrobiológicos; y iv) el análisis de las condiciones ambientales (climáticas y oceanográficas) predominantes en el momento de la realización de los monitoreos, así como la descripción de las obras constructivas que se estén ejecutando, que permitan indagar si estas tienen alguna incidencia en los resultados.\ni) Calcular y analizar para cada caracterización fisicoquímica el índice de calidad de aguas para la preservación de flora y fauna marina ICAMPFF del INVEMAR. En caso de evidenciar cambios en el tiempo de este indicador, realizar el análisis e identificar la causa y la fuente o fuentes del cambio del ICAMPFF.\nj) Los puntos donde se realice el monitoreo y la información obtenida de estos debe georreferenciarse y almacenarse conforme el modelo de almacenamiento geográfico establecido en la Resolución 2182 de 2016 del MADS, o la norma que la modifique o sustituya."},{"$f":"PUERTOS!F95","v":"N/A"},{"$f":"PUERTOS!G95","v":"Aplica"},{"$f":"PUERTOS!H95","v":"Aplica"},{"$f":"PUERTOS!I95","v":"N/A"},{"$f":"PUERTOS!J95","v":"Permanente"}]
[{"$f":"PUERTOS!D96","v":0},null,{"$f":"PUERTOS!E96","v":0},{"$f":"PUERTOS!F96","v":0},{"$f":"PUERTOS!G96","v":0},{"$f":"PUERTOS!H96","v":0},{"$f":"PUERTOS!I96","v":0},{"$f":"PUERTOS!J96","v":0}]
[{"$f":"PUERTOS!D97","v":0},{"$f":"PUERTOS!B97","v":"CALIDAD DE SEDIMENTO MARINO"},{"$f":"PUERTOS!E97","v":"Realizar monitoreos trimestrales en la fase constructiva y semestrales en la fase operativa de las características fisicoquímicas de los sedimentos del área de influencia del proyecto, siguiendo las recomendaciones previstas en el Manual de Técnicas Analíticas para la Determinación de Parámetros Fisicoquímicos y Contaminantes Marinos del INVEMAR (2003) o aquellos que los modifiquen o sustituyan, dando cumplimiento a las siguientes condiciones:\n\na) En la ejecución de los monitoreos, en lo posible cubrir las dos épocas climáticas (altas y bajas precipitaciones). En caso de que, una vez obtenida la licencia ambiental, el proyecto demore más de 1 año en iniciar la fase constructiva del mismo, deberá realizar tres meses antes del inicio de esta fase los monitoreos de las características fisicoquímicas de los sedimentos marinos, con e fin de tener una caracterización más actualizada para poder realizar las comparaciones a las que hay a lugar.\nb) Los parámetros a determinar son: temperatura, pH, granulometría, Hidrocarburos aromáticos policíclicos, Carbono orgánico total (COT), Hidrocarburos totales, fenoles, sulfuro ácido volátil, fósforo total y nitrógeno total, grasas y aceites, metales y metaloides (arsénico, bario, cadmio, cinc, cromo, cobre, mercurio, níquel, plata, plomo, selenio), materia orgánica total. \nc) Presentar en los respectivos Informes de Cumplimiento Ambiental - ICA los reportes de laboratorio, las cadenas de custodia originales y el respectivo análisis.\nd) El análisis deberá incluir: i) la comparación con la caracterización ambiental presentada en el EIA y los monitoreos que se vayan realizando conforme el avance de las obras para determinar la tendencia de la calidad de los sedimentos marinos; ii) la comparación de los resultados de los parámetros medidos con aquellos que se encuentren dentro de los niveles de impacto potencial y probable (TEL y PEL) utilizados por la Agencia para la Administración de Océanos y Atmósfera de los Estados Unidos - NOAA (https://response.restoration.noaa.gov/environmental-restoration/environmental-assessment-tools/squirt-cards.html); iii) la correlación de los resultados obtenidos en el muestreo con los parámetros fisicoquímicos del agua marina y los hidrobiológicos; y iv) descripción de las obras constructivas que se estén ejecutando, que permitan indagar si estas tienen alguna incidencia en los resultados.\nd) Los puntos de monitoreo deben corresponder a los mismos monitoreados en la caracterización ambiental, en caso de adicionar nuevos puntos se debe justificar su representatividad. \ne) Los puntos donde se realice el monitoreo y la información obtenida de estos debe georreferenciarse y almacenarse conforme el modelo de almacenamiento geográfico establecido en la Resolución 2182 de 2016 del MADS, o la norma que la modifique o sustituya."},{"$f":"PUERTOS!F97","v":"N/A"},{"$f":"PUERTOS!G97","v":"Aplica"},{"$f":"PUERTOS!H97","v":"Aplica"},{"$f":"PUERTOS!I97","v":"N/A"},{"$f":"PUERTOS!J97","v":"Permanente"}]
[{"$f":"PUERTOS!D98","v":0},{"$f":"PUERTOS!B98","v":"DRAGADO"},{"$f":"PUERTOS!E98","v":"Presentar en los respectivos Informes de Cumplimiento Ambiental - ICA el acumulado de volúmenes de: i) material dragado, ii) material dispuesto en el área autorizada, iii) material aprovechado o reutilizado."},{"$f":"PUERTOS!F98","v":"N/A"},{"$f":"PUERTOS!G98","v":"Aplica"},{"$f":"PUERTOS!H98","v":"Aplica"},{"$f":"PUERTOS!I98","v":"N/A"},{"$f":"PUERTOS!J98","v":"Permanente"}]
[{"$f":"PUERTOS!D99","v":0},{"$f":"PUERTOS!B99","v":"BATIMETRÍAS"},{"$f":"PUERTOS!E99","v":"Realizar batimetrías en áreas de dragado y zonas de disposición marítima del proyecto, teniendo en cuenta una distancia adicional a los límites de las áreas de intervención, de tal forma que permita identificar si se presentan cambios en el fondo marino alrededor de estas áreas. La frecuencia de los levantamientos batimétricos se realizará: i) un muestreo en un periodo no mayor a un mes antes de iniciar las obras constructivas, [ii) muestreos mensuales durante la construcción de la obras marítimas] y iii) un muestreo en un periodo no mayor a un mes después de finalizar las actividades de dragado, que permita verificar los volúmenes de material dragados y las profundidades alcanzadas. Presentar dicha información en los Informes de Cumplimiento Ambiental - ICA, con la identificación de procesos de erosión / sedimentación, el análisis de los posibles impactos en el área de influencia y las correspondientes medidas de manejo en caso de evidenciarse efectos negativos. "},{"$f":"PUERTOS!F99","v":"Aplica"},{"$f":"PUERTOS!G99","v":"Aplica"},{"$f":"PUERTOS!H99","v":"Aplica "},{"$f":"PUERTOS!I99","v":"N/A"},{"$f":"PUERTOS!J99","v":"Permanente"}]
[{"$f":"PUERTOS!D100","v":0},{"$f":"PUERTOS!B100","v":"AGUAS DE ESCORRENTÍA"},{"$f":"PUERTOS!E100","v":"Implementar sistemas de control y manejo de escorrentía dando cumplimiento a lo siguiente:\n\na) Contar con una pendiente que favorezca su conducción a los sistemas de control y manejo de escorrentía, de tal forma que la escorrentía fluya libremente hacia ellas.\nb) De acuerdo con las características de pendiente y tipo de sistemas de control y manejo, deberá contar con disipadores de energía o cualquier otro sistema, que garantice que las aguas lluvias lleguen a una baja velocidad al sitio donde serán entregadas, el cual deberá contar con la capacidad para recibir dichas descargas (el sitio corresponderá a superficies de agua lénticas, lóticas, estructuras de almacenamiento y drenaje artificiales - canales de vías existentes o proyectados, o reservorios- y zonas inundables que eviten la generación de procesos erosivos).\nc) El agua de escorrentía recogida a través de dicho sistema deberá pasar por un sistema de remoción de sólidos antes de ser entregada y podrá contar con tratamientos adicionales, dependiendo de las características del medio por el cual se transporte.\nd) Presentar los soportes de la construcción de estos sistemas y del mantenimiento rutinario, o de entrega a terceros a través de los respectivos Informes de Cumplimiento Ambiental - ICA."},{"$f":"PUERTOS!F100","v":"N/A"},{"$f":"PUERTOS!G100","v":"Aplica"},{"$f":"PUERTOS!H100","v":"Aplica"},{"$f":"PUERTOS!I100","v":"N/A"},{"$f":"PUERTOS!J100","v":"Permanente"}]
[{"$f":"PUERTOS!D101","v":0},{"$f":"PUERTOS!B101","v":"COMPRA DE AGUA"},{"$f":"PUERTOS!E101","v":"Desarrollar la actividad de compra de agua (uso industrial y/o consumo humano) con terceros debidamente autorizados, y presentar en los Informes de Cumplimiento Ambiental - ICA:\n\na) Copia de los permisos y/o autorizaciones ambientales vigentes de los proveedores de agua.\nb) Documento que soporte el tipo de uso del agua suministrada por el proveedor, el cual debe estar expedido por la autoridad ambiental competente.\nc) Facturas de compra del agua y/o copia de contratos de suministro de agua, que incluyan como mínimo: nombre y NIT del tercero, volúmenes de agua suministrados (uso industrial y/o consumo humano) y fecha/ periodo de compra, por cada periodo reportado.\nd) Actividades y volúmenes en las que fue empleada el agua en el proyecto, según el periodo reportado."},{"$f":"PUERTOS!F101","v":"N/A"},{"$f":"PUERTOS!G101","v":"Aplica"},{"$f":"PUERTOS!H101","v":"Aplica"},{"$f":"PUERTOS!I101","v":"Aplica"},{"$f":"PUERTOS!J101","v":"Permanente"}]
[{"$f":"PUERTOS!D102","v":0},{"$f":"PUERTOS!B102","v":"ENTREGA DE AGUAS RESIDUALES A TERCEROS"},{"$f":"PUERTOS!E102","v":"Realizar la entrega de agua residual doméstica y no doméstica (no incluye las de producción) a un gestor externo autorizado, y presentar en los respectivos Informes de Cumplimiento Ambiental - ICA:\n\na) Certificados de recolección y transporte emitido por la empresa respectiva, que indiquen: nombre de empresa que recolectó y transportó las aguas residuales, fechas de entrega, volúmenes de entrega, tipo de agua residual, sitio de recolección y destino de las aguas. \nb) Actas de recibo, tratamiento y disposición final de las aguas residuales, que incluya: empresa que entrega, fecha, volumen, origen y tipo de agua residual.\nc) Copia de los permisos y/o licencias vigentes de las respectivas empresas que prestarán el servicio de recolección, transporte y disposición final de las aguas residuales."},{"$f":"PUERTOS!F102","v":"N/A"},{"$f":"PUERTOS!G102","v":"Aplica"},{"$f":"PUERTOS!H102","v":"Aplica"},{"$f":"PUERTOS!I102","v":"Aplica"},{"$f":"PUERTOS!J102","v":"Permanente"}]
[{"$f":"PUERTOS!D103","v":0},{"$f":"PUERTOS!B103","v":"RECIRCULACIÓN DE AGUA RESIDUAL"},{"$f":"PUERTOS!E103","v":"Realizar la recirculación de las aguas residuales generadas en el proyecto, dando cumplimiento a las siguientes condiciones:\n\na) Para el seguimiento y control de la recirculación del agua residual en suelos de soporte de infraestructura por parte de la Autoridad Ambiental, la sociedad [XXX] deberá dar cumplimiento a lo dispuesto en el artículo 3 de la Resolución 1256 de 2021 de Minambiente, o aquella que la modifique, sustituya o derogue, y presentar los respectivos soportes en los Informes de Cumplimiento Ambiental - ICA.\nb) La recirculación del agua residual en suelos de soporte de infraestructura, no deberá generar escorrentía.\nc) Realizar monitoreos trimestrales del agua residual para uso industrial (específicamente para riego de vías y/o jardines) que será objeto de recirculación, registrando los siguientes parámetros: pH, conductividad, SAAM, grasas y aceites, fenoles totales, hidrocarburos totales, cianuro libre, cloruros, fluoruros, sulfatos, mercurio, sodio, antimonio, cloro total residual, nitratos, plomo, hierro, coliformes totales, coliformes termotolerantes y E. Coli. La exclusión de uno o más parámetros deberá solicitarse ante esta Autoridad y estar sustentada con el empleo de balances de materia y la caracterización de las aguas residuales. La recirculación de agua residual con uso industrial para el uso mencionado, no se podrá realizar en áreas pavimentadas o dentro de la ronda de protección a cuerpos de agua.\nd) Presentar en los respectivos Informes de Cumplimiento Ambiental - ICA los reportes de laboratorio, las cadenas de custodia y el análisis de la tendencia de los resultados.\ne) Presentar el reporte mensual de las cantidades de agua que son objeto de recirculación, discriminando el origen y uso dado, en los Informes de Cumplimiento Ambiental - ICA.\n\n"},{"$f":"PUERTOS!F103","v":"N/A"},{"$f":"PUERTOS!G103","v":"Aplica"},{"$f":"PUERTOS!H103","v":"Aplica"},{"$f":"PUERTOS!I103","v":"Aplica"},{"$f":"PUERTOS!J103","v":"Permanente"}]
[{"$f":"PUERTOS!D104","v":0},{"$f":"PUERTOS!B104","v":"REÚSO DE AGUAS RESIDUALES (GENERADOR)"},{"$f":"PUERTOS!E104","v":"Realizar la entrega de las aguas residuales para reúso de conformidad con lo dispuesto en la Resolución 1256 de 2021 expedida por el MADS o aquella que la modifique, sustituya o derogue, y presentar en los Informes de Cumplimiento Ambiental – ICA:\n\na) Reporte diario de las cantidades de agua residual entregada al usuario receptor.\nb) Soportes que den cuenta del cumplimiento de los monitoreo de las aguas residuales objeto de reúso, enmarcadas en el permiso de concesión de aguas del usuario receptor.\nc) Concesión de aguas por parte del usuario receptor. Cuando la concesión de aguas del usuario receptor se haya vencido o la licencia ambiental se haya modificado en términos de este permiso (cuando este incluya la concesión de aguas), el titular del PMA presentará una copia de la renovación del permiso o modificación de licencia ambiental por parte del receptor."},{"$f":"PUERTOS!F104","v":"N/A"},{"$f":"PUERTOS!G104","v":"Aplica"},{"$f":"PUERTOS!H104","v":"Aplica"},{"$f":"PUERTOS!I104","v":"Aplica"},{"$f":"PUERTOS!J104","v":"Permanente"}]
[{"$f":"PUERTOS!D105","v":0},{"$f":"PUERTOS!B105","v":"REÚSO DE AGUAS RESIDUALES (USUARIO RECEPCTOR)"},{"$f":"PUERTOS!E105","v":"Realizar la entrega de las aguas residuales para reúso de conformidad con lo dispuesto en la Resolución 1256 de 2021 expedida por el MADS o aquella que la modifique, sustituya o derogue, bajo las siguientes condiciones: \n\na) Dar cumplimiento a lo dispuesto en los numerales 1, 2 y 3 y parágrafo del artículo 6 de la Resolución 1256 de 2021 de Minambiente, o aquella que la modifique, sustituya o derogue, y presentar los respectivos soportes en los Informes de Cumplimiento Ambiental - ICA.\nb) Realizar monitoreos trimestrales del agua residual para uso industrial (específicamente para riego de vías y/o jardines) que será objeto de reúso, registrando los siguientes parámetros: pH, conductividad, SAAM, grasas y aceites, fenoles totales, hidrocarburos totales, cianuro libre, cloruros, fluoruros, sulfatos, mercurio, sodio, antimonio, cloro total residual, nitratos, plomo, hierro, coliformes totales, coliformes termotolerantes y E. Coli. La exclusión de uno o más parámetros deberá solicitarse ante esta Autoridad y estar sustentada con el empleo de balances de materia y la caracterización de las aguas residuales. \nc) Presentar el reporte mensual de las cantidades de agua que son objeto de reúso, discriminando el origen y uso dado, en los Informes de Cumplimiento Ambiental - ICA.\nd) Presentar en los respectivos Informes de Cumplimiento Ambiental - ICA los reportes de laboratorio, las cadenas de custodia y el análisis de la tendencia de los resultados.\n"},{"$f":"PUERTOS!F105","v":"N/A"},{"$f":"PUERTOS!G105","v":"Aplica"},{"$f":"PUERTOS!H105","v":"Aplica"},{"$f":"PUERTOS!I105","v":"Aplica"},{"$f":"PUERTOS!J105","v":"Permanente"}]
[{"$f":"PUERTOS!D106","v":0},{"$f":"PUERTOS!B106","v":"GESTIÓN INTEGRAL DE AGUAS"},{"$f":"PUERTOS!E106","v":"Llevar un registro (base de datos) mensual y acumulado de los volúmenes y caudales de las aguas gestionadas [Espacio para indicar el permiso respectivo: vertimientos, concesión de aguas, y/o la actividad autorizada: compra de agua, reúso, entrega de aguas residuales para reúso, entrega de aguas residuales a terceros], lo cual se soportará mediante un balance de masa, en términos de volumen, que se presentará en cada Informe de Cumplimiento Ambiental - ICA, según el periodo reportado."},{"$f":"PUERTOS!F106","v":"N/A"},{"$f":"PUERTOS!G106","v":"Aplica"},{"$f":"PUERTOS!H106","v":"Aplica"},{"$f":"PUERTOS!I106","v":"Aplica"},{"$f":"PUERTOS!J106","v":"Permanente"}]
[{"$f":"PUERTOS!D107","v":0},{"$f":"PUERTOS!B107","v":"RECURSO PESQUERO"},{"$f":"PUERTOS!E107","v":"Realizar el monitoreo de la actividad pesquera  (artesanal e industrial) en las zonas de desembarque del área de influencia del proyecto, considerando los siguientes aspectos:\n\na) En fase constructiva realizar monitoreos bimensuales de al menos 15 días continuos; y en fase operativa monitoreos tres veces al año de al menos 15 días continuos, quedando cubiertas las dos épocas climáticas (altas y bajas precipitaciones). \nb) Hacer el seguimiento de los elementos identificados en el estudio pesquero presentado en el EIA (biología de las especies, condiciones socioencómicas, características de la actividad, entre otras) y tener como referente las metodologías oficiales de la Autoridad Nacional de Acuicultura y Pesca - AUNAP para colectar y analizar la información.\nc) El levantamiento de dicha información, puede ser complementada con aquella disponible en las bases de datos del Servicio Estadístico Pesquero Colombiano – SEPEC de la Autoridad Nacional de Acuicultura y Pesca - AUNAP, DIMAR, Ministerio de Agricultura y Desarrollo Rural, Instituto Humboldt, Corporaciones Ambientales Regionales, INVEMAR, entre otras.\nd) La información deberá presentarse de manera acumulada en los respectivos Informes de Cumplimiento Ambiental -ICA, con el análisis de tendencia, comparando los resultados del periodo reportado con los obtenidos en los periodos previos desde la caracterización ambiental."},{"$f":"PUERTOS!F107","v":"N/A"},{"$f":"PUERTOS!G107","v":"Aplica "},{"$f":"PUERTOS!H107","v":"Aplica "},{"$f":"PUERTOS!I107","v":"N/A"},{"$f":"PUERTOS!J107","v":"Permanente"}]
[{"$f":"PUERTOS!D108","v":0},{"$f":"PUERTOS!B108","v":"CONSTRUCCIÓN Y/O ADECUACIÓN DE VÍAS DE APOYO AL PROYECTO"},{"$f":"PUERTOS!E108","v":"Anexar, previo al inicio de la fase constructiva del proyecto mediante oficio radicado a esta Autoridad, las autorizaciones y/o permisos necesarios para realizar las obras de construcción y/o adecuación de las vías que servirán de apoyo al proyecto."},{"$f":"PUERTOS!F108","v":"Aplica"},{"$f":"PUERTOS!G108","v":"N/A"},{"$f":"PUERTOS!H108","v":"N/A"},{"$f":"PUERTOS!I108","v":"N/A"},{"$f":"PUERTOS!J108","v":"Temporal"}]
[{"$f":"PUERTOS!D109","v":0},{"$f":"PUERTOS!B109","v":"CONSTRUCCIÓN Y/O ADECUACIÓN DE VÍAS DE APOYO AL PROYECTO"},{"$f":"PUERTOS!E109","v":"Remitir en los Informes de Cumplimiento Ambiental - ICA, un informe en el que se especifique y reporten las actividades de construcción y/o adecuación realizadas sobre las vías que servirán de apoyo al proyecto, y sus zonas aledañas incluidas en el derecho de vía - DDV, para cada periodo reportado, incluyendo los soportes técnicos y registros fílmicos y/o fotográficos en los que se evidencie fecha y coordenadas. "},{"$f":"PUERTOS!F109","v":"N/A"},{"$f":"PUERTOS!G109","v":"Aplica"},{"$f":"PUERTOS!H109","v":"Aplica"},{"$f":"PUERTOS!I109","v":"N/A"},{"$f":"PUERTOS!J109","v":"Permanente"}]
[{"$f":"PUERTOS!D110","v":0},{"$f":"PUERTOS!B110","v":"CONSTRUCCIÓN Y/O ADECUACIÓN DE VÍAS DE APOYO AL PROYECTO"},{"$f":"PUERTOS!E110","v":"Al finalizar la fase constructiva del proyecto, presentar en el respectivo Informe de Cumplimiento Ambiental - ICA, un informe que incluya el estado final de las vías que sirvieron de apoyo al proyecto, y sus zonas aledañas incluidas en el derecho de vía - DDV, garantizando que las mismas sean entregadas en iguales o mejores condiciones. Incluir en dicho informe un registro fílmico y/o fotográfico en el que se evidencie fecha y coordenadas. "},{"$f":"PUERTOS!F110","v":"N/A"},{"$f":"PUERTOS!G110","v":"Aplica"},{"$f":"PUERTOS!H110","v":"N/A"},{"$f":"PUERTOS!I110","v":"N/A"},{"$f":"PUERTOS!J110","v":"Temporal"}]
[{"$f":"PUERTOS!D111","v":0},{"$f":"PUERTOS!B111","v":"MATERIALES DE CONSTRUCCIÓN"},{"$f":"PUERTOS!E111","v":"Para el desarrollo de las actividades del proyecto, realizar la adquisición de materiales de construcción con terceros que cuenten con los correspondientes permisos o autorizaciones ante la autoridad minera y ambiental competente, y reportar en los respectivos Informes de Cumplimiento Ambiental - ICA lo siguiente:\n\na)  Copias de los títulos mineros y licencias y/o permisos ambientales vigentes para el periodo reportado de las empresas proveedoras de materiales de construcción utilizados durante el periodo. En caso de cambio de proveedores diferentes a los reportados en el EIA y/o modificación o renovación de las licencias y/o permisos ambientales de las empresas proveedoras, presentar los soportes correspondientes.\nb) Las certificaciones/facturas de compra de material en las que se discrimine la fuente u origen, tipo de material, cantidad adquirida (expresada en unidades de volumen o masa) y fecha o periodo de compra.\nc) Reporte en el que se evidencie el uso/destino del material, discriminando las cantidades (unidades de volumen o masa)."},{"$f":"PUERTOS!F111","v":"N/A"},{"$f":"PUERTOS!G111","v":"Aplica"},{"$f":"PUERTOS!H111","v":"Aplica"},{"$f":"PUERTOS!I111","v":"N/A"},{"$f":"PUERTOS!J111","v":"Permanente"}]
[{"$f":"PUERTOS!D112","v":0},{"$f":"PUERTOS!B112","v":"ALMACENAMIENTO DE COMBUSTIBLES Y PRODUCTOS QUÍMICOS"},{"$f":"PUERTOS!E112","v":"Instalar en los sitios donde se almacene, manipule y/o utilice crudo, aceites, combustibles, productos químicos, residuos aceitosos u otro material potencialmente contaminante, los elementos y/o la infraestructura necesaria que garantice la contención en caso de derrames y la no contaminación del suelo, de acuerdo al Título 6, Parte 2, Libro 2 del Decreto 1076 de 2015 y demás normativa vigente en la materia, tales como:\n\na) Diques de contención con base y muros impermeabilizados que permitan contener como mínimo el 110% del volumen almacenado.\nb) Sistema de cunetas perimetrales, que descolen en cajas de inspección o tanques ciegos para su contención, recolección y posterior tratamiento como residuo peligroso.\nc) Condiciones óptimas o sistemas que permitan la ventilación e iluminación.\nd) Sistemas de prevención y control de incendios.\ne) Kit antiderrames.\nf) Señalización.\ng) Hojas de seguridad de los productos químicos almacenados con la matriz de compatibilidad."},{"$f":"PUERTOS!F112","v":"N/A"},{"$f":"PUERTOS!G112","v":"Aplica"},{"$f":"PUERTOS!H112","v":"Aplica"},{"$f":"PUERTOS!I112","v":"Aplica"},{"$f":"PUERTOS!J112","v":"Permanente"}]
[{"$f":"PUERTOS!D113","v":0},{"$f":"PUERTOS!B113","v":"ALMACENAMIENTO DE MATERIALES DE CONSTRUCCIÓN"},{"$f":"PUERTOS!E113","v":"El almacenamiento de materiales de construcción cumplirá con las siguientes condiciones:\n\na) Ubicarse en áreas aptas de acuerdo con la zonificación de manejo ambiental establecida para el proyecto.\nb) Ubicarse en una zona libre, plana en lo posible y de fácil acceso.\nc) Realizar el descapote del área previo al almacenamiento del material.\nd) Implementar medidas de retención de sedimentos en la zona de acopio, que garanticen la no afectación de los cuerpos hídricos cercanos.\ne) Todo material de construcción acopiado a cielo abierto dentro de los frentes de obra y que no pueda ser utilizado durante la jornada laboral, será cubierto y señalizado."},{"$f":"PUERTOS!F113","v":"N/A"},{"$f":"PUERTOS!G113","v":"Aplica"},{"$f":"PUERTOS!H113","v":"Aplica"},{"$f":"PUERTOS!I113","v":"Aplica"},{"$f":"PUERTOS!J113","v":"Permanente"}]
[{"$f":"PUERTOS!D114","v":0},{"$f":"PUERTOS!B114","v":"RESIDUOS"},{"$f":"PUERTOS!E114","v":"Llevar un registro (base de datos) mensual acumulada de la cantidad de residuos sólidos convencionales (aprovechables y no aprovechables), residuos peligrosos (sólidos y líquidos), residuos posconsumo y residuos de construcción y demolición (RCD) generados, aprovechados, tratados y/o dispuestos, que indique como mínimo: tipo de residuo, cantidad de residuos generados, cantidad de residuos aprovechados, tratados y/o dispuestos por parte de terceros o del titular de la licencia, tipo de aprovechamiento, tratamiento y disposición. Presentar dicho registro, en los respectivos Informes de Cumplimiento Ambiental - ICA a través del formato \"Plantilla de Seguimiento a la Gestión de Residuos\"."},{"$f":"PUERTOS!F114","v":"N/A"},{"$f":"PUERTOS!G114","v":"Aplica"},{"$f":"PUERTOS!H114","v":"Aplica"},{"$f":"PUERTOS!I114","v":"Aplica"},{"$f":"PUERTOS!J114","v":"Permanente"}]
[{"$f":"PUERTOS!D115","v":0},{"$f":"PUERTOS!B115","v":"RESIDUOS"},{"$f":"PUERTOS!E115","v":"Contar con sitios de almacenamiento temporal de residuos sólidos convencionales (aprovechables y no aprovechables) y de residuos peligrosos (líquidos y sólidos), en cumplimiento del Decreto 1077 de 2015 (Compila Decreto 2981 de 2013 del Ministerio de Vivienda, Ciudad y Territorio) y del Reglamento Técnico del Sector de Agua Potable y Saneamiento Básico - RAS, los cuales deberán ser independientes y contar con:\n\na) Base impermeabilizada para evitar una posible contaminación del suelo.\nb) Cubierta para evitar el contacto con el agua.\nc) Sistema de diques y cunetas perimetrales para los residuos líquidos.\nd) Condiciones óptimas o sistemas que permitan la ventilación e iluminación.\ne) Sistemas de prevención y control de incendios.\nf) Kit antiderrames (para el almacenamiento de residuos líquidos peligrosos)\ng) Señalización.\nh) Los recipientes empleados para el almacenamiento de los residuos deberán ser identificados por tipo de residuo y permitir su fácil limpieza."},{"$f":"PUERTOS!F115","v":"N/A"},{"$f":"PUERTOS!G115","v":"Aplica"},{"$f":"PUERTOS!H115","v":"Aplica"},{"$f":"PUERTOS!I115","v":"Aplica"},{"$f":"PUERTOS!J115","v":"Permanente"}]
[{"$f":"PUERTOS!D116","v":0},{"$f":"PUERTOS!B116","v":"RESIDUOS"},{"$f":"PUERTOS!E116","v":"Realizar el manejo de residuos sólidos convencionales (aprovechables y no aprovechables) a través de terceros debidamente autorizados para su transporte, almacenamiento, aprovechamiento, tratamiento y/o disposición final, y presentar en los respectivos Informes de Cumplimiento Ambiental – ICA:\n\na) Copia de las autorizaciones, permisos y/o licencias de las respectivas empresas encargadas de la gestión de los residuos.\nb) Actas de entrega para el transporte, almacenamiento, aprovechamiento, tratamiento y/o disposición final, que indiquen: nombre de empresa, fecha de entrega, sitio de entrega, tipo de residuos, cantidad, tratamiento y/o aprovechamiento a implementar (para el caso de residuos aprovechables).\nc) Relacionar los volúmenes generados de residuos tanto aprovechables como no aprovechables en  el registro (base de datos) solicitada por esta Autoridad."},{"$f":"PUERTOS!F116","v":"N/A"},{"$f":"PUERTOS!G116","v":"Aplica"},{"$f":"PUERTOS!H116","v":"Aplica"},{"$f":"PUERTOS!I116","v":"Aplica"},{"$f":"PUERTOS!J116","v":"Permanente"}]
[{"$f":"PUERTOS!D117","v":0},{"$f":"PUERTOS!B117","v":"RESIDUOS"},{"$f":"PUERTOS!E117","v":"Los residuos orgánicos provenientes de alimentos no podrán ser entregados a la comunidad para su aprovechamiento."},{"$f":"PUERTOS!F117","v":"N/A"},{"$f":"PUERTOS!G117","v":"Aplica"},{"$f":"PUERTOS!H117","v":"Aplica"},{"$f":"PUERTOS!I117","v":"Aplica"},{"$f":"PUERTOS!J117","v":"Permanente"}]
[{"$f":"PUERTOS!D118","v":0},{"$f":"PUERTOS!B118","v":"RESIDUOS"},{"$f":"PUERTOS!E118","v":"Integrar la gestión de los residuos posconsumo, como: pilas y/o acumuladores, bombillas, llantas usadas, computadores y/o periféricos, baterías plomo ácido, fármacos o medicamentos vencidos, envases y empaques y demás residuos posconsumo considerados por la normativa actual vigente, a las corrientes posconsumo reglamentadas y presentar en los respectivos Informes de Cumplimiento Ambiental – ICA los certificados de entrega de estos residuos al Plan de Gestión de Devolución de Productos Posconsumo y/o al Sistema de Recolección Selectiva y Gestión Ambiental de Residuos aprobados por esta Autoridad, indicando por cada periodo reportado:\n\na) El volumen y/o peso de residuos posconsumo entregados, discriminando tipo de residuo y el manejo que se le otorgará por parte del Plan de Gestión de Devolución de Productos Posconsumo y/o Sistema de Recolección Selectiva y Gestión Ambiental de Residuos a los residuos posconsumo entregados.\nb) Relacionar los volúmenes generados, aprovechados, tratados y/o dispuestos en el registro (base de datos) solicitada por esta Autoridad."},{"$f":"PUERTOS!F118","v":"N/A"},{"$f":"PUERTOS!G118","v":"Aplica"},{"$f":"PUERTOS!H118","v":"Aplica"},{"$f":"PUERTOS!I118","v":"Aplica"},{"$f":"PUERTOS!J118","v":"Permanente"}]
[{"$f":"PUERTOS!D119","v":0},{"$f":"PUERTOS!B119","v":"RESIDUOS"},{"$f":"PUERTOS!E119","v":"Realizar el manejo de residuos peligrosos (líquidos y sólidos) a través de terceros debidamente autorizados para su transporte, almacenamiento, aprovechamiento, tratamiento y/o disposición final, y presentar en los respectivos Informes de Cumplimiento Ambiental – ICA:\n\na) Copia de las autorizaciones, permisos y/o licencias de las respectivas empresas encargadas de la gestión de los residuos.\nb) Actas de entrega para el transporte, almacenamiento, aprovechamiento, tratamiento y/o disposición final, que indiquen: nombre de empresa, fecha de entrega, sitio de entrega, tipo de residuos y cantidad.\nc) Certificados de tratamiento, aprovechamiento y/o disposición final, que indiquen: nombre de empresa que gestionó los residuos, nombre de empresa que entregó los residuos, fechas de recepción y gestión de residuos, tipo de residuo, cantidad, tipo de tratamiento realizado  y/o alternativa de disposición final y sitio donde se gestionó el residuo.\nd) Relacionar los volúmenes generados, aprovechados, tratados y/o dispuestos en el registro (base de datos) solicitada por esta Autoridad."},{"$f":"PUERTOS!F119","v":"N/A"},{"$f":"PUERTOS!G119","v":"Aplica"},{"$f":"PUERTOS!H119","v":"Aplica"},{"$f":"PUERTOS!I119","v":"Aplica"},{"$f":"PUERTOS!J119","v":"Permanente"}]
[{"$f":"PUERTOS!D120","v":0},{"$f":"PUERTOS!B120","v":"RESIDUOS"},{"$f":"PUERTOS!E120","v":"Para cantidades iguales o superiores a 10 kg/mes de residuos sólidos peligrosos, dar cumplimiento a lo establecido en la Resolución 1362 del 2007 del Ministerio de Ambiente, Vivienda y Desarrollo Territorial, o aquella que la modifique, derogue o sustituya, por la cual se establecen los requisitos y el procedimiento para el Registro de Generadores de Residuos o Desechos Peligrosos, a que hacen referencia los artículos 2.2.6.1.6.1 y 2.2.6.1.6.2 del Decreto 1076 de 2015. "},{"$f":"PUERTOS!F120","v":"N/A"},{"$f":"PUERTOS!G120","v":"Aplica"},{"$f":"PUERTOS!H120","v":"Aplica"},{"$f":"PUERTOS!I120","v":"Aplica"},{"$f":"PUERTOS!J120","v":"Permanente"}]
[{"$f":"PUERTOS!D121","v":0},{"$f":"PUERTOS!B121","v":"RESIDUOS"},{"$f":"PUERTOS!E121","v":"De conformidad con el establecido en el artículo 2.2.6.1.3.1. del Título 6, Parte 2, Libro 2 del Decreto 1076 de 2015 o aquella que la modifique, derogue o sustituya, no se podrá realizar el almacenamiento temporal de residuos peligrosos por más de doce (12) meses; en los casos debidamente sustentados y justificados, se podrá solicitar ante esta autoridad, una extensión de dicho periodo. "},{"$f":"PUERTOS!F121","v":"N/A"},{"$f":"PUERTOS!G121","v":"Aplica"},{"$f":"PUERTOS!H121","v":"Aplica"},{"$f":"PUERTOS!I121","v":"Aplica"},{"$f":"PUERTOS!J121","v":"Permanente"}]
[{"$f":"PUERTOS!D122","v":0},{"$f":"PUERTOS!B122","v":"RESIDUOS"},{"$f":"PUERTOS!E122","v":"Presentar la gestión de los residuos hospitalarios y similares generados en el proyecto en los Informes de Cumplimiento Ambiental - ICA, dando cumplimiento a las siguientes condiciones:\n\na) Copia de las autorizaciones, permisos y/o licencias de las respectivas empresas encargadas de la gestión de los residuos.\nb) Actas de entrega para el transporte, almacenamiento, aprovechamiento, tratamiento y/o disposición final, que indiquen: nombre de empresa, fecha de entrega, sitio de entrega, tipo de residuos y cantidad.\nc) Certificados de tratamiento, aprovechamiento y/o disposición final, que indiquen: nombre de empresa que gestionó los residuos, nombre de empresa que entregó los residuos, fechas de recepción y gestión de residuos, tipo de residuo, cantidad, tipo de tratamiento realizado  y/o alternativa de disposición final y sitio donde se gestionó el residuo.\nd) Almacenarse de acuerdo al código de colores y las características y condiciones específicas establecidas en el Manual de Procedimientos para la Gestión Integral de Residuos Hospitalarios y Similares, adoptado por la Resolución 1164 de 2002 del Ministerio de Ambiente y Ministerio de Salud, o aquella que la modifique, derogue o sustituya.\ne) Relacionar los volúmenes generados, tratados y/o dispuestos en el registro (base de datos) solicitada por esta Autoridad."},{"$f":"PUERTOS!F122","v":"N/A"},{"$f":"PUERTOS!G122","v":"Aplica"},{"$f":"PUERTOS!H122","v":"Aplica"},{"$f":"PUERTOS!I122","v":"Aplica"},{"$f":"PUERTOS!J122","v":"Permanente"}]
[{"$f":"PUERTOS!D123","v":0},{"$f":"PUERTOS!B123","v":"RESIDUOS"},{"$f":"PUERTOS!E123","v":"Dar cumplimiento al parágrafo del artículo 19 de la Resolución 472 de 2017 del Ministerio de Ambiente y Desarrollo Sostenible (modificada por la Resolución 1257 del 2021), o aquella otra que la modifique, derogue o sustituya, en lo relacionado con las metas de aprovechamiento (reutilización, tratamiento y reciclaje) de residuos de construcción y demolición – RCD  para proyectos, obras o actividades sujetos a licenciamiento ambiental, y presentar en los respectivos Informes de Cumplimiento Ambiental - ICA:\n\na) Reporte en el que se indique: porcentaje de material aprovechado, respecto del total utilizado en la obra, tipo de material aprovechado, volumen de material aprovechado, sectores de donde proviene el material, actividades/sectores en los que fue aprovechado, periodo en los que fue realizado."},{"$f":"PUERTOS!F123","v":"N/A"},{"$f":"PUERTOS!G123","v":"Aplica"},{"$f":"PUERTOS!H123","v":"Aplica"},{"$f":"PUERTOS!I123","v":"Aplica"},{"$f":"PUERTOS!J123","v":"Permanente"}]
[{"$f":"PUERTOS!D124","v":0},{"$f":"PUERTOS!B124","v":"RESIDUOS"},{"$f":"PUERTOS!E124","v":"Disponer los residuos de construcción y demolición – RCD no susceptibles de aprovechamiento de acuerdo con lo establecido en la Resolución 472 de 2017 del Ministerio de Ambiente y Desarrollo Sostenible (modificada por la Resolución 1257 del 2021), o aquella otra que la modifique o sustituya, en los sitios de disposición final de RCD legalmente autorizados, para lo cual el titular del proyecto entregará en los respectivos Informes de Cumplimiento Ambiental – ICA:\n\na) Copia de las autorizaciones, permisos y/o licencias del sitio de disposición final de RCD.\nb) Actas de entrega, que indiquen: nombre de empresa, fecha de entrega, sitio de entrega, tipo de residuo y cantidad.\nc) Certificados de disposición final, que indiquen: nombre de empresa que gestionó los residuos, nombre de empresa que entregó los residuos, fechas de recepción y gestión de residuos, tipo de residuo, cantidad y sitio donde se gestionó el residuo.\nd) Relacionar los volúmenes de RCD generados, aprovechados, tratados y/o dispuestos por tipo de residuo en el registro (base de datos) solicitada por esta Autoridad."},{"$f":"PUERTOS!F124","v":"N/A"},{"$f":"PUERTOS!G124","v":"Aplica"},{"$f":"PUERTOS!H124","v":"Aplica"},{"$f":"PUERTOS!I124","v":"Aplica"},{"$f":"PUERTOS!J124","v":"Permanente"}]
[{"$f":"PUERTOS!D125","v":0},{"$f":"PUERTOS!B125","v":"ZONAS DE DISPOSICIÓN DE MATERIAL SOBRANTE DE EXCAVACIONES"},{"$f":"PUERTOS!E125","v":"Dar cumplimiento a las siguientes condiciones relacionadas con el manejo de las ZODMEs:\n\na) Implementar sistemas de manejo de aguas de escorrentía y sistemas de control de sólidos a la salida de los drenajes del depósito, de tal manera que no se vean afectados cuerpos de aguas, estabilidad del relleno y/o los predios vecinos.\nb) No se podrá disponer en las ZODMEs residuos sólidos convencionales y peligrosos, tales como: orgánicos, chatarra, madera, papel, lodos, combustibles, entre otros no autorizados.\nc) Realizar la compactación y cubrimiento del material mientras se realice la disposición del mismo.\nd) Presentar el origen, volúmenes y tipo de material dispuesto a la fecha de corte de los Informes de Cumplimiento Ambiental – ICA, discriminando el volumen acumulado y dispuesto en el periodo.\ne) Realizar monitoreos [definir la frecuencia, la cual estará en función de la estabilidad del terreno de acuerdo; validar con el estudio geotécnico que presente el proyecto] a través de levantamientos altimétricos y planimétricos de la zona del depósito, a fin de verificar la conformación del relleno. Presentar los resultados de los monitoreos en los Informes de Cumplimiento Ambiental – ICA. \nf) Implementar sistemas de medición de la estabilidad del lleno para identificar oportunamente una posible falla debida al asentamiento generado en el relleno al finalizar la conformación del mismo. Presentar los soportes correspondientes en los Informes de Cumplimiento Ambiental – ICA.\ng) Al finalizar el lleno de la ZODME realizar su revegetalización con especies nativas, o aquella otra actividad pactada con los propietarios de los predios de acuerdo con el uso final que se le vaya a dar al área, cuando estas se encuentren localizadas en predios privados. El titular de la licencia ambiental acreditará documentalmente a la ANLA a través del respecto Informe de Cumplimiento Ambiental - ICA la conformación final de la ZODME.\nh) Luego de la etapa de clausura de la ZODME y mientras el proyecto esté en construcción, continuar con el mantenimiento rutinario de los sistemas de manejo de aguas de escorrentía, sólidos y revegetalización establecidos en la misma, en caso de que esta última aplique. De lo anterior, presentar las actividades adelantadas con registro fotográfico en el respectivo Informe de Cumplimiento Ambiental ICA del periodo reportado.\ni) Presentar en los Informes de Cumplimiento Ambiental – ICA el avance para el respectivo periodo reportado según el modelo de almacenamiento de datos geográficos establecido en la Resolución 2182 de 2016 expedida por el MADS, o aquella que la modifique o sustituya."},{"$f":"PUERTOS!F125","v":"N/A"},{"$f":"PUERTOS!G125","v":"Aplica"},{"$f":"PUERTOS!H125","v":"N/A"},{"$f":"PUERTOS!I125","v":"N/A"},{"$f":"PUERTOS!J125","v":"Permanente"}]
[{"$f":"PUERTOS!D126","v":0},{"$f":"PUERTOS!B126","v":"DESMANTELAMIENTO Y ABANDONO"},{"$f":"PUERTOS!E126","v":"Presentar mediante oficio dirigido a la Subdirección de Seguimiento de Licencias Ambientales por lo menos con tres (3) meses de anticipación al inicio del desmantelamiento y abandono del proyecto, el estudio del que trata el artículo 2.2.2.3.9.2 del Decreto 1076 del 2015, o la norma que lo modifique y/o sustituya."},{"$f":"PUERTOS!F126","v":"N/A"},{"$f":"PUERTOS!G126","v":"N/A"},{"$f":"PUERTOS!H126","v":"N/A"},{"$f":"PUERTOS!I126","v":"Aplica"},{"$f":"PUERTOS!J126","v":"Temporal"}]
[{"$f":"PUERTOS!D127","v":0},{"$f":"PUERTOS!B127","v":"DESMANTELAMIENTO Y ABANDONO"},{"$f":"PUERTOS!E127","v":"Al finalizar la fase constructiva, realizar el desmonte y cierre de las instalaciones temporales como campamentos, plantas de triturado, concreto, mezcla asfáltica, fuentes de material y demás áreas utilizadas para la construcción del proyecto, así como el retiro de los equipos de construcción, materiales sobrantes y escombros. Documentar y reportar las medidas y acciones implementadas en los Informes de Cumplimiento Ambiental - ICA."},{"$f":"PUERTOS!F127","v":"N/A"},{"$f":"PUERTOS!G127","v":"N/A"},{"$f":"PUERTOS!H127","v":"N/A"},{"$f":"PUERTOS!I127","v":"Aplica"},{"$f":"PUERTOS!J127","v":"Temporal"}]
[{"$f":"PUERTOS!D128","v":0},{"$f":"PUERTOS!B128","v":"COMPENSACIONES DEL MEDIO BIÓTICO"},{"$f":"PUERTOS!E128","v":"En ningún caso las actividades de compensación podrán generar impactos adicionales a los ya identificados por el proyecto; en este sentido, para la implementación de las actividades de compensación no se podrá hacer uso y/o aprovechamiento de recursos naturales adicionales a los ya aprobados para las actividades en el presente acto administrativo."},{"$f":"PUERTOS!F128","v":"N/A"},{"$f":"PUERTOS!G128","v":"Aplica"},{"$f":"PUERTOS!H128","v":"Aplica"},{"$f":"PUERTOS!I128","v":"Aplica"},{"$f":"PUERTOS!J128","v":"Permanente"}]
[{"$f":"PUERTOS!D129","v":0},{"$f":"PUERTOS!B129","v":"COMPENSACIONES DEL MEDIO BIÓTICO"},{"$f":"PUERTOS!E129","v":"Dar inicio a las actividades de compensación en un periodo máximo de seis (6) meses una vez iniciada la actividad que da origen al impacto y a la respectiva compensación, incluyendo las consideraciones de adicionalidad y/u obligaciones específicas del acto administrativo, de conformidad con el articulo 3 de la Resolución 256 del 22 de febrero de 2018, o aquella norma que la modifique, derogue o sustituya, e informar a esta autoridad mediante oficio dirigido a la Subdirección de Seguimiento de Licencias Ambientales el inicio de las  actividades de compensación."},{"$f":"PUERTOS!F129","v":"N/A"},{"$f":"PUERTOS!G129","v":"Aplica"},{"$f":"PUERTOS!H129","v":"Aplica"},{"$f":"PUERTOS!I129","v":"N/A"},{"$f":"PUERTOS!J129","v":"Temporal"}]
[{"$f":"PUERTOS!D130","v":0},{"$f":"PUERTOS!B130","v":"COMPENSACIONES DEL MEDIO BIÓTICO"},{"$f":"PUERTOS!E130","v":"Parágrafo 1: El cumplimiento de objetivos y obligaciones asociadas a las formas agrupadas de implementación de los planes de compensación del medio biótico e inversión forzosa de no menos del 1% a las que se refiere el Manual de Compensaciones del Componente Biótico y el Articulo  2.2.9.3.1.12. del Decreto 1076 de 2015, o aquella norma que la modifique, derogue o sustituya, se presentarán de manera independiente en los Informes de Cumplimiento Ambiental de cada proyecto y de cada obligación correspondiente, bajo el modelo de almacenamiento geográfico establecido en la Resolución 2182 de 2016 del MADS, o la que la modifique, derogue o sustituya."},{"$f":"PUERTOS!F130","v":" -"},{"$f":"PUERTOS!G130","v":" -"},{"$f":"PUERTOS!H130","v":" -"},{"$f":"PUERTOS!I130","v":" -"},{"$f":"PUERTOS!J130","v":" -"}]
[{"$f":"PUERTOS!D131","v":0},{"$f":"PUERTOS!B131","v":"COMPENSACIONES DEL MEDIO BIÓTICO"},{"$f":"PUERTOS!E131","v":"Parágrafo 2: No se deberán presentar superposiciones entre las áreas destinadas para el cumplimiento de las obligaciones de compensación o de inversión forzosa de no menos del 1%, así como tampoco con áreas destinadas al cumplimiento de obligaciones impuestas a cualquier otro expediente, máxime cuando se trate de la misma actividad propuesta para el cumplimiento de la obligación."},{"$f":"PUERTOS!F131","v":" -"},{"$f":"PUERTOS!G131","v":" -"},{"$f":"PUERTOS!H131","v":" -"},{"$f":"PUERTOS!I131","v":" -"},{"$f":"PUERTOS!J131","v":" -"}]
[{"$f":"PUERTOS!D132","v":0},{"$f":"PUERTOS!B132","v":"COMPENSACIONES DEL MEDIO BIÓTICO"},{"$f":"PUERTOS!E132","v":"Entregar mediante oficio dirigido a la Subdirección de Seguimiento de Licencias Ambientales - SSLA, el cronograma con las fechas de presentación de las áreas definitivas de compensación a esta Autoridad para su aprobación, previo al inicio de las actividades que generan el impacto, contemplando la condición del inicio de la implementación de las acciones de compensación en un máximo de seis meses después del inicio de las actividades que generan el impacto. Cualquier modificación deberá ser informada y autorizada por la autoridad, quien se pronunciará sobre la pertinencia de las modificaciones solicitadas."},{"$f":"PUERTOS!F132","v":"N/A"},{"$f":"PUERTOS!G132","v":"Aplica"},{"$f":"PUERTOS!H132","v":"N/A"},{"$f":"PUERTOS!I132","v":"N/A"},{"$f":"PUERTOS!J132","v":"Puntual"}]
[{"$f":"PUERTOS!D133","v":0},{"$f":"PUERTOS!B133","v":"COMPENSACIONES DEL MEDIO BIÓTICO"},{"$f":"PUERTOS!E133","v":"En caso de identificar que, una vez finalizada la actividad que genera la compensación, se incurre en una compensación de menor o mayor área a la aprobada mediante el presente acto administrativo, el titular de la licencia informará a esta autoridad los ajustes al plan de compensación para que en el marco del seguimiento ambiental sea objeto de análisis y aprobación."},{"$f":"PUERTOS!F133","v":"N/A"},{"$f":"PUERTOS!G133","v":"Aplica"},{"$f":"PUERTOS!H133","v":"Aplica"},{"$f":"PUERTOS!I133","v":"N/A"},{"$f":"PUERTOS!J133","v":"Permanente"}]
[{"$f":"PUERTOS!D134","v":0},{"$f":"PUERTOS!B134","v":"COMPENSACIONES DEL MEDIO BIÓTICO"},{"$f":"PUERTOS!E134","v":"Las áreas definitivas para el desarrollo de las actividades aprobadas de compensación deberán estar inmersas en las áreas preliminares aprobadas mediante el presente acto administrativo, en caso contrario, deberán ser debidamente justificadas garantizando la adicionalidad y las mismas condiciones de modo, tiempo y lugar que fueron objeto de aprobación, con el fin de ser presentadas a esta autoridad para que en el marco del seguimiento ambiental sea objeto de análisis y aprobación de conformidad con lo dispuesto en el articulo 4 de la Resolución 256 del 22 de febrero de 2018 o aquella norma que la modifique, derogue o sustituya."},{"$f":"PUERTOS!F134","v":"N/A"},{"$f":"PUERTOS!G134","v":"Aplica"},{"$f":"PUERTOS!H134","v":"Aplica"},{"$f":"PUERTOS!I134","v":"Aplica"},{"$f":"PUERTOS!J134","v":"Permanente"}]
[{"$f":"PUERTOS!D135","v":0},{"$f":"PUERTOS!B135","v":"COMPENSACIONES DEL MEDIO BIÓTICO"},{"$f":"PUERTOS!E135","v":"En caso de cambio en las acciones, sitios, modos, mecanismos y/o formas de compensación aprobadas, presentarlos a esta autoridad para que en el marco del seguimiento ambiental sea objeto de análisis y aprobación, de conformidad con lo dispuesto en el articulo 4 de la Resolución 256 del 22 de febrero de 2018 o aquella norma que la modifique, derogue o sustituya."},{"$f":"PUERTOS!F135","v":"N/A"},{"$f":"PUERTOS!G135","v":"Aplica"},{"$f":"PUERTOS!H135","v":"Aplica"},{"$f":"PUERTOS!I135","v":"Aplica"},{"$f":"PUERTOS!J135","v":"Permanente"}]
[{"$f":"PUERTOS!D136","v":0},{"$f":"PUERTOS!B136","v":"COMPENSACIONES DEL MEDIO BIÓTICO"},{"$f":"PUERTOS!E136","v":"El titular de la licencia ambiental, deberá presentar en los respectivos Informes de Cumplimiento Ambiental - ICA, un informe de avance, el cual debe contener como mínimo: \n\na) Comparación de la caracterización detallada de los polígonos elegidos para llevar a cabo las acciones de compensación del medio biótico, respecto a los resultados obtenidos durante el seguimiento y monitoreo propuesto, para cada uno de los indicadores y realizar el análisis de efectividad respectivo, así como la propuesta de ajuste en caso de resultados desfavorables. \nb) Información geográfica del área compensada a la fecha de presentación del informe de avance, incluyendo la respectiva discriminación por acción de compensación, y porcentaje de avance con respecto al área total a compensar. \nc) Estado de los ecosistemas del área de compensación propuestas para las acciones de restauración, preservación y/o uso sostenible, las cuales deberán ser coherentes con las necesidades del territorio frente a procesos de conservación y restauración ecológica, así como los instrumentos de planificación y ordenamiento territorial.\nd) En caso de proponerse acciones de restauración ecológica bajo el enfoque de restauración, se debe presentar un análisis, a través de los indicadores propuestos, que permitan establecer la trayectoria sucesional del área intervenida y si esta es acorde a la referencia elegida. De ser necesario, se debe proponer el ajuste de las medidas para ser implementadas en el siguiente periodo.\ne) Descripción de las actividades ejecutadas, que incluya los soportes y registro fotográfico que evidencien cada una de las actividades propuestas en la fase de implementación, seguimiento y monitoreo para las acciones aprobadas, señalando: i) el área efectivamente intervenida durante el periodo y ii) el progreso en la implementación del plan de compensación por ecosistema.\nf) Porcentaje de avance de acuerdo al cronograma.\n\nParágrafo: La compensación se dará por cumplida una vez se logre el cumplimiento de los objetivos y metas propuestos por la sociedad en términos ecológicos, biológicos y/o ecosistémicos. "},{"$f":"PUERTOS!F136","v":"N/A"},{"$f":"PUERTOS!G136","v":"Aplica"},{"$f":"PUERTOS!H136","v":"Aplica"},{"$f":"PUERTOS!I136","v":"Aplica"},{"$f":"PUERTOS!J136","v":"Permanente"}]
[{"$f":"PUERTOS!D137","v":0},{"$f":"PUERTOS!B137","v":"COMPENSACIONES DEL MEDIO BIÓTICO"},{"$f":"PUERTOS!E137","v":"El titular de la licencia ambiental evidenciará y cuantificará la no pérdida neta de biodiversidad de la que trata el \"Manual de compensaciones del componente biótico\", utilizando como ecosistema de referencia las áreas de afectación que generan las obligaciones de compensación, para lo cual deberá presentar en el primer Informe de Cumplimiento Ambiental - ICA de la fase constructiva, con base en los datos de línea base del estudio de impacto ambiental: \n\na) El cálculo de los indicadores contenidos en el documento \"Indicadores de impacto para el seguimiento de las obligaciones de compensación y planes de inversión del 1%\" para los ecosistemas de referencia. \nb) Las metas actualizadas del plan de compensación en términos de composición, estructura y función de las acciones a implementar, de acuerdo con los resultados de los atributos ecológicos obtenidos de la aplicación de los indicadores en los ecosistemas de referencia.\n\nEn los siguientes Informes de Cumplimiento Ambiental - ICA se deberá presentar el cálculo de los indicadores de impacto para las áreas de compensación, con el fin de establecer el cumplimiento de las metas en términos de la efectividad de las medidas de compensación asociadas a la no pérdida neta de biodiversidad. \n\nParágrafo: En caso de cambios en las áreas u acciones de compensación, las metas deberán ser actualizadas de acuerdo con el resultados de los indicadores de impacto para la composición, estructura y función de los ecosistemas de referencia."},{"$f":"PUERTOS!F137","v":"N/A"},{"$f":"PUERTOS!G137","v":"Aplica"},{"$f":"PUERTOS!H137","v":"Aplica"},{"$f":"PUERTOS!I137","v":"Aplica"},{"$f":"PUERTOS!J137","v":"Permanente"}]
[{"$f":"PUERTOS!D138","v":0},{"$f":"PUERTOS!B138","v":"COMPENSACIONES DEL MEDIO BIÓTICO"},{"$f":"PUERTOS!E138","v":"Al titular de la licencia en ningún caso le será posible atribuir el cumplimiento de los objetivos de compensación a un tercero."},{"$f":"PUERTOS!F138","v":"N/A"},{"$f":"PUERTOS!G138","v":"Aplica"},{"$f":"PUERTOS!H138","v":"Aplica"},{"$f":"PUERTOS!I138","v":"Aplica"},{"$f":"PUERTOS!J138","v":"Permanente"}]
[{"$f":"PUERTOS!D139","v":0},{"$f":"PUERTOS!B139","v":"INVERSIÓN DEL 1%"},{"$f":"PUERTOS!E139","v":"Informar a la ANLA por medio de oficio dirigido a la Subdirección de Seguimiento de Licencias Ambientales, la fecha de inicio del uso del recurso hídrico autorizado en el permiso de concesión de aguas y si a esa fecha se han ejecutado alguno o algunos de los ítems (actividades) enmarcados en el artículo 321 de la ley 1955 del 2019, o aquella que la modifique, derogue o sustituya."},{"$f":"PUERTOS!F139","v":"N/A"},{"$f":"PUERTOS!G139","v":"Aplica"},{"$f":"PUERTOS!H139","v":"N/A"},{"$f":"PUERTOS!I139","v":"N/A"},{"$f":"PUERTOS!J139","v":"Temporal"}]
[{"$f":"PUERTOS!D140","v":0},{"$f":"PUERTOS!B140","v":"INVERSIÓN DEL 1%"},{"$f":"PUERTOS!E140","v":"Presentar dentro de los tres (3) meses siguientes a cada vigencia fiscal (plazo máximo a 31 de marzo), certificado de revisor fiscal o contador público, informando las inversiones base de liquidación incurridas en el año inmediatamente anterior una vez se haya iniciado el uso del recurso hídrico autorizado en el permiso de concesión de aguas y la ejecución de alguna o algunas de los ítems (actividades) enmarcados en el artículo 321 de la ley 1955 del 2019, o la ley que la modifique, derogue o sustituya, para ajustar el monto base de liquidación de la inversión forzosa de no menos el 1%, con los montos efectivamente ejecutados y registrados en los libros de contabilidad del proyecto. La certificación debe incluir los costos, gastos y valores capitalizados, y deberá ser detallada de conformidad a los ítems establecidos en el artículo 321 de la Ley 1955 de 2019.\n\nSi las inversiones se efectuaron en dólares informar la TRM utilizada para la conversión a pesos COP para cada año de ejecución del proyecto."},{"$f":"PUERTOS!F140","v":"N/A"},{"$f":"PUERTOS!G140","v":"Aplica"},{"$f":"PUERTOS!H140","v":"Aplica"},{"$f":"PUERTOS!I140","v":"N/A"},{"$f":"PUERTOS!J140","v":"Permanente"}]
[{"$f":"PUERTOS!D141","v":0},{"$f":"PUERTOS!B141","v":"INVERSIÓN DEL 1%"},{"$f":"PUERTOS!E141","v":"Iniciar el plan de inversión forzosa de no menos del 1% aprobado en un periodo de tiempo no superior de seis (6) meses posteriores a la presentación del primer certificado de revisor fiscal o contador público."},{"$f":"PUERTOS!F141","v":"N/A"},{"$f":"PUERTOS!G141","v":"Aplica"},{"$f":"PUERTOS!H141","v":"Aplica"},{"$f":"PUERTOS!I141","v":"N/A"},{"$f":"PUERTOS!J141","v":"Temporal"}]
[{"$f":"PUERTOS!D142","v":0},{"$f":"PUERTOS!B142","v":"INVERSIÓN DEL 1%"},{"$f":"PUERTOS!E142","v":"Parágrafo: En caso de no ejecutar las inversiones del cronograma por un tiempo superior a un año fiscal, presentar por medio de oficio dirigido a la Subdirección de Seguimiento de Licencias Ambientales de esta autoridad, la actualización del valor de la liquidación de la inversión, de acuerdo con la fórmula señalada en el parágrafo 1 del artículo 321 de la ley 1955 del 25 de mayo de 2019, con plazo máximo de 31 de marzo del año siguiente."},{"$f":"PUERTOS!F142","v":" -"},{"$f":"PUERTOS!G142","v":" -"},{"$f":"PUERTOS!H142","v":" -"},{"$f":"PUERTOS!I142","v":" -"},{"$f":"PUERTOS!J142","v":" -"}]
[{"$f":"PUERTOS!D143","v":0},{"$f":"PUERTOS!B143","v":"INVERSIÓN DEL 1%"},{"$f":"PUERTOS!E143","v":"Presentar en los respectivos Informes de Cumplimiento Ambiental - ICA informes de avance de las actividades, los cuales deben incluir como mínimo lo siguiente:\n\na) Descripción de las acciones y actividades desarrolladas respecto al plan de inversión forzosa del 1%, de acuerdo con las líneas de destinación aprobadas.\nb) Avance en la ejecución de las actividades conforme con el cronograma para las acciones y actividades de las líneas de destinación aprobadas.\nc) Descripción del avance detallado del proyecto, indicando cantidades y valores efectivamente ejecutados anexando los soportes técnicos y financieros (factura, contrato o documento equivalente).\nd) Modelo de almacenamiento geográfico según lo establecido en la Resolución 2182 de 2016 de Minambiente, o la que la modifique, derogue o sustituya."},{"$f":"PUERTOS!F143","v":"N/A"},{"$f":"PUERTOS!G143","v":"Aplica"},{"$f":"PUERTOS!H143","v":"Aplica"},{"$f":"PUERTOS!I143","v":"Aplica"},{"$f":"PUERTOS!J143","v":"Permanente"}]
[{"$f":"PUERTOS!D144","v":0},{"$f":"PUERTOS!B144","v":"INVERSIÓN DEL 1%"},{"$f":"PUERTOS!E144","v":"Parágrafo: El cumplimiento de objetivos y obligaciones asociadas a las formas agrupadas de implementación de los planes de compensación del medio biótico e inversión de no menos del 1% a las que se refiere el Manual de Compensaciones del Componente Biótico y el Articulo  2.2.9.3.1.12. del Decreto 1076 de 2015, o aquella norma que la modifique, derogue o sustituya, se presentarán de manera independiente en los Informes de Cumplimiento Ambiental de cada proyecto y de cada obligación correspondiente, incluyendo la información asociada al modelo de almacenamiento geográfico establecido en la Resolución 2182 de 2016 del MADS, o la que la modifique, derogue o sustituya."},{"$f":"PUERTOS!F144","v":" -"},{"$f":"PUERTOS!G144","v":" -"},{"$f":"PUERTOS!H144","v":" -"},{"$f":"PUERTOS!I144","v":" -"},{"$f":"PUERTOS!J144","v":" -"}]
[{"$f":"PUERTOS!D145","v":0},{"$f":"PUERTOS!B145","v":"INVERSIÓN DEL 1%"},{"$f":"PUERTOS!E145","v":"Realizar los monitoreos semestrales de flora en áreas de inversión de no menos del 1% (acciones de conservación) para evidenciar el cumplimiento de la línea de inversión propuesta dependiendo de las metas e indicadores establecidos en el plan de seguimiento y monitoreo. Para ello, se puede emplear parcelas permanentes con la forma y tamaño apropiado que sea representativo para el área y ecosistema terrestre sujeto a monitoreo, o cualquier otra metodología que esté debidamente justificada. Los datos obtenidos deben brindar información que permita analizar la estructura, composición y riqueza, entre otras variables. El tiempo de implementación de los monitoreos deberá realizarse hasta que se demuestre el cumplimiento de la meta propuesta de la obligación. La información deberá presentarse de manera acumulada en los respectivos Informes de Cumplimiento Ambiental -ICA, con el análisis de tendencia, comparando los resultados del periodo reportado con los obtenidos en los periodos previos desde la caracterización ambiental."},{"$f":"PUERTOS!F145","v":"N/A"},{"$f":"PUERTOS!G145","v":"Aplica"},{"$f":"PUERTOS!H145","v":"Aplica"},{"$f":"PUERTOS!I145","v":"Aplica"},{"$f":"PUERTOS!J145","v":"Permanente"}]
[{"$f":"PUERTOS!D146","v":0},{"$f":"PUERTOS!B146","v":"PLAN DE CONTINGENCIA"},{"$f":"PUERTOS!E146","v":"Presentar en los Informes de Cumplimiento Ambiental – ICA, la revisión y/o complemento del Plan de Contingencia siguiendo los lineamientos descritos en el Decreto 1081 del 2015 adicionado por el Decreto 2157 de 2017 en el Artículo 2.3.1.5.2.1.1, Numeral 3.1.2, Literal f y el Decreto 1076 de 2015 en el Artículo 2.2.2.3.5.1, Numeral 9 y el Artículo 2.2.2.3.9.3 o aquellos que los modifiquen o sustituyan y en caso de no presentarse un ajuste en el documento, indicar las razones por las cuales no se realiza:\n\na. Ante nuevas exigencias o cambios en la legislación nacional referente al plan de contingencia, en los plazos establecidos en las mismas.\nb. Cuando se introduzcan cambios en los procesos que aumenten la probabilidad de ocurrencia de una contingencia ambiental y/o consecuencia de la materialización del riesgo.  \nc. Ante cambios en las valoraciones de los escenarios de riesgo presentes en el proyecto.\nd. Ante la ocurrencia de una contingencia que evidencie la necesidad de ajuste del plan.\ne. Ante evidencias producto del proceso de seguimiento y control efectuado por la Autoridad Ambiental Competente."},{"$f":"PUERTOS!F146","v":"N/A"},{"$f":"PUERTOS!G146","v":"Aplica"},{"$f":"PUERTOS!H146","v":"Aplica"},{"$f":"PUERTOS!I146","v":"Aplica"},{"$f":"PUERTOS!J146","v":"Permanente"}]
[{"$f":"PUERTOS!D147","v":0},{"$f":"PUERTOS!B147","v":"PLAN DE CONTINGENCIA"},{"$f":"PUERTOS!E147","v":"Reportar los eventos de contingencia a través de la plataforma VITAL de conformidad con lo establecido en el artículo 2do de la Resolución 1767 de 2016 o aquellos que los modifiquen o sustituyan, ya sea que los eventos sean generados del proyecto hacia el medio o del medio hacia el proyecto, presentando en cada uno de los avances (reportes parciales, de recuperación ambiental y final, según corresponda) las medidas, monitoreos, protocolos y/o acciones ejecutadas en el marco de la atención."},{"$f":"PUERTOS!F147","v":"N/A"},{"$f":"PUERTOS!G147","v":"Aplica"},{"$f":"PUERTOS!H147","v":"Aplica"},{"$f":"PUERTOS!I147","v":"Aplica"},{"$f":"PUERTOS!J147","v":"Temporal"}]
[{"$f":"PUERTOS!D148","v":0},{"$f":"PUERTOS!B148","v":"PLAN DE CONTINGENCIA"},{"$f":"PUERTOS!E148","v":"Presentar en los Informes de Cumplimiento Ambiental – ICA, los resultados, el análisis y conclusiones de los monitoreos del riesgo asociados al seguimiento de los eventos de origen natural, socio natural y operacional, en donde se involucren los parámetros y frecuencia definidos, así como la articulación con entidades oficiales (SGC, IDEAM, entre otros) y de acuerdo con los resultados, complementar la valoración del riesgo, según corresponda. En caso de no presentar resultados de los monitoreos del riesgo, remitir las razones y soportarlo con las evidencias correspondientes a través de oficios, informes, actas, registros fotográficos, entre otros."},{"$f":"PUERTOS!F148","v":"N/A"},{"$f":"PUERTOS!G148","v":"Aplica"},{"$f":"PUERTOS!H148","v":"Aplica"},{"$f":"PUERTOS!I148","v":"Aplica"},{"$f":"PUERTOS!J148","v":"Permanente"}]
[{"$f":"PUERTOS!D149","v":0},{"$f":"PUERTOS!B149","v":"PLAN DE CONTINGENCIA"},{"$f":"PUERTOS!E149","v":"Implementar las medidas de monitoreo asociado a las actividades de atención y seguimiento de los eventos de contingencia que sean necesarias, con el objeto de identificar cambios o afectaciones sobre los medios abiótico, biótico y socioeconómico. "},{"$f":"PUERTOS!F149","v":"N/A"},{"$f":"PUERTOS!G149","v":"Aplica"},{"$f":"PUERTOS!H149","v":"Aplica"},{"$f":"PUERTOS!I149","v":"Aplica"},{"$f":"PUERTOS!J149","v":"Temporal"}]
[{"$f":"PUERTOS!D150","v":0},{"$f":"PUERTOS!B150","v":"PLAN DE CONTINGENCIA"},{"$f":"PUERTOS!E150","v":"Presentar en los Informes de Cumplimiento Ambiental – ICA, los soportes de la ejecución de las actividades definidas para las intervenciones correctivas y prospectivas de las medidas de reducción del riesgo. En caso de no presentarse, remitir las razones y soportarlo con evidencias correspondientes a través de informes, cronogramas, actas, registros fotográficos, entre otros. "},{"$f":"PUERTOS!F150","v":"N/A"},{"$f":"PUERTOS!G150","v":"Aplica"},{"$f":"PUERTOS!H150","v":"Aplica"},{"$f":"PUERTOS!I150","v":"N/A"},{"$f":"PUERTOS!J150","v":"Permanente"}]
[{"$f":"PUERTOS!D151","v":0},{"$f":"PUERTOS!B151","v":"PLAN DE CONTINGENCIA"},{"$f":"PUERTOS!E151","v":"Presentar en los Informes de Cumplimiento Ambiental – ICA, los soportes de las capacitaciones dirigidas al personal del proyecto y las divulgaciones, socializaciones, simulaciones y simulacros sobre el plan de contingencia involucrando las entidades de los Consejos Municipales de Gestión de Riesgo de Desastres (CMGRD) y los Consejos Departamentales de Gestión de Riesgo de Desastres (CDGRD) y las comunidades del área de influencia, según corresponda. En caso de no presentarse algunos de los convocados, remitir las razones y soportarlo con las evidencias correspondientes a través de oficios, informes, actas, registros fotográficos, entre otros."},{"$f":"PUERTOS!F151","v":"N/A"},{"$f":"PUERTOS!G151","v":"Aplica"},{"$f":"PUERTOS!H151","v":"Aplica"},{"$f":"PUERTOS!I151","v":"N/A"},{"$f":"PUERTOS!J151","v":"Permanente"}]
[{"$f":"PUERTOS!D152","v":0},{"$f":"PUERTOS!B152","v":"GESTIÓN SOCIAL"},{"$f":"PUERTOS!E152","v":"El titular de la Licencia Ambiental comunicará como mínimo una vez al año a través de canales idóneos a las autoridades municipales, comunidades y demás grupos de interés presentes en el área de Influencia a partir de la notificación del presente acto administrativo: i) los datos del proyecto, obra  o actividad, acto administrativo que otorga licencia para el desarrollo del proyecto, especificando las actividades que autoriza, datos de contacto; ii) las entidades ​que ejercen funciones de control y seguimiento sobre el proyecto, obra o actividad y sus competencias, tanto en temas ambientales como como administrativos. Se deberán presentar las evidencias del cumplimiento de esta obligación de manera anual en los Informes de Cumplimiento Ambiental - ICA."},{"$f":"PUERTOS!F152","v":"N/A"},{"$f":"PUERTOS!G152","v":"Aplica"},{"$f":"PUERTOS!H152","v":"Aplica"},{"$f":"PUERTOS!I152","v":"Aplica"},{"$f":"PUERTOS!J152","v":"Permanente"}]
[{"$f":"PUERTOS!D153","v":0},{"$f":"PUERTOS!B153","v":"GESTIÓN SOCIAL"},{"$f":"PUERTOS!E153","v":"Previo al inicio de cada fase del proyecto, informar a todos sus contratistas y a todo el personal del proyecto sobre las obligaciones, prohibiciones y medidas de control de la presente resolución, el Estudio de Impacto Ambiental, el Plan de Manejo Ambiental y la normativa vigente, y exigir el estricto cumplimiento de las mismas. Presentar en los Informes de Cumplimiento Ambiental - ICA, los soportes que evidencien las actividades de información adelantadas, en los que deberá quedar explícito el contenido de la información brindada al personal del proyecto, y demás soportes correspondientes. Lo anterior sin perjuicio a lo establecido en la medidas de manejo ambiental del PMA aprobado."},{"$f":"PUERTOS!F153","v":"N/A"},{"$f":"PUERTOS!G153","v":"Aplica"},{"$f":"PUERTOS!H153","v":"Aplica"},{"$f":"PUERTOS!I153","v":"Aplica"},{"$f":"PUERTOS!J153","v":"Permanente"}]
[{"$f":"PUERTOS!D154","v":0},{"$f":"PUERTOS!B154","v":"GESTIÓN SOCIAL"},{"$f":"PUERTOS!E154","v":"Previo al inicio de cada una de las fases del proyecto el titular de la licencia ambiental deberá realizar reuniones con cada una de las comunidades del área de influencia del proyecto, garantizando la participación de las organizaciones de la sociedad civil, con el fin de dar a conocer la presente resolución, las obras que en ella se autorizan, los principales impactos, medidas de manejo y de seguimiento y monitoreo y resolver las dudas que se puedan presentar al respecto; de igual manera, se deberán realizar reuniones en los casos de autoridades locales y dignatarios de las JAC que asuman funciones en razón de períodos de cambio de administración. Las convocatorias a estas reuniones se deberán efectuar con suficiente antelación, garantizando el principio de publicidad a través de los diferentes medios de difusión y comunicación oficiales y comunitarios. Se deberá presentar a esta Autoridad mediante los respectivos Informes de Cumplimiento Ambiental - ICA, las constancias de recibido de las convocatorias y las copias de los soportes de estas reuniones en las que se evidencie el proceso, incluyendo listados de asistencia, temáticas desarrolladas, registro fílmico y/o fotográfico, entre otros."},{"$f":"PUERTOS!F154","v":"N/A"},{"$f":"PUERTOS!G154","v":"Aplica"},{"$f":"PUERTOS!H154","v":"Aplica"},{"$f":"PUERTOS!I154","v":"Aplica"},{"$f":"PUERTOS!J154","v":"Permanente"}]
[{"$f":"PUERTOS!D155","v":0},{"$f":"PUERTOS!B155","v":"GESTIÓN SOCIAL"},{"$f":"PUERTOS!E155","v":"El titular de la presente licencia ambiental deberá informar como mínimo una vez al año a las comunidades, a las organizaciones de la sociedad civil si las hubiere, y autoridades del área de influencia del proyecto, los canales de recepción de PQRSDF (peticiones, quejas, reclamos, sugerencias, denuncias, felicitaciones). De lo anterior, se deberán entregar los respectivos soportes de manera anual en los Informes de Cumplimiento Ambiental - ICA. "},{"$f":"PUERTOS!F155","v":"N/A"},{"$f":"PUERTOS!G155","v":"Aplica"},{"$f":"PUERTOS!H155","v":"Aplica"},{"$f":"PUERTOS!I155","v":"Aplica"},{"$f":"PUERTOS!J155","v":"Permanente"}]
[{"$f":"PUERTOS!D156","v":0},{"$f":"PUERTOS!B156","v":"GESTIÓN SOCIAL"},{"$f":"PUERTOS!E156","v":"El titular de la presente licencia ambiental contará con un formato de recepción de PQRSDF (peticiones, quejas, reclamos, sugerencias, denuncias, felicitaciones) y elaborará un informe donde se reporten las quejas e inquietudes presentadas, especificando: municipio, vereda, nombre o comunidad que la interpone, datos de contacto del peticionario, fecha, descripción del caso, a qué tipo de actividad está asociada respecto a la Licencia Ambiental, tipo de queja, zona(s) donde se concentra el mayor número de casos y georreferenciación del sitio o lugar en donde se reporta la PQRSDF. Presentar en los Informes de Cumplimiento Ambiental - ICA, este informe en formato de Excel, o que sea compatible con Sistemas de Información Geográfica, así como, los soportes que evidencien el registro, atención, seguimiento del caso y publicidad de la información."},{"$f":"PUERTOS!F156","v":"N/A"},{"$f":"PUERTOS!G156","v":"Aplica"},{"$f":"PUERTOS!H156","v":"Aplica"},{"$f":"PUERTOS!I156","v":"Aplica"},{"$f":"PUERTOS!J156","v":"Permanente"}]
[{"$f":"PUERTOS!D157","v":0},{"$f":"PUERTOS!B157","v":"GESTIÓN SOCIAL"},{"$f":"PUERTOS!E157","v":"Presentar en los respectivos Informes de Cumplimiento Ambiental - ICA y según las directrices definidas en la Directiva Presidencial 08 del 2020, los soportes que den cuenta del cumplimiento de las medidas de manejo acordadas entre el titular de la licencia ambiental y la comunidad étnica, o aquellas establecidas por la Dirección de la Autoridad Nacional de Consulta Previa - DANCP del Ministerio del Interior, o quien haga sus veces, en el marco de la aplicación del test de proporcionalidad."},{"$f":"PUERTOS!F157","v":"N/A"},{"$f":"PUERTOS!G157","v":"Aplica"},{"$f":"PUERTOS!H157","v":"Aplica"},{"$f":"PUERTOS!I157","v":"Aplica"},{"$f":"PUERTOS!J157","v":"Permanente"}]
[{"$f":"PUERTOS!D158","v":0},{"$f":"PUERTOS!B158","v":"VALORACIÓN ECONÓMICA"},{"$f":"PUERTOS!E158","v":"Presentar en cada ICA el seguimiento al análisis de internalización de los impactos ambientales reportando el estado de avance en los indicadores (eficiencia y eficacia) y la medida de manejo propuesta para dicho análisis."},{"$f":"PUERTOS!F158","v":"N/A"},{"$f":"PUERTOS!G158","v":"Aplica"},{"$f":"PUERTOS!H158","v":"N/A"},{"$f":"PUERTOS!I158","v":"N/A"},{"$f":"PUERTOS!J158","v":"Permanente"}]
[{"$f":"PUERTOS!D159","v":0},{"$f":"PUERTOS!B159","v":"VALORACIÓN ECONÓMICA"},{"$f":"PUERTOS!E159","v":"Presentar en los Informes de Cumplimiento Ambiental - ICA respectivos los ajustes del análisis costo / beneficio a partir de los requerimientos pendientes en el acto administrativo o en el caso de que se presenten modificaciones asociadas al proyecto, teniendo en cuenta los lineamientos del documento Criterios técnicos para el uso de herramientas económicas en los proyectos, obras o actividades objeto de licenciamiento ambiental."},{"$f":"PUERTOS!F159","v":"N/A"},{"$f":"PUERTOS!G159","v":"Aplica"},{"$f":"PUERTOS!H159","v":"N/A"},{"$f":"PUERTOS!I159","v":"N/A"},{"$f":"PUERTOS!J159","v":"Permanente"}]
[{"$f":"PUERTOS!D160","v":0},{"$f":"PUERTOS!B160","v":"OBLIGACIONES GENERALES "},{"$f":"PUERTOS!E160","v":"Reportar la información del resultado de los monitoreos del uso y aprovechamiento de los recursos naturales, de conformidad con las condiciones que se describen a continuación:\n\n1. La información geográfica y alfanumérica, cuya frecuencia de presentación y/o entrega se haya definido en el respectivo acto administrativo con una temporalidad superior a la diaria (semanal, quincenal, mensual, bimensual, semestral, etc.), deberá ser radicada a través del Portal de recepción de información - AGIL, el cual permitirá el almacenamiento directo en la Base de Datos Corporativa de acuerdo con el modelo de almacenamiento de datos geográficos establecido en la Resolución 2182 del 2016 de Minambiente o aquella que la modifique, derogue o sustituya.\n2. La información del resultado de los monitoreos, sobre el uso y aprovechamiento de recursos naturales, cuya frecuencia de presentación y/o entrega se haya definido en el respectivo acto administrativo con una temporalidad igual o menor a la diaria (diaria, horaria o minutal), deberá radicarse diariamente de forma consolidada a través de las plantillas de textos plano tipo .txt o .csv (disponibles en la página web de la entidad) por medio del correo electrónico licencias@anla.gov.co con copia a centromonitoreo@anla.gov.co, indicando el asunto del correo, conforme con la siguiente tabla:\n\n(Ver tabla en pestaña 3. Asuntos de radicación, la cual se debe copiar en este espacio)\n\n3. La información que requiera la transmisión continua de datos, cuya frecuencia esté definida en el respectivo acto administrativo en tiempo real o cuasi real, se reportará a través de VPN Site to Site, API REST, o según sea definido conforme con los lineamientos de la Oficina de Tecnologías de la Información - OTI de la Entidad y las posibilidades tecnológicas del titular de la Licencia Ambiental. \n\nParágrafo: La demás información generada por los proyectos deberá entregarse a través del instrumento de seguimiento ambiental habitual (Informe de Cumplimiento Ambiental - ICA) y el mecanismo de recepción disponible (Ventanilla Integral de Trámites Ambientales en Línea - VITAL). "},{"$f":"PUERTOS!F160","v":"N/A"},{"$f":"PUERTOS!G160","v":"Aplica"},{"$f":"PUERTOS!H160","v":"Aplica"},{"$f":"PUERTOS!I160","v":"Aplica"},{"$f":"PUERTOS!J160","v":"Permanente"}]
[{"$f":"PUERTOS!D161","v":0},{"$f":"PUERTOS!B161","v":"OBLIGACIONES GENERALES "},{"$f":"PUERTOS!E161","v":"Utilizar la codificación de la ANLA (campo \"ID ANLA\") asignada a los permisos de uso y aprovechamiento de recursos naturales y a las obligaciones impuestas en el presente acto administrativo para la presentación de la información asociada al seguimiento del proyecto."},{"$f":"PUERTOS!F161","v":"N/A"},{"$f":"PUERTOS!G161","v":"Aplica"},{"$f":"PUERTOS!H161","v":"Aplica"},{"$f":"PUERTOS!I161","v":"Aplica"},{"$f":"PUERTOS!J161","v":"Permanente"}]
[{"$f":"PUERTOS!D162","v":0},{"$f":"PUERTOS!B162","v":"OBLIGACIONES GENERALES "},{"$f":"PUERTOS!E162","v":"Presentar en el primer Informe de Cumplimiento Ambiental - ICA copia del documento donde conste la conformación del Departamento de Gestión Ambiental, que incluya funciones y responsabilidades asignadas, en cumplimiento al artículo 2.2.8.11.1.7. del Decreto 1076 de 2015, o aquella que la modifique, derogue o sustituya."},{"$f":"PUERTOS!F162","v":"N/A"},{"$f":"PUERTOS!G162","v":"Aplica"},{"$f":"PUERTOS!H162","v":"N/A"},{"$f":"PUERTOS!I162","v":"N/A"},{"$f":"PUERTOS!J162","v":"Temporal"}]
[{"$f":"PUERTOS!D163","v":0},{"$f":"PUERTOS!B163","v":"OBLIGACIONES GENERALES "},{"$f":"PUERTOS!E163","v":"El titular de la presente Licencia Ambiental solicitará a la ANLA la modificación de la licencia ambiental, previa a la ejecución de actividades que configuren alguna de las causales señaladas en el Artículo 2.2.2.3.7.1 del Decreto 1076 de 2015. "},{"$f":"PUERTOS!F163","v":"N/A"},{"$f":"PUERTOS!G163","v":"Aplica"},{"$f":"PUERTOS!H163","v":"Aplica"},{"$f":"PUERTOS!I163","v":"Aplica"},{"$f":"PUERTOS!J163","v":"Permanente"}]
[{"$f":"PUERTOS!D164","v":0},{"$f":"PUERTOS!B164","v":"OBLIGACIONES GENERALES "},{"$f":"PUERTOS!E164","v":"Informar a la ANLA, de manera previa a realizar las actividades consideradas como cambios menores o de ajuste normal dentro del giro ordinario, de conformidad con lo dispuesto en el Capítulo 6, Título 2 , Parte 2, Libro 2 del Decreto 1076 de 2015, o aquella norma que lo modifique o sustituya, actividades que serán objeto de seguimiento. En caso de que las actividades a ejecutar  no se incluyan en el mencionado Decreto, el titular de la licencia solicitará por escrito pronunciamiento de esta autoridad, sobre su viabilidad bajo la modalidad de cambio menor, concepto que se remitirá con destino al expediente."},{"$f":"PUERTOS!F164","v":"N/A"},{"$f":"PUERTOS!G164","v":"Aplica"},{"$f":"PUERTOS!H164","v":"Aplica"},{"$f":"PUERTOS!I164","v":"Aplica"},{"$f":"PUERTOS!J164","v":"Permanente"}]
[{"$f":"PUERTOS!D165","v":0},{"$f":"PUERTOS!B165","v":"OBLIGACIONES GENERALES "},{"$f":"PUERTOS!E165","v":"Una vez finalizados los trabajos propios de cada obra o actividad parcial, el titular de la presente licencia ambiental retirará y/o dispondrá todas las evidencias de los elementos y materiales sobrantes, en todas las áreas intervenidas por el proyecto, de manera que no se generen impactos ambientales adicionales, se altere el paisaje ni se contribuya al deterioro ambiental."},{"$f":"PUERTOS!F165","v":"N/A"},{"$f":"PUERTOS!G165","v":"Aplica"},{"$f":"PUERTOS!H165","v":"Aplica"},{"$f":"PUERTOS!I165","v":"Aplica"},{"$f":"PUERTOS!J165","v":"Permanente"}]
[{"$f":"PUERTOS!D166","v":0},{"$f":"PUERTOS!B166","v":"OBLIGACIONES GENERALES "},{"$f":"PUERTOS!E166","v":"Cumplir lo establecido en la Resolución 1083 de 1996, del hoy Ministerio de Ambiente y Desarrollo Sostenible, para las actividades listadas en su artículo 1°. Con tal fin, el titular de la licencia presentará en los Informes de Cumplimiento Ambiental -ICA- la siguiente información: \n\na) Localización de la actividad, obra o proyecto en la que se hizo uso de las fibras naturales. \nb) La fibra natural utilizada, el tipo de actividad en la que fue usada y la cantidad medida en Kg. \nc) Indicar el estado de integridad física y de funcionamiento de las obras con este tipo de fibras. \n\nParágrafo: El titular de la licencia ambiental justificará fundadamente, en el Informe de Cumplimiento Ambiental -ICA- correspondiente, las razones técnicas del por qué consideró inviable el uso de fibras naturales en esas actividades. (Uso de fibras naturales). "},{"$f":"PUERTOS!F166","v":"N/A"},{"$f":"PUERTOS!G166","v":"Aplica"},{"$f":"PUERTOS!H166","v":"Aplica"},{"$f":"PUERTOS!I166","v":"Aplica"},{"$f":"PUERTOS!J166","v":"Permanente"}]
[{"$f":"PUERTOS!D167","v":0},{"$f":"PUERTOS!B167","v":"OBLIGACIONES GENERALES"},{"$f":"PUERTOS!E167","v":"Realizar las intervenciones del dragado estrictamente en las áreas autorizadas."},{"$f":"PUERTOS!F167","v":"N/A"},{"$f":"PUERTOS!G167","v":"Aplica "},{"$f":"PUERTOS!H167","v":"Aplica "},{"$f":"PUERTOS!I167","v":"Aplica "},{"$f":"PUERTOS!J167","v":"Permanente"}]
[{"$f":"PUERTOS!D168","v":0},{"$f":"PUERTOS!B168","v":"OBLIGACIONES GENERALES "},{"$f":"PUERTOS!E168","v":"Dentro de los diez (10) días calendario previos al inicio de cada una de las fases del proyecto, el titular de la presente licencia ambiental informará a la ANLA, mediante oficio dirigido a la Subdirección de Seguimiento de Licencias Ambientales, y a las demás Autoridades Ambientales regionales y locales en la jurisdicción del proyecto, la fecha de inicio de actividades. En caso de que no se pueda dar inicio al proyecto en la fecha previamente informada, se notificará inmediatamente a esta Autoridad la justificación, así como la nueva fecha de inicio. Enviar a la ANLA copia de los oficios radicados ante las demás autoridades ambientales competentes."},{"$f":"PUERTOS!F168","v":"N/A"},{"$f":"PUERTOS!G168","v":"Aplica"},{"$f":"PUERTOS!H168","v":"Aplica "},{"$f":"PUERTOS!I168","v":"Aplica "},{"$f":"PUERTOS!J168","v":"Permanente"}]
[{"$f":"PUERTOS!D169","v":0},{"$f":"PUERTOS!B169","v":"OBLIGACIONES GENERALES "},{"$f":"PUERTOS!E169","v":"El titular de la presente licencia ambiental presentará los Informes de Cumplimiento Ambiental -ICA de manera [Espacio para definir periodicidad de ICA de cada fase del proyecto (trimestral, semestral o anual)] de acuerdo con lo establecido en el Manual de Seguimiento Ambiental de Proyectos y lo dispuesto en la Resolución 077 de 2019, modificada por la Resolución 0549 de 2020, o aquellas que las que las modifiquen, deroguen o sustituyan."},{"$f":"PUERTOS!F169","v":"N/A"},{"$f":"PUERTOS!G169","v":"Aplica"},{"$f":"PUERTOS!H169","v":"N/A"},{"$f":"PUERTOS!I169","v":"N/A"},{"$f":"PUERTOS!J169","v":"Permanente"}]
[{"$f":"PUERTOS!D170","v":0},{"$f":"PUERTOS!B170","v":"OBLIGACIONES GENERALES "},{"$f":"PUERTOS!E170","v":"Si durante la vigencia de esta licencia ambiental, el titular constata la presencia de comunidades étnicas y/o la existencia de territorios étnicos o si se presentan procesos de reclamación por parte de comunidades étnicas en el área de influencia del proyecto, el titular de la licencia ambiental deberá dar aviso por escrito a la Dirección de la Autoridad Nacional de Consulta Previa del Ministerio del Interior, o quien haga sus veces, (con copia a la ANLA), para que en el marco de sus competencias, determine la procedencia del proceso de consulta previa de que trata el artículo 330 de la Constitución Política, de conformidad con el numeral 1 del artículo 16A del Decreto 2353 de 2019. "},{"$f":"PUERTOS!F170","v":"N/A"},{"$f":"PUERTOS!G170","v":"Aplica"},{"$f":"PUERTOS!H170","v":"Aplica"},{"$f":"PUERTOS!I170","v":"Aplica"},{"$f":"PUERTOS!J170","v":"Permanente"}]
[{"$f":"PUERTOS!D171","v":0},{"$f":"PUERTOS!B171","v":"OBLIGACIONES GENERALES "},{"$f":"PUERTOS!E171","v":"Realizar los monitoreos a través de laboratorios acreditados por el IDEAM, tanto para la toma de la muestra, como para el análisis de los parámetros monitoreados. Dichos laboratorios, deberán contar con las técnicas de medición que cuenten con los límites de detección de los diferentes parámetros que permitan verificar el cumplimiento normativo de los mismos. En caso de que no existan laboratorios nacionales acreditados para el análisis de algún(os) parámetro(s), los laboratorios acreditados por el IDEAM podrán enviar la muestra a un laboratorio internacional acreditado en su país de origen o por un estándar internacional, mientras se surte el proceso de acreditación en los laboratorios nacionales. Presentar los soportes de la acreditación de todos los laboratorios empleados para la realización de los monitoreos del proyecto en los Informes de Cumplimiento Ambiental - ICA."},{"$f":"PUERTOS!F171","v":"N/A"},{"$f":"PUERTOS!G171","v":"Aplica"},{"$f":"PUERTOS!H171","v":"N/A"},{"$f":"PUERTOS!I171","v":"N/A"},{"$f":"PUERTOS!J171","v":"Permanente"}]
[{"$f":"PUERTOS!D172","v":0},{"$f":"PUERTOS!B172","v":"REQUISITOS DEL ACTO ADMINISTRATIVO"},{"$f":"PUERTOS!E172","v":"Previo al inicio de las obras se deberá remitir a esta Autoridad copia de la constancia de aprobación del Plan de Manejo Arqueológico. \n\nParágrafo: La intervención de áreas arqueológicas protegidas de sitios arqueológicos u otras categorías establecidas en la normativa que protege el patrimonio cultural de la Nación son de competencia exclusiva del Instituto Colombiano de Antropología e Historia -ICANH-. En consecuencia, la Licencia Ambiental no autoriza la intervención de dichas áreas."},{"$f":"PUERTOS!F172","v":" -"},{"$f":"PUERTOS!G172","v":" -"},{"$f":"PUERTOS!H172","v":" -"},{"$f":"PUERTOS!I172","v":" -"},{"$f":"PUERTOS!J172","v":" -"}]
[{"$f":"PUERTOS!D173","v":0},{"$f":"PUERTOS!B173","v":"REQUISITOS DEL ACTO ADMINISTRATIVO"},{"$f":"PUERTOS!E173","v":"Si durante el desarrollo del proyecto, se evidencian sitios o vestigios de interés arqueológico dentro del área de influencia, se deberá dar aviso por escrito al Instituto Colombiano de Antropología e Historia -ICANH- (con copia a la ANLA), de conformidad con el numeral 1.4 del artículo 7 de la Ley 1185 de 2008, el Decreto 138 de 2019 y el numeral 1.6. del artículo 11 de la Ley 397 de 1997, modificado por el artículo 131 del Decreto 2106 de 2019, para lo de su competencia."},{"$f":"PUERTOS!F173","v":" -"},{"$f":"PUERTOS!G173","v":" -"},{"$f":"PUERTOS!H173","v":" -"},{"$f":"PUERTOS!I173","v":" -"},{"$f":"PUERTOS!J173","v":" -"}]
[{"$f":"PUERTOS!D174","v":0},{"$f":"PUERTOS!B174","v":"REQUISITOS DEL ACTO ADMINISTRATIVO"},{"$f":"PUERTOS!E174","v":"Parágrafo: La Licencia Ambiental que se otorga, no confiere derechos reales sobre los bienes inmuebles que puedan intervenirse o afectarse en la ejecución del proyecto, obra o actividad. Lo anterior, sin perjuicio a lo dispuesto por la Ley 1448 de 2011 o aquella norma que la modifique, deroguen o sustituya, en lo relacionado con restitución de tierras."},{"$f":"PUERTOS!F174","v":" -"},{"$f":"PUERTOS!G174","v":" -"},{"$f":"PUERTOS!H174","v":" -"},{"$f":"PUERTOS!I174","v":" -"},{"$f":"PUERTOS!J174","v":" -"}]
[{"$f":"PUERTOS!D175","v":0},{"$f":"PUERTOS!B175","v":"REQUISITOS DEL ACTO ADMINISTRATIVO"},{"$f":"PUERTOS!E175","v":"La ANLA hará control y seguimiento ambiental a la ejecución de proyectos, obras y actividades en los términos del artículo 2.2.2.3.9.1 del Decreto 1076 del 2015, y verificará el cumplimiento de la presente Resolución. "},{"$f":"PUERTOS!F175","v":" -"},{"$f":"PUERTOS!G175","v":" -"},{"$f":"PUERTOS!H175","v":" -"},{"$f":"PUERTOS!I175","v":" -"},{"$f":"PUERTOS!J175","v":" -"}]
[{"$f":"PUERTOS!D176","v":0},{"$f":"PUERTOS!B176","v":"REQUISITOS DEL ACTO ADMINISTRATIVO"},{"$f":"PUERTOS!E176","v":"Por la Autoridad Nacional de Licencias Ambientales - ANLA, notificar el presente acto administrativo al representante legal o apoderado, o a la persona autorizada por la sociedad XXXXX, de conformidad con los artículos 67 y siguientes del Código de Procedimiento Administrativo y de lo Contencioso Administrativo. \n\nParágrafo: El expediente queda a disposición para su consulta en medio físico o digital. "},{"$f":"PUERTOS!F176","v":" -"},{"$f":"PUERTOS!G176","v":" -"},{"$f":"PUERTOS!H176","v":" -"},{"$f":"PUERTOS!I176","v":" -"},{"$f":"PUERTOS!J176","v":" -"}]
[{"$f":"PUERTOS!D177","v":0},{"$f":"PUERTOS!B177","v":"REQUISITOS DEL ACTO ADMINISTRATIVO"},{"$f":"PUERTOS!E177","v":"Por la Autoridad Nacional de Licencias Ambientales - ANLA, notificar el presente acto administrativo a el/la señor(a) XXXXX en su condición de tercer(os) interviniente(s) reconocido(s) dentro de la presente actuación de ser el caso a través del representante legal o apoderado, o a la persona debidamente autorizada, de conformidad con el artículo 71 de la Ley 99 de 1993 y los artículos 67 y siguientes del Código de Procedimiento Administrativo y de lo Contencioso Administrativo. \n\nParágrafo: El expediente queda a disposición para su consulta en medio físico o digital. "},{"$f":"PUERTOS!F177","v":" -"},{"$f":"PUERTOS!G177","v":" -"},{"$f":"PUERTOS!H177","v":" -"},{"$f":"PUERTOS!I177","v":" -"},{"$f":"PUERTOS!J177","v":" -"}]
[{"$f":"PUERTOS!D178","v":0},{"$f":"PUERTOS!B178","v":"REQUISITOS DEL ACTO ADMINISTRATIVO"},{"$f":"PUERTOS!E178","v":"Por la Autoridad Nacional de Licencias Ambientales - ANLA, comunicar el presente acto administrativo a el/la señor(a) XXXXX en su condición de tercer(os) interviniente(s) reconocido(s) dentro de la presente actuación de ser el caso a través del representante legal o apoderado, o a la persona debidamente autorizada, de conformidad con el artículo 71 de la Ley 99 de 1993."},{"$f":"PUERTOS!F178","v":" -"},{"$f":"PUERTOS!G178","v":" -"},{"$f":"PUERTOS!H178","v":" -"},{"$f":"PUERTOS!I178","v":" -"},{"$f":"PUERTOS!J178","v":" -"}]
[{"$f":"PUERTOS!D179","v":0},{"$f":"PUERTOS!B179","v":"REQUISITOS DEL ACTO ADMINISTRATIVO"},{"$f":"PUERTOS!E179","v":"Por la Autoridad Nacional de Licencias Ambientales - ANLA, comunicar el contenido del presente acto administrativo a [Espacio para listar entidades que deban recibir copia de la presente resolución tales como: alcaldías municipales, autoridades ambientales de orden regional y/o local, gobernaciones, procuradurías delegadas para asuntos ambientales, personerías municipales, entre otros]. "},{"$f":"PUERTOS!F179","v":" -"},{"$f":"PUERTOS!G179","v":" -"},{"$f":"PUERTOS!H179","v":" -"},{"$f":"PUERTOS!I179","v":" -"},{"$f":"PUERTOS!J179","v":" -"}]
[{"$f":"PUERTOS!D180","v":0},{"$f":"PUERTOS!B180","v":"REQUISITOS DEL ACTO ADMINISTRATIVO"},{"$f":"PUERTOS!E180","v":"Por la Autoridad Nacional de Licencias Ambientales - ANLA publicar  la presente Resolución en la Gaceta Ambiental de esta Entidad, de conformidad con el artículo 71 de la Ley 99 de 1993. "},{"$f":"PUERTOS!F180","v":" -"},{"$f":"PUERTOS!G180","v":" -"},{"$f":"PUERTOS!H180","v":" -"},{"$f":"PUERTOS!I180","v":" -"},{"$f":"PUERTOS!J180","v":" -"}]
[{"$f":"PUERTOS!D181","v":0},{"$f":"PUERTOS!B181","v":"REQUISITOS DEL ACTO ADMINISTRATIVO"},{"$f":"PUERTOS!E181","v":"Contra el presente acto administrativo procede el recurso de reposición en los términos establecidos en los artículos 74 y siguientes del Código de Procedimiento Administrativo y de lo Contencioso Administrativo, o la norma que lo modifique, derogue o sustituya."},{"$f":"PUERTOS!F181","v":" -"},{"$f":"PUERTOS!G181","v":" -"},{"$f":"PUERTOS!H181","v":" -"},{"$f":"PUERTOS!I181","v":" -"},{"$f":"PUERTOS!J181","v":" -"}]
[{"$f":"PUERTOS!D182","v":0},{"$f":"PUERTOS!B182","v":"REQUISITOS DEL ACTO ADMINISTRATIVO"},{"$f":"PUERTOS!E182","v":"La presente Licencia Ambiental, se otorga por el tiempo de duración del proyecto que se autoriza en la presente resolución."},{"$f":"PUERTOS!F182","v":" -"},{"$f":"PUERTOS!G182","v":" -"},{"$f":"PUERTOS!H182","v":" -"},{"$f":"PUERTOS!I182","v":" -"},{"$f":"PUERTOS!J182","v":" -"}]
[{"$f":"PUERTOS!D183","v":0},{"$f":"PUERTOS!B183","v":"REQUISITOS DEL ACTO ADMINISTRATIVO"},{"$f":"PUERTOS!E183","v":"En el caso que, el titular de la licencia ambiental en el término de cinco (5) años contados a partir de la firmeza del presente acto administrativo, no haya dado inicio a la ejecución del proyecto, se procederá a dar aplicación a lo establecido en el artículo 2.2.2.3.8.7. Decreto 1076 de 2015, en relación con la declaratoria de pérdida de vigencia de la licencia ambiental. "},{"$f":"PUERTOS!F183","v":" -"},{"$f":"PUERTOS!G183","v":" -"},{"$f":"PUERTOS!H183","v":" -"},{"$f":"PUERTOS!I183","v":" -"},{"$f":"PUERTOS!J183","v":" -"}]
[{"$f":"PUERTOS!D184","v":0},{"$f":"PUERTOS!B184","v":"REQUISITOS DEL ACTO ADMINISTRATIVO"},{"$f":"PUERTOS!E184","v":"El incumplimiento de las obligaciones contenidas en el presente acto administrativo y en las normas ambientales vigentes dará lugar a la imposición y ejecución de las medidas preventivas y sanciones que sean aplicables según el caso, de conformidad con lo establecido en la Ley 1333 del 21 de julio de 2009, o la que modifique, derogue o sustituya."},{"$f":"PUERTOS!F184","v":" -"},{"$f":"PUERTOS!G184","v":" -"},{"$f":"PUERTOS!H184","v":" -"},{"$f":"PUERTOS!I184","v":" -"},{"$f":"PUERTOS!J184","v":" -"}]
[{"$f":"PUERTOS!D185","v":0},{"$f":"PUERTOS!B185","v":"REQUISITOS DEL ACTO ADMINISTRATIVO"},{"$f":"PUERTOS!E185","v":"En el seguimiento, la Autoridad Nacional de Licencias Ambientales -ANLA- podrá  conceder, por solicitud justificada del titular, nuevos plazos para el cumplimiento de obligaciones, sin que esto implique modificación de la Licencia Ambiental. La modificación del plazo siempre deberá estar técnica y jurídicamente sustentada, previa coordinación ante el Grupo de Actuaciones Sancionatorias ambientales de la Oficina Asesora Jurídica o la dependencia que haga sus veces."},{"$f":"PUERTOS!F185","v":" -"},{"$f":"PUERTOS!G185","v":" -"},{"$f":"PUERTOS!H185","v":" -"},{"$f":"PUERTOS!I185","v":" -"},{"$f":"PUERTOS!J185","v":" -"}]
[{"$f":"PUERTOS!D186","v":0},{"$f":"PUERTOS!B186","v":"REQUISITOS DEL ACTO ADMINISTRATIVO"},{"$f":"PUERTOS!E186","v":"En el evento en que el titular de la licencia ambiental entre en proceso de disolución o régimen de insolvencia o liquidación regulados por las normas vigentes, informará inmediatamente de esta situación a esta Autoridad, con fundamento, entre otros, en los artículos 8, 58, 79, 80, 81, 95 numeral 8 de la Constitución Política de 1991, en las Leyes 43 de 1990, 222 de 1995, 1333 de 2009, demás normas vigentes, y en la jurisprudencia aplicable. La sociedad deberá aprovisionar contablemente las obligaciones contingentes que se deriven de la existencia de un procedimiento ambiental sancionatorio conforme con el artículo 40 de la Ley 1333 de 2009 o la norma que la modifique, derogue o sustituya. "},{"$f":"PUERTOS!F186","v":" -"},{"$f":"PUERTOS!G186","v":" -"},{"$f":"PUERTOS!H186","v":" -"},{"$f":"PUERTOS!I186","v":" -"},{"$f":"PUERTOS!J186","v":" -"}]

{"sheet":"Asuntos radicación","index":3,"n_rows":64,"n_cols":5,"rows_kept":64,"cut":false,"hidden":false,"merged":[[1,1,1,4],[26,1,28,1],[29,1,30,1],[32,1,33,1],[35,1,39,1],[8,4,10,4],[40,1,48,1],[55,1,56,1],[5,1,6,1],[8,1,10,1],[8,3,10,3],[21,1,22,1],[23,1,24,1]]}
[]
[null,"Asuntos de radicación relacionados con la Obligación General \"Estrategia de recepción de información de los resultados de los monitoreos del uso y aprovechamiento de los recursos naturales\":"]
[]
[null,"ASPECTO","TIPO","ABREVIATURA","ASUNTO"]
[null,"OCUPACION DE CAUCE","NA","OCA",{"$f":"D5&\"-LAM/LAVXXXX-XX-XXXX\"","v":"OCA-LAM/LAVXXXX-XX-XXXX"}]
[null,"CAPTACIÓN","SUPERFICIAL","CSP",{"$f":"D6&\"-LAM/LAVXXXX-XX-XXXX\"","v":"CSP-LAM/LAVXXXX-XX-XXXX"}]
[null,null,"SUBTERRANEA","CSB","CSB-LAM/LAVXXXX-XX-XXXX"]
[null,"PERMISO EXPLORACIÓN DE AGUA SUBTERRÁNEO","NA","ESB","ESB-LAM/LAVXXXX-XX-XXXX"]
[null,"VERTIMIENTO","CUERPO AGUA","VER","VER-LAM/LAVXXXX-XX-XXXX"]
[null,null,"SUELO",null,"-LAM/LAVXXXX-XX-XXXX"]
[null,null,"INYECCIÓN",null,"-LAM/LAVXXXX-XX-XXXX"]
[null,"GESTION DE RESIDUOS LIQUIDOS (RIEGO, VIA, ENTREGA A TERCERO)","NA","GRL","GRL-LAM/LAVXXXX-XX-XXXX"]
[null,"GESTIÓN DE RESIDUOS SOLIDOS","NA","GIR","GIR-LAM/LAVXXXX-XX-XXXX"]
[null,"MATERIALES DE CONSTRUCCIÓN","NA","AMC","AMC-LAM/LAVXXXX-XX-XXXX"]
[null,"INFRAESTRUCTURA LINEAL","NA","INL","INL-LAM/LAVXXXX-XX-XXXX"]
[null,"INFRAESTRUCTURA PUNTUAL","NA","INP","INP-LAM/LAVXXXX-XX-XXXX"]
[null,"INFRAESTRUCTURA TIPO POLIGONO","NA","INA","INA-LAM/LAVXXXX-XX-XXXX"]
[null,"ZONA DE PRESTAMO LATERAL","NA","ZPL","ZPL-LAM/LAVXXXX-XX-XXXX"]
[null,"ZODME","NA","ZOD","ZOD-LAM/LAVXXXX-XX-XXXX"]
[null,"AREA DE APROVECHAMIENTO FORESTAL","NA","AAF","AAF-LAM/LAVXXXX-XX-XXXX"]
[null,"APROVECHAMIENTO POR INDIVIDUOS","NA","IND","IND-LAM/LAVXXXX-XX-XXXX"]
[null,"FUENTE DE EMISIÓN AIRE","FIJA","FAF","FAF-LAM/LAVXXXX-XX-XXXX"]
[null,null,"DISPERSA","FAD","FAD-LAM/LAVXXXX-XX-XXXX"]
[null,"FUENTE DE EMISIÓN DE OLORES","FIJA","FOF","FOF-LAM/LAVXXXX-XX-XXXX"]
[null,null,"DISPERSA","FOD","FOD-LAM/LAVXXXX-XX-XXXX"]
[null,"FUENTE DE EMISIÓN DE RUIDO","NA","FER","FER-LAM/LAVXXXX-XX-XXXX"]
[null,"MONITOREO DE AGUA","SUPERFICIAL","MSP","MSP-LAM/LAVXXXX-XX-XXXX"]
[null,null,"SUBTERRANEA","MSB","MSB-LAM/LAVXXXX-XX-XXXX"]
[null,null,"MARINO","MAM","MAM-LAM/LAVXXXX-XX-XXXX"]
[null,"MONITOREO DE CALIDAD DE AIRE","CALIDAD DE AIRE","MCA","MCA-LAM/LAVXXXX-XX-XXXX"]
[null,null,"EMISIONES ATMOSFERICAS","MEA","MEA-LAM/LAVXXXX-XX-XXXX"]
[null,"MONITOREO DE OLORES","NA","MEO","MEO-LAM/LAVXXXX-XX-XXXX"]
[null,"MONITOREO DE RUIDO","RUIDO AMBIENTAL","MRA","MRA-LAM/LAVXXXX-XX-XXXX"]
[null,null,"EMISION DE RUIDO","MER","MER-LAM/LAVXXXX-XX-XXXX"]
[null,"MONITOREO DE SUELO","NA","MSU","MSU-LAM/LAVXXXX-XX-XXXX"]
[null,"MONITOREO FAUNA","MUESTREO","MUT","MUT-LAM/LAVXXXX-XX-XXXX"]
[null,null,"ATROPELLADA","ATR","ATR-LAM/LAVXXXX-XX-XXXX"]
[null,null,"AHUYENTADA","AHU","AHU-LAM/LAVXXXX-XX-XXXX"]
[null,null,"PASO DE FAUNA","MPF","MPF-LAM/LAVXXXX-XX-XXXX"]
[null,null,"RESCATADA","REC","REC-LAM/LAVXXXX-XX-XXXX"]
[null,"MUESTREO FLORA","MUESTREO","MVG","MVG-LAM/LAVXXXX-XX-XXXX"]
[null,null,"INVENTARIO FORESTAL","INV","INV-LAM/LAVXXXX-XX-XXXX"]
[null,null,"REGENERACIÓN","REG","REG-LAM/LAVXXXX-XX-XXXX"]
[null,null,"FORÓFITO","FOR","FOR-LAM/LAVXXXX-XX-XXXX"]
[null,null,"REUBICADO","REU","REU-LAM/LAVXXXX-XX-XXXX"]
[null,null,"VASCULARES","MVS","MVS-LAM/LAVXXXX-XX-XXXX"]
[null,null,"NO VASCULARES","NVS","NVS-LAM/LAVXXXX-XX-XXXX"]
[null,null,"PARCELA PERMANENTE","PPF","PPF-LAM/LAVXXXX-XX-XXXX"]
[null,null,"LÍQUENES","LIQ","LIQ-LAM/LAVXXXX-XX-XXXX"]
[null,"VEDA","NA","VDA","VDA-LAM/LAVXXXX-XX-XXXX"]
[null,"MONITOREO PARAMETRO RESISTENCIA","NA","MPR","MPR-LAM/LAVXXXX-XX-XXXX"]
[null,"MONITOREO VIBRACIONES","NA","MVB","MVB-LAM/LAVXXXX-XX-XXXX"]
[null,"ESTACION METEOROLOGICA","NA","MET","MET-LAM/LAVXXXX-XX-XXXX"]
[null,"MUESTREO OCEANOGRAFICO","NA","MCN","MCN-LAM/LAVXXXX-XX-XXXX"]
[null,"MUESTREO FLORA MARINA","NA","FLM","FLM-LAM/LAVXXXX-XX-XXXX"]
[null,"MONITOREO DE FAUNA MARINA","MUESTREO DE FAUNA MARINA","FAM","FAM-LAM/LAVXXXX-XX-XXXX"]
[null,null,"PUNTO DE OBSERVACIÓN DE FAUNA MARINA","PFM","PFM-LAM/LAVXXXX-XX-XXXX"]
[null,"DRAGADO","NA","DRA","DRA-LAM/LAVXXXX-XX-XXXX"]
[null,"DISPOSICIÓN DRAGADO","NA","DMD","DMD-LAM/LAVXXXX-XX-XXXX"]
[null,"CARACTERIZACIÓN DE DRAGADO","NA","CRD","CRD-LAM/LAVXXXX-XX-XXXX"]
[null,"INVERSION 1%","NA","IUP","IUP-LAM/LAVXXXX-XX-XXXX"]
[null,"COMPENSACION BIODIVERSIDAD","NA","CPB","CPB-LAM/LAVXXXX-XX-XXXX"]
[null,"OTRAS COMPENSACIONES","NA","COT","COT-LAM/LAVXXXX-XX-XXXX"]
[null,"MONITOREO CAMPO ELECTROMAGNETICO","NA","MCE","MCE-LAM/LAVXXXX-XX-XXXX"]

{"sheet":"Temp","index":4,"n_rows":170,"n_cols":4,"rows_kept":170,"cut":false,"hidden":true,"merged":[[0,0,0,3]]}
["ANEXO - OBLIGACIONES MÍNIMAS PARA [COLOCAR NOMBRE DEL PROYECTO]"]
["COMPONENTE","Fase de construcción","Fase de operación y mantenimiento","Fase de desmantelamiento y abandono"]
[{"$f":"IF(PUERTOS!#REF!=\"SI\",PUERTOS!#REF!,NA())","v":{"$error":"#REF!"}},{"$f":"IF(PUERTOS!#REF!=\"SI\",PUERTOS!#REF!,NA())","v":{"$error":"#REF!"}},{"$f":"IF(PUERTOS!#REF!=\"SI\",PUERTOS!#REF!,NA())","v":{"$error":"#REF!"}},{"$f":"IF(PUERTOS!#REF!=\"SI\",'OBLIGACIONES APLICABLES'!G3,NA())","v":{"$error":"#REF!"}}]
[{"$f":"IF(PUERTOS!#REF!=\"SI\",PUERTOS!#REF!,NA())","v":{"$error":"#REF!"}},{"$f":"IF(PUERTOS!#REF!=\"SI\",PUERTOS!#REF!,NA())","v":{"$error":"#REF!"}},{"$f":"IF(PUERTOS!#REF!=\"SI\",'OBLIGACIONES APLICABLES'!F4,NA())","v":{"$error":"#REF!"}},{"$f":"IF(PUERTOS!#REF!=\"SI\",'OBLIGACIONES APLICABLES'!G4,NA())","v":{"$error":"#REF!"}}]
[{"$f":"IF(PUERTOS!#REF!=\"SI\",PUERTOS!#REF!,NA())","v":{"$error":"#REF!"}},{"$f":"IF(PUERTOS!#REF!=\"SI\",PUERTOS!#REF!,NA())","v":{"$error":"#REF!"}},{"$f":"IF(PUERTOS!#REF!=\"SI\",'OBLIGACIONES APLICABLES'!F5,NA())","v":{"$error":"#REF!"}},{"$f":"IF(PUERTOS!#REF!=\"SI\",'OBLIGACIONES APLICABLES'!G5,NA())","v":{"$error":"#REF!"}}]
[{"$f":"IF(PUERTOS!#REF!=\"SI\",PUERTOS!#REF!,NA())","v":{"$error":"#REF!"}},{"$f":"IF(PUERTOS!#REF!=\"SI\",PUERTOS!#REF!,NA())","v":{"$error":"#REF!"}},{"$f":"IF(PUERTOS!#REF!=\"SI\",'OBLIGACIONES APLICABLES'!#REF!,NA())","v":{"$error":"#REF!"}},{"$f":"IF(PUERTOS!#REF!=\"SI\",'OBLIGACIONES APLICABLES'!#REF!,NA())","v":{"$error":"#REF!"}}]
[{"$f":"IF(PUERTOS!#REF!=\"SI\",PUERTOS!#REF!,NA())","v":{"$error":"#REF!"}},{"$f":"IF(PUERTOS!#REF!=\"SI\",PUERTOS!#REF!,NA())","v":{"$error":"#REF!"}},{"$f":"IF(PUERTOS!#REF!=\"SI\",'OBLIGACIONES APLICABLES'!#REF!,NA())","v":{"$error":"#REF!"}},{"$f":"IF(PUERTOS!#REF!=\"SI\",'OBLIGACIONES APLICABLES'!#REF!,NA())","v":{"$error":"#REF!"}}]
[{"$f":"IF(PUERTOS!#REF!=\"SI\",PUERTOS!#REF!,NA())","v":{"$error":"#REF!"}},{"$f":"IF(PUERTOS!#REF!=\"SI\",PUERTOS!#REF!,NA())","v":{"$error":"#REF!"}},{"$f":"IF(PUERTOS!#REF!=\"SI\",'OBLIGACIONES APLICABLES'!F6,NA())","v":{"$error":"#REF!"}},{"$f":"IF(PUERTOS!#REF!=\"SI\",'OBLIGACIONES APLICABLES'!G6,NA())","v":{"$error":"#REF!"}}]
[{"$f":"IF(PUERTOS!#REF!=\"SI\",PUERTOS!#REF!,NA())","v":{"$error":"#REF!"}},{"$f":"IF(PUERTOS!#REF!=\"SI\",PUERTOS!#REF!,NA())","v":{"$error":"#REF!"}},{"$f":"IF(PUERTOS!#REF!=\"SI\",'OBLIGACIONES APLICABLES'!F7,NA())","v":{"$error":"#REF!"}},{"$f":"IF(PUERTOS!#REF!=\"SI\",'OBLIGACIONES APLICABLES'!G7,NA())","v":{"$error":"#REF!"}}]
[{"$f":"IF(PUERTOS!#REF!=\"SI\",PUERTOS!#REF!,NA())","v":{"$error":"#REF!"}},{"$f":"IF(PUERTOS!#REF!=\"SI\",PUERTOS!#REF!,NA())","v":{"$error":"#REF!"}},{"$f":"IF(PUERTOS!#REF!=\"SI\",'OBLIGACIONES APLICABLES'!#REF!,NA())","v":{"$error":"#REF!"}},{"$f":"IF(PUERTOS!#REF!=\"SI\",'OBLIGACIONES APLICABLES'!#REF!,NA())","v":{"$error":"#REF!"}}]
[{"$f":"IF(PUERTOS!#REF!=\"SI\",PUERTOS!#REF!,NA())","v":{"$error":"#REF!"}},{"$f":"IF(PUERTOS!#REF!=\"SI\",PUERTOS!#REF!,NA())","v":{"$error":"#REF!"}},{"$f":"IF(PUERTOS!#REF!=\"SI\",'OBLIGACIONES APLICABLES'!#REF!,NA())","v":{"$error":"#REF!"}},{"$f":"IF(PUERTOS!#REF!=\"SI\",'OBLIGACIONES APLICABLES'!#REF!,NA())","v":{"$error":"#REF!"}}]
[{"$f":"IF(PUERTOS!#REF!=\"SI\",PUERTOS!#REF!,NA())","v":{"$error":"#REF!"}},{"$f":"IF(PUERTOS!#REF!=\"SI\",PUERTOS!#REF!,NA())","v":{"$error":"#REF!"}},{"$f":"IF(PUERTOS!#REF!=\"SI\",'OBLIGACIONES APLICABLES'!#REF!,NA())","v":{"$error":"#REF!"}},{"$f":"IF(PUERTOS!#REF!=\"SI\",'OBLIGACIONES APLICABLES'!#REF!,NA())","v":{"$error":"#REF!"}}]
[{"$f":"IF(PUERTOS!#REF!=\"SI\",PUERTOS!#REF!,NA())","v":{"$error":"#REF!"}},{"$f":"IF(PUERTOS!#REF!=\"SI\",PUERTOS!#REF!,NA())","v":{"$error":"#REF!"}},{"$f":"IF(PUERTOS!#REF!=\"SI\",'OBLIGACIONES APLICABLES'!#REF!,NA())","v":{"$error":"#REF!"}},{"$f":"IF(PUERTOS!#REF!=\"SI\",'OBLIGACIONES APLICABLES'!#REF!,NA())","v":{"$error":"#REF!"}}]
[{"$f":"IF(PUERTOS!#REF!=\"SI\",PUERTOS!#REF!,NA())","v":{"$error":"#REF!"}},{"$f":"IF(PUERTOS!#REF!=\"SI\",PUERTOS!#REF!,NA())","v":{"$error":"#REF!"}},{"$f":"IF(PUERTOS!#REF!=\"SI\",'OBLIGACIONES APLICABLES'!#REF!,NA())","v":{"$error":"#REF!"}},{"$f":"IF(PUERTOS!#REF!=\"SI\",'OBLIGACIONES APLICABLES'!#REF!,NA())","v":{"$error":"#REF!"}}]
[{"$f":"IF(PUERTOS!#REF!=\"SI\",PUERTOS!#REF!,NA())","v":{"$error":"#REF!"}},{"$f":"IF(PUERTOS!#REF!=\"SI\",PUERTOS!#REF!,NA())","v":{"$error":"#REF!"}},{"$f":"IF(PUERTOS!#REF!=\"SI\",'OBLIGACIONES APLICABLES'!#REF!,NA())","v":{"$error":"#REF!"}},{"$f":"IF(PUERTOS!#REF!=\"SI\",'OBLIGACIONES APLICABLES'!#REF!,NA())","v":{"$error":"#REF!"}}]
[{"$f":"IF(PUERTOS!#REF!=\"SI\",PUERTOS!#REF!,NA())","v":{"$error":"#REF!"}},{"$f":"IF(PUERTOS!#REF!=\"SI\",PUERTOS!#REF!,NA())","v":{"$error":"#REF!"}},{"$f":"IF(PUERTOS!#REF!=\"SI\",'OBLIGACIONES APLICABLES'!#REF!,NA())","v":{"$error":"#REF!"}},{"$f":"IF(PUERTOS!#REF!=\"SI\",'OBLIGACIONES APLICABLES'!#REF!,NA())","v":{"$error":"#REF!"}}]
[{"$f":"IF(PUERTOS!#REF!=\"SI\",PUERTOS!#REF!,NA())","v":{"$error":"#REF!"}},{"$f":"IF(PUERTOS!#REF!=\"SI\",PUERTOS!#REF!,NA())","v":{"$error":"#REF!"}},{"$f":"IF(PUERTOS!#REF!=\"SI\",'OBLIGACIONES APLICABLES'!#REF!,NA())","v":{"$error":"#REF!"}},{"$f":"IF(PUERTOS!#REF!=\"SI\",'OBLIGACIONES APLICABLES'!#REF!,NA())","v":{"$error":"#REF!"}}]
[{"$f":"IF(PUERTOS!#REF!=\"SI\",PUERTOS!#REF!,NA())","v":{"$error":"#REF!"}},{"$f":"IF(PUERTOS!#REF!=\"SI\",PUERTOS!#REF!,NA())","v":{"$error":"#REF!"}},{"$f":"IF(PUERTOS!#REF!=\"SI\",'OBLIGACIONES APLICABLES'!#REF!,NA())","v":{"$error":"#REF!"}},{"$f":"IF(PUERTOS!#REF!=\"SI\",'OBLIGACIONES APLICABLES'!#REF!,NA())","v":{"$error":"#REF!"}}]
[{"$f":"IF(PUERTOS!#REF!=\"SI\",PUERTOS!#REF!,NA())","v":{"$error":"#REF!"}},{"$f":"IF(PUERTOS!#REF!=\"SI\",PUERTOS!#REF!,NA())","v":{"$error":"#REF!"}},{"$f":"IF(PUERTOS!#REF!=\"SI\",'OBLIGACIONES APLICABLES'!F8,NA())","v":{"$error":"#REF!"}},{"$f":"IF(PUERTOS!#REF!=\"SI\",'OBLIGACIONES APLICABLES'!G8,NA())","v":{"$error":"#REF!"}}]
[{"$f":"IF(PUERTOS!#REF!=\"SI\",PUERTOS!#REF!,NA())","v":{"$error":"#REF!"}},{"$f":"IF(PUERTOS!#REF!=\"SI\",PUERTOS!#REF!,NA())","v":{"$error":"#REF!"}},{"$f":"IF(PUERTOS!#REF!=\"SI\",'OBLIGACIONES APLICABLES'!#REF!,NA())","v":{"$error":"#REF!"}},{"$f":"IF(PUERTOS!#REF!=\"SI\",'OBLIGACIONES APLICABLES'!#REF!,NA())","v":{"$error":"#REF!"}}]
[{"$f":"IF(PUERTOS!#REF!=\"SI\",PUERTOS!#REF!,NA())","v":{"$error":"#REF!"}},{"$f":"IF(PUERTOS!#REF!=\"SI\",PUERTOS!#REF!,NA())","v":{"$error":"#REF!"}},{"$f":"IF(PUERTOS!#REF!=\"SI\",'OBLIGACIONES APLICABLES'!F9,NA())","v":{"$error":"#REF!"}},{"$f":"IF(PUERTOS!#REF!=\"SI\",'OBLIGACIONES APLICABLES'!G9,NA())","v":{"$error":"#REF!"}}]
[{"$f":"IF(PUERTOS!#REF!=\"SI\",PUERTOS!#REF!,NA())","v":{"$error":"#REF!"}},{"$f":"IF(PUERTOS!#REF!=\"SI\",PUERTOS!#REF!,NA())","v":{"$error":"#REF!"}},{"$f":"IF(PUERTOS!#REF!=\"SI\",'OBLIGACIONES APLICABLES'!F10,NA())","v":{"$error":"#REF!"}},{"$f":"IF(PUERTOS!#REF!=\"SI\",'OBLIGACIONES APLICABLES'!G10,NA())","v":{"$error":"#REF!"}}]
[{"$f":"IF(PUERTOS!#REF!=\"SI\",PUERTOS!#REF!,NA())","v":{"$error":"#REF!"}},{"$f":"IF(PUERTOS!#REF!=\"SI\",PUERTOS!#REF!,NA())","v":{"$error":"#REF!"}},{"$f":"IF(PUERTOS!#REF!=\"SI\",'OBLIGACIONES APLICABLES'!F11,NA())","v":{"$error":"#REF!"}},{"$f":"IF(PUERTOS!#REF!=\"SI\",'OBLIGACIONES APLICABLES'!G11,NA())","v":{"$error":"#REF!"}}]
[{"$f":"IF(PUERTOS!#REF!=\"SI\",PUERTOS!#REF!,NA())","v":{"$error":"#REF!"}},{"$f":"IF(PUERTOS!#REF!=\"SI\",PUERTOS!#REF!,NA())","v":{"$error":"#REF!"}},{"$f":"IF(PUERTOS!#REF!=\"SI\",'OBLIGACIONES APLICABLES'!#REF!,NA())","v":{"$error":"#REF!"}},{"$f":"IF(PUERTOS!#REF!=\"SI\",'OBLIGACIONES APLICABLES'!#REF!,NA())","v":{"$error":"#REF!"}}]
[{"$f":"IF(PUERTOS!#REF!=\"SI\",PUERTOS!#REF!,NA())","v":{"$error":"#REF!"}},{"$f":"IF(PUERTOS!#REF!=\"SI\",PUERTOS!#REF!,NA())","v":{"$error":"#REF!"}},{"$f":"IF(PUERTOS!#REF!=\"SI\",'OBLIGACIONES APLICABLES'!F15,NA())","v":{"$error":"#REF!"}},{"$f":"IF(PUERTOS!#REF!=\"SI\",'OBLIGACIONES APLICABLES'!G15,NA())","v":{"$error":"#REF!"}}]
[{"$f":"IF(PUERTOS!#REF!=\"SI\",PUERTOS!#REF!,NA())","v":{"$error":"#REF!"}},{"$f":"IF(PUERTOS!#REF!=\"SI\",PUERTOS!#REF!,NA())","v":{"$error":"#REF!"}},{"$f":"IF(PUERTOS!#REF!=\"SI\",'OBLIGACIONES APLICABLES'!F16,NA())","v":{"$error":"#REF!"}},{"$f":"IF(PUERTOS!#REF!=\"SI\",'OBLIGACIONES APLICABLES'!G16,NA())","v":{"$error":"#REF!"}}]
[{"$f":"IF(PUERTOS!#REF!=\"SI\",PUERTOS!#REF!,NA())","v":{"$error":"#REF!"}},{"$f":"IF(PUERTOS!#REF!=\"SI\",PUERTOS!#REF!,NA())","v":{"$error":"#REF!"}},{"$f":"IF(PUERTOS!#REF!=\"SI\",'OBLIGACIONES APLICABLES'!#REF!,NA())","v":{"$error":"#REF!"}},{"$f":"IF(PUERTOS!#REF!=\"SI\",'OBLIGACIONES APLICABLES'!#REF!,NA())","v":{"$error":"#REF!"}}]
[{"$f":"IF(PUERTOS!#REF!=\"SI\",PUERTOS!#REF!,NA())","v":{"$error":"#REF!"}},{"$f":"IF(PUERTOS!#REF!=\"SI\",PUERTOS!#REF!,NA())","v":{"$error":"#REF!"}},{"$f":"IF(PUERTOS!#REF!=\"SI\",'OBLIGACIONES APLICABLES'!#REF!,NA())","v":{"$error":"#REF!"}},{"$f":"IF(PUERTOS!#REF!=\"SI\",'OBLIGACIONES APLICABLES'!#REF!,NA())","v":{"$error":"#REF!"}}]
[{"$f":"IF(PUERTOS!#REF!=\"SI\",PUERTOS!#REF!,NA())","v":{"$error":"#REF!"}},{"$f":"IF(PUERTOS!#REF!=\"SI\",PUERTOS!#REF!,NA())","v":{"$error":"#REF!"}},{"$f":"IF(PUERTOS!#REF!=\"SI\",'OBLIGACIONES APLICABLES'!F17,NA())","v":{"$error":"#REF!"}},{"$f":"IF(PUERTOS!#REF!=\"SI\",'OBLIGACIONES APLICABLES'!G17,NA())","v":{"$error":"#REF!"}}]
[{"$f":"IF(PUERTOS!#REF!=\"SI\",PUERTOS!#REF!,NA())","v":{"$error":"#REF!"}},{"$f":"IF(PUERTOS!#REF!=\"SI\",PUERTOS!#REF!,NA())","v":{"$error":"#REF!"}},{"$f":"IF(PUERTOS!#REF!=\"SI\",'OBLIGACIONES APLICABLES'!#REF!,NA())","v":{"$error":"#REF!"}},{"$f":"IF(PUERTOS!#REF!=\"SI\",'OBLIGACIONES APLICABLES'!#REF!,NA())","v":{"$error":"#REF!"}}]
[{"$f":"IF(PUERTOS!#REF!=\"SI\",PUERTOS!#REF!,NA())","v":{"$error":"#REF!"}},{"$f":"IF(PUERTOS!#REF!=\"SI\",PUERTOS!#REF!,NA())","v":{"$error":"#REF!"}},{"$f":"IF(PUERTOS!#REF!=\"SI\",'OBLIGACIONES APLICABLES'!F18,NA())","v":{"$error":"#REF!"}},{"$f":"IF(PUERTOS!#REF!=\"SI\",'OBLIGACIONES APLICABLES'!G18,NA())","v":{"$error":"#REF!"}}]
[{"$f":"IF(PUERTOS!#REF!=\"SI\",PUERTOS!#REF!,NA())","v":{"$error":"#REF!"}},{"$f":"IF(PUERTOS!#REF!=\"SI\",PUERTOS!#REF!,NA())","v":{"$error":"#REF!"}},{"$f":"IF(PUERTOS!#REF!=\"SI\",'OBLIGACIONES APLICABLES'!#REF!,NA())","v":{"$error":"#REF!"}},{"$f":"IF(PUERTOS!#REF!=\"SI\",'OBLIGACIONES APLICABLES'!#REF!,NA())","v":{"$error":"#REF!"}}]
[{"$f":"IF(PUERTOS!#REF!=\"SI\",PUERTOS!#REF!,NA())","v":{"$error":"#REF!"}},{"$f":"IF(PUERTOS!#REF!=\"SI\",PUERTOS!#REF!,NA())","v":{"$error":"#REF!"}},{"$f":"IF(PUERTOS!#REF!=\"SI\",'OBLIGACIONES APLICABLES'!F25,NA())","v":{"$error":"#REF!"}},{"$f":"IF(PUERTOS!#REF!=\"SI\",'OBLIGACIONES APLICABLES'!G25,NA())","v":{"$error":"#REF!"}}]
[{"$f":"IF(PUERTOS!#REF!=\"SI\",PUERTOS!#REF!,NA())","v":{"$error":"#REF!"}},{"$f":"IF(PUERTOS!#REF!=\"SI\",PUERTOS!#REF!,NA())","v":{"$error":"#REF!"}},{"$f":"IF(PUERTOS!#REF!=\"SI\",'OBLIGACIONES APLICABLES'!F26,NA())","v":{"$error":"#REF!"}},{"$f":"IF(PUERTOS!#REF!=\"SI\",'OBLIGACIONES APLICABLES'!G26,NA())","v":{"$error":"#REF!"}}]
[{"$f":"IF(PUERTOS!#REF!=\"SI\",PUERTOS!#REF!,NA())","v":{"$error":"#REF!"}},{"$f":"IF(PUERTOS!#REF!=\"SI\",PUERTOS!#REF!,NA())","v":{"$error":"#REF!"}},{"$f":"IF(PUERTOS!#REF!=\"SI\",'OBLIGACIONES APLICABLES'!F31,NA())","v":{"$error":"#REF!"}},{"$f":"IF(PUERTOS!#REF!=\"SI\",'OBLIGACIONES APLICABLES'!G31,NA())","v":{"$error":"#REF!"}}]
[{"$f":"IF(PUERTOS!#REF!=\"SI\",PUERTOS!#REF!,NA())","v":{"$error":"#REF!"}},{"$f":"IF(PUERTOS!#REF!=\"SI\",PUERTOS!#REF!,NA())","v":{"$error":"#REF!"}},{"$f":"IF(PUERTOS!#REF!=\"SI\",'OBLIGACIONES APLICABLES'!F33,NA())","v":{"$error":"#REF!"}},{"$f":"IF(PUERTOS!#REF!=\"SI\",'OBLIGACIONES APLICABLES'!G33,NA())","v":{"$error":"#REF!"}}]
[{"$f":"IF(PUERTOS!#REF!=\"SI\",PUERTOS!#REF!,NA())","v":{"$error":"#REF!"}},{"$f":"IF(PUERTOS!#REF!=\"SI\",PUERTOS!#REF!,NA())","v":{"$error":"#REF!"}},{"$f":"IF(PUERTOS!#REF!=\"SI\",'OBLIGACIONES APLICABLES'!F34,NA())","v":{"$error":"#REF!"}},{"$f":"IF(PUERTOS!#REF!=\"SI\",'OBLIGACIONES APLICABLES'!G34,NA())","v":{"$error":"#REF!"}}]
[{"$f":"IF(PUERTOS!#REF!=\"SI\",PUERTOS!#REF!,NA())","v":{"$error":"#REF!"}},{"$f":"IF(PUERTOS!#REF!=\"SI\",PUERTOS!#REF!,NA())","v":{"$error":"#REF!"}},{"$f":"IF(PUERTOS!#REF!=\"SI\",'OBLIGACIONES APLICABLES'!#REF!,NA())","v":{"$error":"#REF!"}},{"$f":"IF(PUERTOS!#REF!=\"SI\",'OBLIGACIONES APLICABLES'!#REF!,NA())","v":{"$error":"#REF!"}}]
[{"$f":"IF(PUERTOS!#REF!=\"SI\",PUERTOS!#REF!,NA())","v":{"$error":"#REF!"}},{"$f":"IF(PUERTOS!#REF!=\"SI\",PUERTOS!#REF!,NA())","v":{"$error":"#REF!"}},{"$f":"IF(PUERTOS!#REF!=\"SI\",'OBLIGACIONES APLICABLES'!#REF!,NA())","v":{"$error":"#REF!"}},{"$f":"IF(PUERTOS!#REF!=\"SI\",'OBLIGACIONES APLICABLES'!#REF!,NA())","v":{"$error":"#REF!"}}]
[{"$f":"IF(PUERTOS!#REF!=\"SI\",PUERTOS!#REF!,NA())","v":{"$error":"#REF!"}},{"$f":"IF(PUERTOS!#REF!=\"SI\",PUERTOS!#REF!,NA())","v":{"$error":"#REF!"}},{"$f":"IF(PUERTOS!#REF!=\"SI\",'OBLIGACIONES APLICABLES'!#REF!,NA())","v":{"$error":"#REF!"}},{"$f":"IF(PUERTOS!#REF!=\"SI\",'OBLIGACIONES APLICABLES'!#REF!,NA())","v":{"$error":"#REF!"}}]
[{"$f":"IF(PUERTOS!#REF!=\"SI\",PUERTOS!#REF!,NA())","v":{"$error":"#REF!"}},{"$f":"IF(PUERTOS!#REF!=\"SI\",PUERTOS!#REF!,NA())","v":{"$error":"#REF!"}},{"$f":"IF(PUERTOS!#REF!=\"SI\",'OBLIGACIONES APLICABLES'!#REF!,NA())","v":{"$error":"#REF!"}},{"$f":"IF(PUERTOS!#REF!=\"SI\",'OBLIGACIONES APLICABLES'!#REF!,NA())","v":{"$error":"#REF!"}}]
[{"$f":"IF(PUERTOS!#REF!=\"SI\",PUERTOS!#REF!,NA())","v":{"$error":"#REF!"}},{"$f":"IF(PUERTOS!#REF!=\"SI\",PUERTOS!#REF!,NA())","v":{"$error":"#REF!"}},{"$f":"IF(PUERTOS!#REF!=\"SI\",'OBLIGACIONES APLICABLES'!#REF!,NA())","v":{"$error":"#REF!"}},{"$f":"IF(PUERTOS!#REF!=\"SI\",'OBLIGACIONES APLICABLES'!#REF!,NA())","v":{"$error":"#REF!"}}]
[{"$f":"IF(PUERTOS!#REF!=\"SI\",PUERTOS!#REF!,NA())","v":{"$error":"#REF!"}},{"$f":"IF(PUERTOS!#REF!=\"SI\",PUERTOS!#REF!,NA())","v":{"$error":"#REF!"}},{"$f":"IF(PUERTOS!#REF!=\"SI\",'OBLIGACIONES APLICABLES'!#REF!,NA())","v":{"$error":"#REF!"}},{"$f":"IF(PUERTOS!#REF!=\"SI\",'OBLIGACIONES APLICABLES'!#REF!,NA())","v":{"$error":"#REF!"}}]
[{"$f":"IF(PUERTOS!#REF!=\"SI\",PUERTOS!#REF!,NA())","v":{"$error":"#REF!"}},{"$f":"IF(PUERTOS!#REF!=\"SI\",PUERTOS!#REF!,NA())","v":{"$error":"#REF!"}},{"$f":"IF(PUERTOS!#REF!=\"SI\",'OBLIGACIONES APLICABLES'!#REF!,NA())","v":{"$error":"#REF!"}},{"$f":"IF(PUERTOS!#REF!=\"SI\",'OBLIGACIONES APLICABLES'!#REF!,NA())","v":{"$error":"#REF!"}}]
[{"$f":"IF(PUERTOS!#REF!=\"SI\",PUERTOS!#REF!,NA())","v":{"$error":"#REF!"}},{"$f":"IF(PUERTOS!#REF!=\"SI\",PUERTOS!#REF!,NA())","v":{"$error":"#REF!"}},{"$f":"IF(PUERTOS!#REF!=\"SI\",'OBLIGACIONES APLICABLES'!F35,NA())","v":{"$error":"#REF!"}},{"$f":"IF(PUERTOS!#REF!=\"SI\",'OBLIGACIONES APLICABLES'!G35,NA())","v":{"$error":"#REF!"}}]
[{"$f":"IF(PUERTOS!#REF!=\"SI\",PUERTOS!#REF!,NA())","v":{"$error":"#REF!"}},{"$f":"IF(PUERTOS!#REF!=\"SI\",PUERTOS!#REF!,NA())","v":{"$error":"#REF!"}},{"$f":"IF(PUERTOS!#REF!=\"SI\",'OBLIGACIONES APLICABLES'!#REF!,NA())","v":{"$error":"#REF!"}},{"$f":"IF(PUERTOS!#REF!=\"SI\",'OBLIGACIONES APLICABLES'!#REF!,NA())","v":{"$error":"#REF!"}}]
[{"$f":"IF(PUERTOS!#REF!=\"SI\",PUERTOS!#REF!,NA())","v":{"$error":"#REF!"}},{"$f":"IF(PUERTOS!#REF!=\"SI\",PUERTOS!#REF!,NA())","v":{"$error":"#REF!"}},{"$f":"IF(PUERTOS!#REF!=\"SI\",'OBLIGACIONES APLICABLES'!F36,NA())","v":{"$error":"#REF!"}},{"$f":"IF(PUERTOS!#REF!=\"SI\",'OBLIGACIONES APLICABLES'!G36,NA())","v":{"$error":"#REF!"}}]
[{"$f":"IF(PUERTOS!#REF!=\"SI\",PUERTOS!#REF!,NA())","v":{"$error":"#REF!"}},{"$f":"IF(PUERTOS!#REF!=\"SI\",PUERTOS!#REF!,NA())","v":{"$error":"#REF!"}},{"$f":"IF(PUERTOS!#REF!=\"SI\",'OBLIGACIONES APLICABLES'!F37,NA())","v":{"$error":"#REF!"}},{"$f":"IF(PUERTOS!#REF!=\"SI\",'OBLIGACIONES APLICABLES'!G37,NA())","v":{"$error":"#REF!"}}]
[{"$f":"IF(PUERTOS!#REF!=\"SI\",PUERTOS!#REF!,NA())","v":{"$error":"#REF!"}},{"$f":"IF(PUERTOS!#REF!=\"SI\",PUERTOS!#REF!,NA())","v":{"$error":"#REF!"}},{"$f":"IF(PUERTOS!#REF!=\"SI\",'OBLIGACIONES APLICABLES'!#REF!,NA())","v":{"$error":"#REF!"}},{"$f":"IF(PUERTOS!#REF!=\"SI\",'OBLIGACIONES APLICABLES'!#REF!,NA())","v":{"$error":"#REF!"}}]
[{"$f":"IF(PUERTOS!#REF!=\"SI\",PUERTOS!#REF!,NA())","v":{"$error":"#REF!"}},{"$f":"IF(PUERTOS!#REF!=\"SI\",PUERTOS!#REF!,NA())","v":{"$error":"#REF!"}},{"$f":"IF(PUERTOS!#REF!=\"SI\",'OBLIGACIONES APLICABLES'!#REF!,NA())","v":{"$error":"#REF!"}},{"$f":"IF(PUERTOS!#REF!=\"SI\",'OBLIGACIONES APLICABLES'!#REF!,NA())","v":{"$error":"#REF!"}}]
[{"$f":"IF(PUERTOS!#REF!=\"SI\",PUERTOS!#REF!,NA())","v":{"$error":"#REF!"}},{"$f":"IF(PUERTOS!#REF!=\"SI\",PUERTOS!#REF!,NA())","v":{"$error":"#REF!"}},{"$f":"IF(PUERTOS!#REF!=\"SI\",'OBLIGACIONES APLICABLES'!#REF!,NA())","v":{"$error":"#REF!"}},{"$f":"IF(PUERTOS!#REF!=\"SI\",'OBLIGACIONES APLICABLES'!#REF!,NA())","v":{"$error":"#REF!"}}]
[{"$f":"IF(PUERTOS!#REF!=\"SI\",PUERTOS!#REF!,NA())","v":{"$error":"#REF!"}},{"$f":"IF(PUERTOS!#REF!=\"SI\",PUERTOS!#REF!,NA())","v":{"$error":"#REF!"}},{"$f":"IF(PUERTOS!#REF!=\"SI\",'OBLIGACIONES APLICABLES'!#REF!,NA())","v":{"$error":"#REF!"}},{"$f":"IF(PUERTOS!#REF!=\"SI\",'OBLIGACIONES APLICABLES'!#REF!,NA())","v":{"$error":"#REF!"}}]
[{"$f":"IF(PUERTOS!#REF!=\"SI\",PUERTOS!#REF!,NA())","v":{"$error":"#REF!"}},{"$f":"IF(PUERTOS!#REF!=\"SI\",PUERTOS!#REF!,NA())","v":{"$error":"#REF!"}},{"$f":"IF(PUERTOS!#REF!=\"SI\",'OBLIGACIONES APLICABLES'!F54,NA())","v":{"$error":"#REF!"}},{"$f":"IF(PUERTOS!#REF!=\"SI\",'OBLIGACIONES APLICABLES'!G54,NA())","v":{"$error":"#REF!"}}]
[{"$f":"IF(PUERTOS!#REF!=\"SI\",PUERTOS!#REF!,NA())","v":{"$error":"#REF!"}},{"$f":"IF(PUERTOS!#REF!=\"SI\",PUERTOS!#REF!,NA())","v":{"$error":"#REF!"}},{"$f":"IF(PUERTOS!#REF!=\"SI\",'OBLIGACIONES APLICABLES'!#REF!,NA())","v":{"$error":"#REF!"}},{"$f":"IF(PUERTOS!#REF!=\"SI\",'OBLIGACIONES APLICABLES'!#REF!,NA())","v":{"$error":"#REF!"}}]
[{"$f":"IF(PUERTOS!#REF!=\"SI\",PUERTOS!#REF!,NA())","v":{"$error":"#REF!"}},{"$f":"IF(PUERTOS!#REF!=\"SI\",PUERTOS!#REF!,NA())","v":{"$error":"#REF!"}},{"$f":"IF(PUERTOS!#REF!=\"SI\",'OBLIGACIONES APLICABLES'!#REF!,NA())","v":{"$error":"#REF!"}},{"$f":"IF(PUERTOS!#REF!=\"SI\",'OBLIGACIONES APLICABLES'!#REF!,NA())","v":{"$error":"#REF!"}}]
[{"$f":"IF(PUERTOS!#REF!=\"SI\",PUERTOS!#REF!,NA())","v":{"$error":"#REF!"}},{"$f":"IF(PUERTOS!#REF!=\"SI\",PUERTOS!#REF!,NA())","v":{"$error":"#REF!"}},{"$f":"IF(PUERTOS!#REF!=\"SI\",'OBLIGACIONES APLICABLES'!F56,NA())","v":{"$error":"#REF!"}},{"$f":"IF(PUERTOS!#REF!=\"SI\",'OBLIGACIONES APLICABLES'!G56,NA())","v":{"$error":"#REF!"}}]
[{"$f":"IF(PUERTOS!#REF!=\"SI\",PUERTOS!#REF!,NA())","v":{"$error":"#REF!"}},{"$f":"IF(PUERTOS!#REF!=\"SI\",PUERTOS!#REF!,NA())","v":{"$error":"#REF!"}},{"$f":"IF(PUERTOS!#REF!=\"SI\",'OBLIGACIONES APLICABLES'!F57,NA())","v":{"$error":"#REF!"}},{"$f":"IF(PUERTOS!#REF!=\"SI\",'OBLIGACIONES APLICABLES'!G57,NA())","v":{"$error":"#REF!"}}]
[{"$f":"IF(PUERTOS!#REF!=\"SI\",PUERTOS!#REF!,NA())","v":{"$error":"#REF!"}},{"$f":"IF(PUERTOS!#REF!=\"SI\",PUERTOS!#REF!,NA())","v":{"$error":"#REF!"}},{"$f":"IF(PUERTOS!#REF!=\"SI\",'OBLIGACIONES APLICABLES'!F58,NA())","v":{"$error":"#REF!"}},{"$f":"IF(PUERTOS!#REF!=\"SI\",'OBLIGACIONES APLICABLES'!G58,NA())","v":{"$error":"#REF!"}}]
[{"$f":"IF(PUERTOS!#REF!=\"SI\",PUERTOS!#REF!,NA())","v":{"$error":"#REF!"}},{"$f":"IF(PUERTOS!#REF!=\"SI\",PUERTOS!#REF!,NA())","v":{"$error":"#REF!"}},{"$f":"IF(PUERTOS!#REF!=\"SI\",'OBLIGACIONES APLICABLES'!#REF!,NA())","v":{"$error":"#REF!"}},{"$f":"IF(PUERTOS!#REF!=\"SI\",'OBLIGACIONES APLICABLES'!#REF!,NA())","v":{"$error":"#REF!"}}]
[{"$f":"IF(PUERTOS!#REF!=\"SI\",PUERTOS!#REF!,NA())","v":{"$error":"#REF!"}},{"$f":"IF(PUERTOS!#REF!=\"SI\",PUERTOS!#REF!,NA())","v":{"$error":"#REF!"}},{"$f":"IF(PUERTOS!#REF!=\"SI\",'OBLIGACIONES APLICABLES'!#REF!,NA())","v":{"$error":"#REF!"}},{"$f":"IF(PUERTOS!#REF!=\"SI\",'OBLIGACIONES APLICABLES'!#REF!,NA())","v":{"$error":"#REF!"}}]
[{"$f":"IF(PUERTOS!#REF!=\"SI\",PUERTOS!#REF!,NA())","v":{"$error":"#REF!"}},{"$f":"IF(PUERTOS!#REF!=\"SI\",PUERTOS!#REF!,NA())","v":{"$error":"#REF!"}},{"$f":"IF(PUERTOS!#REF!=\"SI\",'OBLIGACIONES APLICABLES'!F59,NA())","v":{"$error":"#REF!"}},{"$f":"IF(PUERTOS!#REF!=\"SI\",'OBLIGACIONES APLICABLES'!G59,NA())","v":{"$error":"#REF!"}}]
[{"$f":"IF(PUERTOS!#REF!=\"SI\",PUERTOS!#REF!,NA())","v":{"$error":"#REF!"}},{"$f":"IF(PUERTOS!#REF!=\"SI\",PUERTOS!#REF!,NA())","v":{"$error":"#REF!"}},{"$f":"IF(PUERTOS!#REF!=\"SI\",'OBLIGACIONES APLICABLES'!F60,NA())","v":{"$error":"#REF!"}},{"$f":"IF(PUERTOS!#REF!=\"SI\",'OBLIGACIONES APLICABLES'!G60,NA())","v":{"$error":"#REF!"}}]
[{"$f":"IF(PUERTOS!#REF!=\"SI\",PUERTOS!#REF!,NA())","v":{"$error":"#REF!"}},{"$f":"IF(PUERTOS!#REF!=\"SI\",PUERTOS!#REF!,NA())","v":{"$error":"#REF!"}},{"$f":"IF(PUERTOS!#REF!=\"SI\",'OBLIGACIONES APLICABLES'!F61,NA())","v":{"$error":"#REF!"}},{"$f":"IF(PUERTOS!#REF!=\"SI\",'OBLIGACIONES APLICABLES'!G61,NA())","v":{"$error":"#REF!"}}]
[{"$f":"IF(PUERTOS!#REF!=\"SI\",PUERTOS!#REF!,NA())","v":{"$error":"#REF!"}},{"$f":"IF(PUERTOS!#REF!=\"SI\",PUERTOS!#REF!,NA())","v":{"$error":"#REF!"}},{"$f":"IF(PUERTOS!#REF!=\"SI\",'OBLIGACIONES APLICABLES'!#REF!,NA())","v":{"$error":"#REF!"}},{"$f":"IF(PUERTOS!#REF!=\"SI\",'OBLIGACIONES APLICABLES'!#REF!,NA())","v":{"$error":"#REF!"}}]
[{"$f":"IF(PUERTOS!#REF!=\"SI\",PUERTOS!#REF!,NA())","v":{"$error":"#REF!"}},{"$f":"IF(PUERTOS!#REF!=\"SI\",PUERTOS!#REF!,NA())","v":{"$error":"#REF!"}},{"$f":"IF(PUERTOS!#REF!=\"SI\",'OBLIGACIONES APLICABLES'!#REF!,NA())","v":{"$error":"#REF!"}},{"$f":"IF(PUERTOS!#REF!=\"SI\",'OBLIGACIONES APLICABLES'!#REF!,NA())","v":{"$error":"#REF!"}}]
[{"$f":"IF(PUERTOS!#REF!=\"SI\",PUERTOS!#REF!,NA())","v":{"$error":"#REF!"}},{"$f":"IF(PUERTOS!#REF!=\"SI\",PUERTOS!#REF!,NA())","v":{"$error":"#REF!"}},{"$f":"IF(PUERTOS!#REF!=\"SI\",'OBLIGACIONES APLICABLES'!#REF!,NA())","v":{"$error":"#REF!"}},{"$f":"IF(PUERTOS!#REF!=\"SI\",'OBLIGACIONES APLICABLES'!#REF!,NA())","v":{"$error":"#REF!"}}]
[{"$f":"IF(PUERTOS!#REF!=\"SI\",PUERTOS!#REF!,NA())","v":{"$error":"#REF!"}},{"$f":"IF(PUERTOS!#REF!=\"SI\",PUERTOS!#REF!,NA())","v":{"$error":"#REF!"}},{"$f":"IF(PUERTOS!#REF!=\"SI\",'OBLIGACIONES APLICABLES'!#REF!,NA())","v":{"$error":"#REF!"}},{"$f":"IF(PUERTOS!#REF!=\"SI\",'OBLIGACIONES APLICABLES'!#REF!,NA())","v":{"$error":"#REF!"}}]
[{"$f":"IF(PUERTOS!#REF!=\"SI\",PUERTOS!#REF!,NA())","v":{"$error":"#REF!"}},{"$f":"IF(PUERTOS!#REF!=\"SI\",PUERTOS!#REF!,NA())","v":{"$error":"#REF!"}},{"$f":"IF(PUERTOS!#REF!=\"SI\",'OBLIGACIONES APLICABLES'!F62,NA())","v":{"$error":"#REF!"}},{"$f":"IF(PUERTOS!#REF!=\"SI\",'OBLIGACIONES APLICABLES'!G62,NA())","v":{"$error":"#REF!"}}]
[{"$f":"IF(PUERTOS!#REF!=\"SI\",PUERTOS!#REF!,NA())","v":{"$error":"#REF!"}},{"$f":"IF(PUERTOS!#REF!=\"SI\",PUERTOS!#REF!,NA())","v":{"$error":"#REF!"}},{"$f":"IF(PUERTOS!#REF!=\"SI\",'OBLIGACIONES APLICABLES'!F63,NA())","v":{"$error":"#REF!"}},{"$f":"IF(PUERTOS!#REF!=\"SI\",'OBLIGACIONES APLICABLES'!G63,NA())","v":{"$error":"#REF!"}}]
[{"$f":"IF(PUERTOS!#REF!=\"SI\",PUERTOS!#REF!,NA())","v":{"$error":"#REF!"}},{"$f":"IF(PUERTOS!#REF!=\"SI\",PUERTOS!#REF!,NA())","v":{"$error":"#REF!"}},{"$f":"IF(PUERTOS!#REF!=\"SI\",'OBLIGACIONES APLICABLES'!#REF!,NA())","v":{"$error":"#REF!"}},{"$f":"IF(PUERTOS!#REF!=\"SI\",'OBLIGACIONES APLICABLES'!#REF!,NA())","v":{"$error":"#REF!"}}]
[{"$f":"IF(PUERTOS!#REF!=\"SI\",PUERTOS!#REF!,NA())","v":{"$error":"#REF!"}},{"$f":"IF(PUERTOS!#REF!=\"SI\",PUERTOS!#REF!,NA())","v":{"$error":"#REF!"}},{"$f":"IF(PUERTOS!#REF!=\"SI\",'OBLIGACIONES APLICABLES'!F64,NA())","v":{"$error":"#REF!"}},{"$f":"IF(PUERTOS!#REF!=\"SI\",'OBLIGACIONES APLICABLES'!G64,NA())","v":{"$error":"#REF!"}}]
[{"$f":"IF(PUERTOS!#REF!=\"SI\",PUERTOS!#REF!,NA())","v":{"$error":"#REF!"}},{"$f":"IF(PUERTOS!#REF!=\"SI\",PUERTOS!#REF!,NA())","v":{"$error":"#REF!"}},{"$f":"IF(PUERTOS!#REF!=\"SI\",'OBLIGACIONES APLICABLES'!#REF!,NA())","v":{"$error":"#REF!"}},{"$f":"IF(PUERTOS!#REF!=\"SI\",'OBLIGACIONES APLICABLES'!#REF!,NA())","v":{"$error":"#REF!"}}]
[{"$f":"IF(PUERTOS!#REF!=\"SI\",PUERTOS!#REF!,NA())","v":{"$error":"#REF!"}},{"$f":"IF(PUERTOS!#REF!=\"SI\",PUERTOS!#REF!,NA())","v":{"$error":"#REF!"}},{"$f":"IF(PUERTOS!#REF!=\"SI\",'OBLIGACIONES APLICABLES'!#REF!,NA())","v":{"$error":"#REF!"}},{"$f":"IF(PUERTOS!#REF!=\"SI\",'OBLIGACIONES APLICABLES'!#REF!,NA())","v":{"$error":"#REF!"}}]
[{"$f":"IF(PUERTOS!#REF!=\"SI\",PUERTOS!#REF!,NA())","v":{"$error":"#REF!"}},{"$f":"IF(PUERTOS!#REF!=\"SI\",PUERTOS!#REF!,NA())","v":{"$error":"#REF!"}},{"$f":"IF(PUERTOS!#REF!=\"SI\",'OBLIGACIONES APLICABLES'!#REF!,NA())","v":{"$error":"#REF!"}},{"$f":"IF(PUERTOS!#REF!=\"SI\",'OBLIGACIONES APLICABLES'!#REF!,NA())","v":{"$error":"#REF!"}}]
[{"$f":"IF(PUERTOS!#REF!=\"SI\",PUERTOS!#REF!,NA())","v":{"$error":"#REF!"}},{"$f":"IF(PUERTOS!#REF!=\"SI\",PUERTOS!#REF!,NA())","v":{"$error":"#REF!"}},{"$f":"IF(PUERTOS!#REF!=\"SI\",'OBLIGACIONES APLICABLES'!#REF!,NA())","v":{"$error":"#REF!"}},{"$f":"IF(PUERTOS!#REF!=\"SI\",'OBLIGACIONES APLICABLES'!#REF!,NA())","v":{"$error":"#REF!"}}]
[{"$f":"IF(PUERTOS!#REF!=\"SI\",PUERTOS!#REF!,NA())","v":{"$error":"#REF!"}},{"$f":"IF(PUERTOS!#REF!=\"SI\",PUERTOS!#REF!,NA())","v":{"$error":"#REF!"}},{"$f":"IF(PUERTOS!#REF!=\"SI\",'OBLIGACIONES APLICABLES'!#REF!,NA())","v":{"$error":"#REF!"}},{"$f":"IF(PUERTOS!#REF!=\"SI\",'OBLIGACIONES APLICABLES'!#REF!,NA())","v":{"$error":"#REF!"}}]
[{"$f":"IF(PUERTOS!#REF!=\"SI\",PUERTOS!#REF!,NA())","v":{"$error":"#REF!"}},{"$f":"IF(PUERTOS!#REF!=\"SI\",PUERTOS!#REF!,NA())","v":{"$error":"#REF!"}},{"$f":"IF(PUERTOS!#REF!=\"SI\",'OBLIGACIONES APLICABLES'!#REF!,NA())","v":{"$error":"#REF!"}},{"$f":"IF(PUERTOS!#REF!=\"SI\",'OBLIGACIONES APLICABLES'!#REF!,NA())","v":{"$error":"#REF!"}}]
[{"$f":"IF(PUERTOS!#REF!=\"SI\",PUERTOS!#REF!,NA())","v":{"$error":"#REF!"}},{"$f":"IF(PUERTOS!#REF!=\"SI\",PUERTOS!#REF!,NA())","v":{"$error":"#REF!"}},{"$f":"IF(PUERTOS!#REF!=\"SI\",'OBLIGACIONES APLICABLES'!#REF!,NA())","v":{"$error":"#REF!"}},{"$f":"IF(PUERTOS!#REF!=\"SI\",'OBLIGACIONES APLICABLES'!#REF!,NA())","v":{"$error":"#REF!"}}]
[{"$f":"IF(PUERTOS!#REF!=\"SI\",PUERTOS!#REF!,NA())","v":{"$error":"#REF!"}},{"$f":"IF(PUERTOS!#REF!=\"SI\",PUERTOS!#REF!,NA())","v":{"$error":"#REF!"}},{"$f":"IF(PUERTOS!#REF!=\"SI\",'OBLIGACIONES APLICABLES'!#REF!,NA())","v":{"$error":"#REF!"}},{"$f":"IF(PUERTOS!#REF!=\"SI\",'OBLIGACIONES APLICABLES'!#REF!,NA())","v":{"$error":"#REF!"}}]
[{"$f":"IF(PUERTOS!#REF!=\"SI\",PUERTOS!#REF!,NA())","v":{"$error":"#REF!"}},{"$f":"IF(PUERTOS!#REF!=\"SI\",PUERTOS!#REF!,NA())","v":{"$error":"#REF!"}},{"$f":"IF(PUERTOS!#REF!=\"SI\",'OBLIGACIONES APLICABLES'!F65,NA())","v":{"$error":"#REF!"}},{"$f":"IF(PUERTOS!#REF!=\"SI\",'OBLIGACIONES APLICABLES'!G65,NA())","v":{"$error":"#REF!"}}]
[{"$f":"IF(PUERTOS!#REF!=\"SI\",PUERTOS!#REF!,NA())","v":{"$error":"#REF!"}},{"$f":"IF(PUERTOS!#REF!=\"SI\",PUERTOS!#REF!,NA())","v":{"$error":"#REF!"}},{"$f":"IF(PUERTOS!#REF!=\"SI\",'OBLIGACIONES APLICABLES'!#REF!,NA())","v":{"$error":"#REF!"}},{"$f":"IF(PUERTOS!#REF!=\"SI\",'OBLIGACIONES APLICABLES'!#REF!,NA())","v":{"$error":"#REF!"}}]
[{"$f":"IF(PUERTOS!#REF!=\"SI\",PUERTOS!#REF!,NA())","v":{"$error":"#REF!"}},{"$f":"IF(PUERTOS!#REF!=\"SI\",PUERTOS!#REF!,NA())","v":{"$error":"#REF!"}},{"$f":"IF(PUERTOS!#REF!=\"SI\",'OBLIGACIONES APLICABLES'!#REF!,NA())","v":{"$error":"#REF!"}},{"$f":"IF(PUERTOS!#REF!=\"SI\",'OBLIGACIONES APLICABLES'!#REF!,NA())","v":{"$error":"#REF!"}}]
[{"$f":"IF(PUERTOS!#REF!=\"SI\",PUERTOS!#REF!,NA())","v":{"$error":"#REF!"}},{"$f":"IF(PUERTOS!#REF!=\"SI\",PUERTOS!#REF!,NA())","v":{"$error":"#REF!"}},{"$f":"IF(PUERTOS!#REF!=\"SI\",'OBLIGACIONES APLICABLES'!#REF!,NA())","v":{"$error":"#REF!"}},{"$f":"IF(PUERTOS!#REF!=\"SI\",'OBLIGACIONES APLICABLES'!#REF!,NA())","v":{"$error":"#REF!"}}]
[{"$f":"IF(PUERTOS!#REF!=\"SI\",PUERTOS!#REF!,NA())","v":{"$error":"#REF!"}},{"$f":"IF(PUERTOS!#REF!=\"SI\",PUERTOS!#REF!,NA())","v":{"$error":"#REF!"}},{"$f":"IF(PUERTOS!#REF!=\"SI\",'OBLIGACIONES APLICABLES'!#REF!,NA())","v":{"$error":"#REF!"}},{"$f":"IF(PUERTOS!#REF!=\"SI\",'OBLIGACIONES APLICABLES'!#REF!,NA())","v":{"$error":"#REF!"}}]
[{"$f":"IF(PUERTOS!#REF!=\"SI\",PUERTOS!#REF!,NA())","v":{"$error":"#REF!"}},{"$f":"IF(PUERTOS!#REF!=\"SI\",PUERTOS!#REF!,NA())","v":{"$error":"#REF!"}},{"$f":"IF(PUERTOS!#REF!=\"SI\",'OBLIGACIONES APLICABLES'!#REF!,NA())","v":{"$error":"#REF!"}},{"$f":"IF(PUERTOS!#REF!=\"SI\",'OBLIGACIONES APLICABLES'!#REF!,NA())","v":{"$error":"#REF!"}}]
[{"$f":"IF(PUERTOS!#REF!=\"SI\",PUERTOS!#REF!,NA())","v":{"$error":"#REF!"}},{"$f":"IF(PUERTOS!#REF!=\"SI\",PUERTOS!#REF!,NA())","v":{"$error":"#REF!"}},{"$f":"IF(PUERTOS!#REF!=\"SI\",'OBLIGACIONES APLICABLES'!#REF!,NA())","v":{"$error":"#REF!"}},{"$f":"IF(PUERTOS!#REF!=\"SI\",'OBLIGACIONES APLICABLES'!#REF!,NA())","v":{"$error":"#REF!"}}]
[{"$f":"IF(PUERTOS!#REF!=\"SI\",PUERTOS!#REF!,NA())","v":{"$error":"#REF!"}},{"$f":"IF(PUERTOS!#REF!=\"SI\",PUERTOS!#REF!,NA())","v":{"$error":"#REF!"}},{"$f":"IF(PUERTOS!#REF!=\"SI\",'OBLIGACIONES APLICABLES'!#REF!,NA())","v":{"$error":"#REF!"}},{"$f":"IF(PUERTOS!#REF!=\"SI\",'OBLIGACIONES APLICABLES'!#REF!,NA())","v":{"$error":"#REF!"}}]
[{"$f":"IF(PUERTOS!#REF!=\"SI\",PUERTOS!#REF!,NA())","v":{"$error":"#REF!"}},{"$f":"IF(PUERTOS!#REF!=\"SI\",PUERTOS!#REF!,NA())","v":{"$error":"#REF!"}},{"$f":"IF(PUERTOS!#REF!=\"SI\",'OBLIGACIONES APLICABLES'!F72,NA())","v":{"$error":"#REF!"}},{"$f":"IF(PUERTOS!#REF!=\"SI\",'OBLIGACIONES APLICABLES'!G72,NA())","v":{"$error":"#REF!"}}]
[{"$f":"IF(PUERTOS!#REF!=\"SI\",PUERTOS!#REF!,NA())","v":{"$error":"#REF!"}},{"$f":"IF(PUERTOS!#REF!=\"SI\",PUERTOS!#REF!,NA())","v":{"$error":"#REF!"}},{"$f":"IF(PUERTOS!#REF!=\"SI\",'OBLIGACIONES APLICABLES'!#REF!,NA())","v":{"$error":"#REF!"}},{"$f":"IF(PUERTOS!#REF!=\"SI\",'OBLIGACIONES APLICABLES'!#REF!,NA())","v":{"$error":"#REF!"}}]
[{"$f":"IF(PUERTOS!#REF!=\"SI\",PUERTOS!#REF!,NA())","v":{"$error":"#REF!"}},{"$f":"IF(PUERTOS!#REF!=\"SI\",PUERTOS!#REF!,NA())","v":{"$error":"#REF!"}},{"$f":"IF(PUERTOS!#REF!=\"SI\",'OBLIGACIONES APLICABLES'!#REF!,NA())","v":{"$error":"#REF!"}},{"$f":"IF(PUERTOS!#REF!=\"SI\",'OBLIGACIONES APLICABLES'!#REF!,NA())","v":{"$error":"#REF!"}}]
[{"$f":"IF(PUERTOS!#REF!=\"SI\",PUERTOS!#REF!,NA())","v":{"$error":"#REF!"}},{"$f":"IF(PUERTOS!#REF!=\"SI\",PUERTOS!#REF!,NA())","v":{"$error":"#REF!"}},{"$f":"IF(PUERTOS!#REF!=\"SI\",'OBLIGACIONES APLICABLES'!#REF!,NA())","v":{"$error":"#REF!"}},{"$f":"IF(PUERTOS!#REF!=\"SI\",'OBLIGACIONES APLICABLES'!#REF!,NA())","v":{"$error":"#REF!"}}]
[{"$f":"IF(PUERTOS!#REF!=\"SI\",PUERTOS!#REF!,NA())","v":{"$error":"#REF!"}},{"$f":"IF(PUERTOS!#REF!=\"SI\",PUERTOS!#REF!,NA())","v":{"$error":"#REF!"}},{"$f":"IF(PUERTOS!#REF!=\"SI\",'OBLIGACIONES APLICABLES'!#REF!,NA())","v":{"$error":"#REF!"}},{"$f":"IF(PUERTOS!#REF!=\"SI\",'OBLIGACIONES APLICABLES'!#REF!,NA())","v":{"$error":"#REF!"}}]
[{"$f":"IF(PUERTOS!#REF!=\"SI\",PUERTOS!#REF!,NA())","v":{"$error":"#REF!"}},{"$f":"IF(PUERTOS!#REF!=\"SI\",PUERTOS!#REF!,NA())","v":{"$error":"#REF!"}},{"$f":"IF(PUERTOS!#REF!=\"SI\",'OBLIGACIONES APLICABLES'!#REF!,NA())","v":{"$error":"#REF!"}},{"$f":"IF(PUERTOS!#REF!=\"SI\",'OBLIGACIONES APLICABLES'!#REF!,NA())","v":{"$error":"#REF!"}}]
[{"$f":"IF(PUERTOS!#REF!=\"SI\",PUERTOS!#REF!,NA())","v":{"$error":"#REF!"}},{"$f":"IF(PUERTOS!#REF!=\"SI\",PUERTOS!#REF!,NA())","v":{"$error":"#REF!"}},{"$f":"IF(PUERTOS!#REF!=\"SI\",'OBLIGACIONES APLICABLES'!#REF!,NA())","v":{"$error":"#REF!"}},{"$f":"IF(PUERTOS!#REF!=\"SI\",'OBLIGACIONES APLICABLES'!#REF!,NA())","v":{"$error":"#REF!"}}]
[{"$f":"IF(PUERTOS!#REF!=\"SI\",PUERTOS!#REF!,NA())","v":{"$error":"#REF!"}},{"$f":"IF(PUERTOS!#REF!=\"SI\",PUERTOS!#REF!,NA())","v":{"$error":"#REF!"}},{"$f":"IF(PUERTOS!#REF!=\"SI\",'OBLIGACIONES APLICABLES'!#REF!,NA())","v":{"$error":"#REF!"}},{"$f":"IF(PUERTOS!#REF!=\"SI\",'OBLIGACIONES APLICABLES'!#REF!,NA())","v":{"$error":"#REF!"}}]
[{"$f":"IF(PUERTOS!#REF!=\"SI\",PUERTOS!#REF!,NA())","v":{"$error":"#REF!"}},{"$f":"IF(PUERTOS!#REF!=\"SI\",PUERTOS!#REF!,NA())","v":{"$error":"#REF!"}},{"$f":"IF(PUERTOS!#REF!=\"SI\",'OBLIGACIONES APLICABLES'!#REF!,NA())","v":{"$error":"#REF!"}},{"$f":"IF(PUERTOS!#REF!=\"SI\",'OBLIGACIONES APLICABLES'!#REF!,NA())","v":{"$error":"#REF!"}}]
[{"$f":"IF(PUERTOS!#REF!=\"SI\",PUERTOS!#REF!,NA())","v":{"$error":"#REF!"}},{"$f":"IF(PUERTOS!#REF!=\"SI\",PUERTOS!#REF!,NA())","v":{"$error":"#REF!"}},{"$f":"IF(PUERTOS!#REF!=\"SI\",'OBLIGACIONES APLICABLES'!F75,NA())","v":{"$error":"#REF!"}},{"$f":"IF(PUERTOS!#REF!=\"SI\",'OBLIGACIONES APLICABLES'!G75,NA())","v":{"$error":"#REF!"}}]
[{"$f":"IF(PUERTOS!#REF!=\"SI\",PUERTOS!#REF!,NA())","v":{"$error":"#REF!"}},{"$f":"IF(PUERTOS!#REF!=\"SI\",PUERTOS!#REF!,NA())","v":{"$error":"#REF!"}},{"$f":"IF(PUERTOS!#REF!=\"SI\",'OBLIGACIONES APLICABLES'!#REF!,NA())","v":{"$error":"#REF!"}},{"$f":"IF(PUERTOS!#REF!=\"SI\",'OBLIGACIONES APLICABLES'!#REF!,NA())","v":{"$error":"#REF!"}}]
[{"$f":"IF(PUERTOS!#REF!=\"SI\",PUERTOS!#REF!,NA())","v":{"$error":"#REF!"}},{"$f":"IF(PUERTOS!#REF!=\"SI\",PUERTOS!#REF!,NA())","v":{"$error":"#REF!"}},{"$f":"IF(PUERTOS!#REF!=\"SI\",'OBLIGACIONES APLICABLES'!#REF!,NA())","v":{"$error":"#REF!"}},{"$f":"IF(PUERTOS!#REF!=\"SI\",'OBLIGACIONES APLICABLES'!#REF!,NA())","v":{"$error":"#REF!"}}]
[{"$f":"IF(PUERTOS!#REF!=\"SI\",PUERTOS!#REF!,NA())","v":{"$error":"#REF!"}},{"$f":"IF(PUERTOS!#REF!=\"SI\",PUERTOS!#REF!,NA())","v":{"$error":"#REF!"}},{"$f":"IF(PUERTOS!#REF!=\"SI\",'OBLIGACIONES APLICABLES'!F76,NA())","v":{"$error":"#REF!"}},{"$f":"IF(PUERTOS!#REF!=\"SI\",'OBLIGACIONES APLICABLES'!G76,NA())","v":{"$error":"#REF!"}}]
[{"$f":"IF(PUERTOS!#REF!=\"SI\",PUERTOS!#REF!,NA())","v":{"$error":"#REF!"}},{"$f":"IF(PUERTOS!#REF!=\"SI\",PUERTOS!#REF!,NA())","v":{"$error":"#REF!"}},{"$f":"IF(PUERTOS!#REF!=\"SI\",'OBLIGACIONES APLICABLES'!F77,NA())","v":{"$error":"#REF!"}},{"$f":"IF(PUERTOS!#REF!=\"SI\",'OBLIGACIONES APLICABLES'!G77,NA())","v":{"$error":"#REF!"}}]
[{"$f":"IF(PUERTOS!#REF!=\"SI\",PUERTOS!#REF!,NA())","v":{"$error":"#REF!"}},{"$f":"IF(PUERTOS!#REF!=\"SI\",PUERTOS!#REF!,NA())","v":{"$error":"#REF!"}},{"$f":"IF(PUERTOS!#REF!=\"SI\",'OBLIGACIONES APLICABLES'!#REF!,NA())","v":{"$error":"#REF!"}},{"$f":"IF(PUERTOS!#REF!=\"SI\",'OBLIGACIONES APLICABLES'!#REF!,NA())","v":{"$error":"#REF!"}}]
[{"$f":"IF(PUERTOS!#REF!=\"SI\",PUERTOS!#REF!,NA())","v":{"$error":"#REF!"}},{"$f":"IF(PUERTOS!#REF!=\"SI\",PUERTOS!#REF!,NA())","v":{"$error":"#REF!"}},{"$f":"IF(PUERTOS!#REF!=\"SI\",'OBLIGACIONES APLICABLES'!#REF!,NA())","v":{"$error":"#REF!"}},{"$f":"IF(PUERTOS!#REF!=\"SI\",'OBLIGACIONES APLICABLES'!#REF!,NA())","v":{"$error":"#REF!"}}]
[{"$f":"IF(PUERTOS!#REF!=\"SI\",PUERTOS!#REF!,NA())","v":{"$error":"#REF!"}},{"$f":"IF(PUERTOS!#REF!=\"SI\",PUERTOS!#REF!,NA())","v":{"$error":"#REF!"}},{"$f":"IF(PUERTOS!#REF!=\"SI\",'OBLIGACIONES APLICABLES'!#REF!,NA())","v":{"$error":"#REF!"}},{"$f":"IF(PUERTOS!#REF!=\"SI\",'OBLIGACIONES APLICABLES'!#REF!,NA())","v":{"$error":"#REF!"}}]
[{"$f":"IF(PUERTOS!#REF!=\"SI\",PUERTOS!#REF!,NA())","v":{"$error":"#REF!"}},{"$f":"IF(PUERTOS!#REF!=\"SI\",PUERTOS!#REF!,NA())","v":{"$error":"#REF!"}},{"$f":"IF(PUERTOS!#REF!=\"SI\",'OBLIGACIONES APLICABLES'!F80,NA())","v":{"$error":"#REF!"}},{"$f":"IF(PUERTOS!#REF!=\"SI\",'OBLIGACIONES APLICABLES'!G80,NA())","v":{"$error":"#REF!"}}]
[{"$f":"IF(PUERTOS!#REF!=\"SI\",PUERTOS!#REF!,NA())","v":{"$error":"#REF!"}},{"$f":"IF(PUERTOS!#REF!=\"SI\",PUERTOS!#REF!,NA())","v":{"$error":"#REF!"}},{"$f":"IF(PUERTOS!#REF!=\"SI\",'OBLIGACIONES APLICABLES'!F81,NA())","v":{"$error":"#REF!"}},{"$f":"IF(PUERTOS!#REF!=\"SI\",'OBLIGACIONES APLICABLES'!G81,NA())","v":{"$error":"#REF!"}}]
[{"$f":"IF(PUERTOS!#REF!=\"SI\",PUERTOS!#REF!,NA())","v":{"$error":"#REF!"}},{"$f":"IF(PUERTOS!#REF!=\"SI\",PUERTOS!#REF!,NA())","v":{"$error":"#REF!"}},{"$f":"IF(PUERTOS!#REF!=\"SI\",'OBLIGACIONES APLICABLES'!F82,NA())","v":{"$error":"#REF!"}},{"$f":"IF(PUERTOS!#REF!=\"SI\",'OBLIGACIONES APLICABLES'!G82,NA())","v":{"$error":"#REF!"}}]
[{"$f":"IF(PUERTOS!#REF!=\"SI\",PUERTOS!#REF!,NA())","v":{"$error":"#REF!"}},{"$f":"IF(PUERTOS!#REF!=\"SI\",PUERTOS!#REF!,NA())","v":{"$error":"#REF!"}},{"$f":"IF(PUERTOS!#REF!=\"SI\",'OBLIGACIONES APLICABLES'!F83,NA())","v":{"$error":"#REF!"}},{"$f":"IF(PUERTOS!#REF!=\"SI\",'OBLIGACIONES APLICABLES'!G83,NA())","v":{"$error":"#REF!"}}]
[{"$f":"IF(PUERTOS!#REF!=\"SI\",PUERTOS!#REF!,NA())","v":{"$error":"#REF!"}},{"$f":"IF(PUERTOS!#REF!=\"SI\",PUERTOS!#REF!,NA())","v":{"$error":"#REF!"}},{"$f":"IF(PUERTOS!#REF!=\"SI\",'OBLIGACIONES APLICABLES'!F84,NA())","v":{"$error":"#REF!"}},{"$f":"IF(PUERTOS!#REF!=\"SI\",'OBLIGACIONES APLICABLES'!G84,NA())","v":{"$error":"#REF!"}}]
[{"$f":"IF(PUERTOS!#REF!=\"SI\",PUERTOS!#REF!,NA())","v":{"$error":"#REF!"}},{"$f":"IF(PUERTOS!#REF!=\"SI\",PUERTOS!#REF!,NA())","v":{"$error":"#REF!"}},{"$f":"IF(PUERTOS!#REF!=\"SI\",'OBLIGACIONES APLICABLES'!#REF!,NA())","v":{"$error":"#REF!"}},{"$f":"IF(PUERTOS!#REF!=\"SI\",'OBLIGACIONES APLICABLES'!#REF!,NA())","v":{"$error":"#REF!"}}]
[{"$f":"IF(PUERTOS!#REF!=\"SI\",PUERTOS!#REF!,NA())","v":{"$error":"#REF!"}},{"$f":"IF(PUERTOS!#REF!=\"SI\",PUERTOS!#REF!,NA())","v":{"$error":"#REF!"}},{"$f":"IF(PUERTOS!#REF!=\"SI\",'OBLIGACIONES APLICABLES'!#REF!,NA())","v":{"$error":"#REF!"}},{"$f":"IF(PUERTOS!#REF!=\"SI\",'OBLIGACIONES APLICABLES'!#REF!,NA())","v":{"$error":"#REF!"}}]
[{"$f":"IF(PUERTOS!#REF!=\"SI\",PUERTOS!#REF!,NA())","v":{"$error":"#REF!"}},{"$f":"IF(PUERTOS!#REF!=\"SI\",PUERTOS!#REF!,NA())","v":{"$error":"#REF!"}},{"$f":"IF(PUERTOS!#REF!=\"SI\",'OBLIGACIONES APLICABLES'!F85,NA())","v":{"$error":"#REF!"}},{"$f":"IF(PUERTOS!#REF!=\"SI\",'OBLIGACIONES APLICABLES'!G85,NA())","v":{"$error":"#REF!"}}]
[{"$f":"IF(PUERTOS!#REF!=\"SI\",PUERTOS!#REF!,NA())","v":{"$error":"#REF!"}},{"$f":"IF(PUERTOS!#REF!=\"SI\",PUERTOS!#REF!,NA())","v":{"$error":"#REF!"}},{"$f":"IF(PUERTOS!#REF!=\"SI\",'OBLIGACIONES APLICABLES'!#REF!,NA())","v":{"$error":"#REF!"}},{"$f":"IF(PUERTOS!#REF!=\"SI\",'OBLIGACIONES APLICABLES'!#REF!,NA())","v":{"$error":"#REF!"}}]
[{"$f":"IF(PUERTOS!#REF!=\"SI\",PUERTOS!#REF!,NA())","v":{"$error":"#REF!"}},{"$f":"IF(PUERTOS!#REF!=\"SI\",PUERTOS!#REF!,NA())","v":{"$error":"#REF!"}},{"$f":"IF(PUERTOS!#REF!=\"SI\",'OBLIGACIONES APLICABLES'!#REF!,NA())","v":{"$error":"#REF!"}},{"$f":"IF(PUERTOS!#REF!=\"SI\",'OBLIGACIONES APLICABLES'!#REF!,NA())","v":{"$error":"#REF!"}}]
[{"$f":"IF(PUERTOS!#REF!=\"SI\",PUERTOS!#REF!,NA())","v":{"$error":"#REF!"}},{"$f":"IF(PUERTOS!#REF!=\"SI\",PUERTOS!#REF!,NA())","v":{"$error":"#REF!"}},{"$f":"IF(PUERTOS!#REF!=\"SI\",'OBLIGACIONES APLICABLES'!#REF!,NA())","v":{"$error":"#REF!"}},{"$f":"IF(PUERTOS!#REF!=\"SI\",'OBLIGACIONES APLICABLES'!#REF!,NA())","v":{"$error":"#REF!"}}]
[{"$f":"IF(PUERTOS!#REF!=\"SI\",PUERTOS!#REF!,NA())","v":{"$error":"#REF!"}},{"$f":"IF(PUERTOS!#REF!=\"SI\",PUERTOS!#REF!,NA())","v":{"$error":"#REF!"}},{"$f":"IF(PUERTOS!#REF!=\"SI\",'OBLIGACIONES APLICABLES'!F88,NA())","v":{"$error":"#REF!"}},{"$f":"IF(PUERTOS!#REF!=\"SI\",'OBLIGACIONES APLICABLES'!G88,NA())","v":{"$error":"#REF!"}}]
[{"$f":"IF(PUERTOS!#REF!=\"SI\",PUERTOS!#REF!,NA())","v":{"$error":"#REF!"}},{"$f":"IF(PUERTOS!#REF!=\"SI\",PUERTOS!#REF!,NA())","v":{"$error":"#REF!"}},{"$f":"IF(PUERTOS!#REF!=\"SI\",'OBLIGACIONES APLICABLES'!#REF!,NA())","v":{"$error":"#REF!"}},{"$f":"IF(PUERTOS!#REF!=\"SI\",'OBLIGACIONES APLICABLES'!#REF!,NA())","v":{"$error":"#REF!"}}]
[{"$f":"IF(PUERTOS!#REF!=\"SI\",PUERTOS!#REF!,NA())","v":{"$error":"#REF!"}},{"$f":"IF(PUERTOS!#REF!=\"SI\",PUERTOS!#REF!,NA())","v":{"$error":"#REF!"}},{"$f":"IF(PUERTOS!#REF!=\"SI\",'OBLIGACIONES APLICABLES'!#REF!,NA())","v":{"$error":"#REF!"}},{"$f":"IF(PUERTOS!#REF!=\"SI\",'OBLIGACIONES APLICABLES'!#REF!,NA())","v":{"$error":"#REF!"}}]
[{"$f":"IF(PUERTOS!#REF!=\"SI\",PUERTOS!#REF!,NA())","v":{"$error":"#REF!"}},{"$f":"IF(PUERTOS!#REF!=\"SI\",PUERTOS!#REF!,NA())","v":{"$error":"#REF!"}},{"$f":"IF(PUERTOS!#REF!=\"SI\",'OBLIGACIONES APLICABLES'!F89,NA())","v":{"$error":"#REF!"}},{"$f":"IF(PUERTOS!#REF!=\"SI\",'OBLIGACIONES APLICABLES'!G89,NA())","v":{"$error":"#REF!"}}]
[{"$f":"IF(PUERTOS!#REF!=\"SI\",PUERTOS!#REF!,NA())","v":{"$error":"#REF!"}},{"$f":"IF(PUERTOS!#REF!=\"SI\",PUERTOS!#REF!,NA())","v":{"$error":"#REF!"}},{"$f":"IF(PUERTOS!#REF!=\"SI\",'OBLIGACIONES APLICABLES'!F90,NA())","v":{"$error":"#REF!"}},{"$f":"IF(PUERTOS!#REF!=\"SI\",'OBLIGACIONES APLICABLES'!G90,NA())","v":{"$error":"#REF!"}}]
[{"$f":"IF(PUERTOS!#REF!=\"SI\",PUERTOS!#REF!,NA())","v":{"$error":"#REF!"}},{"$f":"IF(PUERTOS!#REF!=\"SI\",PUERTOS!#REF!,NA())","v":{"$error":"#REF!"}},{"$f":"IF(PUERTOS!#REF!=\"SI\",'OBLIGACIONES APLICABLES'!F91,NA())","v":{"$error":"#REF!"}},{"$f":"IF(PUERTOS!#REF!=\"SI\",'OBLIGACIONES APLICABLES'!G91,NA())","v":{"$error":"#REF!"}}]
[{"$f":"IF(PUERTOS!#REF!=\"SI\",PUERTOS!#REF!,NA())","v":{"$error":"#REF!"}},{"$f":"IF(PUERTOS!#REF!=\"SI\",PUERTOS!#REF!,NA())","v":{"$error":"#REF!"}},{"$f":"IF(PUERTOS!#REF!=\"SI\",'OBLIGACIONES APLICABLES'!F93,NA())","v":{"$error":"#REF!"}},{"$f":"IF(PUERTOS!#REF!=\"SI\",'OBLIGACIONES APLICABLES'!G93,NA())","v":{"$error":"#REF!"}}]
[{"$f":"IF(PUERTOS!#REF!=\"SI\",PUERTOS!#REF!,NA())","v":{"$error":"#REF!"}},{"$f":"IF(PUERTOS!#REF!=\"SI\",PUERTOS!#REF!,NA())","v":{"$error":"#REF!"}},{"$f":"IF(PUERTOS!#REF!=\"SI\",'OBLIGACIONES APLICABLES'!#REF!,NA())","v":{"$error":"#REF!"}},{"$f":"IF(PUERTOS!#REF!=\"SI\",'OBLIGACIONES APLICABLES'!#REF!,NA())","v":{"$error":"#REF!"}}]
[{"$f":"IF(PUERTOS!#REF!=\"SI\",PUERTOS!#REF!,NA())","v":{"$error":"#REF!"}},{"$f":"IF(PUERTOS!#REF!=\"SI\",PUERTOS!#REF!,NA())","v":{"$error":"#REF!"}},{"$f":"IF(PUERTOS!#REF!=\"SI\",'OBLIGACIONES APLICABLES'!F94,NA())","v":{"$error":"#REF!"}},{"$f":"IF(PUERTOS!#REF!=\"SI\",'OBLIGACIONES APLICABLES'!G94,NA())","v":{"$error":"#REF!"}}]
[{"$f":"IF(PUERTOS!#REF!=\"SI\",PUERTOS!#REF!,NA())","v":{"$error":"#REF!"}},{"$f":"IF(PUERTOS!#REF!=\"SI\",PUERTOS!#REF!,NA())","v":{"$error":"#REF!"}},{"$f":"IF(PUERTOS!#REF!=\"SI\",'OBLIGACIONES APLICABLES'!#REF!,NA())","v":{"$error":"#REF!"}},{"$f":"IF(PUERTOS!#REF!=\"SI\",'OBLIGACIONES APLICABLES'!#REF!,NA())","v":{"$error":"#REF!"}}]
[{"$f":"IF(PUERTOS!#REF!=\"SI\",PUERTOS!#REF!,NA())","v":{"$error":"#REF!"}},{"$f":"IF(PUERTOS!#REF!=\"SI\",PUERTOS!#REF!,NA())","v":{"$error":"#REF!"}},{"$f":"IF(PUERTOS!#REF!=\"SI\",'OBLIGACIONES APLICABLES'!F95,NA())","v":{"$error":"#REF!"}},{"$f":"IF(PUERTOS!#REF!=\"SI\",'OBLIGACIONES APLICABLES'!G95,NA())","v":{"$error":"#REF!"}}]
[{"$f":"IF(PUERTOS!#REF!=\"SI\",PUERTOS!#REF!,NA())","v":{"$error":"#REF!"}},{"$f":"IF(PUERTOS!#REF!=\"SI\",PUERTOS!#REF!,NA())","v":{"$error":"#REF!"}},{"$f":"IF(PUERTOS!#REF!=\"SI\",'OBLIGACIONES APLICABLES'!F96,NA())","v":{"$error":"#REF!"}},{"$f":"IF(PUERTOS!#REF!=\"SI\",'OBLIGACIONES APLICABLES'!G96,NA())","v":{"$error":"#REF!"}}]
[{"$f":"IF(PUERTOS!#REF!=\"SI\",PUERTOS!#REF!,NA())","v":{"$error":"#REF!"}},{"$f":"IF(PUERTOS!#REF!=\"SI\",PUERTOS!#REF!,NA())","v":{"$error":"#REF!"}},{"$f":"IF(PUERTOS!#REF!=\"SI\",'OBLIGACIONES APLICABLES'!#REF!,NA())","v":{"$error":"#REF!"}},{"$f":"IF(PUERTOS!#REF!=\"SI\",'OBLIGACIONES APLICABLES'!#REF!,NA())","v":{"$error":"#REF!"}}]
[{"$f":"IF(PUERTOS!#REF!=\"SI\",PUERTOS!#REF!,NA())","v":{"$error":"#REF!"}},{"$f":"IF(PUERTOS!#REF!=\"SI\",PUERTOS!#REF!,NA())","v":{"$error":"#REF!"}},{"$f":"IF(PUERTOS!#REF!=\"SI\",'OBLIGACIONES APLICABLES'!F97,NA())","v":{"$error":"#REF!"}},{"$f":"IF(PUERTOS!#REF!=\"SI\",'OBLIGACIONES APLICABLES'!G97,NA())","v":{"$error":"#REF!"}}]
[{"$f":"IF(PUERTOS!#REF!=\"SI\",PUERTOS!#REF!,NA())","v":{"$error":"#REF!"}},{"$f":"IF(PUERTOS!#REF!=\"SI\",PUERTOS!#REF!,NA())","v":{"$error":"#REF!"}},{"$f":"IF(PUERTOS!#REF!=\"SI\",'OBLIGACIONES APLICABLES'!#REF!,NA())","v":{"$error":"#REF!"}},{"$f":"IF(PUERTOS!#REF!=\"SI\",'OBLIGACIONES APLICABLES'!#REF!,NA())","v":{"$error":"#REF!"}}]
[{"$f":"IF(PUERTOS!#REF!=\"SI\",PUERTOS!#REF!,NA())","v":{"$error":"#REF!"}},{"$f":"IF(PUERTOS!#REF!=\"SI\",PUERTOS!#REF!,NA())","v":{"$error":"#REF!"}},{"$f":"IF(PUERTOS!#REF!=\"SI\",'OBLIGACIONES APLICABLES'!#REF!,NA())","v":{"$error":"#REF!"}},{"$f":"IF(PUERTOS!#REF!=\"SI\",'OBLIGACIONES APLICABLES'!#REF!,NA())","v":{"$error":"#REF!"}}]
[{"$f":"IF(PUERTOS!#REF!=\"SI\",PUERTOS!#REF!,NA())","v":{"$error":"#REF!"}},{"$f":"IF(PUERTOS!#REF!=\"SI\",PUERTOS!#REF!,NA())","v":{"$error":"#REF!"}},{"$f":"IF(PUERTOS!#REF!=\"SI\",'OBLIGACIONES APLICABLES'!#REF!,NA())","v":{"$error":"#REF!"}},{"$f":"IF(PUERTOS!#REF!=\"SI\",'OBLIGACIONES APLICABLES'!#REF!,NA())","v":{"$error":"#REF!"}}]
[{"$f":"IF(PUERTOS!#REF!=\"SI\",PUERTOS!#REF!,NA())","v":{"$error":"#REF!"}},{"$f":"IF(PUERTOS!#REF!=\"SI\",PUERTOS!#REF!,NA())","v":{"$error":"#REF!"}},{"$f":"IF(PUERTOS!#REF!=\"SI\",'OBLIGACIONES APLICABLES'!#REF!,NA())","v":{"$error":"#REF!"}},{"$f":"IF(PUERTOS!#REF!=\"SI\",'OBLIGACIONES APLICABLES'!#REF!,NA())","v":{"$error":"#REF!"}}]
[{"$f":"IF(PUERTOS!#REF!=\"SI\",PUERTOS!#REF!,NA())","v":{"$error":"#REF!"}},{"$f":"IF(PUERTOS!#REF!=\"SI\",PUERTOS!#REF!,NA())","v":{"$error":"#REF!"}},{"$f":"IF(PUERTOS!#REF!=\"SI\",'OBLIGACIONES APLICABLES'!#REF!,NA())","v":{"$error":"#REF!"}},{"$f":"IF(PUERTOS!#REF!=\"SI\",'OBLIGACIONES APLICABLES'!#REF!,NA())","v":{"$error":"#REF!"}}]
[{"$f":"IF(PUERTOS!#REF!=\"SI\",PUERTOS!#REF!,NA())","v":{"$error":"#REF!"}},{"$f":"IF(PUERTOS!#REF!=\"SI\",PUERTOS!#REF!,NA())","v":{"$error":"#REF!"}},{"$f":"IF(PUERTOS!#REF!=\"SI\",'OBLIGACIONES APLICABLES'!#REF!,NA())","v":{"$error":"#REF!"}},{"$f":"IF(PUERTOS!#REF!=\"SI\",'OBLIGACIONES APLICABLES'!#REF!,NA())","v":{"$error":"#REF!"}}]
[{"$f":"IF(PUERTOS!#REF!=\"SI\",PUERTOS!#REF!,NA())","v":{"$error":"#REF!"}},{"$f":"IF(PUERTOS!#REF!=\"SI\",PUERTOS!#REF!,NA())","v":{"$error":"#REF!"}},{"$f":"IF(PUERTOS!#REF!=\"SI\",'OBLIGACIONES APLICABLES'!#REF!,NA())","v":{"$error":"#REF!"}},{"$f":"IF(PUERTOS!#REF!=\"SI\",'OBLIGACIONES APLICABLES'!#REF!,NA())","v":{"$error":"#REF!"}}]
[{"$f":"IF(PUERTOS!#REF!=\"SI\",PUERTOS!#REF!,NA())","v":{"$error":"#REF!"}},{"$f":"IF(PUERTOS!#REF!=\"SI\",PUERTOS!#REF!,NA())","v":{"$error":"#REF!"}},{"$f":"IF(PUERTOS!#REF!=\"SI\",'OBLIGACIONES APLICABLES'!#REF!,NA())","v":{"$error":"#REF!"}},{"$f":"IF(PUERTOS!#REF!=\"SI\",'OBLIGACIONES APLICABLES'!#REF!,NA())","v":{"$error":"#REF!"}}]
[{"$f":"IF(PUERTOS!#REF!=\"SI\",PUERTOS!#REF!,NA())","v":{"$error":"#REF!"}},{"$f":"IF(PUERTOS!#REF!=\"SI\",PUERTOS!#REF!,NA())","v":{"$error":"#REF!"}},{"$f":"IF(PUERTOS!#REF!=\"SI\",'OBLIGACIONES APLICABLES'!#REF!,NA())","v":{"$error":"#REF!"}},{"$f":"IF(PUERTOS!#REF!=\"SI\",'OBLIGACIONES APLICABLES'!#REF!,NA())","v":{"$error":"#REF!"}}]
[{"$f":"IF(PUERTOS!#REF!=\"SI\",PUERTOS!#REF!,NA())","v":{"$error":"#REF!"}},{"$f":"IF(PUERTOS!#REF!=\"SI\",PUERTOS!#REF!,NA())","v":{"$error":"#REF!"}},{"$f":"IF(PUERTOS!#REF!=\"SI\",'OBLIGACIONES APLICABLES'!#REF!,NA())","v":{"$error":"#REF!"}},{"$f":"IF(PUERTOS!#REF!=\"SI\",'OBLIGACIONES APLICABLES'!#REF!,NA())","v":{"$error":"#REF!"}}]
[{"$f":"IF(PUERTOS!#REF!=\"SI\",PUERTOS!#REF!,NA())","v":{"$error":"#REF!"}},{"$f":"IF(PUERTOS!#REF!=\"SI\",PUERTOS!#REF!,NA())","v":{"$error":"#REF!"}},{"$f":"IF(PUERTOS!#REF!=\"SI\",'OBLIGACIONES APLICABLES'!#REF!,NA())","v":{"$error":"#REF!"}},{"$f":"IF(PUERTOS!#REF!=\"SI\",'OBLIGACIONES APLICABLES'!#REF!,NA())","v":{"$error":"#REF!"}}]
[{"$f":"IF(PUERTOS!#REF!=\"SI\",PUERTOS!#REF!,NA())","v":{"$error":"#REF!"}},{"$f":"IF(PUERTOS!#REF!=\"SI\",PUERTOS!#REF!,NA())","v":{"$error":"#REF!"}},{"$f":"IF(PUERTOS!#REF!=\"SI\",'OBLIGACIONES APLICABLES'!F99,NA())","v":{"$error":"#REF!"}},{"$f":"IF(PUERTOS!#REF!=\"SI\",'OBLIGACIONES APLICABLES'!G99,NA())","v":{"$error":"#REF!"}}]
[{"$f":"IF(PUERTOS!#REF!=\"SI\",PUERTOS!#REF!,NA())","v":{"$error":"#REF!"}},{"$f":"IF(PUERTOS!#REF!=\"SI\",PUERTOS!#REF!,NA())","v":{"$error":"#REF!"}},{"$f":"IF(PUERTOS!#REF!=\"SI\",'OBLIGACIONES APLICABLES'!#REF!,NA())","v":{"$error":"#REF!"}},{"$f":"IF(PUERTOS!#REF!=\"SI\",'OBLIGACIONES APLICABLES'!#REF!,NA())","v":{"$error":"#REF!"}}]
[{"$f":"IF(PUERTOS!#REF!=\"SI\",PUERTOS!#REF!,NA())","v":{"$error":"#REF!"}},{"$f":"IF(PUERTOS!#REF!=\"SI\",PUERTOS!#REF!,NA())","v":{"$error":"#REF!"}},{"$f":"IF(PUERTOS!#REF!=\"SI\",'OBLIGACIONES APLICABLES'!F100,NA())","v":{"$error":"#REF!"}},{"$f":"IF(PUERTOS!#REF!=\"SI\",'OBLIGACIONES APLICABLES'!G100,NA())","v":{"$error":"#REF!"}}]
[{"$f":"IF(PUERTOS!#REF!=\"SI\",PUERTOS!#REF!,NA())","v":{"$error":"#REF!"}},{"$f":"IF(PUERTOS!#REF!=\"SI\",PUERTOS!#REF!,NA())","v":{"$error":"#REF!"}},{"$f":"IF(PUERTOS!#REF!=\"SI\",'OBLIGACIONES APLICABLES'!#REF!,NA())","v":{"$error":"#REF!"}},{"$f":"IF(PUERTOS!#REF!=\"SI\",'OBLIGACIONES APLICABLES'!#REF!,NA())","v":{"$error":"#REF!"}}]
[{"$f":"IF(PUERTOS!#REF!=\"SI\",PUERTOS!#REF!,NA())","v":{"$error":"#REF!"}},{"$f":"IF(PUERTOS!#REF!=\"SI\",PUERTOS!#REF!,NA())","v":{"$error":"#REF!"}},{"$f":"IF(PUERTOS!#REF!=\"SI\",'OBLIGACIONES APLICABLES'!F101,NA())","v":{"$error":"#REF!"}},{"$f":"IF(PUERTOS!#REF!=\"SI\",'OBLIGACIONES APLICABLES'!G101,NA())","v":{"$error":"#REF!"}}]
[{"$f":"IF(PUERTOS!#REF!=\"SI\",PUERTOS!#REF!,NA())","v":{"$error":"#REF!"}},{"$f":"IF(PUERTOS!#REF!=\"SI\",PUERTOS!#REF!,NA())","v":{"$error":"#REF!"}},{"$f":"IF(PUERTOS!#REF!=\"SI\",'OBLIGACIONES APLICABLES'!#REF!,NA())","v":{"$error":"#REF!"}},{"$f":"IF(PUERTOS!#REF!=\"SI\",'OBLIGACIONES APLICABLES'!#REF!,NA())","v":{"$error":"#REF!"}}]
[{"$f":"IF(PUERTOS!#REF!=\"SI\",PUERTOS!#REF!,NA())","v":{"$error":"#REF!"}},{"$f":"IF(PUERTOS!#REF!=\"SI\",PUERTOS!#REF!,NA())","v":{"$error":"#REF!"}},{"$f":"IF(PUERTOS!#REF!=\"SI\",'OBLIGACIONES APLICABLES'!F102,NA())","v":{"$error":"#REF!"}},{"$f":"IF(PUERTOS!#REF!=\"SI\",'OBLIGACIONES APLICABLES'!G102,NA())","v":{"$error":"#REF!"}}]
[{"$f":"IF(PUERTOS!#REF!=\"SI\",PUERTOS!#REF!,NA())","v":{"$error":"#REF!"}},{"$f":"IF(PUERTOS!#REF!=\"SI\",PUERTOS!#REF!,NA())","v":{"$error":"#REF!"}},{"$f":"IF(PUERTOS!#REF!=\"SI\",'OBLIGACIONES APLICABLES'!#REF!,NA())","v":{"$error":"#REF!"}},{"$f":"IF(PUERTOS!#REF!=\"SI\",'OBLIGACIONES APLICABLES'!#REF!,NA())","v":{"$error":"#REF!"}}]
[{"$f":"IF(PUERTOS!#REF!=\"SI\",PUERTOS!#REF!,NA())","v":{"$error":"#REF!"}},{"$f":"IF(PUERTOS!#REF!=\"SI\",PUERTOS!#REF!,NA())","v":{"$error":"#REF!"}},{"$f":"IF(PUERTOS!#REF!=\"SI\",'OBLIGACIONES APLICABLES'!#REF!,NA())","v":{"$error":"#REF!"}},{"$f":"IF(PUERTOS!#REF!=\"SI\",'OBLIGACIONES APLICABLES'!#REF!,NA())","v":{"$error":"#REF!"}}]
[{"$f":"IF(PUERTOS!#REF!=\"SI\",PUERTOS!#REF!,NA())","v":{"$error":"#REF!"}},{"$f":"IF(PUERTOS!#REF!=\"SI\",PUERTOS!#REF!,NA())","v":{"$error":"#REF!"}},{"$f":"IF(PUERTOS!#REF!=\"SI\",'OBLIGACIONES APLICABLES'!F103,NA())","v":{"$error":"#REF!"}},{"$f":"IF(PUERTOS!#REF!=\"SI\",'OBLIGACIONES APLICABLES'!G103,NA())","v":{"$error":"#REF!"}}]
[{"$f":"IF(PUERTOS!#REF!=\"SI\",PUERTOS!#REF!,NA())","v":{"$error":"#REF!"}},{"$f":"IF(PUERTOS!#REF!=\"SI\",PUERTOS!#REF!,NA())","v":{"$error":"#REF!"}},{"$f":"IF(PUERTOS!#REF!=\"SI\",'OBLIGACIONES APLICABLES'!F104,NA())","v":{"$error":"#REF!"}},{"$f":"IF(PUERTOS!#REF!=\"SI\",'OBLIGACIONES APLICABLES'!G104,NA())","v":{"$error":"#REF!"}}]
[{"$f":"IF(PUERTOS!#REF!=\"SI\",PUERTOS!#REF!,NA())","v":{"$error":"#REF!"}},{"$f":"IF(PUERTOS!#REF!=\"SI\",PUERTOS!#REF!,NA())","v":{"$error":"#REF!"}},{"$f":"IF(PUERTOS!#REF!=\"SI\",'OBLIGACIONES APLICABLES'!F105,NA())","v":{"$error":"#REF!"}},{"$f":"IF(PUERTOS!#REF!=\"SI\",'OBLIGACIONES APLICABLES'!G105,NA())","v":{"$error":"#REF!"}}]
[{"$f":"IF(PUERTOS!D125=\"SI\",PUERTOS!B125,NA())","v":{"$error":"#N/A"}},{"$f":"IF(PUERTOS!D125=\"SI\",PUERTOS!#REF!,NA())","v":{"$error":"#N/A"}},{"$f":"IF(PUERTOS!#REF!=\"SI\",'OBLIGACIONES APLICABLES'!F106,NA())","v":{"$error":"#REF!"}},{"$f":"IF(PUERTOS!#REF!=\"SI\",'OBLIGACIONES APLICABLES'!G106,NA())","v":{"$error":"#REF!"}}]
[{"$f":"IF(PUERTOS!#REF!=\"SI\",PUERTOS!#REF!,NA())","v":{"$error":"#REF!"}},{"$f":"IF(PUERTOS!#REF!=\"SI\",PUERTOS!#REF!,NA())","v":{"$error":"#REF!"}},{"$f":"IF(PUERTOS!#REF!=\"SI\",'OBLIGACIONES APLICABLES'!#REF!,NA())","v":{"$error":"#REF!"}},{"$f":"IF(PUERTOS!#REF!=\"SI\",'OBLIGACIONES APLICABLES'!#REF!,NA())","v":{"$error":"#REF!"}}]
[{"$f":"IF(PUERTOS!#REF!=\"SI\",PUERTOS!#REF!,NA())","v":{"$error":"#REF!"}},{"$f":"IF(PUERTOS!#REF!=\"SI\",PUERTOS!#REF!,NA())","v":{"$error":"#REF!"}},{"$f":"IF(PUERTOS!#REF!=\"SI\",'OBLIGACIONES APLICABLES'!#REF!,NA())","v":{"$error":"#REF!"}},{"$f":"IF(PUERTOS!#REF!=\"SI\",'OBLIGACIONES APLICABLES'!#REF!,NA())","v":{"$error":"#REF!"}}]
[{"$f":"IF(PUERTOS!#REF!=\"SI\",PUERTOS!#REF!,NA())","v":{"$error":"#REF!"}},{"$f":"IF(PUERTOS!#REF!=\"SI\",PUERTOS!#REF!,NA())","v":{"$error":"#REF!"}},{"$f":"IF(PUERTOS!#REF!=\"SI\",'OBLIGACIONES APLICABLES'!F107,NA())","v":{"$error":"#REF!"}},{"$f":"IF(PUERTOS!#REF!=\"SI\",'OBLIGACIONES APLICABLES'!G107,NA())","v":{"$error":"#REF!"}}]
[{"$f":"IF(PUERTOS!#REF!=\"SI\",PUERTOS!#REF!,NA())","v":{"$error":"#REF!"}},{"$f":"IF(PUERTOS!#REF!=\"SI\",PUERTOS!#REF!,NA())","v":{"$error":"#REF!"}},{"$f":"IF(PUERTOS!#REF!=\"SI\",'OBLIGACIONES APLICABLES'!#REF!,NA())","v":{"$error":"#REF!"}},{"$f":"IF(PUERTOS!#REF!=\"SI\",'OBLIGACIONES APLICABLES'!#REF!,NA())","v":{"$error":"#REF!"}}]
[{"$f":"IF(PUERTOS!#REF!=\"SI\",PUERTOS!#REF!,NA())","v":{"$error":"#REF!"}},{"$f":"IF(PUERTOS!#REF!=\"SI\",PUERTOS!#REF!,NA())","v":{"$error":"#REF!"}},{"$f":"IF(PUERTOS!#REF!=\"SI\",'OBLIGACIONES APLICABLES'!#REF!,NA())","v":{"$error":"#REF!"}},{"$f":"IF(PUERTOS!#REF!=\"SI\",'OBLIGACIONES APLICABLES'!#REF!,NA())","v":{"$error":"#REF!"}}]
[{"$f":"IF(PUERTOS!#REF!=\"SI\",PUERTOS!#REF!,NA())","v":{"$error":"#REF!"}},{"$f":"IF(PUERTOS!#REF!=\"SI\",PUERTOS!#REF!,NA())","v":{"$error":"#REF!"}},{"$f":"IF(PUERTOS!#REF!=\"SI\",'OBLIGACIONES APLICABLES'!F110,NA())","v":{"$error":"#REF!"}},{"$f":"IF(PUERTOS!#REF!=\"SI\",'OBLIGACIONES APLICABLES'!G110,NA())","v":{"$error":"#REF!"}}]
[{"$f":"IF(PUERTOS!#REF!=\"SI\",PUERTOS!#REF!,NA())","v":{"$error":"#REF!"}},{"$f":"IF(PUERTOS!#REF!=\"SI\",PUERTOS!#REF!,NA())","v":{"$error":"#REF!"}},{"$f":"IF(PUERTOS!#REF!=\"SI\",'OBLIGACIONES APLICABLES'!#REF!,NA())","v":{"$error":"#REF!"}},{"$f":"IF(PUERTOS!#REF!=\"SI\",'OBLIGACIONES APLICABLES'!#REF!,NA())","v":{"$error":"#REF!"}}]
[{"$f":"IF(PUERTOS!#REF!=\"SI\",PUERTOS!#REF!,NA())","v":{"$error":"#REF!"}},{"$f":"IF(PUERTOS!#REF!=\"SI\",PUERTOS!#REF!,NA())","v":{"$error":"#REF!"}},{"$f":"IF(PUERTOS!#REF!=\"SI\",'OBLIGACIONES APLICABLES'!#REF!,NA())","v":{"$error":"#REF!"}},{"$f":"IF(PUERTOS!#REF!=\"SI\",'OBLIGACIONES APLICABLES'!#REF!,NA())","v":{"$error":"#REF!"}}]
[{"$f":"IF(PUERTOS!#REF!=\"SI\",PUERTOS!#REF!,NA())","v":{"$error":"#REF!"}},{"$f":"IF(PUERTOS!#REF!=\"SI\",PUERTOS!#REF!,NA())","v":{"$error":"#REF!"}},{"$f":"IF(PUERTOS!#REF!=\"SI\",'OBLIGACIONES APLICABLES'!#REF!,NA())","v":{"$error":"#REF!"}},{"$f":"IF(PUERTOS!#REF!=\"SI\",'OBLIGACIONES APLICABLES'!#REF!,NA())","v":{"$error":"#REF!"}}]
[{"$f":"IF(PUERTOS!#REF!=\"SI\",PUERTOS!#REF!,NA())","v":{"$error":"#REF!"}},{"$f":"IF(PUERTOS!#REF!=\"SI\",PUERTOS!#REF!,NA())","v":{"$error":"#REF!"}},{"$f":"IF(PUERTOS!#REF!=\"SI\",'OBLIGACIONES APLICABLES'!#REF!,NA())","v":{"$error":"#REF!"}},{"$f":"IF(PUERTOS!#REF!=\"SI\",'OBLIGACIONES APLICABLES'!#REF!,NA())","v":{"$error":"#REF!"}}]
[{"$f":"IF(PUERTOS!#REF!=\"SI\",PUERTOS!#REF!,NA())","v":{"$error":"#REF!"}},{"$f":"IF(PUERTOS!#REF!=\"SI\",PUERTOS!#REF!,NA())","v":{"$error":"#REF!"}},{"$f":"IF(PUERTOS!#REF!=\"SI\",'OBLIGACIONES APLICABLES'!#REF!,NA())","v":{"$error":"#REF!"}},{"$f":"IF(PUERTOS!#REF!=\"SI\",'OBLIGACIONES APLICABLES'!#REF!,NA())","v":{"$error":"#REF!"}}]
[{"$f":"IF(PUERTOS!#REF!=\"SI\",PUERTOS!#REF!,NA())","v":{"$error":"#REF!"}},{"$f":"IF(PUERTOS!#REF!=\"SI\",PUERTOS!#REF!,NA())","v":{"$error":"#REF!"}},{"$f":"IF(PUERTOS!#REF!=\"SI\",'OBLIGACIONES APLICABLES'!#REF!,NA())","v":{"$error":"#REF!"}},{"$f":"IF(PUERTOS!#REF!=\"SI\",'OBLIGACIONES APLICABLES'!#REF!,NA())","v":{"$error":"#REF!"}}]
[{"$f":"IF(PUERTOS!#REF!=\"SI\",PUERTOS!#REF!,NA())","v":{"$error":"#REF!"}},{"$f":"IF(PUERTOS!#REF!=\"SI\",PUERTOS!#REF!,NA())","v":{"$error":"#REF!"}},{"$f":"IF(PUERTOS!#REF!=\"SI\",'OBLIGACIONES APLICABLES'!#REF!,NA())","v":{"$error":"#REF!"}},{"$f":"IF(PUERTOS!#REF!=\"SI\",'OBLIGACIONES APLICABLES'!#REF!,NA())","v":{"$error":"#REF!"}}]
[{"$f":"IF(PUERTOS!#REF!=\"SI\",PUERTOS!#REF!,NA())","v":{"$error":"#REF!"}},{"$f":"IF(PUERTOS!#REF!=\"SI\",PUERTOS!#REF!,NA())","v":{"$error":"#REF!"}},{"$f":"IF(PUERTOS!#REF!=\"SI\",'OBLIGACIONES APLICABLES'!#REF!,NA())","v":{"$error":"#REF!"}},{"$f":"IF(PUERTOS!#REF!=\"SI\",'OBLIGACIONES APLICABLES'!#REF!,NA())","v":{"$error":"#REF!"}}]
[{"$f":"IF(PUERTOS!#REF!=\"SI\",PUERTOS!#REF!,NA())","v":{"$error":"#REF!"}},{"$f":"IF(PUERTOS!#REF!=\"SI\",PUERTOS!#REF!,NA())","v":{"$error":"#REF!"}},{"$f":"IF(PUERTOS!#REF!=\"SI\",'OBLIGACIONES APLICABLES'!#REF!,NA())","v":{"$error":"#REF!"}},{"$f":"IF(PUERTOS!#REF!=\"SI\",'OBLIGACIONES APLICABLES'!#REF!,NA())","v":{"$error":"#REF!"}}]
[{"$f":"IF(PUERTOS!#REF!=\"SI\",PUERTOS!#REF!,NA())","v":{"$error":"#REF!"}},{"$f":"IF(PUERTOS!#REF!=\"SI\",PUERTOS!#REF!,NA())","v":{"$error":"#REF!"}},{"$f":"IF(PUERTOS!#REF!=\"SI\",'OBLIGACIONES APLICABLES'!#REF!,NA())","v":{"$error":"#REF!"}},{"$f":"IF(PUERTOS!#REF!=\"SI\",'OBLIGACIONES APLICABLES'!#REF!,NA())","v":{"$error":"#REF!"}}]
[{"$f":"IF(PUERTOS!#REF!=\"SI\",PUERTOS!#REF!,NA())","v":{"$error":"#REF!"}},{"$f":"IF(PUERTOS!#REF!=\"SI\",PUERTOS!#REF!,NA())","v":{"$error":"#REF!"}},{"$f":"IF(PUERTOS!#REF!=\"SI\",'OBLIGACIONES APLICABLES'!#REF!,NA())","v":{"$error":"#REF!"}},{"$f":"IF(PUERTOS!#REF!=\"SI\",'OBLIGACIONES APLICABLES'!#REF!,NA())","v":{"$error":"#REF!"}}]

{"sheet":"Hoja2","index":5,"n_rows":74,"n_cols":4,"rows_kept":74,"cut":false,"hidden":true,"merged":[]}
["COMPONENTE","Fase de construcción","Fase de operación y mantenimiento","Fase de desmantelamiento y abandono"]
[{"$f":"IFERROR(INDEX(Temp!A$3:A$170, SMALL(IF(ISERROR(Temp!A$3:A$170), \"\", ROW(Temp!A$3:A$170)-MIN(ROW(Temp!A$3:A$170))+1), ROW(1:1))),\"\")","v":""},{"$f":"IFERROR(INDEX(Temp!B$3:B$170, SMALL(IF(ISERROR(Temp!B$3:B$170), \"\", ROW(Temp!B$3:B$170)-MIN(ROW(Temp!B$3:B$170))+1), ROW(1:1))),\"\")","v":""},{"$f":"IFERROR(INDEX(Temp!C$3:C$170, SMALL(IF(ISERROR(Temp!C$3:C$170), \"\", ROW(Temp!C$3:C$170)-MIN(ROW(Temp!C$3:C$170))+1), ROW(1:1))),\"\")","v":""},{"$f":"IFERROR(INDEX(Temp!D$3:D$170, SMALL(IF(ISERROR(Temp!D$3:D$170), \"\", ROW(Temp!D$3:D$170)-MIN(ROW(Temp!D$3:D$170))+1), ROW(1:1))),\"\")","v":""}]
[{"$f":"IFERROR(INDEX(Temp!A$3:A$170, SMALL(IF(ISERROR(Temp!A$3:A$170), \"\", ROW(Temp!A$3:A$170)-MIN(ROW(Temp!A$3:A$170))+1), ROW(2:2))),\"\")","v":""},{"$f":"IFERROR(INDEX(Temp!B$3:B$170, SMALL(IF(ISERROR(Temp!B$3:B$170), \"\", ROW(Temp!B$3:B$170)-MIN(ROW(Temp!B$3:B$170))+1), ROW(2:2))),\"\")","v":""},{"$f":"IFERROR(INDEX(Temp!C$3:C$170, SMALL(IF(ISERROR(Temp!C$3:C$170), \"\", ROW(Temp!C$3:C$170)-MIN(ROW(Temp!C$3:C$170))+1), ROW(2:2))),\"\")","v":""},{"$f":"IFERROR(INDEX(Temp!D$3:D$170, SMALL(IF(ISERROR(Temp!D$3:D$170), \"\", ROW(Temp!D$3:D$170)-MIN(ROW(Temp!D$3:D$170))+1), ROW(2:2))),\"\")","v":""}]
[{"$f":"IFERROR(INDEX(Temp!A$3:A$170, SMALL(IF(ISERROR(Temp!A$3:A$170), \"\", ROW(Temp!A$3:A$170)-MIN(ROW(Temp!A$3:A$170))+1), ROW(3:3))),\"\")","v":""},{"$f":"IFERROR(INDEX(Temp!B$3:B$170, SMALL(IF(ISERROR(Temp!B$3:B$170), \"\", ROW(Temp!B$3:B$170)-MIN(ROW(Temp!B$3:B$170))+1), ROW(3:3))),\"\")","v":""},{"$f":"IFERROR(INDEX(Temp!C$3:C$170, SMALL(IF(ISERROR(Temp!C$3:C$170), \"\", ROW(Temp!C$3:C$170)-MIN(ROW(Temp!C$3:C$170))+1), ROW(3:3))),\"\")","v":""},{"$f":"IFERROR(INDEX(Temp!D$3:D$170, SMALL(IF(ISERROR(Temp!D$3:D$170), \"\", ROW(Temp!D$3:D$170)-MIN(ROW(Temp!D$3:D$170))+1), ROW(3:3))),\"\")","v":""}]
[{"$f":"IFERROR(INDEX(Temp!A$3:A$170, SMALL(IF(ISERROR(Temp!A$3:A$170), \"\", ROW(Temp!A$3:A$170)-MIN(ROW(Temp!A$3:A$170))+1), ROW(4:4))),\"\")","v":""},{"$f":"IFERROR(INDEX(Temp!B$3:B$170, SMALL(IF(ISERROR(Temp!B$3:B$170), \"\", ROW(Temp!B$3:B$170)-MIN(ROW(Temp!B$3:B$170))+1), ROW(4:4))),\"\")","v":""},{"$f":"IFERROR(INDEX(Temp!C$3:C$170, SMALL(IF(ISERROR(Temp!C$3:C$170), \"\", ROW(Temp!C$3:C$170)-MIN(ROW(Temp!C$3:C$170))+1), ROW(4:4))),\"\")","v":""},{"$f":"IFERROR(INDEX(Temp!D$3:D$170, SMALL(IF(ISERROR(Temp!D$3:D$170), \"\", ROW(Temp!D$3:D$170)-MIN(ROW(Temp!D$3:D$170))+1), ROW(4:4))),\"\")","v":""}]
[{"$f":"IFERROR(INDEX(Temp!A$3:A$170, SMALL(IF(ISERROR(Temp!A$3:A$170), \"\", ROW(Temp!A$3:A$170)-MIN(ROW(Temp!A$3:A$170))+1), ROW(5:5))),\"\")","v":""},{"$f":"IFERROR(INDEX(Temp!B$3:B$170, SMALL(IF(ISERROR(Temp!B$3:B$170), \"\", ROW(Temp!B$3:B$170)-MIN(ROW(Temp!B$3:B$170))+1), ROW(5:5))),\"\")","v":""},{"$f":"IFERROR(INDEX(Temp!C$3:C$170, SMALL(IF(ISERROR(Temp!C$3:C$170), \"\", ROW(Temp!C$3:C$170)-MIN(ROW(Temp!C$3:C$170))+1), ROW(5:5))),\"\")","v":""},{"$f":"IFERROR(INDEX(Temp!D$3:D$170, SMALL(IF(ISERROR(Temp!D$3:D$170), \"\", ROW(Temp!D$3:D$170)-MIN(ROW(Temp!D$3:D$170))+1), ROW(5:5))),\"\")","v":""}]
[{"$f":"IFERROR(INDEX(Temp!A$3:A$170, SMALL(IF(ISERROR(Temp!A$3:A$170), \"\", ROW(Temp!A$3:A$170)-MIN(ROW(Temp!A$3:A$170))+1), ROW(6:6))),\"\")","v":""},{"$f":"IFERROR(INDEX(Temp!B$3:B$170, SMALL(IF(ISERROR(Temp!B$3:B$170), \"\", ROW(Temp!B$3:B$170)-MIN(ROW(Temp!B$3:B$170))+1), ROW(6:6))),\"\")","v":""},{"$f":"IFERROR(INDEX(Temp!C$3:C$170, SMALL(IF(ISERROR(Temp!C$3:C$170), \"\", ROW(Temp!C$3:C$170)-MIN(ROW(Temp!C$3:C$170))+1), ROW(6:6))),\"\")","v":""},{"$f":"IFERROR(INDEX(Temp!D$3:D$170, SMALL(IF(ISERROR(Temp!D$3:D$170), \"\", ROW(Temp!D$3:D$170)-MIN(ROW(Temp!D$3:D$170))+1), ROW(6:6))),\"\")","v":""}]
[{"$f":"IFERROR(INDEX(Temp!A$3:A$170, SMALL(IF(ISERROR(Temp!A$3:A$170), \"\", ROW(Temp!A$3:A$170)-MIN(ROW(Temp!A$3:A$170))+1), ROW(7:7))),\"\")","v":""},{"$f":"IFERROR(INDEX(Temp!B$3:B$170, SMALL(IF(ISERROR(Temp!B$3:B$170), \"\", ROW(Temp!B$3:B$170)-MIN(ROW(Temp!B$3:B$170))+1), ROW(7:7))),\"\")","v":""},{"$f":"IFERROR(INDEX(Temp!C$3:C$170, SMALL(IF(ISERROR(Temp!C$3:C$170), \"\", ROW(Temp!C$3:C$170)-MIN(ROW(Temp!C$3:C$170))+1), ROW(7:7))),\"\")","v":""},{"$f":"IFERROR(INDEX(Temp!D$3:D$170, SMALL(IF(ISERROR(Temp!D$3:D$170), \"\", ROW(Temp!D$3:D$170)-MIN(ROW(Temp!D$3:D$170))+1), ROW(7:7))),\"\")","v":""}]
[{"$f":"IFERROR(INDEX(Temp!A$3:A$170, SMALL(IF(ISERROR(Temp!A$3:A$170), \"\", ROW(Temp!A$3:A$170)-MIN(ROW(Temp!A$3:A$170))+1), ROW(8:8))),\"\")","v":""},{"$f":"IFERROR(INDEX(Temp!B$3:B$170, SMALL(IF(ISERROR(Temp!B$3:B$170), \"\", ROW(Temp!B$3:B$170)-MIN(ROW(Temp!B$3:B$170))+1), ROW(8:8))),\"\")","v":""},{"$f":"IFERROR(INDEX(Temp!C$3:C$170, SMALL(IF(ISERROR(Temp!C$3:C$170), \"\", ROW(Temp!C$3:C$170)-MIN(ROW(Temp!C$3:C$170))+1), ROW(8:8))),\"\")","v":""},{"$f":"IFERROR(INDEX(Temp!D$3:D$170, SMALL(IF(ISERROR(Temp!D$3:D$170), \"\", ROW(Temp!D$3:D$170)-MIN(ROW(Temp!D$3:D$170))+1), ROW(8:8))),\"\")","v":""}]
[{"$f":"IFERROR(INDEX(Temp!A$3:A$170, SMALL(IF(ISERROR(Temp!A$3:A$170), \"\", ROW(Temp!A$3:A$170)-MIN(ROW(Temp!A$3:A$170))+1), ROW(9:9))),\"\")","v":""},{"$f":"IFERROR(INDEX(Temp!B$3:B$170, SMALL(IF(ISERROR(Temp!B$3:B$170), \"\", ROW(Temp!B$3:B$170)-MIN(ROW(Temp!B$3:B$170))+1), ROW(9:9))),\"\")","v":""},{"$f":"IFERROR(INDEX(Temp!C$3:C$170, SMALL(IF(ISERROR(Temp!C$3:C$170), \"\", ROW(Temp!C$3:C$170)-MIN(ROW(Temp!C$3:C$170))+1), ROW(9:9))),\"\")","v":""},{"$f":"IFERROR(INDEX(Temp!D$3:D$170, SMALL(IF(ISERROR(Temp!D$3:D$170), \"\", ROW(Temp!D$3:D$170)-MIN(ROW(Temp!D$3:D$170))+1), ROW(9:9))),\"\")","v":""}]
[{"$f":"IFERROR(INDEX(Temp!A$3:A$170, SMALL(IF(ISERROR(Temp!A$3:A$170), \"\", ROW(Temp!A$3:A$170)-MIN(ROW(Temp!A$3:A$170))+1), ROW(10:10))),\"\")","v":""},{"$f":"IFERROR(INDEX(Temp!B$3:B$170, SMALL(IF(ISERROR(Temp!B$3:B$170), \"\", ROW(Temp!B$3:B$170)-MIN(ROW(Temp!B$3:B$170))+1), ROW(10:10))),\"\")","v":""},{"$f":"IFERROR(INDEX(Temp!C$3:C$170, SMALL(IF(ISERROR(Temp!C$3:C$170), \"\", ROW(Temp!C$3:C$170)-MIN(ROW(Temp!C$3:C$170))+1), ROW(10:10))),\"\")","v":""},{"$f":"IFERROR(INDEX(Temp!D$3:D$170, SMALL(IF(ISERROR(Temp!D$3:D$170), \"\", ROW(Temp!D$3:D$170)-MIN(ROW(Temp!D$3:D$170))+1), ROW(10:10))),\"\")","v":""}]
[{"$f":"IFERROR(INDEX(Temp!A$3:A$170, SMALL(IF(ISERROR(Temp!A$3:A$170), \"\", ROW(Temp!A$3:A$170)-MIN(ROW(Temp!A$3:A$170))+1), ROW(11:11))),\"\")","v":""},{"$f":"IFERROR(INDEX(Temp!B$3:B$170, SMALL(IF(ISERROR(Temp!B$3:B$170), \"\", ROW(Temp!B$3:B$170)-MIN(ROW(Temp!B$3:B$170))+1), ROW(11:11))),\"\")","v":""},{"$f":"IFERROR(INDEX(Temp!C$3:C$170, SMALL(IF(ISERROR(Temp!C$3:C$170), \"\", ROW(Temp!C$3:C$170)-MIN(ROW(Temp!C$3:C$170))+1), ROW(11:11))),\"\")","v":""},{"$f":"IFERROR(INDEX(Temp!D$3:D$170, SMALL(IF(ISERROR(Temp!D$3:D$170), \"\", ROW(Temp!D$3:D$170)-MIN(ROW(Temp!D$3:D$170))+1), ROW(11:11))),\"\")","v":""}]
[{"$f":"IFERROR(INDEX(Temp!A$3:A$170, SMALL(IF(ISERROR(Temp!A$3:A$170), \"\", ROW(Temp!A$3:A$170)-MIN(ROW(Temp!A$3:A$170))+1), ROW(12:12))),\"\")","v":""},{"$f":"IFERROR(INDEX(Temp!B$3:B$170, SMALL(IF(ISERROR(Temp!B$3:B$170), \"\", ROW(Temp!B$3:B$170)-MIN(ROW(Temp!B$3:B$170))+1), ROW(12:12))),\"\")","v":""},{"$f":"IFERROR(INDEX(Temp!C$3:C$170, SMALL(IF(ISERROR(Temp!C$3:C$170), \"\", ROW(Temp!C$3:C$170)-MIN(ROW(Temp!C$3:C$170))+1), ROW(12:12))),\"\")","v":""},{"$f":"IFERROR(INDEX(Temp!D$3:D$170, SMALL(IF(ISERROR(Temp!D$3:D$170), \"\", ROW(Temp!D$3:D$170)-MIN(ROW(Temp!D$3:D$170))+1), ROW(12:12))),\"\")","v":""}]
[{"$f":"IFERROR(INDEX(Temp!A$3:A$170, SMALL(IF(ISERROR(Temp!A$3:A$170), \"\", ROW(Temp!A$3:A$170)-MIN(ROW(Temp!A$3:A$170))+1), ROW(13:13))),\"\")","v":""},{"$f":"IFERROR(INDEX(Temp!B$3:B$170, SMALL(IF(ISERROR(Temp!B$3:B$170), \"\", ROW(Temp!B$3:B$170)-MIN(ROW(Temp!B$3:B$170))+1), ROW(13:13))),\"\")","v":""},{"$f":"IFERROR(INDEX(Temp!C$3:C$170, SMALL(IF(ISERROR(Temp!C$3:C$170), \"\", ROW(Temp!C$3:C$170)-MIN(ROW(Temp!C$3:C$170))+1), ROW(13:13))),\"\")","v":""},{"$f":"IFERROR(INDEX(Temp!D$3:D$170, SMALL(IF(ISERROR(Temp!D$3:D$170), \"\", ROW(Temp!D$3:D$170)-MIN(ROW(Temp!D$3:D$170))+1), ROW(13:13))),\"\")","v":""}]
[{"$f":"IFERROR(INDEX(Temp!A$3:A$170, SMALL(IF(ISERROR(Temp!A$3:A$170), \"\", ROW(Temp!A$3:A$170)-MIN(ROW(Temp!A$3:A$170))+1), ROW(14:14))),\"\")","v":""},{"$f":"IFERROR(INDEX(Temp!B$3:B$170, SMALL(IF(ISERROR(Temp!B$3:B$170), \"\", ROW(Temp!B$3:B$170)-MIN(ROW(Temp!B$3:B$170))+1), ROW(14:14))),\"\")","v":""},{"$f":"IFERROR(INDEX(Temp!C$3:C$170, SMALL(IF(ISERROR(Temp!C$3:C$170), \"\", ROW(Temp!C$3:C$170)-MIN(ROW(Temp!C$3:C$170))+1), ROW(14:14))),\"\")","v":""},{"$f":"IFERROR(INDEX(Temp!D$3:D$170, SMALL(IF(ISERROR(Temp!D$3:D$170), \"\", ROW(Temp!D$3:D$170)-MIN(ROW(Temp!D$3:D$170))+1), ROW(14:14))),\"\")","v":""}]
[{"$f":"IFERROR(INDEX(Temp!A$3:A$170, SMALL(IF(ISERROR(Temp!A$3:A$170), \"\", ROW(Temp!A$3:A$170)-MIN(ROW(Temp!A$3:A$170))+1), ROW(15:15))),\"\")","v":""},{"$f":"IFERROR(INDEX(Temp!B$3:B$170, SMALL(IF(ISERROR(Temp!B$3:B$170), \"\", ROW(Temp!B$3:B$170)-MIN(ROW(Temp!B$3:B$170))+1), ROW(15:15))),\"\")","v":""},{"$f":"IFERROR(INDEX(Temp!C$3:C$170, SMALL(IF(ISERROR(Temp!C$3:C$170), \"\", ROW(Temp!C$3:C$170)-MIN(ROW(Temp!C$3:C$170))+1), ROW(15:15))),\"\")","v":""},{"$f":"IFERROR(INDEX(Temp!D$3:D$170, SMALL(IF(ISERROR(Temp!D$3:D$170), \"\", ROW(Temp!D$3:D$170)-MIN(ROW(Temp!D$3:D$170))+1), ROW(15:15))),\"\")","v":""}]
[{"$f":"IFERROR(INDEX(Temp!A$3:A$170, SMALL(IF(ISERROR(Temp!A$3:A$170), \"\", ROW(Temp!A$3:A$170)-MIN(ROW(Temp!A$3:A$170))+1), ROW(16:16))),\"\")","v":""},{"$f":"IFERROR(INDEX(Temp!B$3:B$170, SMALL(IF(ISERROR(Temp!B$3:B$170), \"\", ROW(Temp!B$3:B$170)-MIN(ROW(Temp!B$3:B$170))+1), ROW(16:16))),\"\")","v":""},{"$f":"IFERROR(INDEX(Temp!C$3:C$170, SMALL(IF(ISERROR(Temp!C$3:C$170), \"\", ROW(Temp!C$3:C$170)-MIN(ROW(Temp!C$3:C$170))+1), ROW(16:16))),\"\")","v":""},{"$f":"IFERROR(INDEX(Temp!D$3:D$170, SMALL(IF(ISERROR(Temp!D$3:D$170), \"\", ROW(Temp!D$3:D$170)-MIN(ROW(Temp!D$3:D$170))+1), ROW(16:16))),\"\")","v":""}]
[{"$f":"IFERROR(INDEX(Temp!A$3:A$170, SMALL(IF(ISERROR(Temp!A$3:A$170), \"\", ROW(Temp!A$3:A$170)-MIN(ROW(Temp!A$3:A$170))+1), ROW(17:17))),\"\")","v":""},{"$f":"IFERROR(INDEX(Temp!B$3:B$170, SMALL(IF(ISERROR(Temp!B$3:B$170), \"\", ROW(Temp!B$3:B$170)-MIN(ROW(Temp!B$3:B$170))+1), ROW(17:17))),\"\")","v":""},{"$f":"IFERROR(INDEX(Temp!C$3:C$170, SMALL(IF(ISERROR(Temp!C$3:C$170), \"\", ROW(Temp!C$3:C$170)-MIN(ROW(Temp!C$3:C$170))+1), ROW(17:17))),\"\")","v":""},{"$f":"IFERROR(INDEX(Temp!D$3:D$170, SMALL(IF(ISERROR(Temp!D$3:D$170), \"\", ROW(Temp!D$3:D$170)-MIN(ROW(Temp!D$3:D$170))+1), ROW(17:17))),\"\")","v":""}]
[{"$f":"IFERROR(INDEX(Temp!A$3:A$170, SMALL(IF(ISERROR(Temp!A$3:A$170), \"\", ROW(Temp!A$3:A$170)-MIN(ROW(Temp!A$3:A$170))+1), ROW(18:18))),\"\")","v":""},{"$f":"IFERROR(INDEX(Temp!B$3:B$170, SMALL(IF(ISERROR(Temp!B$3:B$170), \"\", ROW(Temp!B$3:B$170)-MIN(ROW(Temp!B$3:B$170))+1), ROW(18:18))),\"\")","v":""},{"$f":"IFERROR(INDEX(Temp!C$3:C$170, SMALL(IF(ISERROR(Temp!C$3:C$170), \"\", ROW(Temp!C$3:C$170)-MIN(ROW(Temp!C$3:C$170))+1), ROW(18:18))),\"\")","v":""},{"$f":"IFERROR(INDEX(Temp!D$3:D$170, SMALL(IF(ISERROR(Temp!D$3:D$170), \"\", ROW(Temp!D$3:D$170)-MIN(ROW(Temp!D$3:D$170))+1), ROW(18:18))),\"\")","v":""}]
[{"$f":"IFERROR(INDEX(Temp!A$3:A$170, SMALL(IF(ISERROR(Temp!A$3:A$170), \"\", ROW(Temp!A$3:A$170)-MIN(ROW(Temp!A$3:A$170))+1), ROW(19:19))),\"\")","v":""},{"$f":"IFERROR(INDEX(Temp!B$3:B$170, SMALL(IF(ISERROR(Temp!B$3:B$170), \"\", ROW(Temp!B$3:B$170)-MIN(ROW(Temp!B$3:B$170))+1), ROW(19:19))),\"\")","v":""},{"$f":"IFERROR(INDEX(Temp!C$3:C$170, SMALL(IF(ISERROR(Temp!C$3:C$170), \"\", ROW(Temp!C$3:C$170)-MIN(ROW(Temp!C$3:C$170))+1), ROW(19:19))),\"\")","v":""},{"$f":"IFERROR(INDEX(Temp!D$3:D$170, SMALL(IF(ISERROR(Temp!D$3:D$170), \"\", ROW(Temp!D$3:D$170)-MIN(ROW(Temp!D$3:D$170))+1), ROW(19:19))),\"\")","v":""}]
[{"$f":"IFERROR(INDEX(Temp!A$3:A$170, SMALL(IF(ISERROR(Temp!A$3:A$170), \"\", ROW(Temp!A$3:A$170)-MIN(ROW(Temp!A$3:A$170))+1), ROW(20:20))),\"\")","v":""},{"$f":"IFERROR(INDEX(Temp!B$3:B$170, SMALL(IF(ISERROR(Temp!B$3:B$170), \"\", ROW(Temp!B$3:B$170)-MIN(ROW(Temp!B$3:B$170))+1), ROW(20:20))),\"\")","v":""},{"$f":"IFERROR(INDEX(Temp!C$3:C$170, SMALL(IF(ISERROR(Temp!C$3:C$170), \"\", ROW(Temp!C$3:C$170)-MIN(ROW(Temp!C$3:C$170))+1), ROW(20:20))),\"\")","v":""},{"$f":"IFERROR(INDEX(Temp!D$3:D$170, SMALL(IF(ISERROR(Temp!D$3:D$170), \"\", ROW(Temp!D$3:D$170)-MIN(ROW(Temp!D$3:D$170))+1), ROW(20:20))),\"\")","v":""}]
[{"$f":"IFERROR(INDEX(Temp!A$3:A$170, SMALL(IF(ISERROR(Temp!A$3:A$170), \"\", ROW(Temp!A$3:A$170)-MIN(ROW(Temp!A$3:A$170))+1), ROW(21:21))),\"\")","v":""},{"$f":"IFERROR(INDEX(Temp!B$3:B$170, SMALL(IF(ISERROR(Temp!B$3:B$170), \"\", ROW(Temp!B$3:B$170)-MIN(ROW(Temp!B$3:B$170))+1), ROW(21:21))),\"\")","v":""},{"$f":"IFERROR(INDEX(Temp!C$3:C$170, SMALL(IF(ISERROR(Temp!C$3:C$170), \"\", ROW(Temp!C$3:C$170)-MIN(ROW(Temp!C$3:C$170))+1), ROW(21:21))),\"\")","v":""},{"$f":"IFERROR(INDEX(Temp!D$3:D$170, SMALL(IF(ISERROR(Temp!D$3:D$170), \"\", ROW(Temp!D$3:D$170)-MIN(ROW(Temp!D$3:D$170))+1), ROW(21:21))),\"\")","v":""}]
[{"$f":"IFERROR(INDEX(Temp!A$3:A$170, SMALL(IF(ISERROR(Temp!A$3:A$170), \"\", ROW(Temp!A$3:A$170)-MIN(ROW(Temp!A$3:A$170))+1), ROW(22:22))),\"\")","v":""},{"$f":"IFERROR(INDEX(Temp!B$3:B$170, SMALL(IF(ISERROR(Temp!B$3:B$170), \"\", ROW(Temp!B$3:B$170)-MIN(ROW(Temp!B$3:B$170))+1), ROW(22:22))),\"\")","v":""},{"$f":"IFERROR(INDEX(Temp!C$3:C$170, SMALL(IF(ISERROR(Temp!C$3:C$170), \"\", ROW(Temp!C$3:C$170)-MIN(ROW(Temp!C$3:C$170))+1), ROW(22:22))),\"\")","v":""},{"$f":"IFERROR(INDEX(Temp!D$3:D$170, SMALL(IF(ISERROR(Temp!D$3:D$170), \"\", ROW(Temp!D$3:D$170)-MIN(ROW(Temp!D$3:D$170))+1), ROW(22:22))),\"\")","v":""}]
[{"$f":"IFERROR(INDEX(Temp!A$3:A$170, SMALL(IF(ISERROR(Temp!A$3:A$170), \"\", ROW(Temp!A$3:A$170)-MIN(ROW(Temp!A$3:A$170))+1), ROW(23:23))),\"\")","v":""},{"$f":"IFERROR(INDEX(Temp!B$3:B$170, SMALL(IF(ISERROR(Temp!B$3:B$170), \"\", ROW(Temp!B$3:B$170)-MIN(ROW(Temp!B$3:B$170))+1), ROW(23:23))),\"\")","v":""},{"$f":"IFERROR(INDEX(Temp!C$3:C$170, SMALL(IF(ISERROR(Temp!C$3:C$170), \"\", ROW(Temp!C$3:C$170)-MIN(ROW(Temp!C$3:C$170))+1), ROW(23:23))),\"\")","v":""},{"$f":"IFERROR(INDEX(Temp!D$3:D$170, SMALL(IF(ISERROR(Temp!D$3:D$170), \"\", ROW(Temp!D$3:D$170)-MIN(ROW(Temp!D$3:D$170))+1), ROW(23:23))),\"\")","v":""}]
[{"$f":"IFERROR(INDEX(Temp!A$3:A$170, SMALL(IF(ISERROR(Temp!A$3:A$170), \"\", ROW(Temp!A$3:A$170)-MIN(ROW(Temp!A$3:A$170))+1), ROW(24:24))),\"\")","v":""},{"$f":"IFERROR(INDEX(Temp!B$3:B$170, SMALL(IF(ISERROR(Temp!B$3:B$170), \"\", ROW(Temp!B$3:B$170)-MIN(ROW(Temp!B$3:B$170))+1), ROW(24:24))),\"\")","v":""},{"$f":"IFERROR(INDEX(Temp!C$3:C$170, SMALL(IF(ISERROR(Temp!C$3:C$170), \"\", ROW(Temp!C$3:C$170)-MIN(ROW(Temp!C$3:C$170))+1), ROW(24:24))),\"\")","v":""},{"$f":"IFERROR(INDEX(Temp!D$3:D$170, SMALL(IF(ISERROR(Temp!D$3:D$170), \"\", ROW(Temp!D$3:D$170)-MIN(ROW(Temp!D$3:D$170))+1), ROW(24:24))),\"\")","v":""}]
[{"$f":"IFERROR(INDEX(Temp!A$3:A$170, SMALL(IF(ISERROR(Temp!A$3:A$170), \"\", ROW(Temp!A$3:A$170)-MIN(ROW(Temp!A$3:A$170))+1), ROW(25:25))),\"\")","v":""},{"$f":"IFERROR(INDEX(Temp!B$3:B$170, SMALL(IF(ISERROR(Temp!B$3:B$170), \"\", ROW(Temp!B$3:B$170)-MIN(ROW(Temp!B$3:B$170))+1), ROW(25:25))),\"\")","v":""},{"$f":"IFERROR(INDEX(Temp!C$3:C$170, SMALL(IF(ISERROR(Temp!C$3:C$170), \"\", ROW(Temp!C$3:C$170)-MIN(ROW(Temp!C$3:C$170))+1), ROW(25:25))),\"\")","v":""},{"$f":"IFERROR(INDEX(Temp!D$3:D$170, SMALL(IF(ISERROR(Temp!D$3:D$170), \"\", ROW(Temp!D$3:D$170)-MIN(ROW(Temp!D$3:D$170))+1), ROW(25:25))),\"\")","v":""}]
[{"$f":"IFERROR(INDEX(Temp!A$3:A$170, SMALL(IF(ISERROR(Temp!A$3:A$170), \"\", ROW(Temp!A$3:A$170)-MIN(ROW(Temp!A$3:A$170))+1), ROW(26:26))),\"\")","v":""},{"$f":"IFERROR(INDEX(Temp!B$3:B$170, SMALL(IF(ISERROR(Temp!B$3:B$170), \"\", ROW(Temp!B$3:B$170)-MIN(ROW(Temp!B$3:B$170))+1), ROW(26:26))),\"\")","v":""},{"$f":"IFERROR(INDEX(Temp!C$3:C$170, SMALL(IF(ISERROR(Temp!C$3:C$170), \"\", ROW(Temp!C$3:C$170)-MIN(ROW(Temp!C$3:C$170))+1), ROW(26:26))),\"\")","v":""},{"$f":"IFERROR(INDEX(Temp!D$3:D$170, SMALL(IF(ISERROR(Temp!D$3:D$170), \"\", ROW(Temp!D$3:D$170)-MIN(ROW(Temp!D$3:D$170))+1), ROW(26:26))),\"\")","v":""}]
[{"$f":"IFERROR(INDEX(Temp!A$3:A$170, SMALL(IF(ISERROR(Temp!A$3:A$170), \"\", ROW(Temp!A$3:A$170)-MIN(ROW(Temp!A$3:A$170))+1), ROW(27:27))),\"\")","v":""},{"$f":"IFERROR(INDEX(Temp!B$3:B$170, SMALL(IF(ISERROR(Temp!B$3:B$170), \"\", ROW(Temp!B$3:B$170)-MIN(ROW(Temp!B$3:B$170))+1), ROW(27:27))),\"\")","v":""},{"$f":"IFERROR(INDEX(Temp!C$3:C$170, SMALL(IF(ISERROR(Temp!C$3:C$170), \"\", ROW(Temp!C$3:C$170)-MIN(ROW(Temp!C$3:C$170))+1), ROW(27:27))),\"\")","v":""},{"$f":"IFERROR(INDEX(Temp!D$3:D$170, SMALL(IF(ISERROR(Temp!D$3:D$170), \"\", ROW(Temp!D$3:D$170)-MIN(ROW(Temp!D$3:D$170))+1), ROW(27:27))),\"\")","v":""}]
[{"$f":"IFERROR(INDEX(Temp!A$3:A$170, SMALL(IF(ISERROR(Temp!A$3:A$170), \"\", ROW(Temp!A$3:A$170)-MIN(ROW(Temp!A$3:A$170))+1), ROW(28:28))),\"\")","v":""},{"$f":"IFERROR(INDEX(Temp!B$3:B$170, SMALL(IF(ISERROR(Temp!B$3:B$170), \"\", ROW(Temp!B$3:B$170)-MIN(ROW(Temp!B$3:B$170))+1), ROW(28:28))),\"\")","v":""},{"$f":"IFERROR(INDEX(Temp!C$3:C$170, SMALL(IF(ISERROR(Temp!C$3:C$170), \"\", ROW(Temp!C$3:C$170)-MIN(ROW(Temp!C$3:C$170))+1), ROW(28:28))),\"\")","v":""},{"$f":"IFERROR(INDEX(Temp!D$3:D$170, SMALL(IF(ISERROR(Temp!D$3:D$170), \"\", ROW(Temp!D$3:D$170)-MIN(ROW(Temp!D$3:D$170))+1), ROW(28:28))),\"\")","v":""}]
[{"$f":"IFERROR(INDEX(Temp!A$3:A$170, SMALL(IF(ISERROR(Temp!A$3:A$170), \"\", ROW(Temp!A$3:A$170)-MIN(ROW(Temp!A$3:A$170))+1), ROW(29:29))),\"\")","v":""},{"$f":"IFERROR(INDEX(Temp!B$3:B$170, SMALL(IF(ISERROR(Temp!B$3:B$170), \"\", ROW(Temp!B$3:B$170)-MIN(ROW(Temp!B$3:B$170))+1), ROW(29:29))),\"\")","v":""},{"$f":"IFERROR(INDEX(Temp!C$3:C$170, SMALL(IF(ISERROR(Temp!C$3:C$170), \"\", ROW(Temp!C$3:C$170)-MIN(ROW(Temp!C$3:C$170))+1), ROW(29:29))),\"\")","v":""},{"$f":"IFERROR(INDEX(Temp!D$3:D$170, SMALL(IF(ISERROR(Temp!D$3:D$170), \"\", ROW(Temp!D$3:D$170)-MIN(ROW(Temp!D$3:D$170))+1), ROW(29:29))),\"\")","v":""}]
[{"$f":"IFERROR(INDEX(Temp!A$3:A$170, SMALL(IF(ISERROR(Temp!A$3:A$170), \"\", ROW(Temp!A$3:A$170)-MIN(ROW(Temp!A$3:A$170))+1), ROW(30:30))),\"\")","v":""},{"$f":"IFERROR(INDEX(Temp!B$3:B$170, SMALL(IF(ISERROR(Temp!B$3:B$170), \"\", ROW(Temp!B$3:B$170)-MIN(ROW(Temp!B$3:B$170))+1), ROW(30:30))),\"\")","v":""},{"$f":"IFERROR(INDEX(Temp!C$3:C$170, SMALL(IF(ISERROR(Temp!C$3:C$170), \"\", ROW(Temp!C$3:C$170)-MIN(ROW(Temp!C$3:C$170))+1), ROW(30:30))),\"\")","v":""},{"$f":"IFERROR(INDEX(Temp!D$3:D$170, SMALL(IF(ISERROR(Temp!D$3:D$170), \"\", ROW(Temp!D$3:D$170)-MIN(ROW(Temp!D$3:D$170))+1), ROW(30:30))),\"\")","v":""}]
[{"$f":"IFERROR(INDEX(Temp!A$3:A$170, SMALL(IF(ISERROR(Temp!A$3:A$170), \"\", ROW(Temp!A$3:A$170)-MIN(ROW(Temp!A$3:A$170))+1), ROW(31:31))),\"\")","v":""},{"$f":"IFERROR(INDEX(Temp!B$3:B$170, SMALL(IF(ISERROR(Temp!B$3:B$170), \"\", ROW(Temp!B$3:B$170)-MIN(ROW(Temp!B$3:B$170))+1), ROW(31:31))),\"\")","v":""},{"$f":"IFERROR(INDEX(Temp!C$3:C$170, SMALL(IF(ISERROR(Temp!C$3:C$170), \"\", ROW(Temp!C$3:C$170)-MIN(ROW(Temp!C$3:C$170))+1), ROW(31:31))),\"\")","v":""},{"$f":"IFERROR(INDEX(Temp!D$3:D$170, SMALL(IF(ISERROR(Temp!D$3:D$170), \"\", ROW(Temp!D$3:D$170)-MIN(ROW(Temp!D$3:D$170))+1), ROW(31:31))),\"\")","v":""}]
[{"$f":"IFERROR(INDEX(Temp!A$3:A$170, SMALL(IF(ISERROR(Temp!A$3:A$170), \"\", ROW(Temp!A$3:A$170)-MIN(ROW(Temp!A$3:A$170))+1), ROW(32:32))),\"\")","v":""},{"$f":"IFERROR(INDEX(Temp!B$3:B$170, SMALL(IF(ISERROR(Temp!B$3:B$170), \"\", ROW(Temp!B$3:B$170)-MIN(ROW(Temp!B$3:B$170))+1), ROW(32:32))),\"\")","v":""},{"$f":"IFERROR(INDEX(Temp!C$3:C$170, SMALL(IF(ISERROR(Temp!C$3:C$170), \"\", ROW(Temp!C$3:C$170)-MIN(ROW(Temp!C$3:C$170))+1), ROW(32:32))),\"\")","v":""},{"$f":"IFERROR(INDEX(Temp!D$3:D$170, SMALL(IF(ISERROR(Temp!D$3:D$170), \"\", ROW(Temp!D$3:D$170)-MIN(ROW(Temp!D$3:D$170))+1), ROW(32:32))),\"\")","v":""}]
[{"$f":"IFERROR(INDEX(Temp!A$3:A$170, SMALL(IF(ISERROR(Temp!A$3:A$170), \"\", ROW(Temp!A$3:A$170)-MIN(ROW(Temp!A$3:A$170))+1), ROW(33:33))),\"\")","v":""},{"$f":"IFERROR(INDEX(Temp!B$3:B$170, SMALL(IF(ISERROR(Temp!B$3:B$170), \"\", ROW(Temp!B$3:B$170)-MIN(ROW(Temp!B$3:B$170))+1), ROW(33:33))),\"\")","v":""},{"$f":"IFERROR(INDEX(Temp!C$3:C$170, SMALL(IF(ISERROR(Temp!C$3:C$170), \"\", ROW(Temp!C$3:C$170)-MIN(ROW(Temp!C$3:C$170))+1), ROW(33:33))),\"\")","v":""},{"$f":"IFERROR(INDEX(Temp!D$3:D$170, SMALL(IF(ISERROR(Temp!D$3:D$170), \"\", ROW(Temp!D$3:D$170)-MIN(ROW(Temp!D$3:D$170))+1), ROW(33:33))),\"\")","v":""}]
[{"$f":"IFERROR(INDEX(Temp!A$3:A$170, SMALL(IF(ISERROR(Temp!A$3:A$170), \"\", ROW(Temp!A$3:A$170)-MIN(ROW(Temp!A$3:A$170))+1), ROW(34:34))),\"\")","v":""},{"$f":"IFERROR(INDEX(Temp!B$3:B$170, SMALL(IF(ISERROR(Temp!B$3:B$170), \"\", ROW(Temp!B$3:B$170)-MIN(ROW(Temp!B$3:B$170))+1), ROW(34:34))),\"\")","v":""},{"$f":"IFERROR(INDEX(Temp!C$3:C$170, SMALL(IF(ISERROR(Temp!C$3:C$170), \"\", ROW(Temp!C$3:C$170)-MIN(ROW(Temp!C$3:C$170))+1), ROW(34:34))),\"\")","v":""},{"$f":"IFERROR(INDEX(Temp!D$3:D$170, SMALL(IF(ISERROR(Temp!D$3:D$170), \"\", ROW(Temp!D$3:D$170)-MIN(ROW(Temp!D$3:D$170))+1), ROW(34:34))),\"\")","v":""}]
[{"$f":"IFERROR(INDEX(Temp!A$3:A$170, SMALL(IF(ISERROR(Temp!A$3:A$170), \"\", ROW(Temp!A$3:A$170)-MIN(ROW(Temp!A$3:A$170))+1), ROW(35:35))),\"\")","v":""},{"$f":"IFERROR(INDEX(Temp!B$3:B$170, SMALL(IF(ISERROR(Temp!B$3:B$170), \"\", ROW(Temp!B$3:B$170)-MIN(ROW(Temp!B$3:B$170))+1), ROW(35:35))),\"\")","v":""},{"$f":"IFERROR(INDEX(Temp!C$3:C$170, SMALL(IF(ISERROR(Temp!C$3:C$170), \"\", ROW(Temp!C$3:C$170)-MIN(ROW(Temp!C$3:C$170))+1), ROW(35:35))),\"\")","v":""},{"$f":"IFERROR(INDEX(Temp!D$3:D$170, SMALL(IF(ISERROR(Temp!D$3:D$170), \"\", ROW(Temp!D$3:D$170)-MIN(ROW(Temp!D$3:D$170))+1), ROW(35:35))),\"\")","v":""}]
[{"$f":"IFERROR(INDEX(Temp!A$3:A$170, SMALL(IF(ISERROR(Temp!A$3:A$170), \"\", ROW(Temp!A$3:A$170)-MIN(ROW(Temp!A$3:A$170))+1), ROW(36:36))),\"\")","v":""},{"$f":"IFERROR(INDEX(Temp!B$3:B$170, SMALL(IF(ISERROR(Temp!B$3:B$170), \"\", ROW(Temp!B$3:B$170)-MIN(ROW(Temp!B$3:B$170))+1), ROW(36:36))),\"\")","v":""},{"$f":"IFERROR(INDEX(Temp!C$3:C$170, SMALL(IF(ISERROR(Temp!C$3:C$170), \"\", ROW(Temp!C$3:C$170)-MIN(ROW(Temp!C$3:C$170))+1), ROW(36:36))),\"\")","v":""},{"$f":"IFERROR(INDEX(Temp!D$3:D$170, SMALL(IF(ISERROR(Temp!D$3:D$170), \"\", ROW(Temp!D$3:D$170)-MIN(ROW(Temp!D$3:D$170))+1), ROW(36:36))),\"\")","v":""}]
[{"$f":"IFERROR(INDEX(Temp!A$3:A$170, SMALL(IF(ISERROR(Temp!A$3:A$170), \"\", ROW(Temp!A$3:A$170)-MIN(ROW(Temp!A$3:A$170))+1), ROW(37:37))),\"\")","v":""},{"$f":"IFERROR(INDEX(Temp!B$3:B$170, SMALL(IF(ISERROR(Temp!B$3:B$170), \"\", ROW(Temp!B$3:B$170)-MIN(ROW(Temp!B$3:B$170))+1), ROW(37:37))),\"\")","v":""},{"$f":"IFERROR(INDEX(Temp!C$3:C$170, SMALL(IF(ISERROR(Temp!C$3:C$170), \"\", ROW(Temp!C$3:C$170)-MIN(ROW(Temp!C$3:C$170))+1), ROW(37:37))),\"\")","v":""},{"$f":"IFERROR(INDEX(Temp!D$3:D$170, SMALL(IF(ISERROR(Temp!D$3:D$170), \"\", ROW(Temp!D$3:D$170)-MIN(ROW(Temp!D$3:D$170))+1), ROW(37:37))),\"\")","v":""}]
[{"$f":"IFERROR(INDEX(Temp!A$3:A$170, SMALL(IF(ISERROR(Temp!A$3:A$170), \"\", ROW(Temp!A$3:A$170)-MIN(ROW(Temp!A$3:A$170))+1), ROW(38:38))),\"\")","v":""},{"$f":"IFERROR(INDEX(Temp!B$3:B$170, SMALL(IF(ISERROR(Temp!B$3:B$170), \"\", ROW(Temp!B$3:B$170)-MIN(ROW(Temp!B$3:B$170))+1), ROW(38:38))),\"\")","v":""},{"$f":"IFERROR(INDEX(Temp!C$3:C$170, SMALL(IF(ISERROR(Temp!C$3:C$170), \"\", ROW(Temp!C$3:C$170)-MIN(ROW(Temp!C$3:C$170))+1), ROW(38:38))),\"\")","v":""},{"$f":"IFERROR(INDEX(Temp!D$3:D$170, SMALL(IF(ISERROR(Temp!D$3:D$170), \"\", ROW(Temp!D$3:D$170)-MIN(ROW(Temp!D$3:D$170))+1), ROW(38:38))),\"\")","v":""}]
[{"$f":"IFERROR(INDEX(Temp!A$3:A$170, SMALL(IF(ISERROR(Temp!A$3:A$170), \"\", ROW(Temp!A$3:A$170)-MIN(ROW(Temp!A$3:A$170))+1), ROW(39:39))),\"\")","v":""},{"$f":"IFERROR(INDEX(Temp!B$3:B$170, SMALL(IF(ISERROR(Temp!B$3:B$170), \"\", ROW(Temp!B$3:B$170)-MIN(ROW(Temp!B$3:B$170))+1), ROW(39:39))),\"\")","v":""},{"$f":"IFERROR(INDEX(Temp!C$3:C$170, SMALL(IF(ISERROR(Temp!C$3:C$170), \"\", ROW(Temp!C$3:C$170)-MIN(ROW(Temp!C$3:C$170))+1), ROW(39:39))),\"\")","v":""},{"$f":"IFERROR(INDEX(Temp!D$3:D$170, SMALL(IF(ISERROR(Temp!D$3:D$170), \"\", ROW(Temp!D$3:D$170)-MIN(ROW(Temp!D$3:D$170))+1), ROW(39:39))),\"\")","v":""}]
[{"$f":"IFERROR(INDEX(Temp!A$3:A$170, SMALL(IF(ISERROR(Temp!A$3:A$170), \"\", ROW(Temp!A$3:A$170)-MIN(ROW(Temp!A$3:A$170))+1), ROW(40:40))),\"\")","v":""},{"$f":"IFERROR(INDEX(Temp!B$3:B$170, SMALL(IF(ISERROR(Temp!B$3:B$170), \"\", ROW(Temp!B$3:B$170)-MIN(ROW(Temp!B$3:B$170))+1), ROW(40:40))),\"\")","v":""},{"$f":"IFERROR(INDEX(Temp!C$3:C$170, SMALL(IF(ISERROR(Temp!C$3:C$170), \"\", ROW(Temp!C$3:C$170)-MIN(ROW(Temp!C$3:C$170))+1), ROW(40:40))),\"\")","v":""},{"$f":"IFERROR(INDEX(Temp!D$3:D$170, SMALL(IF(ISERROR(Temp!D$3:D$170), \"\", ROW(Temp!D$3:D$170)-MIN(ROW(Temp!D$3:D$170))+1), ROW(40:40))),\"\")","v":""}]
[{"$f":"IFERROR(INDEX(Temp!A$3:A$170, SMALL(IF(ISERROR(Temp!A$3:A$170), \"\", ROW(Temp!A$3:A$170)-MIN(ROW(Temp!A$3:A$170))+1), ROW(41:41))),\"\")","v":""},{"$f":"IFERROR(INDEX(Temp!B$3:B$170, SMALL(IF(ISERROR(Temp!B$3:B$170), \"\", ROW(Temp!B$3:B$170)-MIN(ROW(Temp!B$3:B$170))+1), ROW(41:41))),\"\")","v":""},{"$f":"IFERROR(INDEX(Temp!C$3:C$170, SMALL(IF(ISERROR(Temp!C$3:C$170), \"\", ROW(Temp!C$3:C$170)-MIN(ROW(Temp!C$3:C$170))+1), ROW(41:41))),\"\")","v":""},{"$f":"IFERROR(INDEX(Temp!D$3:D$170, SMALL(IF(ISERROR(Temp!D$3:D$170), \"\", ROW(Temp!D$3:D$170)-MIN(ROW(Temp!D$3:D$170))+1), ROW(41:41))),\"\")","v":""}]
[{"$f":"IFERROR(INDEX(Temp!A$3:A$170, SMALL(IF(ISERROR(Temp!A$3:A$170), \"\", ROW(Temp!A$3:A$170)-MIN(ROW(Temp!A$3:A$170))+1), ROW(42:42))),\"\")","v":""},{"$f":"IFERROR(INDEX(Temp!B$3:B$170, SMALL(IF(ISERROR(Temp!B$3:B$170), \"\", ROW(Temp!B$3:B$170)-MIN(ROW(Temp!B$3:B$170))+1), ROW(42:42))),\"\")","v":""},{"$f":"IFERROR(INDEX(Temp!C$3:C$170, SMALL(IF(ISERROR(Temp!C$3:C$170), \"\", ROW(Temp!C$3:C$170)-MIN(ROW(Temp!C$3:C$170))+1), ROW(42:42))),\"\")","v":""},{"$f":"IFERROR(INDEX(Temp!D$3:D$170, SMALL(IF(ISERROR(Temp!D$3:D$170), \"\", ROW(Temp!D$3:D$170)-MIN(ROW(Temp!D$3:D$170))+1), ROW(42:42))),\"\")","v":""}]
[{"$f":"IFERROR(INDEX(Temp!A$3:A$170, SMALL(IF(ISERROR(Temp!A$3:A$170), \"\", ROW(Temp!A$3:A$170)-MIN(ROW(Temp!A$3:A$170))+1), ROW(43:43))),\"\")","v":""},{"$f":"IFERROR(INDEX(Temp!B$3:B$170, SMALL(IF(ISERROR(Temp!B$3:B$170), \"\", ROW(Temp!B$3:B$170)-MIN(ROW(Temp!B$3:B$170))+1), ROW(43:43))),\"\")","v":""},{"$f":"IFERROR(INDEX(Temp!C$3:C$170, SMALL(IF(ISERROR(Temp!C$3:C$170), \"\", ROW(Temp!C$3:C$170)-MIN(ROW(Temp!C$3:C$170))+1), ROW(43:43))),\"\")","v":""},{"$f":"IFERROR(INDEX(Temp!D$3:D$170, SMALL(IF(ISERROR(Temp!D$3:D$170), \"\", ROW(Temp!D$3:D$170)-MIN(ROW(Temp!D$3:D$170))+1), ROW(43:43))),\"\")","v":""}]
[{"$f":"IFERROR(INDEX(Temp!A$3:A$170, SMALL(IF(ISERROR(Temp!A$3:A$170), \"\", ROW(Temp!A$3:A$170)-MIN(ROW(Temp!A$3:A$170))+1), ROW(44:44))),\"\")","v":""},{"$f":"IFERROR(INDEX(Temp!B$3:B$170, SMALL(IF(ISERROR(Temp!B$3:B$170), \"\", ROW(Temp!B$3:B$170)-MIN(ROW(Temp!B$3:B$170))+1), ROW(44:44))),\"\")","v":""},{"$f":"IFERROR(INDEX(Temp!C$3:C$170, SMALL(IF(ISERROR(Temp!C$3:C$170), \"\", ROW(Temp!C$3:C$170)-MIN(ROW(Temp!C$3:C$170))+1), ROW(44:44))),\"\")","v":""},{"$f":"IFERROR(INDEX(Temp!D$3:D$170, SMALL(IF(ISERROR(Temp!D$3:D$170), \"\", ROW(Temp!D$3:D$170)-MIN(ROW(Temp!D$3:D$170))+1), ROW(44:44))),\"\")","v":""}]
[{"$f":"IFERROR(INDEX(Temp!A$3:A$170, SMALL(IF(ISERROR(Temp!A$3:A$170), \"\", ROW(Temp!A$3:A$170)-MIN(ROW(Temp!A$3:A$170))+1), ROW(45:45))),\"\")","v":""},{"$f":"IFERROR(INDEX(Temp!B$3:B$170, SMALL(IF(ISERROR(Temp!B$3:B$170), \"\", ROW(Temp!B$3:B$170)-MIN(ROW(Temp!B$3:B$170))+1), ROW(45:45))),\"\")","v":""},{"$f":"IFERROR(INDEX(Temp!C$3:C$170, SMALL(IF(ISERROR(Temp!C$3:C$170), \"\", ROW(Temp!C$3:C$170)-MIN(ROW(Temp!C$3:C$170))+1), ROW(45:45))),\"\")","v":""},{"$f":"IFERROR(INDEX(Temp!D$3:D$170, SMALL(IF(ISERROR(Temp!D$3:D$170), \"\", ROW(Temp!D$3:D$170)-MIN(ROW(Temp!D$3:D$170))+1), ROW(45:45))),\"\")","v":""}]
[{"$f":"IFERROR(INDEX(Temp!A$3:A$170, SMALL(IF(ISERROR(Temp!A$3:A$170), \"\", ROW(Temp!A$3:A$170)-MIN(ROW(Temp!A$3:A$170))+1), ROW(46:46))),\"\")","v":""},{"$f":"IFERROR(INDEX(Temp!B$3:B$170, SMALL(IF(ISERROR(Temp!B$3:B$170), \"\", ROW(Temp!B$3:B$170)-MIN(ROW(Temp!B$3:B$170))+1), ROW(46:46))),\"\")","v":""},{"$f":"IFERROR(INDEX(Temp!C$3:C$170, SMALL(IF(ISERROR(Temp!C$3:C$170), \"\", ROW(Temp!C$3:C$170)-MIN(ROW(Temp!C$3:C$170))+1), ROW(46:46))),\"\")","v":""},{"$f":"IFERROR(INDEX(Temp!D$3:D$170, SMALL(IF(ISERROR(Temp!D$3:D$170), \"\", ROW(Temp!D$3:D$170)-MIN(ROW(Temp!D$3:D$170))+1), ROW(46:46))),\"\")","v":""}]
[{"$f":"IFERROR(INDEX(Temp!A$3:A$170, SMALL(IF(ISERROR(Temp!A$3:A$170), \"\", ROW(Temp!A$3:A$170)-MIN(ROW(Temp!A$3:A$170))+1), ROW(47:47))),\"\")","v":""},{"$f":"IFERROR(INDEX(Temp!B$3:B$170, SMALL(IF(ISERROR(Temp!B$3:B$170), \"\", ROW(Temp!B$3:B$170)-MIN(ROW(Temp!B$3:B$170))+1), ROW(47:47))),\"\")","v":""},{"$f":"IFERROR(INDEX(Temp!C$3:C$170, SMALL(IF(ISERROR(Temp!C$3:C$170), \"\", ROW(Temp!C$3:C$170)-MIN(ROW(Temp!C$3:C$170))+1), ROW(47:47))),\"\")","v":""},{"$f":"IFERROR(INDEX(Temp!D$3:D$170, SMALL(IF(ISERROR(Temp!D$3:D$170), \"\", ROW(Temp!D$3:D$170)-MIN(ROW(Temp!D$3:D$170))+1), ROW(47:47))),\"\")","v":""}]
[{"$f":"IFERROR(INDEX(Temp!A$3:A$170, SMALL(IF(ISERROR(Temp!A$3:A$170), \"\", ROW(Temp!A$3:A$170)-MIN(ROW(Temp!A$3:A$170))+1), ROW(48:48))),\"\")","v":""},{"$f":"IFERROR(INDEX(Temp!B$3:B$170, SMALL(IF(ISERROR(Temp!B$3:B$170), \"\", ROW(Temp!B$3:B$170)-MIN(ROW(Temp!B$3:B$170))+1), ROW(48:48))),\"\")","v":""},{"$f":"IFERROR(INDEX(Temp!C$3:C$170, SMALL(IF(ISERROR(Temp!C$3:C$170), \"\", ROW(Temp!C$3:C$170)-MIN(ROW(Temp!C$3:C$170))+1), ROW(48:48))),\"\")","v":""},{"$f":"IFERROR(INDEX(Temp!D$3:D$170, SMALL(IF(ISERROR(Temp!D$3:D$170), \"\", ROW(Temp!D$3:D$170)-MIN(ROW(Temp!D$3:D$170))+1), ROW(48:48))),\"\")","v":""}]
[{"$f":"IFERROR(INDEX(Temp!A$3:A$170, SMALL(IF(ISERROR(Temp!A$3:A$170), \"\", ROW(Temp!A$3:A$170)-MIN(ROW(Temp!A$3:A$170))+1), ROW(49:49))),\"\")","v":""},{"$f":"IFERROR(INDEX(Temp!B$3:B$170, SMALL(IF(ISERROR(Temp!B$3:B$170), \"\", ROW(Temp!B$3:B$170)-MIN(ROW(Temp!B$3:B$170))+1), ROW(49:49))),\"\")","v":""},{"$f":"IFERROR(INDEX(Temp!C$3:C$170, SMALL(IF(ISERROR(Temp!C$3:C$170), \"\", ROW(Temp!C$3:C$170)-MIN(ROW(Temp!C$3:C$170))+1), ROW(49:49))),\"\")","v":""},{"$f":"IFERROR(INDEX(Temp!D$3:D$170, SMALL(IF(ISERROR(Temp!D$3:D$170), \"\", ROW(Temp!D$3:D$170)-MIN(ROW(Temp!D$3:D$170))+1), ROW(49:49))),\"\")","v":""}]
[{"$f":"IFERROR(INDEX(Temp!A$3:A$170, SMALL(IF(ISERROR(Temp!A$3:A$170), \"\", ROW(Temp!A$3:A$170)-MIN(ROW(Temp!A$3:A$170))+1), ROW(50:50))),\"\")","v":""},{"$f":"IFERROR(INDEX(Temp!B$3:B$170, SMALL(IF(ISERROR(Temp!B$3:B$170), \"\", ROW(Temp!B$3:B$170)-MIN(ROW(Temp!B$3:B$170))+1), ROW(50:50))),\"\")","v":""},{"$f":"IFERROR(INDEX(Temp!C$3:C$170, SMALL(IF(ISERROR(Temp!C$3:C$170), \"\", ROW(Temp!C$3:C$170)-MIN(ROW(Temp!C$3:C$170))+1), ROW(50:50))),\"\")","v":""},{"$f":"IFERROR(INDEX(Temp!D$3:D$170, SMALL(IF(ISERROR(Temp!D$3:D$170), \"\", ROW(Temp!D$3:D$170)-MIN(ROW(Temp!D$3:D$170))+1), ROW(50:50))),\"\")","v":""}]
[{"$f":"IFERROR(INDEX(Temp!A$3:A$170, SMALL(IF(ISERROR(Temp!A$3:A$170), \"\", ROW(Temp!A$3:A$170)-MIN(ROW(Temp!A$3:A$170))+1), ROW(51:51))),\"\")","v":""},{"$f":"IFERROR(INDEX(Temp!B$3:B$170, SMALL(IF(ISERROR(Temp!B$3:B$170), \"\", ROW(Temp!B$3:B$170)-MIN(ROW(Temp!B$3:B$170))+1), ROW(51:51))),\"\")","v":""},{"$f":"IFERROR(INDEX(Temp!C$3:C$170, SMALL(IF(ISERROR(Temp!C$3:C$170), \"\", ROW(Temp!C$3:C$170)-MIN(ROW(Temp!C$3:C$170))+1), ROW(51:51))),\"\")","v":""},{"$f":"IFERROR(INDEX(Temp!D$3:D$170, SMALL(IF(ISERROR(Temp!D$3:D$170), \"\", ROW(Temp!D$3:D$170)-MIN(ROW(Temp!D$3:D$170))+1), ROW(51:51))),\"\")","v":""}]
[{"$f":"IFERROR(INDEX(Temp!A$3:A$170, SMALL(IF(ISERROR(Temp!A$3:A$170), \"\", ROW(Temp!A$3:A$170)-MIN(ROW(Temp!A$3:A$170))+1), ROW(52:52))),\"\")","v":""},{"$f":"IFERROR(INDEX(Temp!B$3:B$170, SMALL(IF(ISERROR(Temp!B$3:B$170), \"\", ROW(Temp!B$3:B$170)-MIN(ROW(Temp!B$3:B$170))+1), ROW(52:52))),\"\")","v":""},{"$f":"IFERROR(INDEX(Temp!C$3:C$170, SMALL(IF(ISERROR(Temp!C$3:C$170), \"\", ROW(Temp!C$3:C$170)-MIN(ROW(Temp!C$3:C$170))+1), ROW(52:52))),\"\")","v":""},{"$f":"IFERROR(INDEX(Temp!D$3:D$170, SMALL(IF(ISERROR(Temp!D$3:D$170), \"\", ROW(Temp!D$3:D$170)-MIN(ROW(Temp!D$3:D$170))+1), ROW(52:52))),\"\")","v":""}]
[{"$f":"IFERROR(INDEX(Temp!A$3:A$170, SMALL(IF(ISERROR(Temp!A$3:A$170), \"\", ROW(Temp!A$3:A$170)-MIN(ROW(Temp!A$3:A$170))+1), ROW(53:53))),\"\")","v":""},{"$f":"IFERROR(INDEX(Temp!B$3:B$170, SMALL(IF(ISERROR(Temp!B$3:B$170), \"\", ROW(Temp!B$3:B$170)-MIN(ROW(Temp!B$3:B$170))+1), ROW(53:53))),\"\")","v":""},{"$f":"IFERROR(INDEX(Temp!C$3:C$170, SMALL(IF(ISERROR(Temp!C$3:C$170), \"\", ROW(Temp!C$3:C$170)-MIN(ROW(Temp!C$3:C$170))+1), ROW(53:53))),\"\")","v":""},{"$f":"IFERROR(INDEX(Temp!D$3:D$170, SMALL(IF(ISERROR(Temp!D$3:D$170), \"\", ROW(Temp!D$3:D$170)-MIN(ROW(Temp!D$3:D$170))+1), ROW(53:53))),\"\")","v":""}]
[{"$f":"IFERROR(INDEX(Temp!A$3:A$170, SMALL(IF(ISERROR(Temp!A$3:A$170), \"\", ROW(Temp!A$3:A$170)-MIN(ROW(Temp!A$3:A$170))+1), ROW(54:54))),\"\")","v":""},{"$f":"IFERROR(INDEX(Temp!B$3:B$170, SMALL(IF(ISERROR(Temp!B$3:B$170), \"\", ROW(Temp!B$3:B$170)-MIN(ROW(Temp!B$3:B$170))+1), ROW(54:54))),\"\")","v":""},{"$f":"IFERROR(INDEX(Temp!C$3:C$170, SMALL(IF(ISERROR(Temp!C$3:C$170), \"\", ROW(Temp!C$3:C$170)-MIN(ROW(Temp!C$3:C$170))+1), ROW(54:54))),\"\")","v":""},{"$f":"IFERROR(INDEX(Temp!D$3:D$170, SMALL(IF(ISERROR(Temp!D$3:D$170), \"\", ROW(Temp!D$3:D$170)-MIN(ROW(Temp!D$3:D$170))+1), ROW(54:54))),\"\")","v":""}]
[{"$f":"IFERROR(INDEX(Temp!A$3:A$170, SMALL(IF(ISERROR(Temp!A$3:A$170), \"\", ROW(Temp!A$3:A$170)-MIN(ROW(Temp!A$3:A$170))+1), ROW(55:55))),\"\")","v":""},{"$f":"IFERROR(INDEX(Temp!B$3:B$170, SMALL(IF(ISERROR(Temp!B$3:B$170), \"\", ROW(Temp!B$3:B$170)-MIN(ROW(Temp!B$3:B$170))+1), ROW(55:55))),\"\")","v":""},{"$f":"IFERROR(INDEX(Temp!C$3:C$170, SMALL(IF(ISERROR(Temp!C$3:C$170), \"\", ROW(Temp!C$3:C$170)-MIN(ROW(Temp!C$3:C$170))+1), ROW(55:55))),\"\")","v":""},{"$f":"IFERROR(INDEX(Temp!D$3:D$170, SMALL(IF(ISERROR(Temp!D$3:D$170), \"\", ROW(Temp!D$3:D$170)-MIN(ROW(Temp!D$3:D$170))+1), ROW(55:55))),\"\")","v":""}]
[{"$f":"IFERROR(INDEX(Temp!A$3:A$170, SMALL(IF(ISERROR(Temp!A$3:A$170), \"\", ROW(Temp!A$3:A$170)-MIN(ROW(Temp!A$3:A$170))+1), ROW(56:56))),\"\")","v":""},{"$f":"IFERROR(INDEX(Temp!B$3:B$170, SMALL(IF(ISERROR(Temp!B$3:B$170), \"\", ROW(Temp!B$3:B$170)-MIN(ROW(Temp!B$3:B$170))+1), ROW(56:56))),\"\")","v":""},{"$f":"IFERROR(INDEX(Temp!C$3:C$170, SMALL(IF(ISERROR(Temp!C$3:C$170), \"\", ROW(Temp!C$3:C$170)-MIN(ROW(Temp!C$3:C$170))+1), ROW(56:56))),\"\")","v":""},{"$f":"IFERROR(INDEX(Temp!D$3:D$170, SMALL(IF(ISERROR(Temp!D$3:D$170), \"\", ROW(Temp!D$3:D$170)-MIN(ROW(Temp!D$3:D$170))+1), ROW(56:56))),\"\")","v":""}]
[{"$f":"IFERROR(INDEX(Temp!A$3:A$170, SMALL(IF(ISERROR(Temp!A$3:A$170), \"\", ROW(Temp!A$3:A$170)-MIN(ROW(Temp!A$3:A$170))+1), ROW(57:57))),\"\")","v":""},{"$f":"IFERROR(INDEX(Temp!B$3:B$170, SMALL(IF(ISERROR(Temp!B$3:B$170), \"\", ROW(Temp!B$3:B$170)-MIN(ROW(Temp!B$3:B$170))+1), ROW(57:57))),\"\")","v":""},{"$f":"IFERROR(INDEX(Temp!C$3:C$170, SMALL(IF(ISERROR(Temp!C$3:C$170), \"\", ROW(Temp!C$3:C$170)-MIN(ROW(Temp!C$3:C$170))+1), ROW(57:57))),\"\")","v":""},{"$f":"IFERROR(INDEX(Temp!D$3:D$170, SMALL(IF(ISERROR(Temp!D$3:D$170), \"\", ROW(Temp!D$3:D$170)-MIN(ROW(Temp!D$3:D$170))+1), ROW(57:57))),\"\")","v":""}]
[{"$f":"IFERROR(INDEX(Temp!A$3:A$170, SMALL(IF(ISERROR(Temp!A$3:A$170), \"\", ROW(Temp!A$3:A$170)-MIN(ROW(Temp!A$3:A$170))+1), ROW(58:58))),\"\")","v":""},{"$f":"IFERROR(INDEX(Temp!B$3:B$170, SMALL(IF(ISERROR(Temp!B$3:B$170), \"\", ROW(Temp!B$3:B$170)-MIN(ROW(Temp!B$3:B$170))+1), ROW(58:58))),\"\")","v":""},{"$f":"IFERROR(INDEX(Temp!C$3:C$170, SMALL(IF(ISERROR(Temp!C$3:C$170), \"\", ROW(Temp!C$3:C$170)-MIN(ROW(Temp!C$3:C$170))+1), ROW(58:58))),\"\")","v":""},{"$f":"IFERROR(INDEX(Temp!D$3:D$170, SMALL(IF(ISERROR(Temp!D$3:D$170), \"\", ROW(Temp!D$3:D$170)-MIN(ROW(Temp!D$3:D$170))+1), ROW(58:58))),\"\")","v":""}]
[{"$f":"IFERROR(INDEX(Temp!A$3:A$170, SMALL(IF(ISERROR(Temp!A$3:A$170), \"\", ROW(Temp!A$3:A$170)-MIN(ROW(Temp!A$3:A$170))+1), ROW(59:59))),\"\")","v":""},{"$f":"IFERROR(INDEX(Temp!B$3:B$170, SMALL(IF(ISERROR(Temp!B$3:B$170), \"\", ROW(Temp!B$3:B$170)-MIN(ROW(Temp!B$3:B$170))+1), ROW(59:59))),\"\")","v":""},{"$f":"IFERROR(INDEX(Temp!C$3:C$170, SMALL(IF(ISERROR(Temp!C$3:C$170), \"\", ROW(Temp!C$3:C$170)-MIN(ROW(Temp!C$3:C$170))+1), ROW(59:59))),\"\")","v":""},{"$f":"IFERROR(INDEX(Temp!D$3:D$170, SMALL(IF(ISERROR(Temp!D$3:D$170), \"\", ROW(Temp!D$3:D$170)-MIN(ROW(Temp!D$3:D$170))+1), ROW(59:59))),\"\")","v":""}]
[{"$f":"IFERROR(INDEX(Temp!A$3:A$170, SMALL(IF(ISERROR(Temp!A$3:A$170), \"\", ROW(Temp!A$3:A$170)-MIN(ROW(Temp!A$3:A$170))+1), ROW(60:60))),\"\")","v":""},{"$f":"IFERROR(INDEX(Temp!B$3:B$170, SMALL(IF(ISERROR(Temp!B$3:B$170), \"\", ROW(Temp!B$3:B$170)-MIN(ROW(Temp!B$3:B$170))+1), ROW(60:60))),\"\")","v":""},{"$f":"IFERROR(INDEX(Temp!C$3:C$170, SMALL(IF(ISERROR(Temp!C$3:C$170), \"\", ROW(Temp!C$3:C$170)-MIN(ROW(Temp!C$3:C$170))+1), ROW(60:60))),\"\")","v":""},{"$f":"IFERROR(INDEX(Temp!D$3:D$170, SMALL(IF(ISERROR(Temp!D$3:D$170), \"\", ROW(Temp!D$3:D$170)-MIN(ROW(Temp!D$3:D$170))+1), ROW(60:60))),\"\")","v":""}]
[{"$f":"IFERROR(INDEX(Temp!A$3:A$170, SMALL(IF(ISERROR(Temp!A$3:A$170), \"\", ROW(Temp!A$3:A$170)-MIN(ROW(Temp!A$3:A$170))+1), ROW(61:61))),\"\")","v":""},{"$f":"IFERROR(INDEX(Temp!B$3:B$170, SMALL(IF(ISERROR(Temp!B$3:B$170), \"\", ROW(Temp!B$3:B$170)-MIN(ROW(Temp!B$3:B$170))+1), ROW(61:61))),\"\")","v":""},{"$f":"IFERROR(INDEX(Temp!C$3:C$170, SMALL(IF(ISERROR(Temp!C$3:C$170), \"\", ROW(Temp!C$3:C$170)-MIN(ROW(Temp!C$3:C$170))+1), ROW(61:61))),\"\")","v":""},{"$f":"IFERROR(INDEX(Temp!D$3:D$170, SMALL(IF(ISERROR(Temp!D$3:D$170), \"\", ROW(Temp!D$3:D$170)-MIN(ROW(Temp!D$3:D$170))+1), ROW(61:61))),\"\")","v":""}]
[{"$f":"IFERROR(INDEX(Temp!A$3:A$170, SMALL(IF(ISERROR(Temp!A$3:A$170), \"\", ROW(Temp!A$3:A$170)-MIN(ROW(Temp!A$3:A$170))+1), ROW(62:62))),\"\")","v":""},{"$f":"IFERROR(INDEX(Temp!B$3:B$170, SMALL(IF(ISERROR(Temp!B$3:B$170), \"\", ROW(Temp!B$3:B$170)-MIN(ROW(Temp!B$3:B$170))+1), ROW(62:62))),\"\")","v":""},{"$f":"IFERROR(INDEX(Temp!C$3:C$170, SMALL(IF(ISERROR(Temp!C$3:C$170), \"\", ROW(Temp!C$3:C$170)-MIN(ROW(Temp!C$3:C$170))+1), ROW(62:62))),\"\")","v":""},{"$f":"IFERROR(INDEX(Temp!D$3:D$170, SMALL(IF(ISERROR(Temp!D$3:D$170), \"\", ROW(Temp!D$3:D$170)-MIN(ROW(Temp!D$3:D$170))+1), ROW(62:62))),\"\")","v":""}]
[{"$f":"IFERROR(INDEX(Temp!A$3:A$170, SMALL(IF(ISERROR(Temp!A$3:A$170), \"\", ROW(Temp!A$3:A$170)-MIN(ROW(Temp!A$3:A$170))+1), ROW(63:63))),\"\")","v":""},{"$f":"IFERROR(INDEX(Temp!B$3:B$170, SMALL(IF(ISERROR(Temp!B$3:B$170), \"\", ROW(Temp!B$3:B$170)-MIN(ROW(Temp!B$3:B$170))+1), ROW(63:63))),\"\")","v":""},{"$f":"IFERROR(INDEX(Temp!C$3:C$170, SMALL(IF(ISERROR(Temp!C$3:C$170), \"\", ROW(Temp!C$3:C$170)-MIN(ROW(Temp!C$3:C$170))+1), ROW(63:63))),\"\")","v":""},{"$f":"IFERROR(INDEX(Temp!D$3:D$170, SMALL(IF(ISERROR(Temp!D$3:D$170), \"\", ROW(Temp!D$3:D$170)-MIN(ROW(Temp!D$3:D$170))+1), ROW(63:63))),\"\")","v":""}]
[{"$f":"IFERROR(INDEX(Temp!A$3:A$170, SMALL(IF(ISERROR(Temp!A$3:A$170), \"\", ROW(Temp!A$3:A$170)-MIN(ROW(Temp!A$3:A$170))+1), ROW(64:64))),\"\")","v":""},{"$f":"IFERROR(INDEX(Temp!B$3:B$170, SMALL(IF(ISERROR(Temp!B$3:B$170), \"\", ROW(Temp!B$3:B$170)-MIN(ROW(Temp!B$3:B$170))+1), ROW(64:64))),\"\")","v":""},{"$f":"IFERROR(INDEX(Temp!C$3:C$170, SMALL(IF(ISERROR(Temp!C$3:C$170), \"\", ROW(Temp!C$3:C$170)-MIN(ROW(Temp!C$3:C$170))+1), ROW(64:64))),\"\")","v":""},{"$f":"IFERROR(INDEX(Temp!D$3:D$170, SMALL(IF(ISERROR(Temp!D$3:D$170), \"\", ROW(Temp!D$3:D$170)-MIN(ROW(Temp!D$3:D$170))+1), ROW(64:64))),\"\")","v":""}]
[{"$f":"IFERROR(INDEX(Temp!A$3:A$170, SMALL(IF(ISERROR(Temp!A$3:A$170), \"\", ROW(Temp!A$3:A$170)-MIN(ROW(Temp!A$3:A$170))+1), ROW(65:65))),\"\")","v":""},{"$f":"IFERROR(INDEX(Temp!B$3:B$170, SMALL(IF(ISERROR(Temp!B$3:B$170), \"\", ROW(Temp!B$3:B$170)-MIN(ROW(Temp!B$3:B$170))+1), ROW(65:65))),\"\")","v":""},{"$f":"IFERROR(INDEX(Temp!C$3:C$170, SMALL(IF(ISERROR(Temp!C$3:C$170), \"\", ROW(Temp!C$3:C$170)-MIN(ROW(Temp!C$3:C$170))+1), ROW(65:65))),\"\")","v":""},{"$f":"IFERROR(INDEX(Temp!D$3:D$170, SMALL(IF(ISERROR(Temp!D$3:D$170), \"\", ROW(Temp!D$3:D$170)-MIN(ROW(Temp!D$3:D$170))+1), ROW(65:65))),\"\")","v":""}]
[{"$f":"IFERROR(INDEX(Temp!A$3:A$170, SMALL(IF(ISERROR(Temp!A$3:A$170), \"\", ROW(Temp!A$3:A$170)-MIN(ROW(Temp!A$3:A$170))+1), ROW(66:66))),\"\")","v":""},{"$f":"IFERROR(INDEX(Temp!B$3:B$170, SMALL(IF(ISERROR(Temp!B$3:B$170), \"\", ROW(Temp!B$3:B$170)-MIN(ROW(Temp!B$3:B$170))+1), ROW(66:66))),\"\")","v":""},{"$f":"IFERROR(INDEX(Temp!C$3:C$170, SMALL(IF(ISERROR(Temp!C$3:C$170), \"\", ROW(Temp!C$3:C$170)-MIN(ROW(Temp!C$3:C$170))+1), ROW(66:66))),\"\")","v":""},{"$f":"IFERROR(INDEX(Temp!D$3:D$170, SMALL(IF(ISERROR(Temp!D$3:D$170), \"\", ROW(Temp!D$3:D$170)-MIN(ROW(Temp!D$3:D$170))+1), ROW(66:66))),\"\")","v":""}]
[{"$f":"IFERROR(INDEX(Temp!A$3:A$170, SMALL(IF(ISERROR(Temp!A$3:A$170), \"\", ROW(Temp!A$3:A$170)-MIN(ROW(Temp!A$3:A$170))+1), ROW(67:67))),\"\")","v":""},{"$f":"IFERROR(INDEX(Temp!B$3:B$170, SMALL(IF(ISERROR(Temp!B$3:B$170), \"\", ROW(Temp!B$3:B$170)-MIN(ROW(Temp!B$3:B$170))+1), ROW(67:67))),\"\")","v":""},{"$f":"IFERROR(INDEX(Temp!C$3:C$170, SMALL(IF(ISERROR(Temp!C$3:C$170), \"\", ROW(Temp!C$3:C$170)-MIN(ROW(Temp!C$3:C$170))+1), ROW(67:67))),\"\")","v":""},{"$f":"IFERROR(INDEX(Temp!D$3:D$170, SMALL(IF(ISERROR(Temp!D$3:D$170), \"\", ROW(Temp!D$3:D$170)-MIN(ROW(Temp!D$3:D$170))+1), ROW(67:67))),\"\")","v":""}]
[{"$f":"IFERROR(INDEX(Temp!A$3:A$170, SMALL(IF(ISERROR(Temp!A$3:A$170), \"\", ROW(Temp!A$3:A$170)-MIN(ROW(Temp!A$3:A$170))+1), ROW(68:68))),\"\")","v":""},{"$f":"IFERROR(INDEX(Temp!B$3:B$170, SMALL(IF(ISERROR(Temp!B$3:B$170), \"\", ROW(Temp!B$3:B$170)-MIN(ROW(Temp!B$3:B$170))+1), ROW(68:68))),\"\")","v":""},{"$f":"IFERROR(INDEX(Temp!C$3:C$170, SMALL(IF(ISERROR(Temp!C$3:C$170), \"\", ROW(Temp!C$3:C$170)-MIN(ROW(Temp!C$3:C$170))+1), ROW(68:68))),\"\")","v":""},{"$f":"IFERROR(INDEX(Temp!D$3:D$170, SMALL(IF(ISERROR(Temp!D$3:D$170), \"\", ROW(Temp!D$3:D$170)-MIN(ROW(Temp!D$3:D$170))+1), ROW(68:68))),\"\")","v":""}]
[{"$f":"IFERROR(INDEX(Temp!A$3:A$170, SMALL(IF(ISERROR(Temp!A$3:A$170), \"\", ROW(Temp!A$3:A$170)-MIN(ROW(Temp!A$3:A$170))+1), ROW(69:69))),\"\")","v":""},{"$f":"IFERROR(INDEX(Temp!B$3:B$170, SMALL(IF(ISERROR(Temp!B$3:B$170), \"\", ROW(Temp!B$3:B$170)-MIN(ROW(Temp!B$3:B$170))+1), ROW(69:69))),\"\")","v":""},{"$f":"IFERROR(INDEX(Temp!C$3:C$170, SMALL(IF(ISERROR(Temp!C$3:C$170), \"\", ROW(Temp!C$3:C$170)-MIN(ROW(Temp!C$3:C$170))+1), ROW(69:69))),\"\")","v":""},{"$f":"IFERROR(INDEX(Temp!D$3:D$170, SMALL(IF(ISERROR(Temp!D$3:D$170), \"\", ROW(Temp!D$3:D$170)-MIN(ROW(Temp!D$3:D$170))+1), ROW(69:69))),\"\")","v":""}]
[{"$f":"IFERROR(INDEX(Temp!A$3:A$170, SMALL(IF(ISERROR(Temp!A$3:A$170), \"\", ROW(Temp!A$3:A$170)-MIN(ROW(Temp!A$3:A$170))+1), ROW(70:70))),\"\")","v":""},{"$f":"IFERROR(INDEX(Temp!B$3:B$170, SMALL(IF(ISERROR(Temp!B$3:B$170), \"\", ROW(Temp!B$3:B$170)-MIN(ROW(Temp!B$3:B$170))+1), ROW(70:70))),\"\")","v":""},{"$f":"IFERROR(INDEX(Temp!C$3:C$170, SMALL(IF(ISERROR(Temp!C$3:C$170), \"\", ROW(Temp!C$3:C$170)-MIN(ROW(Temp!C$3:C$170))+1), ROW(70:70))),\"\")","v":""},{"$f":"IFERROR(INDEX(Temp!D$3:D$170, SMALL(IF(ISERROR(Temp!D$3:D$170), \"\", ROW(Temp!D$3:D$170)-MIN(ROW(Temp!D$3:D$170))+1), ROW(70:70))),\"\")","v":""}]
[{"$f":"IFERROR(INDEX(Temp!A$3:A$170, SMALL(IF(ISERROR(Temp!A$3:A$170), \"\", ROW(Temp!A$3:A$170)-MIN(ROW(Temp!A$3:A$170))+1), ROW(71:71))),\"\")","v":""},{"$f":"IFERROR(INDEX(Temp!B$3:B$170, SMALL(IF(ISERROR(Temp!B$3:B$170), \"\", ROW(Temp!B$3:B$170)-MIN(ROW(Temp!B$3:B$170))+1), ROW(71:71))),\"\")","v":""},{"$f":"IFERROR(INDEX(Temp!C$3:C$170, SMALL(IF(ISERROR(Temp!C$3:C$170), \"\", ROW(Temp!C$3:C$170)-MIN(ROW(Temp!C$3:C$170))+1), ROW(71:71))),\"\")","v":""},{"$f":"IFERROR(INDEX(Temp!D$3:D$170, SMALL(IF(ISERROR(Temp!D$3:D$170), \"\", ROW(Temp!D$3:D$170)-MIN(ROW(Temp!D$3:D$170))+1), ROW(71:71))),\"\")","v":""}]
[{"$f":"IFERROR(INDEX(Temp!A$3:A$170, SMALL(IF(ISERROR(Temp!A$3:A$170), \"\", ROW(Temp!A$3:A$170)-MIN(ROW(Temp!A$3:A$170))+1), ROW(72:72))),\"\")","v":""},{"$f":"IFERROR(INDEX(Temp!B$3:B$170, SMALL(IF(ISERROR(Temp!B$3:B$170), \"\", ROW(Temp!B$3:B$170)-MIN(ROW(Temp!B$3:B$170))+1), ROW(72:72))),\"\")","v":""},{"$f":"IFERROR(INDEX(Temp!C$3:C$170, SMALL(IF(ISERROR(Temp!C$3:C$170), \"\", ROW(Temp!C$3:C$170)-MIN(ROW(Temp!C$3:C$170))+1), ROW(72:72))),\"\")","v":""},{"$f":"IFERROR(INDEX(Temp!D$3:D$170, SMALL(IF(ISERROR(Temp!D$3:D$170), \"\", ROW(Temp!D$3:D$170)-MIN(ROW(Temp!D$3:D$170))+1), ROW(72:72))),\"\")","v":""}]
[{"$f":"IFERROR(INDEX(Temp!A$3:A$170, SMALL(IF(ISERROR(Temp!A$3:A$170), \"\", ROW(Temp!A$3:A$170)-MIN(ROW(Temp!A$3:A$170))+1), ROW(73:73))),\"\")","v":""},{"$f":"IFERROR(INDEX(Temp!B$3:B$170, SMALL(IF(ISERROR(Temp!B$3:B$170), \"\", ROW(Temp!B$3:B$170)-MIN(ROW(Temp!B$3:B$170))+1), ROW(73:73))),\"\")","v":""},{"$f":"IFERROR(INDEX(Temp!C$3:C$170, SMALL(IF(ISERROR(Temp!C$3:C$170), \"\", ROW(Temp!C$3:C$170)-MIN(ROW(Temp!C$3:C$170))+1), ROW(73:73))),\"\")","v":""},{"$f":"IFERROR(INDEX(Temp!D$3:D$170, SMALL(IF(ISERROR(Temp!D$3:D$170), \"\", ROW(Temp!D$3:D$170)-MIN(ROW(Temp!D$3:D$170))+1), ROW(73:73))),\"\")","v":""}]